{"text_format":"3","workbook":"xlsx","n_sheets":6,"sheets":["Cash-Flow-DATA","OTCHET-agregirani pokazateli","OTCHET F","OTCHET","INF","list"],"not_rendered":{"macros":1,"external_links":1,"defined_names":17,"comments":5},"read":"whole","date_system":"1900"}

{"sheet":"Cash-Flow-DATA","index":0,"n_rows":141,"n_cols":20,"rows_kept":141,"merged":[[1,1,1,3],[1,8,1,9],[1,11,1,13],[1,19,1,20],[3,18,3,20],[5,18,5,20],[7,18,7,20],[8,18,8,20],[12,18,12,20],[13,18,13,20],[14,18,14,20],[15,18,15,20],[16,18,16,20],[17,18,17,20],[18,18,18,20],[19,18,19,20],[20,18,20,20],[21,18,21,20],[22,18,22,20],[24,18,24,20],[25,18,25,20],[26,18,26,20],[27,18,27,20],[34,18,34,20],[35,18,35,20],[36,18,36,20],[37,18,37,20],[39,18,39,20],[41,18,41,20],[42,18,42,20],[43,18,43,20],[44,18,44,20],[45,18,45,20],[47,18,47,20],[50,18,50,20],[51,18,51,20],[52,18,52,20],[53,18,53,20],[54,18,54,20],[55,18,55,20],[57,18,57,20],[58,18,58,20],[59,18,59,20],[60,18,60,20],[62,18,62,20],[64,18,64,20],[65,18,65,20],[66,18,66,20],[68,18,68,20],[69,18,69,20],[70,18,70,20],[72,18,72,20],[73,18,73,20],[74,18,74,20],[76,18,76,20],[78,18,78,20],[79,18,79,20],[80,18,80,20],[81,1,81,3],[86,18,86,20],[87,18,87,20],[88,18,88,20],[90,18,90,20],[91,18,91,20],[92,18,92,20],[93,18,93,20],[94,18,94,20],[96,18,96,20],[97,18,97,20],[98,18,98,20],[100,18,100,20],[103,18,103,20],[104,18,104,20],[105,18,105,20],[107,18,107,20],[108,18,108,20],[109,18,109,20],[111,18,111,20],[112,18,112,20],[113,18,113,20],[115,18,115,20],[116,18,116,20],[117,18,117,20],[119,18,119,20],[121,18,121,20],[123,18,123,20],[124,18,124,20],[125,18,125,20],[126,18,126,20],[128,18,128,20],[129,18,129,20],[130,18,130,20],[131,18,131,20],[132,1,132,3],[133,5,133,6],[133,11,133,13],[133,15,133,16]]}
[null," (бюджетна организация, предприятие по чл. 165, ал. 1 от ЗПФ, поделение)",{"$nulls":3},"ЕИК/БУЛСТАТ","код по ЕБК",null,"                    Web-адрес",null,null,"e-mail",{"$nulls":3},"      финансово-правна форма"]
[null,{"$f":"+OTCHET!B9","v":"РЕГИОНАЛНА ЗДРАВНА ИНСПЕКЦИЯ-БУРГАС"},{"$nulls":3},{"$f":"+OTCHET!H9","v":{"v":0,"d":"000 000 000"}},{"$f":"+OTCHET!F12","v":"0"},null,{"$f":"+OTCHET!H607","v":{"v":0,"d":"0 0 0 0"}},null,null,{"$f":"+OTCHET!H605","v":0},{"$nulls":3},{"$f":"+OTCHET!E15","v":0},{"$f":"+OTCHET!F15","v":"БЮДЖЕТ"},null,"                           код от регистъра на бюджетните организации в СЕБРА",{"$f":"+OTCHET!I9","v":0}]
[]
[null,"                                                               ИНФОРМАЦИЯ ЗА ИЗГОТВЯНЕ НА  ОТЧЕТ ЗА КАСОВОТО ИЗПЪЛНЕНИЕ ",{"$nulls":7},"ГОДИНА",null,{"$f":"+Q4","v":{"v":2021,"d":"2 0 2 1"}},{"$nulls":3},"ГОДИНА",{"$f":"+OTCHET!C3","v":{"v":2021,"d":"2 0 2 1"}},null,"ОТЧЕТ ЗА КАСОВОТО ИЗПЪЛНЕНИЕ НА БЮДЖЕТА, СМЕТКИТЕ ЗА СЕС И ЧУЖДИТЕ СРЕДСТВА"]
[]
[null,"                       НА БЮДЖЕТА, СМЕТКИТЕ ЗА СРЕДСТВАТА ОТ ЕВРОПЕЙСКИЯ СЪЮЗ И СМЕТКИТЕ ЗА ЧУЖДИ СРЕДСТВА КЪМ",{"$nulls":9},{"$f":"OTCHET!F9","v":"2021-12-31"},null,"(В ЛЕВОВЕ)",null,{"$f":"OTCHET!F9","v":"2021-12-31"},"(В ЛЕВОВЕ)",null,{"$f":"+Q4","v":{"v":2021,"d":"МАКЕТ ЗА 2021 г."}}]
[]
[{"$nulls":5},"БЮДЖЕТ Годишен         уточнен план                           ","БЮДЖЕТ -ОТЧЕТ  ",null,"Сметки за сред-ства от Европей-ския съюз-инди-кативни разчети                      ","Сметки за сред-ства от Евро-пейския съюз - ОТЧЕТ",null,"Сметки за чуж-ди средства - ОТЧЕТ                ",null,"ОБЩО КАСОВ ОТЧЕТ  ",null,"таблица            'OTCHET'         Год. уточнен план                           ","таблица 'OTCHET'  ОТЧЕТ",null,"§§ от ЕБК, които се включват в съответния показател"]
[null,"                                  П О К А З А Т Е Л И",{"$nulls":3},{"$f":"+L4","v":{"v":2021,"d":"за 2021 г."}},{"$f":"+L6","v":"2021-12-31"},null,{"$f":"+L4","v":{"v":2021,"d":"за 2021 г."}},{"$f":"+L6","v":"2021-12-31"},null,{"$f":"+L6","v":"2021-12-31"},null,{"$f":"+L6","v":"2021-12-31"},null,{"$f":"+L4","v":{"v":2021,"d":"за 2021 г."}},{"$f":"OTCHET!F9","v":"2021-12-31"},null,"П О К А З А Т Е Л И"]
[null,"                                                                (а)",{"$nulls":3},"(1)","(2)",null,"(3)","(4)",null,"(5)",null,"(6)=(2)+(4)+(5)",null,"(1)","(2)"]
[null," А. ПРИХОДИ, ПОМОЩИ И ДАРЕНИЯ",{"$nulls":16}," А. ПРИХОДИ, ПОМОЩИ И ДАРЕНИЯ"]
[null," I. Постъпления от текущи приходи",{"$nulls":16}," I. Постъпления от текущи приходи"]
[null," 1. Приходи от данъци и осигурителни вноски",{"$nulls":3},{"$f":"+IF($P$2=0,$P13,0)","v":{"v":0,"d":"0 "}},{"$f":"+IF($P$2=0,$Q13,0)","v":{"v":0,"d":"0 "}},null,{"$f":"+IF(OR($P$2=98,$P$2=42,$P$2=96,$P$2=97),$P13,0)","v":{"v":0,"d":"0 "}},{"$f":"+IF(OR($P$2=98,$P$2=42,$P$2=96,$P$2=97),$Q13,0)","v":{"v":0,"d":"0 "}},null,{"$f":"+IF($P$2=33,$Q13,0)","v":{"v":0,"d":"0 "}},null,{"$f":"+ROUND(+G13+J13+L13,0)","v":{"v":0,"d":"0 "}},null,{"$f":"+ROUND(OTCHET!E22+OTCHET!E28+OTCHET!E33+OTCHET!E39+OTCHET!E47+OTCHET!E52+OTCHET!E58+OTCHET!E61+OTCHET!E64+OTCHET!E65+OTCHET!E72+OTCHET!E73,0)","v":{"v":0,"d":"0 "}},{"$f":"+ROUND(OTCHET!F22+OTCHET!F28+OTCHET!F33+OTCHET!F39+OTCHET!F47+OTCHET!F52+OTCHET!F58+OTCHET!F61+OTCHET!F64+OTCHET!F65+OTCHET!F72+OTCHET!F73,0)","v":{"v":0,"d":"0 "}},null,"приходни §§ 01-00 ÷ 20-00"]
[null," 2. Приходи от такси и вноски",{"$nulls":3},{"$f":"+IF($P$2=0,$P14,0)","v":{"v":280000,"d":"280,000 "}},{"$f":"+IF($P$2=0,$Q14,0)","v":{"v":202525,"d":"202,525 "}},null,{"$f":"+IF(OR($P$2=98,$P$2=42,$P$2=96,$P$2=97),$P14,0)","v":{"v":0,"d":"0 "}},{"$f":"+IF(OR($P$2=98,$P$2=42,$P$2=96,$P$2=97),$Q14,0)","v":{"v":0,"d":"0 "}},null,{"$f":"+IF($P$2=33,$Q14,0)","v":{"v":0,"d":"0 "}},null,{"$f":"+ROUND(+G14+J14+L14,0)","v":{"v":202525,"d":"202,525 "}},null,{"$f":"+ROUND(+OTCHET!E90+OTCHET!E93+OTCHET!E94+OTCHET!E115+OTCHET!E116,0)","v":{"v":280000,"d":"280,000 "}},{"$f":"+ROUND(+OTCHET!F90+OTCHET!F93+OTCHET!F94+OTCHET!F115+OTCHET!F116,0)","v":{"v":202525,"d":"202,525 "}},null,"приходни §§ 25-00, 26-00, 27-00, 36-08 и 36-10"]
[null,"     в т.ч.  приходи от вноски",{"$nulls":3},{"v":0,"d":"0 "},{"v":0,"d":"0 "},null,{"v":0,"d":"0 "},{"v":0,"d":"0 "},null,{"v":0,"d":"0 "},null,{"v":0,"d":"0 "},null,{"$f":"+ROUND(+OTCHET!E115+OTCHET!E116,0)","v":{"v":0,"d":"0 "}},{"$f":"+OTCHET!F115+OTCHET!F116","v":{"v":0,"d":"0 "}},null,"приходни §§ 36-08 и 36-10"]
[null," 3. Приходи от административни глоби, санкции и наказателни лихви",{"$nulls":3},{"v":50000,"d":"50,000 "},{"v":31836,"d":"31,836 "},null,{"v":0,"d":"0 "},{"v":0,"d":"0 "},null,{"v":0,"d":"0 "},null,{"v":31836,"d":"31,836 "},null,{"$f":"+ROUND(+OTCHET!E110+OTCHET!E111,0)","v":{"v":50000,"d":"50,000 "}},{"$f":"+ROUND(+OTCHET!F110+OTCHET!F111,0)","v":{"v":31836,"d":"31,836 "}},null,"приходни §§ 28-02 и 28-09"]
[null," 4. Нетни приходи от продажби на услуги, стоки и продукция",{"$nulls":3},{"v":0,"d":"0 "},{"v":0,"d":"0 "},null,{"v":0,"d":"0 "},{"v":0,"d":"0 "},null,{"v":0,"d":"0 "},null,{"v":0,"d":"0 "},null,{"$f":"+ROUND(OTCHET!E77,0)","v":{"v":0,"d":"0 "}},{"$f":"+ROUND(OTCHET!F77,0)","v":{"v":0,"d":"0 "}},null,"приходeн § 24-04"]
[null," 5. Приходи от наеми",{"$nulls":3},{"v":0,"d":"0 "},{"v":1383,"d":"1,383 "},null,{"v":0,"d":"0 "},{"v":0,"d":"0 "},null,{"v":0,"d":"0 "},null,{"v":1383,"d":"1,383 "},null,{"$f":"+ROUND(OTCHET!E78+OTCHET!E79,0)","v":{"v":0,"d":"0 "}},{"$f":"+ROUND(OTCHET!F78+OTCHET!F79,0)","v":{"v":1383,"d":"1,383 "}},null,"приходни §§ 24-05 и 24-06"]
[null," 6. Приходи от концесии и лицензии за ползване на публични активи",{"$nulls":3},{"v":0,"d":"0 "},{"v":0,"d":"0 "},null,{"v":0,"d":"0 "},{"v":0,"d":"0 "},null,{"v":0,"d":"0 "},null,{"v":0,"d":"0 "},null,{"$f":"+ROUND(OTCHET!E137++OTCHET!E138,0)","v":{"v":0,"d":"0 "}},{"$f":"+ROUND(OTCHET!F137++OTCHET!F138,0)","v":{"v":0,"d":"0 "}},null,"приходни §§ 41-00 и 42-00"]
[null," 7. Приходи от лихви",{"$nulls":3},{"v":0,"d":"0 "},{"v":0,"d":"0 "},null,{"v":0,"d":"0 "},{"v":0,"d":"0 "},null,{"v":0,"d":"0 "},null,{"v":0,"d":"0 "},null,{"$f":"+ROUND(+SUM(OTCHET!E81:E89),0)","v":{"v":0,"d":"0 "}},{"$f":"+ROUND(+SUM(OTCHET!F81:F89),0)","v":{"v":0,"d":"0 "}},null,"приходни §§ 24-08 ÷ 24-19"]
[null," 8. Приходи от дивиденти и дялово участие ",{"$nulls":3},{"v":0,"d":"0 "},{"v":0,"d":"0 "},null,{"v":0,"d":"0 "},{"v":0,"d":"0 "},null,{"v":0,"d":"0 "},null,{"v":0,"d":"0 "},null,{"$f":"+ROUND(OTCHET!E75+OTCHET!E76+OTCHET!E80,0)","v":{"v":0,"d":"0 "}},{"$f":"+ROUND(OTCHET!F75+OTCHET!F76+OTCHET!F80,0)","v":{"v":0,"d":"0 "}},null,"приходни §§ 24-01, 24-03 и 24-07"]
[null," 9. Други текущи приходи и реализирани курсови разлики",{"$nulls":3},{"v":0,"d":"0 "},{"v":835,"d":"835 "},null,{"v":0,"d":"0 "},{"v":0,"d":"0 "},null,{"v":0,"d":"0 "},null,{"v":835,"d":"835 "},null,{"$f":"+ROUND(OTCHET!E113+OTCHET!E114+OTCHET!E120,0)","v":{"v":0,"d":"0 "}},{"$f":"+ROUND(OTCHET!F113+OTCHET!F114+OTCHET!F120,0)","v":{"v":835,"d":"835 "}},null,"приходни §§ 36-01, 36-05 и 36-19"]
[null," Общо за група І. Постъпления от текущи приходи",{"$nulls":3},{"$f":"+ROUND(+SUM(F13,F14,F16,F17,F18,F19,F20,F21,F22),0)","v":{"v":330000,"d":"330,000 "}},{"$f":"+ROUND(+SUM(G13,G14,G16,G17,G18,G19,G20,G21,G22),0)","v":{"v":236579,"d":"236,579 "}},null,{"$f":"+ROUND(+SUM(I13,I14,I16,I17,I18,I19,I20,I21,I22),0)","v":{"v":0,"d":"0 "}},{"$f":"+ROUND(+SUM(J13,J14,J16,J17,J18,J19,J20,J21,J22),0)","v":{"v":0,"d":"0 "}},null,{"$f":"+ROUND(+SUM(L13,L14,L16,L17,L18,L19,L20,L21,L22),0)","v":{"v":0,"d":"0 "}},null,{"$f":"+ROUND(+SUM(N13,N14,N16,N17,N18,N19,N20,N21,N22),0)","v":{"v":236579,"d":"236,579 "}},null,{"$f":"+ROUND(+SUM(P13,P14,P16,P17,P18,P19,P20,P21,P22),0)","v":{"v":330000,"d":"330,000 "}},{"$f":"+ROUND(+SUM(Q13,Q14,Q16,Q17,Q18,Q19,Q20,Q21,Q22),0)","v":{"v":236579,"d":"236,579 "}},null,"сборен ред за група І. Постъпления от текущи приходи"]
[null," IІ. Реализация на нефинансови активи и конфискувани средства",{"$nulls":16}," IІ. Реализация на нефинансови активи и конфискувани средства"]
[null," 1. Продажба на земя",{"$nulls":3},{"$f":"+IF($P$2=0,$P25,0)","v":{"v":0,"d":"0 "}},{"$f":"+IF($P$2=0,$Q25,0)","v":{"v":0,"d":"0 "}},null,{"$f":"+IF(OR($P$2=98,$P$2=42,$P$2=96,$P$2=97),$P25,0)","v":{"v":0,"d":"0 "}},{"$f":"+IF(OR($P$2=98,$P$2=42,$P$2=96,$P$2=97),$Q25,0)","v":{"v":0,"d":"0 "}},null,{"$f":"+IF($P$2=33,$Q25,0)","v":{"v":0,"d":"0 "}},null,{"$f":"+ROUND(+G25+J25+L25,0)","v":{"v":0,"d":"0 "}},null,{"$f":"+ROUND(OTCHET!E135,0)","v":{"v":0,"d":"0 "}},{"$f":"+ROUND(OTCHET!F135,0)","v":{"v":0,"d":"0 "}},null,"приходeн § 40-40"]
[null," 2. Продажба на други нефинансови дълготрайни активи",{"$nulls":3},{"$f":"+IF($P$2=0,$P26,0)","v":{"v":0,"d":"0 "}},{"$f":"+IF($P$2=0,$Q26,0)","v":{"v":57340,"d":"57,340 "}},null,{"$f":"+IF(OR($P$2=98,$P$2=42,$P$2=96,$P$2=97),$P26,0)","v":{"v":0,"d":"0 "}},{"$f":"+IF(OR($P$2=98,$P$2=42,$P$2=96,$P$2=97),$Q26,0)","v":{"v":0,"d":"0 "}},null,{"$f":"+IF($P$2=33,$Q26,0)","v":{"v":0,"d":"0 "}},null,{"$f":"+ROUND(+G26+J26+L26,0)","v":{"v":57340,"d":"57,340 "}},null,{"$f":"+ROUND(+SUM(OTCHET!E126:E134)+OTCHET!E136,0)","v":{"v":0,"d":"0 "}},{"$f":"+ROUND(+SUM(OTCHET!F126:F134)+OTCHET!F136,0)","v":{"v":57340,"d":"57,340 "}},null,"приходeн § 40-00 без §§ 40-40 и 40-71"]
[null," 3. Конфиск. средства и продажби на конфискувани и от залог нефин. активи ",{"$nulls":3},{"$f":"+IF($P$2=0,$P27,0)","v":{"v":0,"d":"0 "}},{"$f":"+IF($P$2=0,$Q27,0)","v":{"v":0,"d":"0 "}},null,{"$f":"+IF(OR($P$2=98,$P$2=42,$P$2=96,$P$2=97),$P27,0)","v":{"v":0,"d":"0 "}},{"$f":"+IF(OR($P$2=98,$P$2=42,$P$2=96,$P$2=97),$Q27,0)","v":{"v":0,"d":"0 "}},null,{"$f":"+IF($P$2=33,$Q27,0)","v":{"v":0,"d":"0 "}},null,{"$f":"+ROUND(+G27+J27+L27,0)","v":{"v":0,"d":"0 "}},null,{"$f":"+ROUND(+OTCHET!E109,0)","v":{"v":0,"d":"0 "}},{"$f":"+ROUND(+OTCHET!F109,0)","v":{"v":0,"d":"0 "}},null,"приходeн § 28-01"]
[null," Общо за група ІІ. Постъпления от продажби на нефинансови активи",{"$nulls":3},{"$f":"+ROUND(+SUM(F25:F27),0)","v":{"v":0,"d":"0 "}},{"$f":"+ROUND(+SUM(G25:G27),0)","v":{"v":57340,"d":"57,340 "}},null,{"$f":"+ROUND(+SUM(I25:I27),0)","v":{"v":0,"d":"0 "}},{"$f":"+ROUND(+SUM(J25:J27),0)","v":{"v":0,"d":"0 "}},null,{"$f":"+ROUND(+SUM(L25:L27),0)","v":{"v":0,"d":"0 "}},null,{"$f":"+ROUND(+SUM(N25:N27),0)","v":{"v":57340,"d":"57,340 "}},null,{"$f":"+ROUND(+SUM(P25:P27),0)","v":{"v":0,"d":"0 "}},{"$f":"+ROUND(+SUM(Q25:Q27),0)","v":{"v":57340,"d":"57,340 "}},null,"сборен ред за група ІІ. Постъпления от продажби на нефинансови активи"]
[]
[null," IІI. Внесен ДДС, др. данъци в/у продажбите и коректив за постъпления "]
[null," 1. Внесен ДДС"]
[null," 2. Внесен данък върху приходите от стопанска дейност"]
[null," 3. Внесени други данъци върху продажбите"]
[null," 4. Коректив за касови постъпления"]
[null," ІІІ. Внесен ДДС и др. данъци в/у продажбите и коректив за постъпления",{"$nulls":3},{"$f":"+IF($P$2=0,$P35,0)","v":{"v":0,"d":"0 "}},{"$f":"+IF($P$2=0,$Q35,0)","v":{"v":-11798,"d":"(11,798)"}},null,{"$f":"+IF(OR($P$2=98,$P$2=42,$P$2=96,$P$2=97),$P35,0)","v":{"v":0,"d":"0 "}},{"$f":"+IF(OR($P$2=98,$P$2=42,$P$2=96,$P$2=97),$Q35,0)","v":{"v":0,"d":"0 "}},null,{"$f":"+IF($P$2=33,$Q35,0)","v":{"v":0,"d":"0 "}},null,{"$f":"+ROUND(+G35+J35+L35,0)","v":{"v":-11798,"d":"(11,798)"}},null,{"$f":"+ROUND(+OTCHET!E121+OTCHET!E119,0)","v":{"v":0,"d":"0 "}},{"$f":"+ROUND(+OTCHET!F121+OTCHET!F119,0)","v":{"v":-11798,"d":"(11,798)"}},null,"ІІІ. Внесен ДДС и др. д-ци в/у продажбите и коректив - приходни § 36-18 и 37-00"]
[null,"     в т. ч. внесен ДДС",{"$nulls":3},{"$f":"+IF($P$2=0,$P36,0)","v":{"v":0,"d":"0 "}},{"$f":"+IF($P$2=0,$Q36,0)","v":{"v":0,"d":"0 "}},null,{"$f":"+IF(OR($P$2=98,$P$2=42,$P$2=96,$P$2=97),$P36,0)","v":{"v":0,"d":"0 "}},{"$f":"+IF(OR($P$2=98,$P$2=42,$P$2=96,$P$2=97),$Q36,0)","v":{"v":0,"d":"0 "}},null,{"$f":"+IF($P$2=33,$Q36,0)","v":{"v":0,"d":"0 "}},null,{"v":0,"d":"0 "},null,{"$f":"+ROUND(OTCHET!E122,0)","v":{"v":0,"d":"0 "}},{"$f":"+ROUND(OTCHET!F122,0)","v":{"v":0,"d":"0 "}},null,"приходен § 37-01"]
[null,"                внесен данък в/у приходите от стопанска дейност",{"$nulls":3},{"$f":"+IF($P$2=0,$P37,0)","v":{"v":0,"d":"0 "}},{"$f":"+IF($P$2=0,$Q37,0)","v":{"v":-42,"d":"(42)"}},null,{"$f":"+IF(OR($P$2=98,$P$2=42,$P$2=96,$P$2=97),$P37,0)","v":{"v":0,"d":"0 "}},{"$f":"+IF(OR($P$2=98,$P$2=42,$P$2=96,$P$2=97),$Q37,0)","v":{"v":0,"d":"0 "}},null,{"$f":"+IF($P$2=33,$Q37,0)","v":{"v":0,"d":"0 "}},null,{"v":-42,"d":"(42)"},null,{"$f":"+ROUND(OTCHET!E123,0)","v":{"v":0,"d":"0 "}},{"$f":"+ROUND(OTCHET!F123,0)","v":{"v":-42,"d":"(42)"}},null,"приходен § 37-02"]
[null,"                внесени други данъци, такси и вноски в/у продажбите",{"$nulls":3},{"$f":"+IF($P$2=0,$P38,0)","v":{"v":0,"d":"0 "}},{"$f":"+IF($P$2=0,$Q38,0)","v":{"v":0,"d":"0 "}},null,{"$f":"+IF(OR($P$2=98,$P$2=42,$P$2=96,$P$2=97),$P38,0)","v":{"v":0,"d":"0 "}},{"$f":"+IF(OR($P$2=98,$P$2=42,$P$2=96,$P$2=97),$Q38,0)","v":{"v":0,"d":"0 "}},null,{"$f":"+IF($P$2=33,$Q38,0)","v":{"v":0,"d":"0 "}},null,{"v":0,"d":"0 "},null,{"$f":"+ROUND(OTCHET!E124,0)","v":{"v":0,"d":"0 "}},{"$f":"+ROUND(OTCHET!F124,0)","v":{"v":0,"d":"0 "}},null,"приходен § 37-09"]
[]
[null," IV. Постъпления от застрахователни обезщетения",{"$nulls":3},{"$f":"+IF($P$2=0,$P40,0)","v":{"v":0,"d":"0 "}},{"$f":"+IF($P$2=0,$Q40,0)","v":{"v":0,"d":"0 "}},null,{"$f":"+IF(OR($P$2=98,$P$2=42,$P$2=96,$P$2=97),$P40,0)","v":{"v":0,"d":"0 "}},{"$f":"+IF(OR($P$2=98,$P$2=42,$P$2=96,$P$2=97),$Q40,0)","v":{"v":0,"d":"0 "}},null,{"$f":"+IF($P$2=33,$Q40,0)","v":{"v":0,"d":"0 "}},null,{"v":0,"d":"0 "},null,{"$f":"+ROUND(OTCHET!E117+OTCHET!E118,0)","v":{"v":0,"d":"0 "}},{"$f":"+ROUND(OTCHET!F117+OTCHET!F118,0)","v":{"v":0,"d":"0 "}},null,"IV. Постъпления от застрахователни обезщетения - приходни § 36-11 и 36-12"]
[null," V. Приходи от помощи и дарения",{"$nulls":16}," V. Приходи от помощи и дарения"]
[null," 1. Помощи и дарения от Европейския съюз",{"$nulls":3},{"$f":"+IF($P$2=0,$P42,0)","v":{"v":0,"d":"0 "}},{"$f":"+IF($P$2=0,$Q42,0)","v":{"v":0,"d":"0 "}},null,{"$f":"+IF(OR($P$2=98,$P$2=42,$P$2=96,$P$2=97),$P42,0)","v":{"v":0,"d":"0 "}},{"$f":"+IF(OR($P$2=98,$P$2=42,$P$2=96,$P$2=97),$Q42,0)","v":{"v":0,"d":"0 "}},null,{"$f":"+IF($P$2=33,$Q42,0)","v":{"v":0,"d":"0 "}},null,{"$f":"+ROUND(+G42+J42+L42,0)","v":{"v":0,"d":"0 "}},null,{"$f":"+ROUND(OTCHET!E143+OTCHET!E144+OTCHET!E161+OTCHET!E162,0)","v":{"v":0,"d":"0 "}},{"$f":"+ROUND(OTCHET!F143+OTCHET!F144+OTCHET!F161+OTCHET!F162,0)","v":{"v":0,"d":"0 "}},null,"приходни §§ 46-10, 46-20, 48-10 и 48-20"]
[null," 2. Други помощи и дарения от чужбина",{"$nulls":3},{"$f":"+IF($P$2=0,$P43,0)","v":{"v":0,"d":"0 "}},{"$f":"+IF($P$2=0,$Q43,0)","v":{"v":0,"d":"0 "}},null,{"$f":"+IF(OR($P$2=98,$P$2=42,$P$2=96,$P$2=97),$P43,0)","v":{"v":0,"d":"0 "}},{"$f":"+IF(OR($P$2=98,$P$2=42,$P$2=96,$P$2=97),$Q43,0)","v":{"v":0,"d":"0 "}},null,{"$f":"+IF($P$2=33,$Q43,0)","v":{"v":0,"d":"0 "}},null,{"$f":"+ROUND(+G43+J43+L43,0)","v":{"v":0,"d":"0 "}},null,{"$f":"+ROUND(+SUM(OTCHET!E145:E150)+SUM(OTCHET!E163:E168),0)","v":{"v":0,"d":"0 "}},{"$f":"+ROUND(+SUM(OTCHET!F145:F150)+SUM(OTCHET!F163:F168),0)","v":{"v":0,"d":"0 "}},null,"приходни §§ 46-30 ÷ 46-80 и §§ 48-30 ÷ 48-80"]
[null," 3. Други безвъзмездно получени средства по международни и други програми",{"$nulls":3},{"$f":"+IF($P$2=0,$P44,0)","v":{"v":0,"d":"0 "}},{"$f":"+IF($P$2=0,$Q44,0)","v":{"v":0,"d":"0 "}},null,{"$f":"+IF(OR($P$2=98,$P$2=42,$P$2=96,$P$2=97),$P44,0)","v":{"v":0,"d":"0 "}},{"$f":"+IF(OR($P$2=98,$P$2=42,$P$2=96,$P$2=97),$Q44,0)","v":{"v":0,"d":"0 "}},null,{"$f":"+IF($P$2=33,$Q44,0)","v":{"v":0,"d":"0 "}},null,{"$f":"+ROUND(+G44+J44+L44,0)","v":{"v":0,"d":"0 "}},null,{"$f":"+ROUND(OTCHET!E151,0)","v":{"v":0,"d":"0 "}},{"$f":"+ROUND(OTCHET!F151,0)","v":{"v":0,"d":"0 "}},null,"приходeн § 47-00"]
[null," 4. Помощи и дарения от страната",{"$nulls":3},{"$f":"+IF($P$2=0,$P45,0)","v":{"v":0,"d":"0 "}},{"$f":"+IF($P$2=0,$Q45,0)","v":{"v":0,"d":"0 "}},null,{"$f":"+IF(OR($P$2=98,$P$2=42,$P$2=96,$P$2=97),$P45,0)","v":{"v":0,"d":"0 "}},{"$f":"+IF(OR($P$2=98,$P$2=42,$P$2=96,$P$2=97),$Q45,0)","v":{"v":0,"d":"0 "}},null,{"$f":"+IF($P$2=33,$Q45,0)","v":{"v":0,"d":"0 "}},null,{"$f":"+ROUND(+G45+J45+L45,0)","v":{"v":0,"d":"0 "}},null,{"$f":"+ROUND(OTCHET!E139,0)","v":{"v":0,"d":"0 "}},{"$f":"+ROUND(OTCHET!F139,0)","v":{"v":0,"d":"0 "}},null,"приходeн § 45-00"]
[null," Общо за група V. Приходи от помощи и дарения",{"$nulls":3},{"$f":"+ROUND(+SUM(F42:F45),0)","v":{"v":0,"d":"0 "}},{"$f":"+ROUND(+SUM(G42:G45),0)","v":{"v":0,"d":"0 "}},null,{"$f":"+ROUND(+SUM(I42:I45),0)","v":{"v":0,"d":"0 "}},{"$f":"+ROUND(+SUM(J42:J45),0)","v":{"v":0,"d":"0 "}},null,{"$f":"+ROUND(+SUM(L42:L45),0)","v":{"v":0,"d":"0 "}},null,{"$f":"+ROUND(+SUM(N42:N45),0)","v":{"v":0,"d":"0 "}},null,{"$f":"+ROUND(+SUM(P42:P45),0)","v":{"v":0,"d":"0 "}},{"$f":"+ROUND(+SUM(Q42:Q45),0)","v":{"v":0,"d":"0 "}},null,"сборен ред за група V. Приходи от помощи и дарения"]
[]
[null," А. ОБЩО ПРИХОДИ, ПОМОЩИ И ДАРЕНИЯ",{"$nulls":3},{"$f":"+ROUND(F23+F28+F35+F40+F46,0)","v":{"v":330000,"d":"330,000 "}},{"$f":"+ROUND(G23+G28+G35+G40+G46,0)","v":{"v":282121,"d":"282,121 "}},null,{"$f":"+ROUND(I23+I28+I35+I40+I46,0)","v":{"v":0,"d":"0 "}},{"$f":"+ROUND(J23+J28+J35+J40+J46,0)","v":{"v":0,"d":"0 "}},null,{"$f":"+ROUND(L23+L28+L35+L40+L46,0)","v":{"v":0,"d":"0 "}},null,{"$f":"+ROUND(N23+N28+N35+N40+N46,0)","v":{"v":282121,"d":"282,121 "}},null,{"$f":"+ROUND(P23+P28+P35+P40+P46,0)","v":{"v":330000,"d":"330,000 "}},{"$f":"+ROUND(Q23+Q28+Q35+Q40+Q46,0)","v":{"v":282121,"d":"282,121 "}},null," сборен ред за А. ОБЩО ПРИХОДИ, ПОМОЩИ И ДАРЕНИЯ"]
[null," Б. РАЗХОДИ И ПРИДОБИВАНЕ НА НЕФИНАНСОВИ АКТИВИ",{"$nulls":16}," Б. РАЗХОДИ И ПРИДОБИВАНЕ НА НЕФИНАНСОВИ АКТИВИ"]
[null," I. Плащания за текущи нелихвени разходи",{"$nulls":16}," I. Плащания за текущи нелихвени разходи"]
[null," 1. Разходи за издръжка - нефинансови позиции",{"$nulls":3},{"$f":"+IF($P$2=0,$P51,0)","v":{"v":684705,"d":"684,705 "}},{"$f":"+IF($P$2=0,$Q51,0)","v":{"v":712810,"d":"712,810 "}},null,{"$f":"+IF(OR($P$2=98,$P$2=42,$P$2=96,$P$2=97),$P51,0)","v":{"v":0,"d":"0 "}},{"$f":"+IF(OR($P$2=98,$P$2=42,$P$2=96,$P$2=97),$Q51,0)","v":{"v":0,"d":"0 "}},null,{"$f":"+IF($P$2=33,$Q51,0)","v":{"v":0,"d":"0 "}},null,{"$f":"+ROUND(+G51+J51+L51,0)","v":{"v":712810,"d":"712,810 "}},null,{"$f":"+ROUND(OTCHET!E205-SUM(OTCHET!E217:E219)+OTCHET!E271+IF(+OR(OTCHET!$F$12=\"5500\",OTCHET!$F$12=\"5600\"),0,+OTCHET!E297),0)","v":{"v":684705,"d":"684,705 "}},{"$f":"+ROUND(OTCHET!F205-SUM(OTCHET!F217:F219)+OTCHET!F271+IF(+OR(OTCHET!$F$12=\"5500\",OTCHET!$F$12=\"5600\"),0,+OTCHET!F297),0)","v":{"v":712810,"d":"712,810 "}},null,"разходни §§ 10-00 (без §§ 10-62, 10-63 и 10-69), 46-00 и § 00-98 (без НОИ и НЗОК)"]
[null," 2. Разходи за застраховане и други финансови услуги",{"$nulls":3},{"$f":"+IF($P$2=0,$P52,0)","v":{"v":15660,"d":"15,660 "}},{"$f":"+IF($P$2=0,$Q52,0)","v":{"v":10354,"d":"10,354 "}},null,{"$f":"+IF(OR($P$2=98,$P$2=42,$P$2=96,$P$2=97),$P52,0)","v":{"v":0,"d":"0 "}},{"$f":"+IF(OR($P$2=98,$P$2=42,$P$2=96,$P$2=97),$Q52,0)","v":{"v":0,"d":"0 "}},null,{"$f":"+IF($P$2=33,$Q52,0)","v":{"v":0,"d":"0 "}},null,{"$f":"+ROUND(+G52+J52+L52,0)","v":{"v":10354,"d":"10,354 "}},null,{"$f":"+ROUND(+SUM(OTCHET!E217:E219),0)","v":{"v":15660,"d":"15,660 "}},{"$f":"+ROUND(+SUM(OTCHET!F217:F219),0)","v":{"v":10354,"d":"10,354 "}},null,"разходни §§ 10-62, 10-63 и 10-69"]
[null," 3. Платени данъци, такси и административни санкции",{"$nulls":3},{"$f":"+IF($P$2=0,$P53,0)","v":{"v":14198,"d":"14,198 "}},{"$f":"+IF($P$2=0,$Q53,0)","v":{"v":14586,"d":"14,586 "}},null,{"$f":"+IF(OR($P$2=98,$P$2=42,$P$2=96,$P$2=97),$P53,0)","v":{"v":0,"d":"0 "}},{"$f":"+IF(OR($P$2=98,$P$2=42,$P$2=96,$P$2=97),$Q53,0)","v":{"v":0,"d":"0 "}},null,{"$f":"+IF($P$2=33,$Q53,0)","v":{"v":0,"d":"0 "}},null,{"$f":"+ROUND(+G53+J53+L53,0)","v":{"v":14586,"d":"14,586 "}},null,{"$f":"+ROUND(OTCHET!E223,0)","v":{"v":14198,"d":"14,198 "}},{"$f":"+ROUND(OTCHET!F223,0)","v":{"v":14586,"d":"14,586 "}},null,"разходен § 19-00"]
[null," 4. Разходи за възнаграждения на персонал",{"$nulls":3},{"$f":"+IF($P$2=0,$P54,0)","v":{"v":2807402,"d":"2,807,402 "}},{"$f":"+IF($P$2=0,$Q54,0)","v":{"v":2801801,"d":"2,801,801 "}},null,{"$f":"+IF(OR($P$2=98,$P$2=42,$P$2=96,$P$2=97),$P54,0)","v":{"v":0,"d":"0 "}},{"$f":"+IF(OR($P$2=98,$P$2=42,$P$2=96,$P$2=97),$Q54,0)","v":{"v":0,"d":"0 "}},null,{"$f":"+IF($P$2=33,$Q54,0)","v":{"v":0,"d":"0 "}},null,{"$f":"+ROUND(+G54+J54+L54,0)","v":{"v":2801801,"d":"2,801,801 "}},null,{"$f":"+ROUND(OTCHET!E187+OTCHET!E190,0)","v":{"v":2807402,"d":"2,807,402 "}},{"$f":"+ROUND(OTCHET!F187+OTCHET!F190,0)","v":{"v":2801801,"d":"2,801,801 "}},null,"разходни §§ 01-00 и 02-00"]
[null," 5. Разходи за осигурителни вноски",{"$nulls":3},{"$f":"+IF($P$2=0,$P55,0)","v":{"v":755656,"d":"755,656 "}},{"$f":"+IF($P$2=0,$Q55,0)","v":{"v":751633,"d":"751,633 "}},null,{"$f":"+IF(OR($P$2=98,$P$2=42,$P$2=96,$P$2=97),$P55,0)","v":{"v":0,"d":"0 "}},{"$f":"+IF(OR($P$2=98,$P$2=42,$P$2=96,$P$2=97),$Q55,0)","v":{"v":0,"d":"0 "}},null,{"$f":"+IF($P$2=33,$Q55,0)","v":{"v":0,"d":"0 "}},null,{"$f":"+ROUND(+G55+J55+L55,0)","v":{"v":751633,"d":"751,633 "}},null,{"$f":"+ROUND(OTCHET!E196+OTCHET!E204,0)","v":{"v":755656,"d":"755,656 "}},{"$f":"+ROUND(OTCHET!F196+OTCHET!F204,0)","v":{"v":751633,"d":"751,633 "}},null,"разходни §§ 05-00 и 08-00"]
[null," Общо за група І. Плащания за текущи нелихвени разходи",{"$nulls":3},{"$f":"+ROUND(+SUM(F51:F55),0)","v":{"v":4277621,"d":"4,277,621 "}},{"$f":"+ROUND(+SUM(G51:G55),0)","v":{"v":4291184,"d":"4,291,184 "}},null,{"$f":"+ROUND(+SUM(I51:I55),0)","v":{"v":0,"d":"0 "}},{"$f":"+ROUND(+SUM(J51:J55),0)","v":{"v":0,"d":"0 "}},null,{"$f":"+ROUND(+SUM(L51:L55),0)","v":{"v":0,"d":"0 "}},null,{"$f":"+ROUND(+SUM(N51:N55),0)","v":{"v":4291184,"d":"4,291,184 "}},null,{"$f":"+ROUND(+SUM(P51:P55),0)","v":{"v":4277621,"d":"4,277,621 "}},{"$f":"+ROUND(+SUM(Q51:Q55),0)","v":{"v":4291184,"d":"4,291,184 "}},null,"сборен ред за група І. Плащания за текущи нелихвени разходи"]
[null," IІ. Плащания за придобиване на нефинансови дълготрайни активи",{"$nulls":16}," IІ. Плащания за придобиване на нефинансови дълготрайни активи"]
[null," 1. Придобиване на земя",{"$nulls":3},{"$f":"+IF($P$2=0,$P58,0)","v":{"v":0,"d":"0 "}},{"$f":"+IF($P$2=0,$Q58,0)","v":{"v":0,"d":"0 "}},null,{"$f":"+IF(OR($P$2=98,$P$2=42,$P$2=96,$P$2=97),$P58,0)","v":{"v":0,"d":"0 "}},{"$f":"+IF(OR($P$2=98,$P$2=42,$P$2=96,$P$2=97),$Q58,0)","v":{"v":0,"d":"0 "}},null,{"$f":"+IF($P$2=33,$Q58,0)","v":{"v":0,"d":"0 "}},null,{"$f":"+ROUND(+G58+J58+L58,0)","v":{"v":0,"d":"0 "}},null,{"$f":"+ROUND(OTCHET!E287,0)","v":{"v":0,"d":"0 "}},{"$f":"+ROUND(OTCHET!F287,0)","v":{"v":0,"d":"0 "}},null,"разходен § 54-00"]
[null," 2. Придобиване на други дълготрайни материални активи",{"$nulls":3},{"$f":"+IF($P$2=0,$P59,0)","v":{"v":244231,"d":"244,231 "}},{"$f":"+IF($P$2=0,$Q59,0)","v":{"v":214631,"d":"214,631 "}},null,{"$f":"+IF(OR($P$2=98,$P$2=42,$P$2=96,$P$2=97),$P59,0)","v":{"v":0,"d":"0 "}},{"$f":"+IF(OR($P$2=98,$P$2=42,$P$2=96,$P$2=97),$Q59,0)","v":{"v":0,"d":"0 "}},null,{"$f":"+IF($P$2=33,$Q59,0)","v":{"v":0,"d":"0 "}},null,{"$f":"+ROUND(+G59+J59+L59,0)","v":{"v":214631,"d":"214,631 "}},null,{"$f":"+ROUND(+OTCHET!E275+OTCHET!E276,0)","v":{"v":244231,"d":"244,231 "}},{"$f":"+ROUND(+OTCHET!F275+OTCHET!F276,0)","v":{"v":214631,"d":"214,631 "}},null,"разходни §§ 51-00 и 52-00"]
[null," 3. Придобиване на нематериални дълготрайни активи",{"$nulls":3},{"$f":"+IF($P$2=0,$P60,0)","v":{"v":0,"d":"0 "}},{"$f":"+IF($P$2=0,$Q60,0)","v":{"v":0,"d":"0 "}},null,{"$f":"+IF(OR($P$2=98,$P$2=42,$P$2=96,$P$2=97),$P60,0)","v":{"v":0,"d":"0 "}},{"$f":"+IF(OR($P$2=98,$P$2=42,$P$2=96,$P$2=97),$Q60,0)","v":{"v":0,"d":"0 "}},null,{"$f":"+IF($P$2=33,$Q60,0)","v":{"v":0,"d":"0 "}},null,{"$f":"+ROUND(+G60+J60+L60,0)","v":{"v":0,"d":"0 "}},null,{"$f":"+ROUND(OTCHET!E284,0)","v":{"v":0,"d":"0 "}},{"$f":"+ROUND(OTCHET!F284,0)","v":{"v":0,"d":"0 "}},null,"разходен § 53-00"]
[null," 4. Нето-прираст на държавния резерв и изкупуване на земеделска продукция ",{"$nulls":3},{"$f":"+IF($P$2=0,$P61,0)","v":{"v":0,"d":"0 "}},{"$f":"+IF($P$2=0,$Q61,0)","v":{"v":0,"d":"0 "}},null,{"$f":"+IF(OR($P$2=98,$P$2=42,$P$2=96,$P$2=97),$P61,0)","v":{"v":0,"d":"0 "}},{"$f":"+IF(OR($P$2=98,$P$2=42,$P$2=96,$P$2=97),$Q61,0)","v":{"v":0,"d":"0 "}},null,{"$f":"+IF($P$2=33,$Q61,0)","v":{"v":0,"d":"0 "}},null,{"$f":"+ROUND(+G61+J61+L61,0)","v":{"v":0,"d":"0 "}},null,{"$f":"+ROUND(OTCHET!E293,0)","v":{"v":0,"d":"0 "}},{"$f":"+ROUND(OTCHET!F293,0)","v":{"v":0,"d":"0 "}},null,"разходен § 57-00 и приходeн § 40-71 (-)"]
[null,"     в т. ч. постъпления от реализация на държавния резерв (-)",{"$nulls":3},{"$f":"+IF($P$2=0,$P62,0)","v":{"v":0,"d":"0 "}},{"$f":"+IF($P$2=0,$Q62,0)","v":{"v":0,"d":"0 "}},null,{"$f":"+IF(OR($P$2=98,$P$2=42,$P$2=96,$P$2=97),$P62,0)","v":{"v":0,"d":"0 "}},{"$f":"+IF(OR($P$2=98,$P$2=42,$P$2=96,$P$2=97),$Q62,0)","v":{"v":0,"d":"0 "}},null,{"$f":"+IF($P$2=33,$Q62,0)","v":{"v":0,"d":"0 "}},null,{"$f":"+ROUND(+G62+J62+L62,0)","v":{"v":0,"d":"0 "}},null,{"$f":"+ROUND(OTCHET!E296,0)","v":{"v":0,"d":"0 "}},{"$f":"+ROUND(OTCHET!F296,0)","v":{"v":0,"d":"0 "}},null,"приходeн § 40-71 (-)"]
[null," Общо за група ІІ. Плащания за на нефинансови дълготрайни активи",{"$nulls":3},{"$f":"+ROUND(+SUM(F58:F61),0)","v":{"v":244231,"d":"244,231 "}},{"$f":"+ROUND(+SUM(G58:G61),0)","v":{"v":214631,"d":"214,631 "}},null,{"$f":"+ROUND(+SUM(I58:I61),0)","v":{"v":0,"d":"0 "}},{"$f":"+ROUND(+SUM(J58:J61),0)","v":{"v":0,"d":"0 "}},null,{"$f":"+ROUND(+SUM(L58:L61),0)","v":{"v":0,"d":"0 "}},null,{"$f":"+ROUND(+SUM(N58:N61),0)","v":{"v":214631,"d":"214,631 "}},null,{"$f":"+ROUND(+SUM(P58:P61),0)","v":{"v":244231,"d":"244,231 "}},{"$f":"+ROUND(+SUM(Q58:Q61),0)","v":{"v":214631,"d":"214,631 "}},null,"сборен ред за група ІІ. Плащания за на нефинансови дълготрайни активи"]
[null," III. Плащания за разходи за лихви",{"$nulls":16}," III. Плащания за разходи за лихви"]
[null," 1. Разходи за лихви по банкови заеми и държавни (общински) ценни книжа",{"$nulls":3},{"$f":"+IF($P$2=0,$P65,0)","v":{"v":0,"d":"0 "}},{"$f":"+IF($P$2=0,$Q65,0)","v":{"v":0,"d":"0 "}},null,{"$f":"+IF(OR($P$2=98,$P$2=42,$P$2=96,$P$2=97),$P65,0)","v":{"v":0,"d":"0 "}},{"$f":"+IF(OR($P$2=98,$P$2=42,$P$2=96,$P$2=97),$Q65,0)","v":{"v":0,"d":"0 "}},null,{"$f":"+IF($P$2=33,$Q65,0)","v":{"v":0,"d":"0 "}},null,{"$f":"+ROUND(+G65+J65+L65,0)","v":{"v":0,"d":"0 "}},null,{"$f":"+ROUND(OTCHET!E227+OTCHET!E233+SUM(OTCHET!E236:E239),0)","v":{"v":0,"d":"0 "}},{"$f":"+ROUND(OTCHET!F227+OTCHET!F233+SUM(OTCHET!F236:F239),0)","v":{"v":0,"d":"0 "}},null,"разходни §§ 21-00 ÷ 28-00"]
[null," 2. Разходи за лихви по други заеми и дългове",{"$nulls":3},{"$f":"+IF($P$2=0,$P66,0)","v":{"v":0,"d":"0 "}},{"$f":"+IF($P$2=0,$Q66,0)","v":{"v":161,"d":"161 "}},null,{"$f":"+IF(OR($P$2=98,$P$2=42,$P$2=96,$P$2=97),$P66,0)","v":{"v":0,"d":"0 "}},{"$f":"+IF(OR($P$2=98,$P$2=42,$P$2=96,$P$2=97),$Q66,0)","v":{"v":0,"d":"0 "}},null,{"$f":"+IF($P$2=33,$Q66,0)","v":{"v":0,"d":"0 "}},null,{"$f":"+ROUND(+G66+J66+L66,0)","v":{"v":161,"d":"161 "}},null,{"$f":"+ROUND(OTCHET!E240,0)","v":{"v":0,"d":"0 "}},{"$f":"+ROUND(OTCHET!F240,0)","v":{"v":161,"d":"161 "}},null,"разходен § 29-00"]
[null," Общо за група ІІІ. Плащания за разходи за лихви",{"$nulls":3},{"$f":"+ROUND(+SUM(F65:F66),0)","v":{"v":0,"d":"0 "}},{"$f":"+ROUND(+SUM(G65:G66),0)","v":{"v":161,"d":"161 "}},null,{"$f":"+ROUND(+SUM(I65:I66),0)","v":{"v":0,"d":"0 "}},{"$f":"+ROUND(+SUM(J65:J66),0)","v":{"v":0,"d":"0 "}},null,{"$f":"+ROUND(+SUM(L65:L66),0)","v":{"v":0,"d":"0 "}},null,{"$f":"+ROUND(+SUM(N65:N66),0)","v":{"v":161,"d":"161 "}},null,{"$f":"+ROUND(+SUM(P65:P66),0)","v":{"v":0,"d":"0 "}},{"$f":"+ROUND(+SUM(Q65:Q66),0)","v":{"v":161,"d":"161 "}},null,"сборен ред за група ІІІ. Плащания за разходи за лихви"]
[null," IV. Трансфери към домакинства",{"$nulls":16}," IV. Трансфери към домакинства"]
[null," 1. Осигурителни плащания и други текущи трансфери",{"$nulls":3},{"$f":"+IF($P$2=0,$P69,0)","v":{"v":0,"d":"0 "}},{"$f":"+IF($P$2=0,$Q69,0)","v":{"v":0,"d":"0 "}},null,{"$f":"+IF(OR($P$2=98,$P$2=42,$P$2=96,$P$2=97),$P69,0)","v":{"v":0,"d":"0 "}},{"$f":"+IF(OR($P$2=98,$P$2=42,$P$2=96,$P$2=97),$Q69,0)","v":{"v":0,"d":"0 "}},null,{"$f":"+IF($P$2=33,$Q69,0)","v":{"v":0,"d":"0 "}},null,{"$f":"+ROUND(+G69+J69+L69,0)","v":{"v":0,"d":"0 "}},null,{"$f":"+ROUND(+SUM(OTCHET!E255:E258)+IF(+OR(OTCHET!$F$12=\"5500\",OTCHET!$F$12=\"5600\"),+OTCHET!E297,0),0)","v":{"v":0,"d":"0 "}},{"$f":"+ROUND(+SUM(OTCHET!F255:F258)+IF(+OR(OTCHET!$F$12=\"5500\",OTCHET!$F$12=\"5600\"),+OTCHET!F297,0),0)","v":{"v":0,"d":"0 "}},null,"разходни §§ 39-00 ÷ 42-00 (за НОИ и НЗОК - и разходен § 00-98) "]
[null," 2. Капиталови трансфери към домакинства",{"$nulls":3},{"$f":"+IF($P$2=0,$P70,0)","v":{"v":0,"d":"0 "}},{"$f":"+IF($P$2=0,$Q70,0)","v":{"v":0,"d":"0 "}},null,{"$f":"+IF(OR($P$2=98,$P$2=42,$P$2=96,$P$2=97),$P70,0)","v":{"v":0,"d":"0 "}},{"$f":"+IF(OR($P$2=98,$P$2=42,$P$2=96,$P$2=97),$Q70,0)","v":{"v":0,"d":"0 "}},null,{"$f":"+IF($P$2=33,$Q70,0)","v":{"v":0,"d":"0 "}},null,{"$f":"+ROUND(+G70+J70+L70,0)","v":{"v":0,"d":"0 "}},null,{"$f":"+ROUND(+OTCHET!E292,0)","v":{"v":0,"d":"0 "}},{"$f":"+ROUND(+OTCHET!F292,0)","v":{"v":0,"d":"0 "}},null,"разходен § 55-04"]
[null," Общо за група ІV. Трансфери към домакинства",{"$nulls":3},{"$f":"+ROUND(+SUM(F69:F70),0)","v":{"v":0,"d":"0 "}},{"$f":"+ROUND(+SUM(G69:G70),0)","v":{"v":0,"d":"0 "}},null,{"$f":"+ROUND(+SUM(I69:I70),0)","v":{"v":0,"d":"0 "}},{"$f":"+ROUND(+SUM(J69:J70),0)","v":{"v":0,"d":"0 "}},null,{"$f":"+ROUND(+SUM(L69:L70),0)","v":{"v":0,"d":"0 "}},null,{"$f":"+ROUND(+SUM(N69:N70),0)","v":{"v":0,"d":"0 "}},null,{"$f":"+ROUND(+SUM(P69:P70),0)","v":{"v":0,"d":"0 "}},{"$f":"+ROUND(+SUM(Q69:Q70),0)","v":{"v":0,"d":"0 "}},null,"сборен ред за група ІV. Трансфери към домакинства"]
[null," V. Субсидии и капиталови трансфери",{"$nulls":16}," V. Субсидии и капиталови трансфери"]
[null," 1. Текущи субсидии и трансфери към други лица",{"$nulls":3},{"$f":"+IF($P$2=0,$P73,0)","v":{"v":0,"d":"0 "}},{"$f":"+IF($P$2=0,$Q73,0)","v":{"v":0,"d":"0 "}},null,{"$f":"+IF(OR($P$2=98,$P$2=42,$P$2=96,$P$2=97),$P73,0)","v":{"v":0,"d":"0 "}},{"$f":"+IF(OR($P$2=98,$P$2=42,$P$2=96,$P$2=97),$Q73,0)","v":{"v":0,"d":"0 "}},null,{"$f":"+IF($P$2=33,$Q73,0)","v":{"v":0,"d":"0 "}},null,{"$f":"+ROUND(+G73+J73+L73,0)","v":{"v":0,"d":"0 "}},null,{"$f":"+ROUND(+OTCHET!E249+OTCHET!E265+OTCHET!E269+OTCHET!E270+OTCHET!E273,0)","v":{"v":0,"d":"0 "}},{"$f":"+ROUND(+OTCHET!F249+OTCHET!F265+OTCHET!F269+OTCHET!F270+OTCHET!F273,0)","v":{"v":0,"d":"0 "}},null,"разходни §§ 33-00, 43-00, 44-00, 45-00 и 49-01"]
[null," 2. Капиталови трансфери към други лица",{"$nulls":3},{"$f":"+IF($P$2=0,$P74,0)","v":{"v":0,"d":"0 "}},{"$f":"+IF($P$2=0,$Q74,0)","v":{"v":0,"d":"0 "}},null,{"$f":"+IF(OR($P$2=98,$P$2=42,$P$2=96,$P$2=97),$P74,0)","v":{"v":0,"d":"0 "}},{"$f":"+IF(OR($P$2=98,$P$2=42,$P$2=96,$P$2=97),$Q74,0)","v":{"v":0,"d":"0 "}},null,{"$f":"+IF($P$2=33,$Q74,0)","v":{"v":0,"d":"0 "}},null,{"$f":"+ROUND(+G74+J74+L74,0)","v":{"v":0,"d":"0 "}},null,{"$f":"+ROUND(OTCHET!E274+OTCHET!E288-OTCHET!E292,0)","v":{"v":0,"d":"0 "}},{"$f":"+ROUND(OTCHET!F274+OTCHET!F288-OTCHET!F292,0)","v":{"v":0,"d":"0 "}},null,"разходни §§ 49-02 и 55-00 (без § 55-04)"]
[null," Общо за група V. Субсидии и капиталови трансфери",{"$nulls":3},{"$f":"+ROUND(+SUM(F73:F74),0)","v":{"v":0,"d":"0 "}},{"$f":"+ROUND(+SUM(G73:G74),0)","v":{"v":0,"d":"0 "}},null,{"$f":"+ROUND(+SUM(I73:I74),0)","v":{"v":0,"d":"0 "}},{"$f":"+ROUND(+SUM(J73:J74),0)","v":{"v":0,"d":"0 "}},null,{"$f":"+ROUND(+SUM(L73:L74),0)","v":{"v":0,"d":"0 "}},null,{"$f":"+ROUND(+SUM(N73:N74),0)","v":{"v":0,"d":"0 "}},null,{"$f":"+ROUND(+SUM(P73:P74),0)","v":{"v":0,"d":"0 "}},{"$f":"+ROUND(+SUM(Q73:Q74),0)","v":{"v":0,"d":"0 "}},null,"сборен ред за група V. Субсидии и капиталови трансфери"]
[]
[null," Б. ОБЩО РАЗХОДИ И ПРИДОБИВАНЕ НА НЕФИНАНСОВИ АКТИВИ",{"$nulls":3},{"$f":"+ROUND(F56+F63+F67+F71+F75,0)","v":{"v":4521852,"d":"4,521,852 "}},{"$f":"+ROUND(G56+G63+G67+G71+G75,0)","v":{"v":4505976,"d":"4,505,976 "}},null,{"$f":"+ROUND(I56+I63+I67+I71+I75,0)","v":{"v":0,"d":"0 "}},{"$f":"+ROUND(J56+J63+J67+J71+J75,0)","v":{"v":0,"d":"0 "}},null,{"$f":"+ROUND(L56+L63+L67+L71+L75,0)","v":{"v":0,"d":"0 "}},null,{"$f":"+ROUND(N56+N63+N67+N71+N75,0)","v":{"v":4505976,"d":"4,505,976 "}},null,{"$f":"+ROUND(P56+P63+P67+P71+P75,0)","v":{"v":4521852,"d":"4,521,852 "}},{"$f":"+ROUND(Q56+Q63+Q67+Q71+Q75,0)","v":{"v":4505976,"d":"4,505,976 "}},null," сборен за ред Б. ОБЩО РАЗХОДИ И ПРИДОБИВАНЕ НА НЕФИН. АКТИВИ"]
[null," В. ТРАНСФЕРИ И БЕЗЛИХВЕНИ ЗАЕМИ М/У БЮДЖ. ОРГАНИЗАЦИИ",{"$nulls":16}," В. ТРАНСФЕРИ И БЕЗЛИХВЕНИ ЗАЕМИ М/У БЮДЖ. ОРГАНИЗАЦИИ"]
[null," 1. Трансфери между бюджетни организации (нето)",{"$nulls":3},{"$f":"+IF($P$2=0,$P79,0)","v":{"v":4191852,"d":"4,191,852 "}},{"$f":"+IF($P$2=0,$Q79,0)","v":{"v":4220727,"d":"4,220,727 "}},null,{"$f":"+IF(OR($P$2=98,$P$2=42,$P$2=96,$P$2=97),$P79,0)","v":{"v":0,"d":"0 "}},{"$f":"+IF(OR($P$2=98,$P$2=42,$P$2=96,$P$2=97),$Q79,0)","v":{"v":0,"d":"0 "}},null,{"$f":"+IF($P$2=33,$Q79,0)","v":{"v":0,"d":"0 "}},null,{"$f":"+ROUND(+G79+J79+L79,0)","v":{"v":4220727,"d":"4,220,727 "}},null,{"$f":"+ROUND(OTCHET!E419,0)","v":{"v":4191852,"d":"4,191,852 "}},{"$f":"+ROUND(OTCHET!F419,0)","v":{"v":4220727,"d":"4,220,727 "}},null,"трансферни параграфи §§ 30-00 ÷ 32-00 и 60-00 ÷ 69-00"]
[null," 2. Временни безлихвени заеми между бюджетни организации (нето)",{"$nulls":3},{"$f":"+IF($P$2=0,$P80,0)","v":{"v":0,"d":"0 "}},{"$f":"+IF($P$2=0,$Q80,0)","v":{"v":0,"d":"0 "}},null,{"$f":"+IF(OR($P$2=98,$P$2=42,$P$2=96,$P$2=97),$P80,0)","v":{"v":0,"d":"0 "}},{"$f":"+IF(OR($P$2=98,$P$2=42,$P$2=96,$P$2=97),$Q80,0)","v":{"v":0,"d":"0 "}},null,{"$f":"+IF($P$2=33,$Q80,0)","v":{"v":0,"d":"0 "}},null,{"$f":"+ROUND(+G80+J80+L80,0)","v":{"v":0,"d":"0 "}},null,{"$f":"+ROUND(OTCHET!E429,0)","v":{"v":0,"d":"0 "}},{"$f":"+ROUND(OTCHET!F429,0)","v":{"v":0,"d":"0 "}},null,"трансферни параграфи §§ 74-00 ÷ 78-00"]
[null," В. ОБЩО ТРАНСФЕРИ И  ЗАЕМИ М/У БЮДЖЕТНИ ОРГАНИЗАЦИИ",{"$nulls":3},{"$f":"+ROUND(F79+F80,0)","v":{"v":4191852,"d":"4,191,852 "}},{"$f":"+ROUND(G79+G80,0)","v":{"v":4220727,"d":"4,220,727 "}},null,{"$f":"+ROUND(I79+I80,0)","v":{"v":0,"d":"0 "}},{"$f":"+ROUND(J79+J80,0)","v":{"v":0,"d":"0 "}},null,{"$f":"+ROUND(L79+L80,0)","v":{"v":0,"d":"0 "}},null,{"$f":"+ROUND(N79+N80,0)","v":{"v":4220727,"d":"4,220,727 "}},null,{"$f":"+ROUND(P79+P80,0)","v":{"v":4191852,"d":"4,191,852 "}},{"$f":"+ROUND(Q79+Q80,0)","v":{"v":4220727,"d":"4,220,727 "}},null," сборен ред за  В. ОБЩО ТРАНСФЕРИ И  ЗАЕМИ М/У БЮДЖ. ОРГАНИЗАЦИИ"]
[null,{"$f":"+IF(+SUM(F82:N82)=0,0,\"Контрола: дефицит/излишък = финансиране с обратен знак (Г. + Д. = 0)\")","v":0},{"$nulls":3},{"$f":"+ROUND(F83,0)+ROUND(F84,0)","v":0},{"$f":"+ROUND(G83,0)+ROUND(G84,0)","v":0},null,{"$f":"+ROUND(I83,0)+ROUND(I84,0)","v":0},{"$f":"+ROUND(J83,0)+ROUND(J84,0)","v":0},null,{"$f":"+ROUND(L83,0)+ROUND(L84,0)","v":0},null,{"$f":"+ROUND(N83,0)+ROUND(N84,0)","v":0},null,{"$f":"+ROUND(P83,0)+ROUND(P84,0)","v":0},{"$f":"+ROUND(Q83,0)+ROUND(Q84,0)","v":0}]
[null,"Г. Бюджетно салдо: Дефицит (-) / излишък (+) = (А. - Б. + В. )",{"$nulls":3},{"$f":"+ROUND(F48,0)-ROUND(F77,0)+ROUND(F81,0)","v":{"v":0,"d":"0 "}},{"$f":"+ROUND(G48,0)-ROUND(G77,0)+ROUND(G81,0)","v":{"v":-3128,"d":"(3,128)"}},null,{"$f":"+ROUND(I48,0)-ROUND(I77,0)+ROUND(I81,0)","v":{"v":0,"d":"0 "}},{"$f":"+ROUND(J48,0)-ROUND(J77,0)+ROUND(J81,0)","v":{"v":0,"d":"0 "}},null,{"$f":"+ROUND(L48,0)-ROUND(L77,0)+ROUND(L81,0)","v":{"v":0,"d":"0 "}},null,{"$f":"+ROUND(N48,0)-ROUND(N77,0)+ROUND(N81,0)","v":{"v":-3128,"d":"(3,128)"}},null,{"$f":"+ROUND(P48,0)-ROUND(P77,0)+ROUND(P81,0)","v":{"v":0,"d":"0 "}},{"$f":"+ROUND(Q48,0)-ROUND(Q77,0)+ROUND(Q81,0)","v":{"v":-3128,"d":"(3,128)"}},null,"Г. Бюджетно салдо: Дефицит (-) / излишък (+) = (А. - Б. + В. )"]
[null,"Д. Финансиране на бюджетното салдо (Е. + Ж. + З. - И.)",{"$nulls":3},{"$f":"+ROUND(F101,0)+ROUND(F120,0)+ROUND(F127,0)-ROUND(F132,0)","v":{"v":0,"d":"0 "}},{"$f":"+ROUND(G101,0)+ROUND(G120,0)+ROUND(G127,0)-ROUND(G132,0)","v":{"v":3128,"d":"3,128 "}},null,{"$f":"+ROUND(I101,0)+ROUND(I120,0)+ROUND(I127,0)-ROUND(I132,0)","v":{"v":0,"d":"0 "}},{"$f":"+ROUND(J101,0)+ROUND(J120,0)+ROUND(J127,0)-ROUND(J132,0)","v":{"v":0,"d":"0 "}},null,{"$f":"+ROUND(L101,0)+ROUND(L120,0)+ROUND(L127,0)-ROUND(L132,0)","v":{"v":0,"d":"0 "}},null,{"$f":"+ROUND(N101,0)+ROUND(N120,0)+ROUND(N127,0)-ROUND(N132,0)","v":{"v":3128,"d":"3,128 "}},null,{"$f":"+ROUND(P101,0)+ROUND(P120,0)+ROUND(P127,0)-ROUND(P132,0)","v":{"v":0,"d":"0 "}},{"$f":"+ROUND(Q101,0)+ROUND(Q120,0)+ROUND(Q127,0)-ROUND(Q132,0)","v":{"v":3128,"d":"3,128 "}},null,"Д. Финансиране на бюджетното салдо (Е. + Ж. + З. - И.)"]
[null," Е. ОПЕРАЦИИ С ФИНАНСОВИ АКТИВИ",{"$nulls":16}," Е. ОПЕРАЦИИ С ФИНАНСОВИ АКТИВИ"]
[null," I. Придобиване и реализиране на дялове, акции и участия",{"$nulls":16}," I. Придобиване и реализиране на дялове, акции и участия"]
[null," 1. Придобиване на дялове, акции и участия в предприятия (-)",{"$nulls":3},{"$f":"+IF($P$2=0,$P87,0)","v":{"v":0,"d":"0 "}},{"$f":"+IF($P$2=0,$Q87,0)","v":{"v":0,"d":"0 "}},null,{"$f":"+IF(OR($P$2=98,$P$2=42,$P$2=96,$P$2=97),$P87,0)","v":{"v":0,"d":"0 "}},{"$f":"+IF(OR($P$2=98,$P$2=42,$P$2=96,$P$2=97),$Q87,0)","v":{"v":0,"d":"0 "}},null,{"$f":"+IF($P$2=33,$Q87,0)","v":{"v":0,"d":"0 "}},null,{"$f":"+ROUND(+G87+J87+L87,0)","v":{"v":0,"d":"0 "}},null,{"$f":"+ROUND(+OTCHET!E462+OTCHET!E463,0)","v":{"v":0,"d":"0 "}},{"$f":"+ROUND(+OTCHET!F462+OTCHET!F463,0)","v":{"v":0,"d":"0 "}},null,"финансиращи §§ 70-01 и 70-03"]
[null," 2. Постъпления от реализация и приватизация на дялове, акциии и участия",{"$nulls":3},{"$f":"+IF($P$2=0,$P88,0)","v":{"v":0,"d":"0 "}},{"$f":"+IF($P$2=0,$Q88,0)","v":{"v":0,"d":"0 "}},null,{"$f":"+IF(OR($P$2=98,$P$2=42,$P$2=96,$P$2=97),$P88,0)","v":{"v":0,"d":"0 "}},{"$f":"+IF(OR($P$2=98,$P$2=42,$P$2=96,$P$2=97),$Q88,0)","v":{"v":0,"d":"0 "}},null,{"$f":"+IF($P$2=33,$Q88,0)","v":{"v":0,"d":"0 "}},null,{"$f":"+ROUND(+G88+J88+L88,0)","v":{"v":0,"d":"0 "}},null,{"$f":"+ROUND(OTCHET!E464+OTCHET!E535,0)","v":{"v":0,"d":"0 "}},{"$f":"+ROUND(OTCHET!F464+OTCHET!F535,0)","v":{"v":0,"d":"0 "}},null,"финансиращи §§ 70-10 и 90-00"]
[null," Общо за група І. Придобиване и реализиране на дялове, акции и участия",{"$nulls":3},{"$f":"+ROUND(+SUM(F87:F88),0)","v":{"v":0,"d":"0 "}},{"$f":"+ROUND(+SUM(G87:G88),0)","v":{"v":0,"d":"0 "}},null,{"$f":"+ROUND(+SUM(I87:I88),0)","v":{"v":0,"d":"0 "}},{"$f":"+ROUND(+SUM(J87:J88),0)","v":{"v":0,"d":"0 "}},null,{"$f":"+ROUND(+SUM(L87:L88),0)","v":{"v":0,"d":"0 "}},null,{"$f":"+ROUND(+SUM(N87:N88),0)","v":{"v":0,"d":"0 "}},null,{"$f":"+ROUND(+SUM(P87:P88),0)","v":{"v":0,"d":"0 "}},{"$f":"+ROUND(+SUM(Q87:Q88),0)","v":{"v":0,"d":"0 "}},null," Сборен ред за група І. Придобиване и реализиране на дялове, акции и участия"]
[null," IІ. Предоставени заеми, възмездна фин. помощ и активирани гаранции",{"$nulls":16}," IІ. Предоставени заеми, възмездна фин. помощ и активирани гаранции"]
[null," 1. Предоставени заеми и възмездна финансова помощ (-)",{"$nulls":3},{"$f":"+IF($P$2=0,$P91,0)","v":{"v":0,"d":"0 "}},{"$f":"+IF($P$2=0,$Q91,0)","v":{"v":0,"d":"0 "}},null,{"$f":"+IF(OR($P$2=98,$P$2=42,$P$2=96,$P$2=97),$P91,0)","v":{"v":0,"d":"0 "}},{"$f":"+IF(OR($P$2=98,$P$2=42,$P$2=96,$P$2=97),$Q91,0)","v":{"v":0,"d":"0 "}},null,{"$f":"+IF($P$2=33,$Q91,0)","v":{"v":0,"d":"0 "}},null,{"$f":"+ROUND(+G91+J91+L91,0)","v":{"v":0,"d":"0 "}},null,{"$f":"+ROUND(OTCHET!E466+OTCHET!E469+OTCHET!E479,0)","v":{"v":0,"d":"0 "}},{"$f":"+ROUND(OTCHET!F466+OTCHET!F469+OTCHET!F479,0)","v":{"v":0,"d":"0 "}},null,"финансиращи §§ 71-01, 72-01 и 79-01"]
[null," 2. Получени погашения по предоставени заеми и възмездна фин. помощ (+)",{"$nulls":3},{"$f":"+IF($P$2=0,$P92,0)","v":{"v":0,"d":"0 "}},{"$f":"+IF($P$2=0,$Q92,0)","v":{"v":0,"d":"0 "}},null,{"$f":"+IF(OR($P$2=98,$P$2=42,$P$2=96,$P$2=97),$P92,0)","v":{"v":0,"d":"0 "}},{"$f":"+IF(OR($P$2=98,$P$2=42,$P$2=96,$P$2=97),$Q92,0)","v":{"v":0,"d":"0 "}},null,{"$f":"+IF($P$2=33,$Q92,0)","v":{"v":0,"d":"0 "}},null,{"$f":"+ROUND(+G92+J92+L92,0)","v":{"v":0,"d":"0 "}},null,{"$f":"+ROUND(OTCHET!E467+OTCHET!E470+OTCHET!E480+OTCHET!E502+IF(+OTCHET!E494>0,+OTCHET!E494,0),0)","v":{"v":0,"d":"0 "}},{"$f":"+ROUND(OTCHET!F467+OTCHET!F470+OTCHET!F480+OTCHET!F502+IF(+OTCHET!F494>0,+OTCHET!F494,0),0)","v":{"v":0,"d":"0 "}},null,"финансиращи §§ 71-02, 72-02, 79-02 и 82-00 и § 80-80 (ако е \"плюс\")"]
[null," 3. Плащания по активирани гаранции  - главници по гарантирани заеми",{"$nulls":3},{"$f":"+IF($P$2=0,$P93,0)","v":{"v":0,"d":"0 "}},{"$f":"+IF($P$2=0,$Q93,0)","v":{"v":0,"d":"0 "}},null,{"$f":"+IF(OR($P$2=98,$P$2=42,$P$2=96,$P$2=97),$P93,0)","v":{"v":0,"d":"0 "}},{"$f":"+IF(OR($P$2=98,$P$2=42,$P$2=96,$P$2=97),$Q93,0)","v":{"v":0,"d":"0 "}},null,{"$f":"+IF($P$2=33,$Q93,0)","v":{"v":0,"d":"0 "}},null,{"$f":"+ROUND(+G93+J93+L93,0)","v":{"v":0,"d":"0 "}},null,{"$f":"+ROUND(+SUM(OTCHET!E472:E474),0)","v":{"v":0,"d":"0 "}},{"$f":"+ROUND(+SUM(OTCHET!F472:F474),0)","v":{"v":0,"d":"0 "}},null,"финансиращи §§ 73-20, 73-69 и 73-70"]
[null," 4. Възстановени суми по активирани гаранции - главници",{"$nulls":3},{"$f":"+IF($P$2=0,$P94,0)","v":{"v":0,"d":"0 "}},{"$f":"+IF($P$2=0,$Q94,0)","v":{"v":0,"d":"0 "}},null,{"$f":"+IF(OR($P$2=98,$P$2=42,$P$2=96,$P$2=97),$P94,0)","v":{"v":0,"d":"0 "}},{"$f":"+IF(OR($P$2=98,$P$2=42,$P$2=96,$P$2=97),$Q94,0)","v":{"v":0,"d":"0 "}},null,{"$f":"+IF($P$2=33,$Q94,0)","v":{"v":0,"d":"0 "}},null,{"$f":"+ROUND(+G94+J94+L94,0)","v":{"v":0,"d":"0 "}},null,{"$f":"+ROUND(+SUM(OTCHET!E475:E476),0)","v":{"v":0,"d":"0 "}},{"$f":"+ROUND(+SUM(OTCHET!F475:F476),0)","v":{"v":0,"d":"0 "}},null,"финансиращи §§ 73-91 и 73-92"]
[null," Общо за група ІІ. Предоставени заеми, възмездна фин. помощ и гаранции",{"$nulls":3},{"$f":"+ROUND(+SUM(F91:F94),0)","v":{"v":0,"d":"0 "}},{"$f":"+ROUND(+SUM(G91:G94),0)","v":{"v":0,"d":"0 "}},null,{"$f":"+ROUND(+SUM(I91:I94),0)","v":{"v":0,"d":"0 "}},{"$f":"+ROUND(+SUM(J91:J94),0)","v":{"v":0,"d":"0 "}},null,{"$f":"+ROUND(+SUM(L91:L94),0)","v":{"v":0,"d":"0 "}},null,{"$f":"+ROUND(+SUM(N91:N94),0)","v":{"v":0,"d":"0 "}},null,{"$f":"+ROUND(+SUM(P91:P94),0)","v":{"v":0,"d":"0 "}},{"$f":"+ROUND(+SUM(Q91:Q94),0)","v":{"v":0,"d":"0 "}},null," Сборен ред за група ІІ. Предоставени заеми, възмездна фин. помощ и гаранции"]
[null," IІI. Други операции с финансови активи",{"$nulls":16}," IІI. Други операции с финансови активи"]
[null," 1. Нето-операции с други ценни книжа  и фин. активи (кеш-мениджмънт)",{"$nulls":3},{"$f":"+IF($P$2=0,$P97,0)","v":{"v":0,"d":"0 "}},{"$f":"+IF($P$2=0,$Q97,0)","v":{"v":0,"d":"0 "}},null,{"$f":"+IF(OR($P$2=98,$P$2=42,$P$2=96,$P$2=97),$P97,0)","v":{"v":0,"d":"0 "}},{"$f":"+IF(OR($P$2=98,$P$2=42,$P$2=96,$P$2=97),$Q97,0)","v":{"v":0,"d":"0 "}},null,{"$f":"+IF($P$2=33,$Q97,0)","v":{"v":0,"d":"0 "}},null,{"$f":"+ROUND(+G97+J97+L97,0)","v":{"v":0,"d":"0 "}},null,{"$f":"+ROUND(OTCHET!E536+OTCHET!E541,0)","v":{"v":0,"d":"0 "}},{"$f":"+ROUND(OTCHET!F536+OTCHET!F541,0)","v":{"v":0,"d":"0 "}},null,"финансиращи §§ 91-01 и 92-00"]
[null," 2. Други операции с финансови активи (нето)",{"$nulls":3},{"$f":"+IF($P$2=0,$P98,0)","v":{"v":0,"d":"0 "}},{"$f":"+IF($P$2=0,$Q98,0)","v":{"v":3128,"d":"3,128 "}},null,{"$f":"+IF(OR($P$2=98,$P$2=42,$P$2=96,$P$2=97),$P98,0)","v":{"v":0,"d":"0 "}},{"$f":"+IF(OR($P$2=98,$P$2=42,$P$2=96,$P$2=97),$Q98,0)","v":{"v":0,"d":"0 "}},null,{"$f":"+IF($P$2=33,$Q98,0)","v":{"v":0,"d":"0 "}},null,{"$f":"+ROUND(+G98+J98+L98,0)","v":{"v":3128,"d":"3,128 "}},null,{"$f":"+ROUND(+OTCHET!E477+OTCHET!E558+OTCHET!E560,0)","v":{"v":0,"d":"0 "}},{"$f":"+ROUND(+OTCHET!F477+OTCHET!F558+OTCHET!F560,0)","v":{"v":3128,"d":"3,128 "}},null,"финансиращи §§ 73-93, 93-36, 93-38"]
[null," Общо за група ІІІ. Други операции с финансови активи",{"$nulls":3},{"$f":"+ROUND(+SUM(F97:F98),0)","v":{"v":0,"d":"0 "}},{"$f":"+ROUND(+SUM(G97:G98),0)","v":{"v":3128,"d":"3,128 "}},null,{"$f":"+ROUND(+SUM(I97:I98),0)","v":{"v":0,"d":"0 "}},{"$f":"+ROUND(+SUM(J97:J98),0)","v":{"v":0,"d":"0 "}},null,{"$f":"+ROUND(+SUM(L97:L98),0)","v":{"v":0,"d":"0 "}},null,{"$f":"+ROUND(+SUM(N97:N98),0)","v":{"v":3128,"d":"3,128 "}},null,{"$f":"+ROUND(+SUM(P97:P98),0)","v":{"v":0,"d":"0 "}},{"$f":"+ROUND(+SUM(Q97:Q98),0)","v":{"v":3128,"d":"3,128 "}},null,"  Сборен ред за група ІІІ. Други операции с финансови активи"]
[]
[null," Е. ОБЩО ОПЕРАЦИИ С ФИНАНСОВИ АКТИВИ",{"$nulls":3},{"$f":"+ROUND(F89+F95+F99,0)","v":{"v":0,"d":"0 "}},{"$f":"+ROUND(G89+G95+G99,0)","v":{"v":3128,"d":"3,128 "}},null,{"$f":"+ROUND(I89+I95+I99,0)","v":{"v":0,"d":"0 "}},{"$f":"+ROUND(J89+J95+J99,0)","v":{"v":0,"d":"0 "}},null,{"$f":"+ROUND(L89+L95+L99,0)","v":{"v":0,"d":"0 "}},null,{"$f":"+ROUND(N89+N95+N99,0)","v":{"v":3128,"d":"3,128 "}},null,{"$f":"+ROUND(P89+P95+P99,0)","v":{"v":0,"d":"0 "}},{"$f":"+ROUND(Q89+Q95+Q99,0)","v":{"v":3128,"d":"3,128 "}},null," Сборен ред за Е. ОБЩО ОПЕРАЦИИ С ФИНАНСОВИ АКТИВИ"]
[null," Ж. ОПЕРАЦИИ С ФИНАНСОВИ ПАСИВИ",{"$nulls":16}," Ж. ОПЕРАЦИИ С ФИНАНСОВИ ПАСИВИ"]
[null," I. Емитирани държавни (общински) ценни книжа",{"$nulls":16}," I. Емитирани държавни (общински) ценни книжа"]
[null," 1. Постъпления от емисии на държавни (общински) ценни книжа (+)",{"$nulls":3},{"$f":"+IF($P$2=0,$P104,0)","v":{"v":0,"d":"0 "}},{"$f":"+IF($P$2=0,$Q104,0)","v":{"v":0,"d":"0 "}},null,{"$f":"+IF(OR($P$2=98,$P$2=42,$P$2=96,$P$2=97),$P104,0)","v":{"v":0,"d":"0 "}},{"$f":"+IF(OR($P$2=98,$P$2=42,$P$2=96,$P$2=97),$Q104,0)","v":{"v":0,"d":"0 "}},null,{"$f":"+IF($P$2=33,$Q104,0)","v":{"v":0,"d":"0 "}},null,{"$f":"+ROUND(+G104+J104+L104,0)","v":{"v":0,"d":"0 "}},null,{"$f":"+ROUND(OTCHET!E498+OTCHET!E499+OTCHET!E512,0)","v":{"v":0,"d":"0 "}},{"$f":"+ROUND(OTCHET!F498+OTCHET!F499+OTCHET!F512,0)","v":{"v":0,"d":"0 "}},null,"финансиращи §§ 81-11, 81-12 и 85-00"]
[null," 2. Погашения по емисии на държавни (общински) ценни книжа) (-)",{"$nulls":3},{"$f":"+IF($P$2=0,$P105,0)","v":{"v":0,"d":"0 "}},{"$f":"+IF($P$2=0,$Q105,0)","v":{"v":0,"d":"0 "}},null,{"$f":"+IF(OR($P$2=98,$P$2=42,$P$2=96,$P$2=97),$P105,0)","v":{"v":0,"d":"0 "}},{"$f":"+IF(OR($P$2=98,$P$2=42,$P$2=96,$P$2=97),$Q105,0)","v":{"v":0,"d":"0 "}},null,{"$f":"+IF($P$2=33,$Q105,0)","v":{"v":0,"d":"0 "}},null,{"$f":"+ROUND(+G105+J105+L105,0)","v":{"v":0,"d":"0 "}},null,{"$f":"+ROUND(OTCHET!E500+OTCHET!E501+OTCHET!E516,0)","v":{"v":0,"d":"0 "}},{"$f":"+ROUND(OTCHET!F500+OTCHET!F501+OTCHET!F516,0)","v":{"v":0,"d":"0 "}},null,"финансиращи §§ 81-21, 81-22 и 86-00"]
[null," Общо за група І. Емитирани държавни (общински) ценни книжа",{"$nulls":3},{"$f":"+ROUND(+SUM(F104:F105),0)","v":{"v":0,"d":"0 "}},{"$f":"+ROUND(+SUM(G104:G105),0)","v":{"v":0,"d":"0 "}},null,{"$f":"+ROUND(+SUM(I104:I105),0)","v":{"v":0,"d":"0 "}},{"$f":"+ROUND(+SUM(J104:J105),0)","v":{"v":0,"d":"0 "}},null,{"$f":"+ROUND(+SUM(L104:L105),0)","v":{"v":0,"d":"0 "}},null,{"$f":"+ROUND(+SUM(N104:N105),0)","v":{"v":0,"d":"0 "}},null,{"$f":"+ROUND(+SUM(P104:P105),0)","v":{"v":0,"d":"0 "}},{"$f":"+ROUND(+SUM(Q104:Q105),0)","v":{"v":0,"d":"0 "}},null," Сборен ред за група І. Емитирани държавни (общински) ценни книжа"]
[null," IІ. Заеми от банки и други лица",{"$nulls":16}," IІ. Заеми от банки и други лица"]
[null," 1. Получени банкови и други заеми (+)",{"$nulls":3},{"$f":"+IF($P$2=0,$P108,0)","v":{"v":0,"d":"0 "}},{"$f":"+IF($P$2=0,$Q108,0)","v":{"v":0,"d":"0 "}},null,{"$f":"+IF(OR($P$2=98,$P$2=42,$P$2=96,$P$2=97),$P108,0)","v":{"v":0,"d":"0 "}},{"$f":"+IF(OR($P$2=98,$P$2=42,$P$2=96,$P$2=97),$Q108,0)","v":{"v":0,"d":"0 "}},null,{"$f":"+IF($P$2=33,$Q108,0)","v":{"v":0,"d":"0 "}},null,{"$f":"+ROUND(+G108+J108+L108,0)","v":{"v":0,"d":"0 "}},null,{"$f":"+ROUND(OTCHET!E482+OTCHET!E483+OTCHET!E486+OTCHET!E487+OTCHET!E490+OTCHET!E491+OTCHET!E495+OTCHET!E504+OTCHET!E505+OTCHET!E508+OTCHET!E509,0)","v":{"v":0,"d":"0 "}},{"$f":"+ROUND(OTCHET!F482+OTCHET!F483+OTCHET!F486+OTCHET!F487+OTCHET!F490+OTCHET!F491+OTCHET!F495+OTCHET!F504+OTCHET!F505+OTCHET!F508+OTCHET!F509,0)","v":{"v":0,"d":"0 "}},null,"финансиращи §§ 80-11, 80-12, 80-31, 80-32, 80-51, 80-52, 80-97, 83-11, 83-12, 83-71, 83-72 "]
[null," 2. Погашения по получени банкови и други заеми (-)",{"$nulls":3},{"$f":"+IF($P$2=0,$P109,0)","v":{"v":0,"d":"0 "}},{"$f":"+IF($P$2=0,$Q109,0)","v":{"v":0,"d":"0 "}},null,{"$f":"+IF(OR($P$2=98,$P$2=42,$P$2=96,$P$2=97),$P109,0)","v":{"v":0,"d":"0 "}},{"$f":"+IF(OR($P$2=98,$P$2=42,$P$2=96,$P$2=97),$Q109,0)","v":{"v":0,"d":"0 "}},null,{"$f":"+IF($P$2=33,$Q109,0)","v":{"v":0,"d":"0 "}},null,{"$f":"+ROUND(+G109+J109+L109,0)","v":{"v":0,"d":"0 "}},null,{"$f":"+ROUND(OTCHET!E484+OTCHET!E485+OTCHET!E488+OTCHET!E489+OTCHET!E492+OTCHET!E493+OTCHET!E496+OTCHET!E506+OTCHET!E507+OTCHET!E510+OTCHET!E511+IF(+OTCHET!E494<0,+OTCHET!E494,0),0)","v":{"v":0,"d":"0 "}},{"$f":"+ROUND(OTCHET!F484+OTCHET!F485+OTCHET!F488+OTCHET!F489+OTCHET!F492+OTCHET!F493+OTCHET!F496+OTCHET!F506+OTCHET!F507+OTCHET!F510+OTCHET!F511+IF(+OTCHET!F494<0,+OTCHET!F494,0),0)","v":{"v":0,"d":"0 "}},null,"§§ 80-17, 80-18, 80-37, 80-38, 80-57, 80-58, 80-98, 83-21, 83-22, 83-81, 83-82 и § 80-80 (ако е \"минус\")"]
[null," Общо за група ІІ. Заеми от банки и други лица",{"$nulls":3},{"$f":"+ROUND(+SUM(F108:F109),0)","v":{"v":0,"d":"0 "}},{"$f":"+ROUND(+SUM(G108:G109),0)","v":{"v":0,"d":"0 "}},null,{"$f":"+ROUND(+SUM(I108:I109),0)","v":{"v":0,"d":"0 "}},{"$f":"+ROUND(+SUM(J108:J109),0)","v":{"v":0,"d":"0 "}},null,{"$f":"+ROUND(+SUM(L108:L109),0)","v":{"v":0,"d":"0 "}},null,{"$f":"+ROUND(+SUM(N108:N109),0)","v":{"v":0,"d":"0 "}},null,{"$f":"+ROUND(+SUM(P108:P109),0)","v":{"v":0,"d":"0 "}},{"$f":"+ROUND(+SUM(Q108:Q109),0)","v":{"v":0,"d":"0 "}},null,"Сборен ред за група ІІ. Заеми от банки и други лица"]
[null," IІI. Финансиране чрез финансов лизинг и търговски кредит",{"$nulls":16}," IІI. Финансиране чрез финансов лизинг и търговски кредит"]
[null," 1. Получено финансиране по финансов лизинг и търговски кредит (+)",{"$nulls":3},{"$f":"+IF($P$2=0,$P112,0)","v":{"v":0,"d":"0 "}},{"$f":"+IF($P$2=0,$Q112,0)","v":{"v":0,"d":"0 "}},null,{"$f":"+IF(OR($P$2=98,$P$2=42,$P$2=96,$P$2=97),$P112,0)","v":{"v":0,"d":"0 "}},{"$f":"+IF(OR($P$2=98,$P$2=42,$P$2=96,$P$2=97),$Q112,0)","v":{"v":0,"d":"0 "}},null,{"$f":"+IF($P$2=33,$Q112,0)","v":{"v":0,"d":"0 "}},null,{"$f":"+ROUND(+G112+J112+L112,0)","v":{"v":0,"d":"0 "}},null,{"$f":"+ROUND(OTCHET!E547,0)","v":{"v":0,"d":"0 "}},{"$f":"+ROUND(OTCHET!F547,0)","v":{"v":0,"d":"0 "}},null,"финансиращ § 93-17"]
[null," 2. Погашения по финансов лизинг и търговски кредит (-)",{"$nulls":3},{"$f":"+IF($P$2=0,$P113,0)","v":{"v":0,"d":"0 "}},{"$f":"+IF($P$2=0,$Q113,0)","v":{"v":0,"d":"0 "}},null,{"$f":"+IF(OR($P$2=98,$P$2=42,$P$2=96,$P$2=97),$P113,0)","v":{"v":0,"d":"0 "}},{"$f":"+IF(OR($P$2=98,$P$2=42,$P$2=96,$P$2=97),$Q113,0)","v":{"v":0,"d":"0 "}},null,{"$f":"+IF($P$2=33,$Q113,0)","v":{"v":0,"d":"0 "}},null,{"$f":"+ROUND(+G113+J113+L113,0)","v":{"v":0,"d":"0 "}},null,{"$f":"+ROUND(OTCHET!E548,0)","v":{"v":0,"d":"0 "}},{"$f":"+ROUND(OTCHET!F548,0)","v":{"v":0,"d":"0 "}},null,"финансиращ § 93-18"]
[null," Общо за група ІІІ. Финансиране чрез фин. лизинг и търговски кредит",{"$nulls":3},{"$f":"+ROUND(+SUM(F112:F113),0)","v":{"v":0,"d":"0 "}},{"$f":"+ROUND(+SUM(G112:G113),0)","v":{"v":0,"d":"0 "}},null,{"$f":"+ROUND(+SUM(I112:I113),0)","v":{"v":0,"d":"0 "}},{"$f":"+ROUND(+SUM(J112:J113),0)","v":{"v":0,"d":"0 "}},null,{"$f":"+ROUND(+SUM(L112:L113),0)","v":{"v":0,"d":"0 "}},null,{"$f":"+ROUND(+SUM(N112:N113),0)","v":{"v":0,"d":"0 "}},null,{"$f":"+ROUND(+SUM(P112:P113),0)","v":{"v":0,"d":"0 "}},{"$f":"+ROUND(+SUM(Q112:Q113),0)","v":{"v":0,"d":"0 "}},null,"Сборен ред за група ІІІ. Финансиране чрез фин. лизинг и търговски кредит"]
[null,"ІV. Други операции с финансови пасиви",{"$nulls":16},"ІV. Други операции с финансови пасиви"]
[null," 1. Операции с чужди средства (нето)",{"$nulls":3},{"$f":"+IF($P$2=0,$P116,0)","v":{"v":0,"d":"0 "}},{"$f":"+IF($P$2=0,$Q116,0)","v":{"v":0,"d":"0 "}},null,{"$f":"+IF(OR($P$2=98,$P$2=42,$P$2=96,$P$2=97),$P116,0)","v":{"v":0,"d":"0 "}},{"$f":"+IF(OR($P$2=98,$P$2=42,$P$2=96,$P$2=97),$Q116,0)","v":{"v":0,"d":"0 "}},null,{"$f":"+IF($P$2=33,$Q116,0)","v":{"v":0,"d":"0 "}},null,{"$f":"+ROUND(+G116+J116+L116,0)","v":{"v":0,"d":"0 "}},null,{"$f":"+ROUND(OTCHET!E545+OTCHET!E546+OTCHET!E562+OTCHET!E563,0)","v":{"v":0,"d":"0 "}},{"$f":"+ROUND(OTCHET!F545+OTCHET!F546+OTCHET!F562+OTCHET!F563,0)","v":{"v":0,"d":"0 "}},null,"финансиращи §§ 93-01, 93-10, 93-55 и 93-56"]
[null," 2. Друго финансиране - операции с пасиви (нето)",{"$nulls":3},{"$f":"+IF($P$2=0,$P117,0)","v":{"v":0,"d":"0 "}},{"$f":"+IF($P$2=0,$Q117,0)","v":{"v":0,"d":"0 "}},null,{"$f":"+IF(OR($P$2=98,$P$2=42,$P$2=96,$P$2=97),$P117,0)","v":{"v":0,"d":"0 "}},{"$f":"+IF(OR($P$2=98,$P$2=42,$P$2=96,$P$2=97),$Q117,0)","v":{"v":0,"d":"0 "}},null,{"$f":"+IF($P$2=33,$Q117,0)","v":{"v":0,"d":"0 "}},null,{"$f":"+ROUND(+G117+J117+L117,0)","v":{"v":0,"d":"0 "}},null,{"$f":"+ROUND(OTCHET!E559+OTCHET!E561,0)","v":{"v":0,"d":"0 "}},{"$f":"+ROUND(OTCHET!F559+OTCHET!F561,0)","v":{"v":0,"d":"0 "}},null,"финансиращи §§ 93-37 и 93-39"]
[null," Общо за група ІV. Други операции с финансови пасиви",{"$nulls":3},{"$f":"+ROUND(+SUM(F116:F117),0)","v":{"v":0,"d":"0 "}},{"$f":"+ROUND(+SUM(G116:G117),0)","v":{"v":0,"d":"0 "}},null,{"$f":"+ROUND(+SUM(I116:I117),0)","v":{"v":0,"d":"0 "}},{"$f":"+ROUND(+SUM(J116:J117),0)","v":{"v":0,"d":"0 "}},null,{"$f":"+ROUND(+SUM(L116:L117),0)","v":{"v":0,"d":"0 "}},null,{"$f":"+ROUND(+SUM(N116:N117),0)","v":{"v":0,"d":"0 "}},null,{"$f":"+ROUND(+SUM(P116:P117),0)","v":{"v":0,"d":"0 "}},{"$f":"+ROUND(+SUM(Q116:Q117),0)","v":{"v":0,"d":"0 "}},null,"Сборен ред за група ІV. Други операции с финансови пасиви"]
[]
[null," Ж. ОБЩО ОПЕРАЦИИ С ФИНАНСОВИ ПАСИВИ",{"$nulls":3},{"$f":"+ROUND(F106+F110+F114+F118,0)","v":{"v":0,"d":"0 "}},{"$f":"+ROUND(G106+G110+G114+G118,0)","v":{"v":0,"d":"0 "}},null,{"$f":"+ROUND(I106+I110+I114+I118,0)","v":{"v":0,"d":"0 "}},{"$f":"+ROUND(J106+J110+J114+J118,0)","v":{"v":0,"d":"0 "}},null,{"$f":"+ROUND(L106+L110+L114+L118,0)","v":{"v":0,"d":"0 "}},null,{"$f":"+ROUND(N106+N110+N114+N118,0)","v":{"v":0,"d":"0 "}},null,{"$f":"+ROUND(P106+P110+P114+P118,0)","v":{"v":0,"d":"0 "}},{"$f":"+ROUND(Q106+Q110+Q114+Q118,0)","v":{"v":0,"d":"0 "}},null," Сборен ред за Ж. ОБЩО ОПЕРАЦИИ С ФИНАНСОВИ ПАСИВИ"]
[null," З. НЕТО-РАЗЧЕТИ И ОПЕРАЦИИ",{"$nulls":16}," З. НЕТО-РАЗЧЕТИ И ОПЕРАЦИИ"]
[null," 1. Нето-операции за сметка на средства от Европейския съюз",{"$nulls":3},{"$f":"+IF($P$2=0,$P122,0)","v":{"v":0,"d":"0 "}},{"$f":"+IF($P$2=0,$Q122,0)","v":{"v":0,"d":"0 "}},null,{"$f":"+IF(OR($P$2=98,$P$2=42,$P$2=96,$P$2=97),$P122,0)","v":{"v":0,"d":"0 "}},{"$f":"+IF(OR($P$2=98,$P$2=42,$P$2=96,$P$2=97),$Q122,0)","v":{"v":0,"d":"0 "}},null,{"$f":"+IF($P$2=33,$Q122,0)","v":{"v":0,"d":"0 "}},null,{"$f":"+ROUND(+G122+J122+L122,0)","v":{"v":0,"d":"0 "}},null,{"$f":"+ROUND(+SUM(OTCHET!E549:E556),0)","v":{"v":0,"d":"0 "}},{"$f":"+ROUND(+SUM(OTCHET!F549:F556),0)","v":{"v":0,"d":"0 "}},null,"финансиращи §§ 93-21 ÷ 93-28"]
[null," 2. Операции за сметка на други бюджети, сметки и фондове",{"$nulls":3},{"$f":"+IF($P$2=0,$P123,0)","v":{"v":0,"d":"0 "}},{"$f":"+IF($P$2=0,$Q123,0)","v":{"v":0,"d":"0 "}},null,{"$f":"+IF(OR($P$2=98,$P$2=42,$P$2=96,$P$2=97),$P123,0)","v":{"v":0,"d":"0 "}},{"$f":"+IF(OR($P$2=98,$P$2=42,$P$2=96,$P$2=97),$Q123,0)","v":{"v":0,"d":"0 "}},null,{"$f":"+IF($P$2=33,$Q123,0)","v":{"v":0,"d":"0 "}},null,{"$f":"+ROUND(+G123+J123+L123,0)","v":{"v":0,"d":"0 "}},null,{"$f":"+ROUND(OTCHET!E524,0)","v":{"v":0,"d":"0 "}},{"$f":"+ROUND(OTCHET!F524,0)","v":{"v":0,"d":"0 "}},null,"финансиращ § 88-00"]
[null," 3. Други нето-разчети и операции на бюджетни организации",{"$nulls":3},{"$f":"+IF($P$2=0,$P124,0)","v":{"v":0,"d":"0 "}},{"$f":"+IF($P$2=0,$Q124,0)","v":{"v":0,"d":"0 "}},null,{"$f":"+IF(OR($P$2=98,$P$2=42,$P$2=96,$P$2=97),$P124,0)","v":{"v":0,"d":"0 "}},{"$f":"+IF(OR($P$2=98,$P$2=42,$P$2=96,$P$2=97),$Q124,0)","v":{"v":0,"d":"0 "}},null,{"$f":"+IF($P$2=33,$Q124,0)","v":{"v":0,"d":"0 "}},null,{"$f":"+ROUND(+G124+J124+L124,0)","v":{"v":0,"d":"0 "}},null,{"$f":"+ROUND(+OTCHET!E521+OTCHET!E531+OTCHET!E557+OTCHET!E564+OTCHET!E565+OTCHET!E579+OTCHET!E591+IF(AND(OTCHET!$F$12=\"9900\",+OTCHET!$E$15=0),+OTCHET!E586,0),0)","v":{"v":0,"d":"0 "}},{"$f":"+ROUND(+OTCHET!F521+OTCHET!F531+OTCHET!F557+OTCHET!F564+OTCHET!F565+OTCHET!F579+OTCHET!F591+IF(AND(OTCHET!$F$12=\"9900\",+OTCHET!$E$15=0,+(OTCHET!F589+OTCHET!F590)>=0,+(OTCHET!F587+OTCHET!F588)<=0),+OTCHET!F586,0),0)","v":{"v":0,"d":"0 "}},null,"финансиращи §§ 87-00, 89-00, 93-30, 93-95, 93-96, 95-13 и 98-00 (за ЦБ - и § 96-01 и 96-02)"]
[null,"     в т.ч. изменение на средства по сметки, включени в единната сметка",{"$nulls":3},{"$f":"+IF($P$2=0,$P125,0)","v":{"v":0,"d":"0 "}},{"$f":"+IF($P$2=0,$Q125,0)","v":{"v":0,"d":"0 "}},{"$nulls":6},{"$f":"+ROUND(+G125+J125+L125,0)","v":{"v":0,"d":"0 "}},null,{"$f":"+ROUND(+IF(AND(OTCHET!$F$12=\"9900\",+OTCHET!$E$15=0,+(OTCHET!E589+OTCHET!E590)>0,+(OTCHET!E587+OTCHET!E588)<0),+OTCHET!E586,0),0)","v":{"v":0,"d":"0 "}},{"$f":"+ROUND(+IF(AND(OTCHET!$F$12=\"9900\",+OTCHET!$E$15=0,+(OTCHET!F589+OTCHET!F590)>=0,+(OTCHET!F587+OTCHET!F588)<=0),+OTCHET!F586,0),0)","v":{"v":0,"d":"0 "}},null,"финансиращ § 96-00"]
[null," 4. Разлики от закръгления в хил. лв. (+/-)",{"$nulls":11},{"$f":"+ROUND(+G126+J126+L126,0)","v":{"v":0,"d":"0 "}},{"$nulls":4},"прилага се само за отчета в хил. лв."]
[null," З. ОБЩО НЕТО-РАЗЧЕТИ И ДРУГИ ОПЕРАЦИИ",{"$nulls":3},{"$f":"+ROUND(+F122+F123+F124+F126,0)","v":{"v":0,"d":"0 "}},{"$f":"+ROUND(+G122+G123+G124+G126,0)","v":{"v":0,"d":"0 "}},null,{"$f":"+ROUND(+I122+I123+I124+I126,0)","v":{"v":0,"d":"0 "}},{"$f":"+ROUND(+J122+J123+J124+J126,0)","v":{"v":0,"d":"0 "}},null,{"$f":"+ROUND(+L122+L123+L124+L126,0)","v":{"v":0,"d":"0 "}},null,{"$f":"+ROUND(+N122+N123+N124+N126,0)","v":{"v":0,"d":"0 "}},null,{"$f":"+ROUND(+P122+P123+P124+P126,0)","v":{"v":0,"d":"0 "}},{"$f":"+ROUND(+Q122+Q123+Q124+Q126,0)","v":{"v":0,"d":"0 "}},null," Сборен ред за З. ОБЩО НЕТО-РАЗЧЕТИ И ДРУГИ НЕТНИ ПОЗИЦИИ"]
[null," И. ИЗМЕНЕНИЕ НА ПАРИЧНИТЕ СРЕДСТВА",{"$nulls":16}," И. ИЗМЕНЕНИЕ НА ПАРИЧНИТЕ СРЕДСТВА"]
[null," 1. Наличности на парични средства в началото на отчетния период",{"$nulls":3},{"$f":"+IF($P$2=0,$P129,0)","v":{"v":0,"d":"0 "}},{"$f":"+IF($P$2=0,$Q129,0)","v":{"v":0,"d":"0 "}},null,{"$f":"+IF(OR($P$2=98,$P$2=42,$P$2=96,$P$2=97),$P129,0)","v":{"v":0,"d":"0 "}},{"$f":"+IF(OR($P$2=98,$P$2=42,$P$2=96,$P$2=97),$Q129,0)","v":{"v":0,"d":"0 "}},null,{"$f":"+IF($P$2=33,$Q129,0)","v":{"v":0,"d":"0 "}},null,{"$f":"+ROUND(+G129+J129+L129,0)","v":{"v":0,"d":"0 "}},null,{"$f":"+ROUND(+SUM(OTCHET!E567:E572)+SUM(OTCHET!E581:E582)+IF(AND(OTCHET!$F$12=\"9900\",+OTCHET!$E$15=0),0,SUM(OTCHET!E587:E588)),0)","v":{"v":0,"d":"0 "}},{"$f":"+ROUND(+SUM(OTCHET!F567:F572)+SUM(OTCHET!F581:F582)+IF(AND(OTCHET!$F$12=\"9900\",+OTCHET!$E$15=0),0,SUM(OTCHET!F587:F588)),0)","v":{"v":0,"d":"0 "}},null,"финансиращи §§ 95-01 ÷ 95-06, 95-21, 95-22, 96-01 и 96-03 (за ЦБ -  без § 96-01 и 96-03)"]
[null," 2. Преоценка на наличности в чудестранна валута в края на отчетния период",{"$nulls":3},{"$f":"+IF($P$2=0,$P130,0)","v":{"v":0,"d":"0 "}},{"$f":"+IF($P$2=0,$Q130,0)","v":{"v":0,"d":"0 "}},null,{"$f":"+IF(OR($P$2=98,$P$2=42,$P$2=96,$P$2=97),$P130,0)","v":{"v":0,"d":"0 "}},{"$f":"+IF(OR($P$2=98,$P$2=42,$P$2=96,$P$2=97),$Q130,0)","v":{"v":0,"d":"0 "}},null,{"$f":"+IF($P$2=33,$Q130,0)","v":{"v":0,"d":"0 "}},null,{"$f":"+ROUND(+G130+J130+L130,0)","v":{"v":0,"d":"0 "}},null,{"$f":"+ROUND(OTCHET!E580+OTCHET!E585,0)","v":{"v":0,"d":"0 "}},{"$f":"+ROUND(OTCHET!F580+OTCHET!F585,0)","v":{"v":0,"d":"0 "}},null,"финансиращи §§ 95-14 и 95-49"]
[null," 3. Наличности на парични средства в края на отчетния период",{"$nulls":3},{"$f":"+IF($P$2=0,$P131,0)","v":{"v":0,"d":"0 "}},{"$f":"+IF($P$2=0,$Q131,0)","v":{"v":0,"d":"0 "}},null,{"$f":"+IF(OR($P$2=98,$P$2=42,$P$2=96,$P$2=97),$P131,0)","v":{"v":0,"d":"0 "}},{"$f":"+IF(OR($P$2=98,$P$2=42,$P$2=96,$P$2=97),$Q131,0)","v":{"v":0,"d":"0 "}},null,{"$f":"+IF($P$2=33,$Q131,0)","v":{"v":0,"d":"0 "}},null,{"$f":"+ROUND(+G131+J131+L131,0)","v":{"v":0,"d":"0 "}},null,{"$f":"+ROUND(-SUM(OTCHET!E573:E578)-SUM(OTCHET!E583:E584)-IF(AND(OTCHET!$F$12=\"9900\",+OTCHET!$E$15=0),0,SUM(OTCHET!E589:E590)),0)","v":{"v":0,"d":"0 "}},{"$f":"+ROUND(-SUM(OTCHET!F573:F578)-SUM(OTCHET!F583:F584)-IF(AND(OTCHET!$F$12=\"9900\",+OTCHET!$E$15=0),0,SUM(OTCHET!F589:F590)),0)","v":{"v":0,"d":"0 "}},null,"(-) §§ 95-07 ÷ 95-12, 95-28, 95-29, 96-07 и 96-09 (за ЦБ - § без 96-07 и 96-09)"]
[null," И. ИЗМЕНЕНИЕ НА ПАРИЧНИТЕ СРЕДСТВА (3. - 1. - 2.)",{"$nulls":3},{"$f":"+ROUND(+F131-F129-F130,0)","v":{"v":0,"d":"0 "}},{"$f":"+ROUND(+G131-G129-G130,0)","v":{"v":0,"d":"0 "}},null,{"$f":"+ROUND(+I131-I129-I130,0)","v":{"v":0,"d":"0 "}},{"$f":"+ROUND(+J131-J129-J130,0)","v":{"v":0,"d":"0 "}},null,{"$f":"+ROUND(+L131-L129-L130,0)","v":{"v":0,"d":"0 "}},null,{"$f":"+ROUND(+N131-N129-N130,0)","v":{"v":0,"d":"0 "}},null,{"$f":"+ROUND(+P131-P129-P130,0)","v":{"v":0,"d":"0 "}},{"$f":"+ROUND(+Q131-Q129-Q130,0)","v":{"v":0,"d":"0 "}},null," Сборен ред за И. ИЗМЕНЕНИЕ НА ПАРИЧНИТЕ СРЕДСТВА (3. - 1. - 2.)"]
[null,{"$f":"+IF(+SUM(F133:N133)=0,0,\"Контрола: дефицит/излишък = финансиране с обратен знак (Г. + Д. = 0)\")","v":0},{"$nulls":3},{"$f":"+ROUND(F83,0)+ROUND(F84,0)","v":0},{"$f":"+ROUND(G83,0)+ROUND(G84,0)","v":0},null,{"$f":"+ROUND(I83,0)+ROUND(I84,0)","v":0},{"$f":"+ROUND(J83,0)+ROUND(J84,0)","v":0},null,{"$f":"+ROUND(L83,0)+ROUND(L84,0)","v":0},null,{"$f":"+ROUND(N83,0)+ROUND(N84,0)","v":0},null,{"$f":"+ROUND(P83,0)+ROUND(P84,0)","v":0},{"$f":"+ROUND(Q83,0)+ROUND(Q84,0)","v":0}]
[null,"                                                              Дата:",{"$f":"+OTCHET!B605","v":{"v":0,"d":"00.00.0000 г."}},"              ГЛ. СЧЕТОВОДИТЕЛ:",{"$nulls":4},"                          РЪКОВОДИТЕЛ:"]
[]
[]
[null,"КОНТРОЛА - РАВНЕНИЕ МЕЖДУ БЮДЖЕТНО САЛДО И ФИНАНСИРАНЕ",{"$nulls":3},{"$f":"+IF(+ROUND(F140,2)=0,\"O K\",\"НЕРАВНЕНИЕ!\")","v":"O K"},{"$f":"+IF(+ROUND(G140,2)=0,\"O K\",\"НЕРАВНЕНИЕ!\")","v":"O K"},null,{"$f":"+IF(+ROUND(I140,2)=0,\"O K\",\"НЕРАВНЕНИЕ!\")","v":"O K"},{"$f":"+IF(+ROUND(J140,2)=0,\"O K\",\"НЕРАВНЕНИЕ!\")","v":"O K"},null,{"$f":"+IF(+ROUND(L140,2)=0,\"O K\",\"НЕРАВНЕНИЕ!\")","v":"O K"},null,{"$f":"+IF(+ROUND(N140,2)=0,\"O K\",\"НЕРАВНЕНИЕ!\")","v":"O K"},null,{"$f":"+IF(+ROUND(P140,2)=0,\"O K\",\"НЕРАВНЕНИЕ!\")","v":"O K"},{"$f":"+IF(+ROUND(Q140,2)=0,\"O K\",\"НЕРАВНЕНИЕ!\")","v":"O K"}]
[null,"КОНТРОЛА - РАВНЕНИЕ НА КАСОВИ ПОТОЦИ С НАЛИЧНОСТ",{"$nulls":3},{"$f":"+IF(+ROUND(F141,0)=0,\"O K\",\"НЕРАВНЕНИЕ!\")","v":"O K"},{"$f":"+IF(+ROUND(G141,0)=0,\"O K\",\"НЕРАВНЕНИЕ!\")","v":"O K"},null,{"$f":"+IF(+ROUND(I141,0)=0,\"O K\",\"НЕРАВНЕНИЕ!\")","v":"O K"},{"$f":"+IF(+ROUND(J141,0)=0,\"O K\",\"НЕРАВНЕНИЕ!\")","v":"O K"},null,{"$f":"+IF(+ROUND(L141,0)=0,\"O K\",\"НЕРАВНЕНИЕ!\")","v":"O K"},null,{"$f":"+IF(+ROUND(N141,0)=0,\"O K\",\"НЕРАВНЕНИЕ!\")","v":"O K"},null,{"$f":"+IF(+ROUND(P141,0)=0,\"O K\",\"НЕРАВНЕНИЕ!\")","v":"O K"},{"$f":"+IF(+ROUND(Q141,0)=0,\"O K\",\"НЕРАВНЕНИЕ!\")","v":"O K"}]
[]
[null,"КОНТРОЛА - РАВНЕНИЕ НА БЮДЖ. САЛДО И ФИНАНСИРАНЕ - неравнение в левове",{"$nulls":3},{"$f":"+ROUND(F83,0)+ROUND(F84,0)","v":0},{"$f":"+ROUND(G83,0)+ROUND(G84,0)","v":0},null,{"$f":"+ROUND(I83,0)+ROUND(I84,0)","v":0},{"$f":"+ROUND(J83,0)+ROUND(J84,0)","v":0},null,{"$f":"+ROUND(L83,0)+ROUND(L84,0)","v":0},null,{"$f":"+ROUND(N83,0)+ROUND(N84,0)","v":0},null,{"$f":"+ROUND(P83,0)+ROUND(P84,0)","v":0},{"$f":"+ROUND(Q83,0)+ROUND(Q84,0)","v":0}]
[null,"КОНТРОЛА - РАВНЕНИЕ НА КАСОВИ ПОТОЦИ С НАЛИЧНОСТ - неравнение в левове",{"$nulls":3},{"$f":"SUM(+ROUND(F83,0)+ROUND(F101,0)+ROUND(F120,0)+ROUND(F127,0)+ROUND(F129,0)+ROUND(F130,0))-ROUND(F131,0)","v":0},{"$f":"SUM(+ROUND(G83,0)+ROUND(G101,0)+ROUND(G120,0)+ROUND(G127,0)+ROUND(G129,0)+ROUND(G130,0))-ROUND(G131,0)","v":0},null,{"$f":"SUM(+ROUND(I83,0)+ROUND(I101,0)+ROUND(I120,0)+ROUND(I127,0)+ROUND(I129,0)+ROUND(I130,0))-ROUND(I131,0)","v":0},{"$f":"SUM(+ROUND(J83,0)+ROUND(J101,0)+ROUND(J120,0)+ROUND(J127,0)+ROUND(J129,0)+ROUND(J130,0))-ROUND(J131,0)","v":0},null,{"$f":"SUM(+ROUND(L83,0)+ROUND(L101,0)+ROUND(L120,0)+ROUND(L127,0)+ROUND(L129,0)+ROUND(L130,0))-ROUND(L131,0)","v":0},null,{"$f":"SUM(+ROUND(N83,0)+ROUND(N101,0)+ROUND(N120,0)+ROUND(N127,0)+ROUND(N129,0)+ROUND(N130,0))-ROUND(N131,0)","v":0},null,{"$f":"SUM(+ROUND(P83,0)+ROUND(P101,0)+ROUND(P120,0)+ROUND(P127,0)+ROUND(P129,0)+ROUND(P130,0))-ROUND(P131,0)","v":0},{"$f":"SUM(+ROUND(Q83,0)+ROUND(Q101,0)+ROUND(Q120,0)+ROUND(Q127,0)+ROUND(Q129,0)+ROUND(Q130,0))-ROUND(Q131,0)","v":0}]

{"sheet":"OTCHET-agregirani pokazateli","index":1,"n_rows":114,"n_cols":15,"rows_kept":114,"merged":[[10,8,10,9],[11,8,13,9],[16,4,17,4],[16,5,17,5],[107,6,107,7],[109,4,109,5],[113,4,113,5],[113,8,113,9]]}
{"$rows_empty":7}
[null,{"$f":"VLOOKUP(E15,SMETKA,3,FALSE)","v":"                                  ОТЧЕТ ЗА КАСОВОТО ИЗПЪЛНЕНИЕ НА БЮДЖЕТА"}]
[]
[]
[null,{"$f":"+OTCHET!B9","v":"РЕГИОНАЛНА ЗДРАВНА ИНСПЕКЦИЯ-БУРГАС"},null,null,"към",{"$f":"OTCHET!F9","v":"2021-12-31"},"ЕИК/БУЛСТАТ",{"$f":"+OTCHET!H9","v":{"v":0,"d":"000 000 000"}},{"$f":"+OTCHET!I9","v":0}]
[null,"                                  (наименование на разпоредителя с бюджет)",{"$nulls":6},"код от регистъра на бюджетните организации в СЕБРА"]
[null,{"$f":"+OTCHET!B12","v":{"$error":"#N/A"}},null,null,{"$f":"+OTCHET!E12","v":"код по ЕБК:"},{"$f":"+OTCHET!F12","v":"0"}]
[null,"               (наименование на първостепенния разпоредител с бюджет)"]
[null,"финансово-правна форма",null,null,{"$f":"+OTCHET!E15","v":0},{"$f":"OTCHET!F15","v":"БЮДЖЕТ"}]
[{"$nulls":9},"(в левове)"]
[null,null,"§§",null,"Годишен         уточнен план                           2021 г.","ОТЧЕТ               2021 г.","                                      ОТЧЕТНИ ДАННИ ЗА:",{"$nulls":7},"§§ от ЕБК, които се включват в съответния показател"]
[null,"П О К А З А Т Е Л И",{"$nulls":4},"левови\n сметки и СЕБРА ","валутни \nсметки ","операции в брой (в левове и валута)","операции приравнени на касов поток","ОТЧЕТ","ОТЧЕТ"]
[]
[null,"(а)",null,null,"(1)","(2)","(3)","(4)","(5)","(6)","(код 4)","(код 5)","(код 5)"]
[]
[10,"I. ПРИХОДИ, ПОМОЩИ И ДАРЕНИЯ","§§ 01 - 48",null,{"$f":"+E23+E25+E36+E37","v":{"v":330000,"d":"330,000"}},{"v":282121,"d":"282,121"},{"v":164189,"d":"164,189"},0,{"v":117932,"d":"117,932"},0,{"$f":"+K23+K25+K35+K36+K37","v":0},{"$f":"+L23+L25+L35+L36+L37","v":0},{"$f":"+M23+M25+M35+M36","v":0},null,"§§ 01 - 48"]
[15,"1. Данъчни приходи","§§ 01 - 20  ",null,{"$f":"OTCHET!E22+OTCHET!E28+OTCHET!E33+OTCHET!E39+OTCHET!E47+OTCHET!E52+OTCHET!E58+OTCHET!E61+OTCHET!E64+OTCHET!E65+OTCHET!E72+OTCHET!E73","v":0},{"$f":"+G23+H23+I23+J23","v":0},{"$f":"OTCHET!G22+OTCHET!G28+OTCHET!G33+OTCHET!G39+OTCHET!G47+OTCHET!G52+OTCHET!G58+OTCHET!G61+OTCHET!G64+OTCHET!G65+OTCHET!G72+OTCHET!G73","v":0},{"$f":"OTCHET!H22+OTCHET!H28+OTCHET!H33+OTCHET!H39+OTCHET!H47+OTCHET!H52+OTCHET!H58+OTCHET!H61+OTCHET!H64+OTCHET!H65+OTCHET!H72+OTCHET!H73","v":0},{"$f":"OTCHET!I22+OTCHET!I28+OTCHET!I33+OTCHET!I39+OTCHET!I47+OTCHET!I52+OTCHET!I58+OTCHET!I61+OTCHET!I64+OTCHET!I65+OTCHET!I72+OTCHET!I73","v":0},{"$f":"OTCHET!J22+OTCHET!J28+OTCHET!J33+OTCHET!J39+OTCHET!J47+OTCHET!J52+OTCHET!J58+OTCHET!J61+OTCHET!J64+OTCHET!J65+OTCHET!J72+OTCHET!J73","v":0},{"$nulls":4},"§§ 01 - 20  "]
[null,"в т. ч. трансфери за отчислени приходи","§ 65",null,null,0,{"$nulls":8},"§ 65"]
[20,"2. Други приходи","§§ 24 - 42",null,{"$f":"+E26+E30+E31+E32+E33","v":{"v":330000,"d":"330,000"}},{"$f":"+F26+F30+F31+F32+F33","v":{"v":282121,"d":"282,121"}},{"$f":"+G26+G30+G31+G32+G33","v":{"v":164189,"d":"164,189"}},{"$f":"+H26+H30+H31+H32+H33","v":0},{"$f":"+I26+I30+I31+I32+I33","v":{"v":117932,"d":"117,932"}},{"$f":"+J26+J30+J31+J32+J33","v":0},0,0,0,null,"§§ 24 - 42"]
[25,"2.1 Приходи и доходи от собственост ","§24",null,{"$f":"OTCHET!E74","v":0},{"v":1383,"d":"1,383"},{"$f":"OTCHET!G74","v":{"v":1383,"d":"1,383"}},{"$f":"OTCHET!H74","v":0},{"$f":"OTCHET!I74","v":0},{"$f":"OTCHET!J74","v":0},{"$nulls":4},"§24"]
[26,"в т. ч.   вноски от приходи на държавни и общински предприятия и институции","под.§ 24-01",null,{"$f":"OTCHET!E75","v":0},0,{"$f":"OTCHET!G75","v":0},{"$f":"OTCHET!H75","v":0},{"$f":"OTCHET!I75","v":0},{"$f":"OTCHET!J75","v":0},{"$nulls":4},"под.§ 24-01"]
[30,"             нетни приходи от продажба на услуги, стоки и продукция","под.§ 24-04",null,{"$f":"OTCHET!E77","v":0},0,{"$f":"OTCHET!G77","v":0},{"$f":"OTCHET!H77","v":0},{"$f":"OTCHET!I77","v":0},{"$f":"OTCHET!J77","v":0},{"$nulls":4},"под.§ 24-04"]
[35,"             приходи от наеми на имущество и земя ","под.§§ 24-05 и 24-06",null,{"$f":"+OTCHET!E78+OTCHET!E79","v":0},{"v":1383,"d":"1,383"},{"$f":"+OTCHET!G78+OTCHET!G79","v":{"v":1383,"d":"1,383"}},{"$f":"+OTCHET!H78+OTCHET!H79","v":0},{"$f":"+OTCHET!I78+OTCHET!I79","v":0},{"$f":"+OTCHET!J78+OTCHET!J79","v":0},{"$nulls":4},"под.§§ 24-05 и 24-06"]
[40,"2.2 Приходи от такси","§§ 25 - 27",null,{"$f":"OTCHET!E90+OTCHET!E93+OTCHET!E94","v":{"v":280000,"d":"280,000"}},{"v":202525,"d":"202,525"},{"$f":"OTCHET!G90+OTCHET!G93+OTCHET!G94","v":{"v":89653,"d":"89,653"}},{"$f":"OTCHET!H90+OTCHET!H93+OTCHET!H94","v":0},{"$f":"OTCHET!I90+OTCHET!I93+OTCHET!I94","v":{"v":112872,"d":"112,872"}},{"$f":"OTCHET!J90+OTCHET!J93+OTCHET!J94","v":0},{"$nulls":4},"§§ 25 - 27"]
[45,"2.3 Глоби, санкции и наказателни лихви ","§28",null,{"$f":"OTCHET!E108","v":{"v":50000,"d":"50,000"}},{"v":31836,"d":"31,836"},{"$f":"OTCHET!G108","v":{"v":27136,"d":"27,136"}},{"$f":"OTCHET!H108","v":0},{"$f":"OTCHET!I108","v":{"v":4700,"d":"4,700"}},{"$f":"OTCHET!J108","v":0},{"$nulls":4},"§28"]
[50,"2.4  Други неданъчни приходи ","§§ 36 - 37 и §§ 41 - 42",null,{"$f":"OTCHET!E112+OTCHET!E121+OTCHET!E137+OTCHET!E138","v":0},{"v":-10963,"d":"-10,963"},{"$f":"OTCHET!G112+OTCHET!G121+OTCHET!G137+OTCHET!G138","v":{"v":-11323,"d":"-11,323"}},{"$f":"OTCHET!H112+OTCHET!H121+OTCHET!H137+OTCHET!H138","v":0},{"$f":"OTCHET!I112+OTCHET!I121+OTCHET!I137+OTCHET!I138","v":360},{"$f":"OTCHET!J112+OTCHET!J121+OTCHET!J137+OTCHET!J138","v":0},{"$nulls":4},"§§ 36 - 37 и §§ 41 - 42"]
[51,"2.5  Постъпления от продажба на нефинансови активи","§ 40 с изключение на под.§ 40-71",null,{"$f":"OTCHET!E125","v":0},{"v":57340,"d":"57,340"},{"$f":"OTCHET!G125","v":{"v":57340,"d":"57,340"}},{"$f":"OTCHET!H125","v":0},{"$f":"OTCHET!I125","v":0},{"$f":"OTCHET!J125","v":0},{"$nulls":4},"§ 40 с изключение на под.§ 40-71"]
[52,{"$nulls":4},0]
[{"$nulls":5},0]
[60,"3. Помощи и  дарения от страната","§ 45 ",null,{"$f":"+OTCHET!E139","v":0},0,{"$f":"+OTCHET!G139","v":0},{"$f":"+OTCHET!H139","v":0},{"$f":"+OTCHET!I139","v":0},{"$f":"+OTCHET!J139","v":0},{"$nulls":4},"§ 45 "]
[65,"4. Помощи и дарения от чужбина","§§ 46 - 48  ",null,{"$f":"OTCHET!E142+OTCHET!E151+OTCHET!E160","v":0},0,{"$f":"OTCHET!G142+OTCHET!G151+OTCHET!G160","v":0},{"$f":"OTCHET!H142+OTCHET!H151+OTCHET!H160","v":0},{"$f":"OTCHET!I142+OTCHET!I151+OTCHET!I160","v":0},{"$f":"OTCHET!J142+OTCHET!J151+OTCHET!J160","v":0},{"$nulls":4},"§§ 46 - 48  "]
[70,"II. РАЗХОДИ ","§§ 01 - 57",null,{"$f":"E39+E43+E44+E46+SUM(E48:E52)+E55","v":{"v":4521852,"d":"4,521,852"}},{"v":4505976,"d":"4,505,976"},{"v":3425030,"d":"3,425,030"},0,{"v":8281,"d":"8,281"},{"v":1072665,"d":"1,072,665"},{"$f":"SUM(K40:K54)-K45-K47-K53","v":0},{"$f":"SUM(L40:L54)-L45-L47-L53","v":0},{"$f":"SUM(M40:M53)-M45-M52","v":0},null,"§§ 01 - 57"]
[75,"1. Персонал","§ 01",null,{"$f":"SUM(E40:E42)","v":{"v":3563058,"d":"3,563,058"}},{"v":3553434,"d":"3,553,434"},{"v":2483103,"d":"2,483,103"},0,{"v":-2334,"d":"-2,334"},{"v":1072665,"d":"1,072,665"},{"$nulls":4},"§§ 1 - 8"]
[75,"1.1. Заплати и възнаграждения за персонала, нает по трудови и служебни прав. ","§ 01",null,{"$f":"OTCHET!E187","v":{"v":2675845,"d":"2,675,845"}},{"v":2656411,"d":"2,656,411"},{"$f":"OTCHET!G187","v":{"v":2350183,"d":"2,350,183"}},{"$f":"OTCHET!H187","v":0},{"$f":"OTCHET!I187","v":{"v":-2334,"d":"-2,334"}},{"$f":"OTCHET!J187","v":{"v":308562,"d":"308,562"}},{"$nulls":4},"§ 01"]
[80,"1.2. Други възнаграждения и плащания за персонала ","§ 02",null,{"$f":"OTCHET!E190","v":{"v":131557,"d":"131,557"}},{"v":145390,"d":"145,390"},{"$f":"OTCHET!G190","v":{"v":132920,"d":"132,920"}},{"$f":"OTCHET!H190","v":0},{"$f":"OTCHET!I190","v":0},{"$f":"OTCHET!J190","v":{"v":12470,"d":"12,470"}},{"$nulls":4},"§ 02"]
[85,"1.3. Осигурителни вноски","§§ 05 и 08",null,{"$f":"+OTCHET!E196+OTCHET!E204","v":{"v":755656,"d":"755,656"}},{"v":751633,"d":"751,633"},{"$f":"+OTCHET!G196+OTCHET!G204","v":0},{"$f":"+OTCHET!H196+OTCHET!H204","v":0},{"$f":"+OTCHET!I196+OTCHET!I204","v":0},{"$f":"+OTCHET!J196+OTCHET!J204","v":{"v":751633,"d":"751,633"}},{"$nulls":4},"§§ 05 и 08"]
[90,"2. Издръжка ","§§ 10; 19; 46",null,{"$f":"+OTCHET!E205+OTCHET!E223+OTCHET!E271","v":{"v":714563,"d":"714,563"}},{"v":737750,"d":"737,750"},{"$f":"+OTCHET!G205+OTCHET!G223+OTCHET!G271","v":{"v":727135,"d":"727,135"}},{"$f":"+OTCHET!H205+OTCHET!H223+OTCHET!H271","v":0},{"$f":"+OTCHET!I205+OTCHET!I223+OTCHET!I271","v":{"v":10615,"d":"10,615"}},{"$f":"+OTCHET!J205+OTCHET!J223+OTCHET!J271","v":0},{"$nulls":4},"§§ 10; 19; 46"]
[95,"3. Лихви ","§§ 21 - 29",null,{"$f":"+OTCHET!E227+OTCHET!E233+OTCHET!E236+OTCHET!E237+OTCHET!E238+OTCHET!E239+OTCHET!E240","v":0},161,{"$f":"+OTCHET!G227+OTCHET!G233+OTCHET!G236+OTCHET!G237+OTCHET!G238+OTCHET!G239+OTCHET!G240","v":161},{"$f":"+OTCHET!H227+OTCHET!H233+OTCHET!H236+OTCHET!H237+OTCHET!H238+OTCHET!H239+OTCHET!H240","v":0},{"$f":"+OTCHET!I227+OTCHET!I233+OTCHET!I236+OTCHET!I237+OTCHET!I238+OTCHET!I239+OTCHET!I240","v":0},{"$f":"+OTCHET!J227+OTCHET!J233+OTCHET!J236+OTCHET!J237+OTCHET!J238+OTCHET!J239+OTCHET!J240","v":0},{"$nulls":4},"§§ 21 - 29"]
[100,"в т. ч. външни ","§§ 25 - 28; 29-69/29-70 и 29-92 ",null,{"$f":"+OTCHET!E236+OTCHET!E237+OTCHET!E238+OTCHET!E239+OTCHET!E243+OTCHET!E244+OTCHET!E248","v":0},0,{"$f":"+OTCHET!G236+OTCHET!G237+OTCHET!G238+OTCHET!G239+OTCHET!G243+OTCHET!G244+OTCHET!G248","v":0},{"$f":"+OTCHET!H236+OTCHET!H237+OTCHET!H238+OTCHET!H239+OTCHET!H243+OTCHET!H244+OTCHET!H248","v":0},{"$f":"+OTCHET!I236+OTCHET!I237+OTCHET!I238+OTCHET!I239+OTCHET!I243+OTCHET!I244+OTCHET!I248","v":0},{"$f":"+OTCHET!J236+OTCHET!J237+OTCHET!J238+OTCHET!J239+OTCHET!J243+OTCHET!J244+OTCHET!J248","v":0},{"$nulls":4},"§§ 25 - 28; 29-69/29-70 и 29-92 "]
[105,"4. Социални разходи, стипендии","§§ 39 - 42",null,{"$f":"+OTCHET!E255+OTCHET!E256+OTCHET!E257+OTCHET!E258","v":0},0,{"$f":"+OTCHET!G255+OTCHET!G256+OTCHET!G257+OTCHET!G258","v":0},{"$f":"+OTCHET!H255+OTCHET!H256+OTCHET!H257+OTCHET!H258","v":0},{"$f":"+OTCHET!I255+OTCHET!I256+OTCHET!I257+OTCHET!I258","v":0},{"$f":"+OTCHET!J255+OTCHET!J256+OTCHET!J257+OTCHET!J258","v":0},{"$nulls":4},"§§ 39 - 42"]
[106,"в т. ч. стипендии","§ 40",null,{"$f":"+OTCHET!E256","v":0},0,{"$f":"+OTCHET!G256","v":0},{"$f":"+OTCHET!H256","v":0},{"$f":"+OTCHET!I256","v":0},{"$f":"+OTCHET!J256","v":0},{"$nulls":4},"§ 40"]
[107,"5.Субсидии ","§§ 43 - 45; 49",null,{"$f":"+OTCHET!E265+OTCHET!E269+OTCHET!E270","v":0},0,{"$f":"+OTCHET!G265+OTCHET!G269+OTCHET!G270","v":0},{"$f":"+OTCHET!H265+OTCHET!H269+OTCHET!H270","v":0},{"$f":"+OTCHET!I265+OTCHET!I269+OTCHET!I270","v":0},{"$f":"+OTCHET!J265+OTCHET!J269+OTCHET!J270","v":0},{"$nulls":4},"§§ 43 - 45"]
[108,"6. Придобиване на нeфинансови актииви","§§ 51 - 54",null,{"$f":"OTCHET!E275+OTCHET!E276+OTCHET!E284+OTCHET!E287","v":{"v":244231,"d":"244,231"}},{"v":214631,"d":"214,631"},{"$f":"OTCHET!G275+OTCHET!G276+OTCHET!G284+OTCHET!G287","v":{"v":214631,"d":"214,631"}},{"$f":"OTCHET!H275+OTCHET!H276+OTCHET!H284+OTCHET!H287","v":0},{"$f":"OTCHET!I275+OTCHET!I276+OTCHET!I284+OTCHET!I287","v":0},{"$f":"OTCHET!J275+OTCHET!J276+OTCHET!J284+OTCHET!J287","v":0},{"$nulls":4},"§§ 51 - 54"]
[110,"7. Капиталови трансфери","§ 55",null,{"$f":"+OTCHET!E288","v":0},0,{"$f":"+OTCHET!G288","v":0},{"$f":"+OTCHET!H288","v":0},{"$f":"+OTCHET!I288","v":0},{"$f":"+OTCHET!J288","v":0},{"$nulls":4},"§ 55"]
[115,"8. Предоставени текущи и капиталови трансфери за чужбина","(+ § 57 - под.§ 40-71)",null,{"$f":"+OTCHET!E272","v":0},{"$f":"+G51+H51+I51+J51","v":0},{"$f":"+OTCHET!G272","v":0},{"$f":"+OTCHET!H272","v":0},{"$f":"+OTCHET!I272","v":0},{"$f":"+OTCHET!J272","v":0},{"$nulls":4},"§ 49"]
[115,"9. Прираст на държавния резерв и изкупуване на земеделска продукция ","(+ § 57 - под.§ 40-71)",null,{"$f":"+OTCHET!E293","v":0},0,{"$f":"+OTCHET!G293","v":0},{"$f":"+OTCHET!H293","v":0},{"$f":"+OTCHET!I293","v":0},{"$f":"+OTCHET!J293","v":0},{"$nulls":4},"(+ § 57 - под.§ 40-71)"]
[120,"в т. ч. плащания за попълване на държавния резерв","под.§;57-01",null,{"$f":"OTCHET!E294","v":0},0,{"$f":"OTCHET!G294","v":0},{"$f":"OTCHET!H294","v":0},{"$f":"OTCHET!I294","v":0},{"$f":"OTCHET!J294","v":0},{"$nulls":4},"под.§;57-01"]
[125,"          постъпления от продажби на държавния резерв (-)","(-)под.§ 40-71",null,{"$f":"OTCHET!E296","v":0},0,{"$f":"OTCHET!G296","v":0},{"$f":"OTCHET!H296","v":0},{"$f":"OTCHET!I296","v":0},{"$f":"OTCHET!J296","v":0},{"$nulls":4},"(-)под.§ 40-71"]
[127,"10. Резерв за непредвидини и неотложни разходи","§;00-98",null,{"$f":"+OTCHET!E297","v":0},0,{"$f":"+OTCHET!G297","v":0},{"$f":"+OTCHET!H297","v":0},{"$f":"+OTCHET!I297","v":0},{"$f":"+OTCHET!J297","v":0},{"$nulls":4},"§;00-98"]
[130,"III. Трансфери","§§ 30 - 31; 32; 60 - 67; 69; 74 - 78 ",null,{"$f":"+E57+E58+E62","v":{"v":4191852,"d":"4,191,852"}},{"v":4220727,"d":"4,220,727"},{"v":3148062,"d":"3,148,062"},0,0,{"v":1072665,"d":"1,072,665"},{"$f":"+K57+K58+K61","v":0},{"$f":"+L57+L58+L61","v":0},{"$f":"+M57+M58+M61","v":0},null,"§§ 30 - 31; 32; 60 - 67; 69; 74 - 78 "]
[135,"1. Трансфери от/за ЦБ за/от други бюджети ","§§ 30 - 31; 60",null,{"$f":"+OTCHET!E361+OTCHET!E375+OTCHET!E388","v":{"v":4191852,"d":"4,191,852"}},0,{"$f":"+OTCHET!G361+OTCHET!G375+OTCHET!G388","v":0},{"$f":"+OTCHET!H361+OTCHET!H375+OTCHET!H388","v":0},{"$f":"+OTCHET!I361+OTCHET!I375+OTCHET!I388","v":0},{"$f":"+OTCHET!J361+OTCHET!J375+OTCHET!J388","v":0},{"$nulls":4},"§§ 30 - 31; 60"]
[140,"2. Други трансфери ","§§ 32; 61- 67;  74 - 78",null,{"$f":"+OTCHET!E383+OTCHET!E391+OTCHET!E396+OTCHET!E399+OTCHET!E402+OTCHET!E405+OTCHET!E406+OTCHET!E409+OTCHET!E422+OTCHET!E423+OTCHET!E424+OTCHET!E425+OTCHET!E426","v":0},{"v":3148062,"d":"3,148,062"},{"$f":"+OTCHET!G383+OTCHET!G391+OTCHET!G396+OTCHET!G399+OTCHET!G402+OTCHET!G405+OTCHET!G406+OTCHET!G409+OTCHET!G422+OTCHET!G423+OTCHET!G424+OTCHET!G425+OTCHET!G426","v":{"v":3148062,"d":"3,148,062"}},{"$f":"+OTCHET!H383+OTCHET!H391+OTCHET!H396+OTCHET!H399+OTCHET!H402+OTCHET!H405+OTCHET!H406+OTCHET!H409+OTCHET!H422+OTCHET!H423+OTCHET!H424+OTCHET!H425+OTCHET!H426","v":0},{"$f":"+OTCHET!I383+OTCHET!I391+OTCHET!I396+OTCHET!I399+OTCHET!I402+OTCHET!I405+OTCHET!I406+OTCHET!I409+OTCHET!I422+OTCHET!I423+OTCHET!I424+OTCHET!I425+OTCHET!I426","v":0},{"$f":"+OTCHET!J383+OTCHET!J391+OTCHET!J396+OTCHET!J399+OTCHET!J402+OTCHET!J405+OTCHET!J406+OTCHET!J409+OTCHET!J422+OTCHET!J423+OTCHET!J424+OTCHET!J425+OTCHET!J426","v":0},{"$nulls":4},"§§ 32; 61- 67;  74 - 78"]
[145,"в т. ч. временни безлихвени заеми","§§ 74 - 78",null,{"$f":"+OTCHET!E422+OTCHET!E423+OTCHET!E424+OTCHET!E425+OTCHET!E426","v":0},0,{"$f":"+OTCHET!G422+OTCHET!G423+OTCHET!G424+OTCHET!G425+OTCHET!G426","v":0},{"$f":"+OTCHET!H422+OTCHET!H423+OTCHET!H424+OTCHET!H425+OTCHET!H426","v":0},{"$f":"+OTCHET!I422+OTCHET!I423+OTCHET!I424+OTCHET!I425+OTCHET!I426","v":0},{"$f":"+OTCHET!J422+OTCHET!J423+OTCHET!J424+OTCHET!J425+OTCHET!J426","v":0},{"$nulls":4},"§§ 74 - 78"]
[150,"         трансфери за отчислени постъпления","§ 65",null,{"$f":"OTCHET!E405","v":0},0,{"$f":"OTCHET!G405","v":0},{"$f":"OTCHET!H405","v":0},{"$f":"OTCHET!I405","v":0},{"$f":"OTCHET!J405","v":0},{"$nulls":4},"§ 65"]
[160,{"$nulls":4},0]
[162,"3. Трансфери за поети осигурителни вноски и данъци","§ 69",null,{"$f":"OTCHET!E412","v":0},{"v":1072665,"d":"1,072,665"},{"$f":"OTCHET!G412","v":0},{"$f":"OTCHET!H412","v":0},{"$f":"OTCHET!I412","v":0},{"$f":"OTCHET!J412","v":{"v":1072665,"d":"1,072,665"}},{"$nulls":4},"§ 69"]
[165,"IV. Вноска в общия бюджет на ЕС","§ 33",null,{"$f":"+OTCHET!E249","v":0},0,{"$f":"+OTCHET!G249","v":0},{"$f":"+OTCHET!H249","v":0},{"$f":"+OTCHET!I249","v":0},{"$f":"+OTCHET!J249","v":0},{"$nulls":4},"§ 33"]
[175,"V. Дефицит / излишък = I - II +III - IV ",null,null,{"$f":"+E22-E38+E56-E63","v":0},{"v":-3128,"d":"(3,128)"},{"v":-112779,"d":"(112,779)"},0,{"v":109651,"d":"109,651"},0,{"$f":"+K22-K38+K56","v":0},{"$f":"+L22-L38+L56","v":0},{"$f":"+M22-M38+M56","v":0}]
[180,{"$f":"+IF(+SUM(E$65:J$65)=0,0,\"Контрола: дефицит/излишък = финансиране с обратен знак (V. + VІ. = 0)\")","v":0},null,null,{"$f":"+E$64+E$66","v":0},0,0,0,0,0,{"$f":"+K64+K66","v":{"$error":"#REF!"}},{"$f":"+L64+L66","v":{"$error":"#REF!"}},{"$f":"+M64+M66","v":{"$error":"#REF!"}}]
[185,"VI. Финансиране ","§§ 70 - 98",null,{"$f":"SUM(+E68+E76+E77+E84+E85+E86+E89+E90+E91+E92+E93+E94+E95)","v":0},{"$f":"SUM(+F68+F76+F77+F84+F85+F86+F89+F90+F91+F92+F93+F94+F95)","v":{"v":3128,"d":"3,128"}},{"$f":"SUM(+G68+G76+G77+G84+G85+G86+G89+G90+G91+G92+G93+G94+G95)","v":{"v":112779,"d":"112,779"}},{"$f":"SUM(+H68+H76+H77+H84+H85+H86+H89+H90+H91+H92+H93+H94+H95)","v":0},{"$f":"SUM(+I68+I76+I77+I84+I85+I86+I89+I90+I91+I92+I93+I94+I95)","v":{"v":-109651,"d":"(109,651)"}},{"$f":"SUM(+J68+J76+J77+J84+J85+J86+J89+J90+J91+J92+J93+J94+J95)","v":0},{"$error":"#REF!"},{"$error":"#REF!"},{"$f":"SUM(+M68+M76+M77+M84+M85+M86+M89+M90+M91+M92+M93+M95+M96)","v":{"$error":"#REF!"}},null,"§§ 70 - 98"]
[190,{"$nulls":4},0]
[195,"1. Външно финансиране","§§ 80 - 82; 92-01; 95-21/95-22; 95-28/95-29 и 95-49",null,{"$f":"SUM(E69:E75)","v":0},{"$f":"SUM(F69:F75)","v":0},{"$f":"SUM(G69:G75)","v":0},{"$f":"SUM(H69:H75)","v":0},{"$f":"SUM(I69:I75)","v":0},{"$f":"SUM(J69:J75)","v":0},{"$error":"#REF!"},{"$error":"#REF!"},{"$error":"#REF!"},null,"§§ 80 - 82; 92-01; 95-21/95-22; 95-28/95-29 и 95-49"]
[200,"            получени външни заеми ","под.§§ 80-11/80-12; 80-31/80-32; 80-51/80-52 и 80-97",null,{"$f":"+OTCHET!E482+OTCHET!E483+OTCHET!E486+OTCHET!E487+OTCHET!E490+OTCHET!E491+OTCHET!E495","v":0},0,{"$f":"+OTCHET!G482+OTCHET!G483+OTCHET!G486+OTCHET!G487+OTCHET!G490+OTCHET!G491+OTCHET!G495","v":0},{"$f":"+OTCHET!H482+OTCHET!H483+OTCHET!H486+OTCHET!H487+OTCHET!H490+OTCHET!H491+OTCHET!H495","v":0},{"$f":"+OTCHET!I482+OTCHET!I483+OTCHET!I486+OTCHET!I487+OTCHET!I490+OTCHET!I491+OTCHET!I495","v":0},{"$f":"+OTCHET!J482+OTCHET!J483+OTCHET!J486+OTCHET!J487+OTCHET!J490+OTCHET!J491+OTCHET!J495","v":0},{"$f":"+#REF!+#REF!+#REF!+#REF!+#REF!+#REF!+#REF!","v":{"$error":"#REF!"}},{"$f":"+#REF!+#REF!+#REF!+#REF!+#REF!+#REF!+#REF!","v":{"$error":"#REF!"}},{"$f":"+#REF!+#REF!+#REF!+#REF!+#REF!+#REF!+#REF!","v":{"$error":"#REF!"}},null,"под.§§ 80-11/80-12; 80-31/80-32; 80-51/80-52 и 80-97"]
[205,"            погашения по външни заеми ","под.§§ 80-17/80-18; 80-37/80-38; 80-57/80-58; 80-80 и 80-98;",null,{"$f":"+OTCHET!E484+OTCHET!E485+OTCHET!E488+OTCHET!E489+OTCHET!E492+OTCHET!E493+OTCHET!E494+OTCHET!E496","v":0},0,{"$f":"+OTCHET!G484+OTCHET!G485+OTCHET!G488+OTCHET!G489+OTCHET!G492+OTCHET!G493+OTCHET!G494+OTCHET!G496","v":0},{"$f":"+OTCHET!H484+OTCHET!H485+OTCHET!H488+OTCHET!H489+OTCHET!H492+OTCHET!H493+OTCHET!H494+OTCHET!H496","v":0},{"$f":"+OTCHET!I484+OTCHET!I485+OTCHET!I488+OTCHET!I489+OTCHET!I492+OTCHET!I493+OTCHET!I494+OTCHET!I496","v":0},{"$f":"+OTCHET!J484+OTCHET!J485+OTCHET!J488+OTCHET!J489+OTCHET!J492+OTCHET!J493+OTCHET!J494+OTCHET!J496","v":0},{"$f":"+#REF!+#REF!+#REF!+#REF!+#REF!+#REF!+#REF!+#REF!","v":{"$error":"#REF!"}},{"$f":"+#REF!+#REF!+#REF!+#REF!+#REF!+#REF!+#REF!+#REF!","v":{"$error":"#REF!"}},{"$f":"+#REF!+#REF!+#REF!+#REF!+#REF!+#REF!+#REF!+#REF!","v":{"$error":"#REF!"}},null,"под.§§ 80-17/80-18; 80-37/80-38; 80-57/80-58; 80-80 и 80-98;"]
[210,"            държавни /общински/ ЦК емитирани на м/нар. капиталови пазари ","§ 81",null,{"$f":"+OTCHET!E497","v":0},0,{"$f":"+OTCHET!G497","v":0},{"$f":"+OTCHET!H497","v":0},{"$f":"+OTCHET!I497","v":0},{"$f":"+OTCHET!J497","v":0},{"$f":"+#REF!","v":{"$error":"#REF!"}},{"$f":"+#REF!","v":{"$error":"#REF!"}},{"$f":"+#REF!","v":{"$error":"#REF!"}},null,"§ 81"]
[215,"            получени погашения по предоставени кредити от други държави ","§ 82",null,{"$f":"+OTCHET!E502","v":0},0,{"$f":"+OTCHET!G502","v":0},{"$f":"+OTCHET!H502","v":0},{"$f":"+OTCHET!I502","v":0},{"$f":"+OTCHET!J502","v":0},{"$f":"+#REF!","v":{"$error":"#REF!"}},{"$f":"+#REF!","v":{"$error":"#REF!"}},{"$f":"+#REF!","v":{"$error":"#REF!"}},null,"§ 82"]
[220,"            операции с др. ЦК и финансови активи ","под. § 92-01",null,{"$f":"+OTCHET!E542","v":0},0,{"$f":"+OTCHET!G542","v":0},{"$f":"+OTCHET!H542","v":0},{"$f":"+OTCHET!I542","v":0},{"$f":"+OTCHET!J542","v":0},{"$f":"+#REF!","v":{"$error":"#REF!"}},{"$f":"+#REF!","v":{"$error":"#REF!"}},{"$f":"+#REF!","v":{"$error":"#REF!"}},null,"под. § 92-01"]
[230,"            остатък в лв.равн. по валутни сметки и каса в чужбина от предх. период ","под. §§ 95-21и 95-22",null,{"$f":"+OTCHET!E581+OTCHET!E582","v":0},0,{"$f":"+OTCHET!G581+OTCHET!G582","v":0},{"$f":"+OTCHET!H581+OTCHET!H582","v":0},{"$f":"+OTCHET!I581+OTCHET!I582","v":0},{"$f":"+OTCHET!J581+OTCHET!J582","v":0},{"$f":"+#REF!+#REF!","v":{"$error":"#REF!"}},{"$f":"+#REF!+#REF!","v":{"$error":"#REF!"}},{"$f":"+#REF!+#REF!","v":{"$error":"#REF!"}},null,"под. §§ 95-21и 95-22"]
[235,"            наличности  в лв. равн.по валутни сметки и каса в чужб. в кр.на периода ","под. §§ 95-28/95-29 и 95-49",null,{"$f":"+OTCHET!E583+OTCHET!E584+OTCHET!E585","v":0},0,{"$f":"+OTCHET!G583+OTCHET!G584+OTCHET!G585","v":0},{"$f":"+OTCHET!H583+OTCHET!H584+OTCHET!H585","v":0},{"$f":"+OTCHET!I583+OTCHET!I584+OTCHET!I585","v":0},{"$f":"+OTCHET!J583+OTCHET!J584+OTCHET!J585","v":0},{"$f":"+#REF!+#REF!+#REF!","v":{"$error":"#REF!"}},{"$f":"+#REF!+#REF!+#REF!","v":{"$error":"#REF!"}},{"$f":"+#REF!+#REF!+#REF!","v":{"$error":"#REF!"}},null,"под. §§ 95-28/95-29 и 95-49"]
[240,"2. Придобиване на дялове, акции, съучастия и др, финансови активи ","§ 70",null,{"$f":"OTCHET!E461","v":0},0,{"$f":"OTCHET!G461","v":0},{"$f":"OTCHET!H461","v":0},{"$f":"OTCHET!I461","v":0},{"$f":"OTCHET!J461","v":0},{"$f":"#REF!","v":{"$error":"#REF!"}},{"$f":"#REF!","v":{"$error":"#REF!"}},{"$f":"#REF!","v":{"$error":"#REF!"}},null,"§ 70"]
[245,"3. Възмездни средства","§§ 71 - 73 и 79",null,{"$f":"SUM(E78:E83)","v":0},{"$f":"SUM(F78:F83)","v":0},{"$f":"SUM(G78:G83)","v":0},{"$f":"SUM(H78:H83)","v":0},{"$f":"SUM(I78:I83)","v":0},{"$f":"SUM(J78:J83)","v":0},0,0,0,null,"§§ 71 - 73 и 79"]
[250,"            предоставени ","под. § 71-01 и § 72-01",null,{"$f":"+OTCHET!E466+OTCHET!E469","v":0},0,{"$f":"+OTCHET!G466+OTCHET!G469","v":0},{"$f":"+OTCHET!H466+OTCHET!H469","v":0},{"$f":"+OTCHET!I466+OTCHET!I469","v":0},{"$f":"+OTCHET!J466+OTCHET!J469","v":0},{"$nulls":4},"под. § 71-01 и § 72-01"]
[260,"            възстановени","под. § 71-02 и § 72-02 ",null,{"$f":"+OTCHET!E467+OTCHET!E470","v":0},0,{"$f":"+OTCHET!G467+OTCHET!G470","v":0},{"$f":"+OTCHET!H467+OTCHET!H470","v":0},{"$f":"+OTCHET!I467+OTCHET!I470","v":0},{"$f":"+OTCHET!J467+OTCHET!J470","v":0},{"$nulls":4},"под. § 71-02 и § 72-02 "]
[265,"            нето плащания по активирани гаранции, поръчителства и преоформен дълг "," § 73",null,{"$f":"OTCHET!E471","v":0},0,{"$f":"OTCHET!G471","v":0},{"$f":"OTCHET!H471","v":0},{"$f":"OTCHET!I471","v":0},{"$f":"OTCHET!J471","v":0},{"$nulls":4}," § 73"]
[{"$nulls":5},0]
[270,"            предоставени заеми към крайни бенифициенти","под. § 79-01",null,{"$f":"+OTCHET!E479","v":0},0,{"$f":"+OTCHET!G479","v":0},{"$f":"+OTCHET!H479","v":0},{"$f":"+OTCHET!I479","v":0},{"$f":"+OTCHET!J479","v":0},{"$nulls":4},"под. § 79-01"]
[275,"            възстановени суми по заеми от крайни бенифициенти","под. § 79-02",null,{"$f":"+OTCHET!E480","v":0},0,{"$f":"+OTCHET!G480","v":0},{"$f":"+OTCHET!H480","v":0},{"$f":"+OTCHET!I480","v":0},{"$f":"+OTCHET!J480","v":0},{"$nulls":4},"под. § 79-02"]
[280,"4. Приватизация на дялове, акции и участия","§ 90",null,{"$f":"OTCHET!E535","v":0},0,{"$f":"OTCHET!G535","v":0},{"$f":"OTCHET!H535","v":0},{"$f":"OTCHET!I535","v":0},{"$f":"OTCHET!J535","v":0},{"$nulls":4},"§ 90"]
[285,"5. Покупко-продажба на държавни/общински/ ценни книжа от бюдж. предприятия ","§ 91",null,{"$f":"OTCHET!E536","v":0},0,{"$f":"OTCHET!G536","v":0},{"$f":"OTCHET!H536","v":0},{"$f":"OTCHET!I536","v":0},{"$f":"OTCHET!J536","v":0},{"$nulls":4},"§ 91"]
[290,"6. Друго вътрешно финансиране ","§§ 83; 85 - 88; 92-02; 93",null,{"$f":"+E87+E88","v":0},{"$f":"+F87+F88","v":{"v":3128,"d":"3,128"}},{"$f":"+G87+G88","v":{"v":3329,"d":"3,329"}},{"$f":"+H87+H88","v":0},{"$f":"+I87+I88","v":-201},{"$f":"+J87+J88","v":0},0,0,0,null,"§§ 83; 85 - 88; 92-02; 93"]
[295,"            операции по вътрешен дълг и финан. активи- нето ","§§ 83; 85 - 86 и 92-02",null,{"$f":"+OTCHET!E503+OTCHET!E512+OTCHET!E516+OTCHET!E543","v":0},0,{"$f":"+OTCHET!G503+OTCHET!G512+OTCHET!G516+OTCHET!G543","v":0},{"$f":"+OTCHET!H503+OTCHET!H512+OTCHET!H516+OTCHET!H543","v":0},{"$f":"+OTCHET!I503+OTCHET!I512+OTCHET!I516+OTCHET!I543","v":0},{"$f":"+OTCHET!J503+OTCHET!J512+OTCHET!J516+OTCHET!J543","v":0},{"$nulls":4},"§§ 83; 85 - 86 и 92-02"]
[300,"            друго финансиране ","§§ 87; 88 и 93",null,{"$f":"+OTCHET!E521+OTCHET!E524+OTCHET!E544","v":0},{"v":3128,"d":"3,128"},{"$f":"+OTCHET!G521+OTCHET!G524+OTCHET!G544","v":{"v":3329,"d":"3,329"}},{"$f":"+OTCHET!H521+OTCHET!H524+OTCHET!H544","v":0},{"$f":"+OTCHET!I521+OTCHET!I524+OTCHET!I544","v":-201},{"$f":"+OTCHET!J521+OTCHET!J524+OTCHET!J544","v":0},{"$nulls":4},"§§ 87; 88 и 93"]
[310,"7.Суми по разчети за поети осигур, вноски и данъци","§89",null,{"$f":"OTCHET!E531","v":0},{"$f":"+G89+H89+I89+J89","v":0},{"$f":"OTCHET!G531","v":0},{"$f":"OTCHET!H531","v":0},{"$f":"OTCHET!I531","v":0},{"$f":"OTCHET!J531","v":0},{"$nulls":4},"§89"]
[320,"8. Наличности в началото на периода ","под. §§ 95-01 до 95-06",null,{"$f":"+OTCHET!E567+OTCHET!E568+OTCHET!E569+OTCHET!E570+OTCHET!E571+OTCHET!E572","v":0},0,{"$f":"+OTCHET!G567+OTCHET!G568+OTCHET!G569+OTCHET!G570+OTCHET!G571+OTCHET!G572","v":0},{"$f":"+OTCHET!H567+OTCHET!H568+OTCHET!H569+OTCHET!H570+OTCHET!H571+OTCHET!H572","v":0},{"$f":"+OTCHET!I567+OTCHET!I568+OTCHET!I569+OTCHET!I570+OTCHET!I571+OTCHET!I572","v":0},{"$f":"+OTCHET!J567+OTCHET!J568+OTCHET!J569+OTCHET!J570+OTCHET!J571+OTCHET!J572","v":0},{"$nulls":4},"под. §§ 95-01 до 95-06"]
[330,"9 Наличности в края на периода ","под. §§ 95-07 до 95-13",null,{"$f":"+OTCHET!E573+OTCHET!E574+OTCHET!E575+OTCHET!E576+OTCHET!E577+OTCHET!E578+OTCHET!E579","v":0},0,{"$f":"+OTCHET!G573+OTCHET!G574+OTCHET!G575+OTCHET!G576+OTCHET!G577+OTCHET!G578+OTCHET!G579","v":0},{"$f":"+OTCHET!H573+OTCHET!H574+OTCHET!H575+OTCHET!H576+OTCHET!H577+OTCHET!H578+OTCHET!H579","v":0},{"$f":"+OTCHET!I573+OTCHET!I574+OTCHET!I575+OTCHET!I576+OTCHET!I577+OTCHET!I578+OTCHET!I579","v":0},{"$f":"+OTCHET!J573+OTCHET!J574+OTCHET!J575+OTCHET!J576+OTCHET!J577+OTCHET!J578+OTCHET!J579","v":0},{"$nulls":4},"под. §§ 95-07 до 95-13"]
[335,"10. Преоценка на валутни наличности ","под. § 95-14",null,{"$f":"+OTCHET!E580","v":0},0,{"$f":"+OTCHET!G580","v":0},{"$f":"+OTCHET!H580","v":0},{"$f":"+OTCHET!I580","v":0},{"$f":"+OTCHET!J580","v":0},{"$nulls":4},"под. § 95-14"]
[340,"11. Депозити и сметки консолидирани в \"Единната сметка\" от предх. период ","под. §§ 96-01 до 96-03",null,{"$f":"+OTCHET!E587+OTCHET!E588","v":0},0,{"$f":"+OTCHET!G587+OTCHET!G588","v":0},{"$f":"+OTCHET!H587+OTCHET!H588","v":0},{"$f":"+OTCHET!I587+OTCHET!I588","v":0},{"$f":"+OTCHET!J587+OTCHET!J588","v":0},{"$nulls":4},"под. §§ 96-01 до 96-03"]
[345,"12. Депозити и сметки консолидирани в \"Единната сметка\" в края на периода","под. §§ 96-07 до 96-09",null,{"$f":"+OTCHET!E589+OTCHET!E590","v":0},0,{"$f":"+OTCHET!G589+OTCHET!G590","v":0},{"$f":"+OTCHET!H589+OTCHET!H590","v":0},{"$f":"+OTCHET!I589+OTCHET!I590","v":0},{"$f":"+OTCHET!J589+OTCHET!J590","v":0},{"$nulls":4},"под. §§ 96-07 до 96-09"]
[350,"13. Касови операции, депозити, покупко-продажба на валута и сетълмент ","§ 98",null,{"$f":"OTCHET!E591","v":0},0,{"$f":"OTCHET!G591","v":{"v":109450,"d":"109,450"}},{"$f":"OTCHET!H591","v":0},{"$f":"OTCHET!I591","v":{"v":-109450,"d":"-109,450"}},{"$f":"OTCHET!J591","v":0},{"$nulls":4},"§ 98"]
[355,"            в т. ч. покупко-продажба на валута (+/-) ","под. § 98-30",null,{"$f":"+OTCHET!E594","v":0},0,{"$f":"+OTCHET!G594","v":0},{"$f":"+OTCHET!H594","v":0},{"$f":"+OTCHET!I594","v":0},{"$f":"+OTCHET!J594","v":0},{"$nulls":4},"под. § 98-30"]
[null,"ЧИСЛЕНОСТ НА ПЕРСОНАЛА"]
[null,"Щатни бройки "]
[null,"по трудови правоотношения"]
[null,"по служебни правоотношения"]
[]
[null,"Средногодишни щатни бройки "]
[null,"по трудови правоотношения"]
[null,"по служебни правоотношения"]
[null,{"$f":"+IF(+SUM(E$65:J$65)=0,0,\"Контрола: дефицит/излишък = финансиране с обратен знак (V. + VІ. = 0)\")","v":0},null,null,{"$f":"+E$64+E$66","v":0},0,0,0,0,0]
[]
[null,{"$f":"+OTCHET!H605","v":0},{"$nulls":4},{"$f":"+OTCHET!E605","v":0},{"$f":"+OTCHET!F605","v":879505280},null,{"$f":"+OTCHET!B605","v":"00:00:00"}]
[null,"(e-mail)",{"$nulls":4},"(служебни телефони) ",null,null,"(дата)"]
[null,"ИЗГОТВИЛ:"]
[{"$nulls":4},{"$f":"+OTCHET!D603","v":"Ц. ДИМИТРОВА"}]
[]
[]
[null,"ГЛ. СЧЕТОВОДИТЕЛ:",{"$nulls":5},"РЪКОВОДИТЕЛ:"]
[{"$nulls":4},{"$f":"+OTCHET!G600","v":"Ц. ДИМИТРОВА"},{"$nulls":3},{"$f":"+OTCHET!G603","v":"Д-Р ГЕОРГИ ПАЗДЕРОВ"}]

{"sheet":"OTCHET F","index":2,"n_rows":734,"n_cols":15,"rows_kept":734,"hidden":true,"merged":[[6,1,6,3],[8,1,8,3],[11,1,11,3],[18,2,18,3],[19,2,19,3],[20,2,20,3],[21,2,21,3],[22,2,22,3],[23,2,23,3],[24,2,24,3],[25,2,25,3],[26,2,26,3],[27,2,27,3],[28,2,28,3],[29,2,29,3],[30,2,30,3],[31,2,31,3],[32,2,32,3],[33,2,33,3],[34,2,34,3],[35,2,35,3],[36,2,36,3],[37,2,37,3],[38,2,38,3],[39,2,39,3],[40,2,40,3],[42,2,42,3],[43,2,43,3],[44,2,44,3],[45,2,45,3],[46,2,46,3],[47,2,47,3],[53,1,53,3],[55,1,55,3],[58,1,58,3],[62,2,62,3],[62,11,64,11],[62,12,64,12],[62,13,64,13],[62,14,64,14],[63,2,63,3],[64,2,64,3],[65,2,65,3],[66,2,66,3],[67,2,67,3],[68,2,68,3],[69,2,69,3],[70,2,70,3],[71,2,71,3],[72,2,72,3],[73,2,73,3],[74,2,74,3],[75,2,75,3],[76,2,76,3],[77,2,77,3],[79,2,79,3],[80,2,80,3],[81,2,81,3],[82,2,82,3],[83,2,83,3],[84,2,84,3],[85,2,85,3],[86,2,86,3],[87,2,87,3],[88,2,88,3],[89,2,89,3],[90,2,90,3],[91,2,91,3],[92,2,92,3],[93,2,93,3],[94,2,94,3],[95,2,95,3],[98,1,98,3],[100,1,100,3],[103,1,103,3],[107,2,107,3],[108,2,108,3],[109,2,109,3],[110,2,110,3],[111,2,111,3],[112,2,112,3],[113,2,113,3],[114,2,114,3],[115,2,115,3],[116,2,116,3],[117,2,117,3],[118,2,118,3],[120,2,120,3],[121,2,121,3],[122,2,122,3],[123,2,123,3],[124,2,124,3],[125,2,125,3],[126,2,126,3],[127,2,127,3],[128,2,128,3],[129,2,129,3],[130,2,130,3],[131,2,131,3],[135,1,135,3],[137,1,137,3],[140,1,140,3],[151,1,151,3],[153,1,153,3],[156,1,156,3],[160,2,160,3],[161,2,161,3],[162,2,162,3],[163,2,163,3],[164,2,164,3],[165,2,165,3],[166,2,166,3],[167,2,167,3],[168,2,168,3],[169,2,169,3],[170,2,170,3],[171,2,171,3],[172,2,172,3],[173,2,173,3],[174,2,174,3],[175,2,175,3],[176,2,176,3],[177,2,177,3],[178,2,178,3],[179,2,179,3],[180,2,180,3],[181,2,181,3],[182,2,182,3],[183,2,183,3],[184,2,184,3],[188,1,188,3],[190,1,190,3],[193,1,193,3],[197,2,197,3],[198,2,198,3],[199,2,199,3],[200,2,200,3],[201,2,201,3],[202,2,202,3],[203,2,203,3],[204,2,204,3],[205,2,205,3],[206,2,206,3],[207,2,207,3],[208,2,208,3]]}
["a","b","c","d","e","f","g","h","h","h","pub"]
[{"$nulls":10},1]
[{"$nulls":10},1]
[{"$nulls":10},1]
[{"$nulls":4}," "," ",{"$nulls":4},1]
[{"$nulls":5}," ",{"$nulls":4},1]
[null,{"$f":"OTCHET!B7","v":"ОТЧЕТНИ ДАННИ ПО ЕБК ЗА ИЗПЪЛНЕНИЕТО НА БЮДЖЕТА"},{"$nulls":8},1]
[{"$nulls":4},"за периода от ","до",{"$nulls":4},1]
[null,{"$f":"OTCHET!B9","v":"РЕГИОНАЛНА ЗДРАВНА ИНСПЕКЦИЯ-БУРГАС"},null,null,{"$f":"OTCHET!$E9","v":"2021-01-01"},{"$f":"OTCHET!$F9","v":"2021-12-31"},{"$nulls":4},1]
[null,{"$f":"OTCHET!B10","v":"                                                            (наименование на разпоредителя с бюджет)"},{"$nulls":3},{"$f":"OTCHET!$F10","v":0},{"$nulls":4},1]
[{"$nulls":10},1]
[null,{"$f":"OTCHET!B12","v":{"$error":"#N/A"}},null,null,"код :",{"$f":"OTCHET!$F12","v":"0"},{"$nulls":4},1]
[null,{"$f":"OTCHET!B13","v":"                                             (наименование на първостепенния разпоредител с бюджет)"},null,null,"(по ЕБК)"," ",{"$nulls":4},1]
[{"$nulls":10},1]
[{"$nulls":10},1]
[{"$nulls":10},1]
[{"$nulls":10},1]
[{"$nulls":9},"(в лева)",1]
[null,null,"I. ПРИХОДИ",null,"Уточнен план","Отчет",{"$nulls":4},1]
[null,"§§","(параграфи от ЕБК)",null,2017,"Общо","левови\nсметки ","валутни\nсметки ","Касови операции в лева и валута","Приравнени некасови операции",1]
[null,null," 0 1 ¦",null,"(1)","(2)","(3)","(4)","(5)","(6)",1]
[5,{"v":100,"d":"01-00"},"Данък върху доходите на физически лица:",null,{"$f":"OTCHET!$E22","v":0},{"$f":"OTCHET!$F22","v":0},{"$f":"OTCHET!$G22","v":0},{"$f":"OTCHET!$H22","v":0},{"$f":"OTCHET!$I22","v":0},{"$f":"OTCHET!$J22","v":0},{"$f":"(IF(E22<>0,$K$2,IF(F22<>0,$K$2,\"\")))","v":""}]
[25,{"v":200,"d":"02-00"},"Корпоративен данък:",null,{"$f":"OTCHET!$E28","v":0},{"$f":"OTCHET!$F28","v":0},{"$f":"OTCHET!$G28","v":0},{"$f":"OTCHET!$H28","v":0},{"$f":"OTCHET!$I28","v":0},{"$f":"OTCHET!$J28","v":0},""]
[50,{"v":400,"d":"04-00"},"Данъци върху дивидентите, ликвидационните дялове и доходите на местни и чуждестранни лица:",null,{"$f":"OTCHET!$E33","v":0},{"$f":"OTCHET!$F33","v":0},{"$f":"OTCHET!$G33","v":0},{"$f":"OTCHET!$H33","v":0},{"$f":"OTCHET!$I33","v":0},{"$f":"OTCHET!$J33","v":0},""]
[65,{"v":800,"d":"08-00"},"Осигурителни вноски",null,{"$f":"OTCHET!$E39","v":0},{"$f":"OTCHET!$F39","v":0},{"$f":"OTCHET!$G39","v":0},{"$f":"OTCHET!$H39","v":0},{"$f":"OTCHET!$I39","v":0},{"$f":"OTCHET!$J39","v":0},""]
[95,{"v":1000,"d":"10-00"},"Здравно-осигурителни вноски",null,{"$f":"OTCHET!$E47","v":0},{"$f":"OTCHET!$F47","v":0},{"$f":"OTCHET!$G47","v":0},{"$f":"OTCHET!$H47","v":0},{"$f":"OTCHET!$I47","v":0},{"$f":"OTCHET!$J47","v":0},""]
[130,{"v":1300,"d":"13-00"},"Имуществени данъци :",null,{"$f":"OTCHET!$E52","v":0},{"$f":"OTCHET!$F52","v":0},{"$f":"OTCHET!$G52","v":0},{"$f":"OTCHET!$H52","v":0},{"$f":"OTCHET!$I52","v":0},{"$f":"OTCHET!$J52","v":0},""]
[160,{"v":1400,"d":"14-00"},"Данък върху добавената стойност",null,{"$f":"OTCHET!$E58","v":0},{"$f":"OTCHET!$F58","v":0},{"$f":"OTCHET!$G58","v":0},{"$f":"OTCHET!$H58","v":0},{"$f":"OTCHET!$I58","v":0},{"$f":"OTCHET!$J58","v":0},""]
[175,{"v":1500,"d":"15-00"},"Акцизи ",null,{"$f":"OTCHET!$E61","v":0},{"$f":"OTCHET!$F61","v":0},{"$f":"OTCHET!$G61","v":0},{"$f":"OTCHET!$H61","v":0},{"$f":"OTCHET!$I61","v":0},{"$f":"OTCHET!$J61","v":0},""]
[null,{"v":1600,"d":"16-00"},"Данък върху застрахователните премии",null,{"$f":"OTCHET!$E64","v":0},{"$f":"OTCHET!$F64","v":0},{"$f":"OTCHET!$G64","v":0},{"$f":"OTCHET!$H64","v":0},{"$f":"OTCHET!$I64","v":0},{"$f":"OTCHET!$J64","v":0},""]
[200,{"v":1700,"d":"17-00"},"Други данъци по Закона за корпоративното подоходно облагане:",null,{"$f":"OTCHET!$E65","v":0},{"$f":"OTCHET!$F65","v":0},{"$f":"OTCHET!$G65","v":0},{"$f":"OTCHET!$H65","v":0},{"$f":"OTCHET!$I65","v":0},{"$f":"OTCHET!$J65","v":0},""]
[231,{"v":1800,"d":"18-00"},"Такси върху производството на захар и изоглюкоза",null,{"$f":"OTCHET!#REF!","v":{"$error":"#REF!"}},{"$f":"OTCHET!#REF!","v":{"$error":"#REF!"}},{"$f":"OTCHET!#REF!","v":{"$error":"#REF!"}},{"$f":"OTCHET!#REF!","v":{"$error":"#REF!"}},{"$f":"OTCHET!#REF!","v":{"$error":"#REF!"}},{"$f":"OTCHET!#REF!","v":{"$error":"#REF!"}},{"$error":"#REF!"}]
[235,{"v":1900,"d":"19-00"},"Мита и митнически такси:",null,{"$f":"OTCHET!$E72","v":0},{"$f":"OTCHET!$F72","v":0},{"$f":"OTCHET!$G72","v":0},{"$f":"OTCHET!$H72","v":0},{"$f":"OTCHET!$I72","v":0},{"$f":"OTCHET!$J72","v":0},""]
[255,{"v":2000,"d":"20-00"},"Други данъци",null,{"$f":"OTCHET!$E73","v":0},{"$f":"OTCHET!$F73","v":0},{"$f":"OTCHET!$G73","v":0},{"$f":"OTCHET!$H73","v":0},{"$f":"OTCHET!$I73","v":0},{"$f":"OTCHET!$J73","v":0},""]
[265,{"v":2400,"d":"24-00"},"Приходи и доходи от собственост",null,{"$f":"OTCHET!$E74","v":0},{"$f":"OTCHET!$F74","v":{"v":1383,"d":"1,383"}},{"$f":"OTCHET!$G74","v":{"v":1383,"d":"1,383"}},{"$f":"OTCHET!$H74","v":0},{"$f":"OTCHET!$I74","v":0},{"$f":"OTCHET!$J74","v":0},1]
[350,{"v":2500,"d":"25-00"},"Държавни такси",null,{"$f":"OTCHET!$E90","v":{"v":280000,"d":"280,000"}},{"$f":"OTCHET!$F90","v":{"v":202525,"d":"202,525"}},{"$f":"OTCHET!$G90","v":{"v":89653,"d":"89,653"}},{"$f":"OTCHET!$H90","v":0},{"$f":"OTCHET!$I90","v":{"v":112872,"d":"112,872"}},{"$f":"OTCHET!$J90","v":0},1]
[360,{"v":2600,"d":"26-00"},"Съдебни такси",null,{"$f":"OTCHET!$E93","v":0},{"$f":"OTCHET!$F93","v":0},{"$f":"OTCHET!$G93","v":0},{"$f":"OTCHET!$H93","v":0},{"$f":"OTCHET!$I93","v":0},{"$f":"OTCHET!$J93","v":0},""]
[370,{"v":2700,"d":"27-00"},"Общински такси",null,{"$f":"OTCHET!$E94","v":0},{"$f":"OTCHET!$F94","v":0},{"$f":"OTCHET!$G94","v":0},{"$f":"OTCHET!$H94","v":0},{"$f":"OTCHET!$I94","v":0},{"$f":"OTCHET!$J94","v":0},""]
[445,{"v":2800,"d":"28-00"},"Глоби, санкции и наказателни лихви",null,{"$f":"OTCHET!$E108","v":{"v":50000,"d":"50,000"}},{"$f":"OTCHET!$F108","v":{"v":31836,"d":"31,836"}},{"$f":"OTCHET!$G108","v":{"v":27136,"d":"27,136"}},{"$f":"OTCHET!$H108","v":0},{"$f":"OTCHET!$I108","v":{"v":4700,"d":"4,700"}},{"$f":"OTCHET!$J108","v":0},1]
[470,{"v":3600,"d":"36-00"},"Други неданъчни приходи",null,{"$f":"OTCHET!$E112","v":0},{"$f":"OTCHET!$F112","v":{"v":-10921,"d":"-10,921"}},{"$f":"OTCHET!$G112","v":{"v":-11281,"d":"-11,281"}},{"$f":"OTCHET!$H112","v":0},{"$f":"OTCHET!$I112","v":360},{"$f":"OTCHET!$J112","v":0},1]
[495,{"v":3700,"d":"37-00"},"Внесени ДДС и други данъци върху продажбите ",null,{"$f":"OTCHET!$E121","v":0},{"$f":"OTCHET!$F121","v":-42},{"$f":"OTCHET!$G121","v":-42},{"$f":"OTCHET!$H121","v":0},{"$f":"OTCHET!$I121","v":0},{"$f":"OTCHET!$J121","v":0},1]
[515,{"v":4000,"d":"40-00"},"Постъпления от продажба на нефинансови активи (без 40-71)",null,{"$f":"OTCHET!$E125","v":0},{"$f":"OTCHET!$F125","v":{"v":57340,"d":"57,340"}},{"$f":"OTCHET!$G125","v":{"v":57340,"d":"57,340"}},{"$f":"OTCHET!$H125","v":0},{"$f":"OTCHET!$I125","v":0},{"$f":"OTCHET!$J125","v":0},1]
[540,{"v":4100,"d":"41-00"},"Приходи от концесии",null,{"$f":"OTCHET!$E137","v":0},{"$f":"OTCHET!$F137","v":0},{"$f":"OTCHET!$G137","v":0},{"$f":"OTCHET!$H137","v":0},{"$f":"OTCHET!$I137","v":0},{"$f":"OTCHET!$J137","v":0},""]
[550,{"v":4200,"d":"42-00"},"Приходи от лицензии за ползване на държавни/общински активи",null,{"$f":"OTCHET!$E138","v":0},{"$f":"OTCHET!$F138","v":0},{"$f":"OTCHET!$G138","v":0},{"$f":"OTCHET!$H138","v":0},{"$f":"OTCHET!$I138","v":0},{"$f":"OTCHET!$J138","v":0},""]
[560,"45-00","Помощи и дарения от страната",null,{"$f":"OTCHET!$E139","v":0},{"$f":"OTCHET!$F139","v":0},{"$f":"OTCHET!$G139","v":0},{"$f":"OTCHET!$H139","v":0},{"$f":"OTCHET!$I139","v":0},{"$f":"OTCHET!$J139","v":0},""]
[575,{"v":4600,"d":"46-00"},"Помощи и дарения от чужбина",null,{"$f":"OTCHET!$E142","v":0},{"$f":"OTCHET!$F142","v":0},{"$f":"OTCHET!$G142","v":0},{"$f":"OTCHET!$H142","v":0},{"$f":"OTCHET!$I142","v":0},{"$f":"OTCHET!$J142","v":0},""]
[575,{"v":4700,"d":"47-00"},"Получени чрез небюджетни предприятия средства от КФП по международни и други програми",null,{"$f":"OTCHET!$E944","v":0},{"$f":"OTCHET!$F151","v":0},{"$f":"OTCHET!$G151","v":0},{"$f":"OTCHET!$H151","v":0},{"$f":"OTCHET!$I151","v":0},{"$f":"OTCHET!$J151","v":0},""]
[575,{"v":4800,"d":"48-00"},"Разпределени към администратори от чужбина средства по международни програми и договори (-)",null,{"$f":"OTCHET!$E160","v":0},{"$f":"OTCHET!$F160","v":0},{"$f":"OTCHET!$G160","v":0},{"$f":"OTCHET!$H160","v":0},{"$f":"OTCHET!$I160","v":0},{"$f":"OTCHET!$J160","v":0},""]
[620,null,null,"I. ОБЩО ПРИХОДИ",{"$f":"OTCHET!$E169","v":{"v":330000,"d":"330,000"}},{"$f":"OTCHET!$F169","v":{"v":282121,"d":"282,121"}},{"$f":"OTCHET!$G169","v":{"v":164189,"d":"164,189"}},{"$f":"OTCHET!$H169","v":0},{"$f":"OTCHET!$I169","v":{"v":117932,"d":"117,932"}},{"$f":"OTCHET!$J169","v":0},1]
[{"$nulls":10},1]
[{"$nulls":10},1]
[{"$nulls":10},1]
[{"$nulls":10},1]
[null,{"$f":"$B$7","v":"ОТЧЕТНИ ДАННИ ПО ЕБК ЗА ИЗПЪЛНЕНИЕТО НА БЮДЖЕТА"},{"$nulls":8},1]
[{"$nulls":4},"за периода от ","до",{"$nulls":4},1]
[null,{"$f":"$B$9","v":"РЕГИОНАЛНА ЗДРАВНА ИНСПЕКЦИЯ-БУРГАС"},null,null,{"$f":"$E$9","v":"2021-01-01"},{"$f":"$F$9","v":"2021-12-31"},{"$nulls":4},1]
[null,{"$f":"$B$10","v":"                                                            (наименование на разпоредителя с бюджет)"},{"$nulls":3},{"$f":"$F$10","v":0},{"$nulls":4},1]
[{"$nulls":10},1]
[null,{"$f":"$B$12","v":{"$error":"#N/A"}},null,null,"код :",{"$f":"$F$12","v":"0"},{"$nulls":4},1]
[null,{"$f":"$B$13","v":"                                             (наименование на първостепенния разпоредител с бюджет)"},null,null,"(по ЕБК)",{"$nulls":5},1]
[{"$nulls":10},1]
[{"$nulls":9},"(в лева)",1]
[null,null,"II. РАЗХОДИ ",null,"Уточнен план","Отчет",{"$nulls":4},1,"Прогнозен размер на ан-гажиментите за поемане през 2018 г.","Прогнозен размер на ан-гажиментите за поемане през 2019 г.","Прогнозен размер на ан-гажиментите за поемане през 2020 г.","Прогнозен размер на ан-гажиментите за поемане през 2021 г."]
[null,"§§","(параграфи по ЕБК)",null,2017,"Общо","левови\nсметки ","валутни\nсметки ","Касови операции в лева и валута","Приравнени некасови операции",1]
[null,null," 02 ¦",null,"(1)","(2)","(3)","(4)","(5)","(6)",1]
[5,{"v":100,"d":"01-00"},"Заплати и възнаграждения за персонала, нает по трудови и служебни правоотношения",null,{"$f":"OTCHET!$E187","v":{"v":2675845,"d":"2,675,845"}},{"$f":"OTCHET!$F187","v":{"v":2656411,"d":"2,656,411"}},{"$f":"OTCHET!$G187","v":{"v":2350183,"d":"2,350,183"}},{"$f":"OTCHET!$H187","v":0},{"$f":"OTCHET!$I187","v":{"v":-2334,"d":"-2,334"}},{"$f":"OTCHET!$J187","v":{"v":308562,"d":"308,562"}},{"$f":"(IF(E66<>0,$K$2,IF(F66<>0,$K$2,\"\")))","v":1}]
[35,{"v":200,"d":"02-00"},"Други възнаграждения и плащания за персонала",null,{"$f":"OTCHET!$E190","v":{"v":131557,"d":"131,557"}},{"$f":"OTCHET!$F190","v":{"v":145390,"d":"145,390"}},{"$f":"OTCHET!$G190","v":{"v":132920,"d":"132,920"}},{"$f":"OTCHET!$H190","v":0},{"$f":"OTCHET!$I190","v":0},{"$f":"OTCHET!$J190","v":{"v":12470,"d":"12,470"}},1]
[65,{"v":500,"d":"05-00"},"Задължителни осигурителни вноски от работодатели",null,{"$f":"OTCHET!$E196","v":{"v":755656,"d":"755,656"}},{"$f":"OTCHET!$F196","v":{"v":751633,"d":"751,633"}},{"$f":"OTCHET!$G196","v":0},{"$f":"OTCHET!$H196","v":0},{"$f":"OTCHET!$I196","v":0},{"$f":"OTCHET!$J196","v":{"v":751633,"d":"751,633"}},1]
[115,{"v":800,"d":"08-00"},"Вноски за доброволно осигуряване  ",null,{"$f":"OTCHET!$E204","v":0},{"$f":"OTCHET!$F204","v":0},{"$f":"OTCHET!$G204","v":0},{"$f":"OTCHET!$H204","v":0},{"$f":"OTCHET!$I204","v":0},{"$f":"OTCHET!$J204","v":0},""]
[125,{"v":1000,"d":"10-00"},"Издръжка",null,{"$f":"OTCHET!$E205","v":{"v":700365,"d":"700,365"}},{"$f":"OTCHET!$F205","v":{"v":723164,"d":"723,164"}},{"$f":"OTCHET!$G205","v":{"v":714018,"d":"714,018"}},{"$f":"OTCHET!$H205","v":0},{"$f":"OTCHET!$I205","v":{"v":9146,"d":"9,146"}},{"$f":"OTCHET!$J205","v":0},1]
[220,{"v":1900,"d":"19-00"},"Платени данъци, такси и административни санкции",null,{"$f":"OTCHET!$E223","v":{"v":14198,"d":"14,198"}},{"$f":"OTCHET!$F223","v":{"v":14586,"d":"14,586"}},{"$f":"OTCHET!$G223","v":{"v":13117,"d":"13,117"}},{"$f":"OTCHET!$H223","v":0},{"$f":"OTCHET!$I223","v":{"v":1469,"d":"1,469"}},{"$f":"OTCHET!$J223","v":0},1]
[220,{"v":2100,"d":"21-00"},"Разходи за лихви по емисии на държавни (общински) ценни книжа",null,{"$f":"OTCHET!$E227","v":0},{"$f":"OTCHET!$F227","v":0},{"$f":"OTCHET!$G227","v":0},{"$f":"OTCHET!$H227","v":0},{"$f":"OTCHET!$I227","v":0},{"$f":"OTCHET!$J227","v":0},""]
[250,{"v":2200,"d":"22-00"},"Разходи за лихви по заеми от страната",null,{"$f":"OTCHET!$E233","v":0},{"$f":"OTCHET!$F233","v":0},{"$f":"OTCHET!$G233","v":0},{"$f":"OTCHET!$H233","v":0},{"$f":"OTCHET!$I233","v":0},{"$f":"OTCHET!$J233","v":0},""]
[270,{"v":2500,"d":"25-00"},"Разходи за лихви по заеми от други държави",null,{"$f":"OTCHET!$E236","v":0},{"$f":"OTCHET!$F236","v":0},{"$f":"OTCHET!$G236","v":0},{"$f":"OTCHET!$H236","v":0},{"$f":"OTCHET!$I236","v":0},{"$f":"OTCHET!$J236","v":0},""]
[290,{"v":2600,"d":"26-00"},"Разходи за лихви по заеми от международни организации и институции",null,{"$f":"OTCHET!$E237","v":0},{"$f":"OTCHET!$F237","v":0},{"$f":"OTCHET!$G237","v":0},{"$f":"OTCHET!$H237","v":0},{"$f":"OTCHET!$I237","v":0},{"$f":"OTCHET!$J237","v":0},""]
[320,{"v":2700,"d":"27-00"},"Разходи за лихви по заеми от банки и други финансови институции от чужбина",null,{"$f":"OTCHET!$E238","v":0},{"$f":"OTCHET!$F238","v":0},{"$f":"OTCHET!$G238","v":0},{"$f":"OTCHET!$H238","v":0},{"$f":"OTCHET!$I238","v":0},{"$f":"OTCHET!$J238","v":0},""]
[330,{"v":2800,"d":"28-00"},"Разходи за лихви  и отстъпки по облигации, емитирани и търгувани на международните капиталови пазари",null,{"$f":"OTCHET!$E239","v":0},{"$f":"OTCHET!$F239","v":0},{"$f":"OTCHET!$G239","v":0},{"$f":"OTCHET!$H239","v":0},{"$f":"OTCHET!$I239","v":0},{"$f":"OTCHET!$J239","v":0},""]
[350,{"v":2900,"d":"29-00"},"Други разходи за лихви",null,{"$f":"OTCHET!$E240","v":0},{"$f":"OTCHET!$F240","v":161},{"$f":"OTCHET!$G240","v":161},{"$f":"OTCHET!$H240","v":0},{"$f":"OTCHET!$I240","v":0},{"$f":"OTCHET!$J240","v":0},1]
[397,{"v":3300,"d":"33-00"},"Вноска в бюджета на Европейския съюз",null,{"$f":"OTCHET!$E249","v":0},{"$f":"OTCHET!$F249","v":0},{"$f":"OTCHET!$G249","v":0},{"$f":"OTCHET!$H249","v":0},{"$f":"OTCHET!$I249","v":0},{"$f":"OTCHET!$J249","v":0},""]
[404,{"v":3900,"d":"39-00"},"Здравно-осигурителни плащания",null,{"$f":"OTCHET!$E255","v":0},{"$f":"OTCHET!$F255","v":0},{"$f":"OTCHET!$G255","v":0},{"$f":"OTCHET!$H255","v":0},{"$f":"OTCHET!$I255","v":0},{"$f":"OTCHET!$J255","v":0},""]
[440,{"v":4000,"d":"40-00"},"Стипендии",null,{"$f":"OTCHET!$E256","v":0},{"$f":"OTCHET!$F256","v":0},{"$f":"OTCHET!$G256","v":0},{"$f":"OTCHET!$H256","v":0},{"$f":"OTCHET!$I256","v":0},{"$f":"OTCHET!$J256","v":0},""]
[450,{"v":4100,"d":"41-00"},"Пенсии",null,{"$f":"OTCHET!$E257","v":0},{"$f":"OTCHET!$F257","v":0},{"$f":"OTCHET!$G257","v":0},{"$f":"OTCHET!$H257","v":0},{"$f":"OTCHET!$I257","v":0},{"$f":"OTCHET!$J257","v":0},""]
[495,{"v":4200,"d":"42-00"},"Текущи трансфери, обезщетения и помощи за домакинствата",null,{"$f":"OTCHET!$E258","v":0},{"$f":"OTCHET!$F258","v":0},{"$f":"OTCHET!$G258","v":0},{"$f":"OTCHET!$H258","v":0},{"$f":"OTCHET!$I258","v":0},{"$f":"OTCHET!$J258","v":0},""]
[635,{"v":4300,"d":"43-00"},"Субсидии и други текущи трансфери за нефинансови предприятия ",null,{"$f":"OTCHET!$E265","v":0},{"$f":"OTCHET!$F265","v":0},{"$f":"OTCHET!$G265","v":0},{"$f":"OTCHET!$H265","v":0},{"$f":"OTCHET!$I265","v":0},{"$f":"OTCHET!$J265","v":0},""]
[655,{"v":4400,"d":"44-00"},"Субсидии и други текущи трансфери за финансови институции",null,{"$f":"OTCHET!$E269","v":0},{"$f":"OTCHET!$F269","v":0},{"$f":"OTCHET!$G269","v":0},{"$f":"OTCHET!$H269","v":0},{"$f":"OTCHET!$I269","v":0},{"$f":"OTCHET!$J269","v":0},""]
[665,{"v":4500,"d":"45-00"},"Субсидии и други текущи трансфери на организации с нестопанска цел",null,{"$f":"OTCHET!$E270","v":0},{"$f":"OTCHET!$F270","v":0},{"$f":"OTCHET!$G270","v":0},{"$f":"OTCHET!$H270","v":0},{"$f":"OTCHET!$I270","v":0},{"$f":"OTCHET!$J270","v":0},""]
[675,{"v":4600,"d":"46-00"},"Разходи за членски внос и участие в нетърговски организации и дейности",null,{"$f":"OTCHET!$E271","v":0},{"$f":"OTCHET!$F271","v":0},{"$f":"OTCHET!$G271","v":0},{"$f":"OTCHET!$H271","v":0},{"$f":"OTCHET!$I271","v":0},{"$f":"OTCHET!$J271","v":0},""]
[685,{"v":4900,"d":"49-00"},"Предоставени текущи и капиталови трансфери за чужбина",null,{"$f":"OTCHET!$E272","v":0},{"$f":"OTCHET!$F272","v":0},{"$f":"OTCHET!$G272","v":0},{"$f":"OTCHET!$H272","v":0},{"$f":"OTCHET!$I272","v":0},{"$f":"OTCHET!$J272","v":0},""]
[700,{"v":5100,"d":"51-00"},"Основен ремонт на дълготрайни материални активи",null,{"$f":"OTCHET!$E275","v":0},{"$f":"OTCHET!$F275","v":0},{"$f":"OTCHET!$G275","v":0},{"$f":"OTCHET!$H275","v":0},{"$f":"OTCHET!$I275","v":0},{"$f":"OTCHET!$J275","v":0},""]
[710,{"v":5200,"d":"52-00"},"Придобиване на дълготрайни материални активи",null,{"$f":"OTCHET!$E276","v":{"v":244231,"d":"244,231"}},{"$f":"OTCHET!$F276","v":{"v":214631,"d":"214,631"}},{"$f":"OTCHET!$G276","v":{"v":214631,"d":"214,631"}},{"$f":"OTCHET!$H276","v":0},{"$f":"OTCHET!$I276","v":0},{"$f":"OTCHET!$J276","v":0},1]
[750,{"v":5300,"d":"53-00"},"Придобиване на нематериални дълготрайни активи",null,{"$f":"OTCHET!$E284","v":0},{"$f":"OTCHET!$F284","v":0},{"$f":"OTCHET!$G284","v":0},{"$f":"OTCHET!$H284","v":0},{"$f":"OTCHET!$I284","v":0},{"$f":"OTCHET!$J284","v":0},""]
[765,{"v":5400,"d":"54-00"},"Придобиване на земя",null,{"$f":"OTCHET!$E287","v":0},{"$f":"OTCHET!$F287","v":0},{"$f":"OTCHET!$G287","v":0},{"$f":"OTCHET!$H287","v":0},{"$f":"OTCHET!$I287","v":0},{"$f":"OTCHET!$J287","v":0},""]
[775,{"v":5500,"d":"55-00"},"Капиталови трансфери",null,{"$f":"OTCHET!$E288","v":0},{"$f":"OTCHET!$F288","v":0},{"$f":"OTCHET!$G288","v":0},{"$f":"OTCHET!$H288","v":0},{"$f":"OTCHET!$I288","v":0},{"$f":"OTCHET!$J288","v":0},""]
[805,{"v":5700,"d":"57-00"},"Прираст на държавния резерв и изкупуване на земеделска продукция (включва и 40-71)",null,{"$f":"OTCHET!$E293","v":0},{"$f":"OTCHET!$F293","v":0},{"$f":"OTCHET!$G293","v":0},{"$f":"OTCHET!$H293","v":0},{"$f":"OTCHET!$I293","v":0},{"$f":"OTCHET!$J293","v":0},""]
[820,"00-98","Резерв за непредвидени и неотложни разходи",null,{"$f":"OTCHET!$E297","v":0},{"$f":"OTCHET!$F297","v":0},{"$f":"OTCHET!$G297","v":0},{"$f":"OTCHET!$H297","v":0},{"$f":"OTCHET!$I297","v":0},{"$f":"OTCHET!$J297","v":0},""]
[825,null,"II. ОБЩО РАЗХОДИ РЕКАПИТУЛАЦИЯ",null,{"$f":"OTCHET!$E301","v":{"v":4521852,"d":"4,521,852"}},{"$f":"OTCHET!$F301","v":{"v":4505976,"d":"4,505,976"}},{"$f":"OTCHET!$G301","v":{"v":3425030,"d":"3,425,030"}},{"$f":"OTCHET!$H301","v":0},{"$f":"OTCHET!$I301","v":{"v":8281,"d":"8,281"}},{"$f":"OTCHET!$J301","v":{"v":1072665,"d":"1,072,665"}},1,{"$f":"SUM(L66:L95)","v":0},{"$f":"SUM(M66:M95)","v":0},{"$f":"SUM(N66:N95)","v":0},{"$f":"SUM(O66:O95)","v":0}]
[{"$nulls":10},1]
[{"$nulls":10},1]
[null,{"$f":"$B$7","v":"ОТЧЕТНИ ДАННИ ПО ЕБК ЗА ИЗПЪЛНЕНИЕТО НА БЮДЖЕТА"},{"$nulls":8},1]
[{"$nulls":4},"за периода от ","до",{"$nulls":4},1]
[null,{"$f":"$B$9","v":"РЕГИОНАЛНА ЗДРАВНА ИНСПЕКЦИЯ-БУРГАС"},null,null,{"$f":"$E$9","v":"2021-01-01"},{"$f":"$F$9","v":"2021-12-31"},{"$nulls":4},1]
[null,{"$f":"$B$10","v":"                                                            (наименование на разпоредителя с бюджет)"},{"$nulls":3},{"$f":"$F$10","v":0},{"$nulls":4},1]
[{"$nulls":10},1]
[null,{"$f":"$B$12","v":{"$error":"#N/A"}},null,null,"код :",{"$f":"$F$12","v":"0"},{"$nulls":4},1]
[null,{"$f":"$B$13","v":"                                             (наименование на първостепенния разпоредител с бюджет)"},null,null,"(по ЕБК)",{"$nulls":5},1]
[{"$nulls":10},1]
[{"$nulls":9},"(в лева)",1]
[null,null,"IV ТРАНСФЕРИ - РЕКАПИТУЛАЦИЯ",null,"Уточнен план","Отчет",{"$nulls":4},1]
[null,"§§","(параграфи по ЕБК)",null,2017,"Общо","левови\nсметки ","валутни\nсметки ","Касови операции в лева и валута","Приравнени некасови операции",1]
[1,null," 03 ¦",null,"(1)","(2)","(3)","(4)","(5)","(6)",1]
[2,null,"А) ТРАНСФЕРИ",{"$nulls":7},1]
[5,{"v":3000,"d":"30-00"},"Трансфери от ЦБ за други бюджети (нето) ",null,{"$f":"OTCHET!$E361","v":0},{"$f":"OTCHET!$F361","v":0},{"$f":"OTCHET!$G361","v":0},{"$f":"OTCHET!$H361","v":0},{"$f":"OTCHET!$I361","v":0},{"$f":"OTCHET!$J361","v":0},{"$f":"(IF(E112<>0,$K$2,IF(F112<>0,$K$2,\"\")))","v":""}]
[70,{"v":3100,"d":"31-00"},"Трансфери между бюджета на бюджетната организация и ЦБ (нето)",null,{"$f":"OTCHET!$E375","v":{"v":4191852,"d":"4,191,852"}},{"$f":"OTCHET!$F375","v":0},{"$f":"OTCHET!$G375","v":0},{"$f":"OTCHET!$H375","v":0},{"$f":"OTCHET!$I375","v":0},{"$f":"OTCHET!$J375","v":0},1]
[115,{"v":3200,"d":"32-00"},"Предоставени субсидии от държавния бюджет за БАН и държавните висши училища (нето)",null,{"$f":"OTCHET!$E383","v":0},{"$f":"OTCHET!$F383","v":0},{"$f":"OTCHET!$G383","v":0},{"$f":"OTCHET!$H383","v":0},{"$f":"OTCHET!$I383","v":0},{"$f":"OTCHET!$J383","v":0},""]
[145,{"v":6000,"d":"60-00"},"Трансфери между ЦБ и сметки за средствата от ЕС (нето)",null,{"$f":"OTCHET!$E388","v":0},{"$f":"OTCHET!$F388","v":0},{"$f":"OTCHET!$G388","v":0},{"$f":"OTCHET!$H388","v":0},{"$f":"OTCHET!$I388","v":0},{"$f":"OTCHET!$J388","v":0},""]
[160,{"v":6100,"d":"61-00"},"Трансфери между бюджети (нето)",null,{"$f":"OTCHET!$E391","v":0},{"$f":"OTCHET!$F391","v":{"v":-285292,"d":"-285,292"}},{"$f":"OTCHET!$G391","v":{"v":-285292,"d":"-285,292"}},{"$f":"OTCHET!$H391","v":0},{"$f":"OTCHET!$I391","v":0},{"$f":"OTCHET!$J391","v":0},1]
[185,{"v":6200,"d":"62-00"},"Трансфери между бюджети и сметки за средствата от ЕС (нето)",null,{"$f":"OTCHET!$E396","v":0},{"$f":"OTCHET!$F396","v":0},{"$f":"OTCHET!$G396","v":0},{"$f":"OTCHET!$H396","v":0},{"$f":"OTCHET!$I396","v":0},{"$f":"OTCHET!$J396","v":0},""]
[200,{"v":6300,"d":"63-00"},"Трансфери между сметки за средствата от ЕС (нето)",null,{"$f":"OTCHET!$E399","v":0},{"$f":"OTCHET!$F399","v":0},{"$f":"OTCHET!$G399","v":0},{"$f":"OTCHET!$H399","v":0},{"$f":"OTCHET!$I399","v":0},{"$f":"OTCHET!$J399","v":0},""]
[210,{"v":6400,"d":"64-00"},"Трансфери от/за държавни предприятия и други лица, включени в консолидираната фискална програма",null,{"$f":"OTCHET!$E402","v":0},{"$f":"OTCHET!$F402","v":0},{"$f":"OTCHET!$G402","v":0},{"$f":"OTCHET!$H402","v":0},{"$f":"OTCHET!$I402","v":0},{"$f":"OTCHET!$J402","v":0},""]
[213,{"v":6500,"d":"65-00"},"Трансфери на отчислени пoстъпления",null,{"$f":"OTCHET!$E405","v":0},{"$f":"OTCHET!$F405","v":0},{"$f":"OTCHET!$G405","v":0},{"$f":"OTCHET!$H405","v":0},{"$f":"OTCHET!$I405","v":0},{"$f":"OTCHET!$J405","v":0},""]
[215,{"v":6600,"d":"66-00"},"Разчети за извършени плащания в СЕБРА (+/-)",null,{"$f":"OTCHET!$E406","v":0},{"$f":"OTCHET!$F406","v":{"v":3433354,"d":"3,433,354"}},{"$f":"OTCHET!$G406","v":{"v":3433354,"d":"3,433,354"}},{"$f":"OTCHET!$H406","v":0},{"$f":"OTCHET!$I406","v":0},{"$f":"OTCHET!$J406","v":0},1]
[215,{"v":6700,"d":"67-00"},"Трансфери от/за сметки за чужди средства",null,{"$f":"OTCHET!$E409","v":0},{"$f":"OTCHET!$F409","v":0},{"$f":"OTCHET!$G409","v":0},{"$f":"OTCHET!$H409","v":0},{"$f":"OTCHET!$I409","v":0},{"$f":"OTCHET!$J409","v":0},""]
[230,{"v":6900,"d":"69-00"},"Трансфери за поети осигурителни вноски и данъци",null,{"$f":"OTCHET!$E412","v":0},{"$f":"OTCHET!$F412","v":{"v":1072665,"d":"1,072,665"}},{"$f":"OTCHET!$G412","v":0},{"$f":"OTCHET!$H412","v":0},{"$f":"OTCHET!$I412","v":0},{"$f":"OTCHET!$J412","v":{"v":1072665,"d":"1,072,665"}},1]
[260,null,"III. ОБЩО",null,{"$f":"OTCHET!$E419","v":{"v":4191852,"d":"4,191,852"}},{"$f":"OTCHET!$F419","v":{"v":4220727,"d":"4,220,727"}},{"$f":"OTCHET!$G419","v":{"v":3148062,"d":"3,148,062"}},{"$f":"OTCHET!$H419","v":0},{"$f":"OTCHET!$I419","v":0},{"$f":"OTCHET!$J419","v":{"v":1072665,"d":"1,072,665"}},1]
[261,null," 04 ¦",{"$nulls":7},1]
[262,"§§","В) ВРЕМЕННИ БЕЗЛИХВЕНИ ЗАЕМИ МЕЖДУ ЦЕНТРАЛНИЯ БЮДЖЕТ,  БЮДЖЕТНИ СМЕТКИ  И  ИЗВЪНБЮДЖЕТНИ ФОНДОВЕ И СМЕТКИ",{"$nulls":7},1]
[265,{"v":7400,"d":"74-00"},"Получени/предоставени временни безлихвени заеми от/за ЦБ (нето)",null,{"$f":"OTCHET!$E422","v":0},{"$f":"OTCHET!$F422","v":0},{"$f":"OTCHET!$G422","v":0},{"$f":"OTCHET!$H422","v":0},{"$f":"OTCHET!$I422","v":0},{"$f":"OTCHET!$J422","v":0},{"$f":"(IF(E127<>0,$K$2,IF(F127<>0,$K$2,\"\")))","v":""}]
[275,{"v":7500,"d":"75-00"},"Временни безлихвени заеми между бюджетни сметки (нето)",null,{"$f":"OTCHET!$E423","v":0},{"$f":"OTCHET!$F423","v":0},{"$f":"OTCHET!$G423","v":0},{"$f":"OTCHET!$H423","v":0},{"$f":"OTCHET!$I423","v":0},{"$f":"OTCHET!$J423","v":0},{"$f":"(IF(E128<>0,$K$2,IF(F128<>0,$K$2,\"\")))","v":""}]
[285,{"v":7600,"d":"76-00"},"Временни безлихвени заеми между бюджети и сметки за средствата от ЕС (нето)",null,{"$f":"OTCHET!$E424","v":0},{"$f":"OTCHET!$F424","v":0},{"$f":"OTCHET!$G424","v":0},{"$f":"OTCHET!$H424","v":0},{"$f":"OTCHET!$I424","v":0},{"$f":"OTCHET!$J424","v":0},{"$f":"(IF(E129<>0,$K$2,IF(F129<>0,$K$2,\"\")))","v":""}]
[295,{"v":7700,"d":"77-00"},"Временни безлихвени заеми между сметки за средствата от ЕС (нето)",null,{"$f":"OTCHET!$E425","v":0},{"$f":"OTCHET!$F425","v":0},{"$f":"OTCHET!$G425","v":0},{"$f":"OTCHET!$H425","v":0},{"$f":"OTCHET!$I425","v":0},{"$f":"OTCHET!$J425","v":0},{"$f":"(IF(E130<>0,$K$2,IF(F130<>0,$K$2,\"\")))","v":""}]
[305,{"v":7800,"d":"78-00"},"Временни безлихвени заеми от/за държавни предприятия и други сметки, включени в консолидираната фискална програма (нето)",null,{"$f":"OTCHET!$E426","v":0},{"$f":"OTCHET!$F426","v":0},{"$f":"OTCHET!$G426","v":0},{"$f":"OTCHET!$H426","v":0},{"$f":"OTCHET!$I426","v":0},{"$f":"OTCHET!$J426","v":0},{"$f":"(IF(E131<>0,$K$2,IF(F131<>0,$K$2,\"\")))","v":""}]
[315,null,"IV. ОБЩО",null,{"$f":"OTCHET!$E429","v":0},{"$f":"OTCHET!$F429","v":0},{"$f":"OTCHET!$G429","v":0},{"$f":"OTCHET!$H429","v":0},{"$f":"OTCHET!$I429","v":0},{"$f":"OTCHET!$J429","v":0},1]
[{"$nulls":10},1]
[{"$nulls":10},1]
[{"$nulls":10},1]
[null,{"$f":"$B$7","v":"ОТЧЕТНИ ДАННИ ПО ЕБК ЗА ИЗПЪЛНЕНИЕТО НА БЮДЖЕТА"},{"$nulls":8},1]
[{"$nulls":4},"за периода от ","до",{"$nulls":4},1]
[null,{"$f":"$B$9","v":"РЕГИОНАЛНА ЗДРАВНА ИНСПЕКЦИЯ-БУРГАС"},null,null,{"$f":"$E$9","v":"2021-01-01"},{"$f":"$F$9","v":"2021-12-31"},{"$nulls":4},1]
[null,{"$f":"$B$10","v":"                                                            (наименование на разпоредителя с бюджет)"},{"$nulls":3},{"$f":"$F$10","v":0},{"$nulls":4},1]
[{"$nulls":10},1]
[null,{"$f":"$B$12","v":{"$error":"#N/A"}},null,null,"код :",{"$f":"$F$12","v":"0"},{"$nulls":4},1]
[null,{"$f":"$B$13","v":"                                             (наименование на първостепенния разпоредител с бюджет)"},null,null,"(по ЕБК)",{"$nulls":5},1]
[{"$nulls":10},1]
[{"$nulls":9},"(в лева)",1]
[{"$nulls":3},"V. БЮДЖЕТНО САЛДО (ДЕФИЦИТ / ИЗЛИШЪК) =","Уточнен план","Отчет",{"$nulls":4},1]
[{"$nulls":3},"= I.(раздел)-II.(раздел=рекапитулацията от всички дейности)+III.(раздел=рекапитулация от всички трансфери)",2017,"Общо","левови\nсметки ","валутни\nсметки ","Касови операции в лева и валута","Приравнени некасови операции",1]
[{"$nulls":3}," 0 5  ¦","(1)","(2)","(3)","(4)","(5)","(6)",1]
[{"$nulls":4},{"$f":"+E49-E96+E124+E132","v":0},{"v":-3128,"d":"-3,128"},{"v":-112779,"d":"-112,779"},0,{"v":109651,"d":"109,651"},0,1]
[{"$nulls":10},1]
[{"$nulls":10},1]
[{"$nulls":10},1]
[null,{"$f":"$B$7","v":"ОТЧЕТНИ ДАННИ ПО ЕБК ЗА ИЗПЪЛНЕНИЕТО НА БЮДЖЕТА"},{"$nulls":8},1]
[{"$nulls":4},"за периода от ","до",{"$nulls":4},1]
[null,{"$f":"$B$9","v":"РЕГИОНАЛНА ЗДРАВНА ИНСПЕКЦИЯ-БУРГАС"},null,null,{"$f":"$E$9","v":"2021-01-01"},{"$f":"$F$9","v":"2021-12-31"},{"$nulls":4},1]
[null,{"$f":"$B$10","v":"                                                            (наименование на разпоредителя с бюджет)"},{"$nulls":3},{"$f":"$F$10","v":0},{"$nulls":4},1]
[{"$nulls":10},1]
[null,{"$f":"$B$12","v":{"$error":"#N/A"}},null,null,"код :",{"$f":"$F$12","v":"0"},{"$nulls":4},1]
[null,{"$f":"$B$13","v":"                                             (наименование на първостепенния разпоредител с бюджет)"},null,null,"(по ЕБК)",{"$nulls":5},1]
[{"$nulls":10},1]
[{"$nulls":9},"(в лева)",1]
[null,null,"VI. ОПЕРАЦИИ С ФИНАНСОВИ АКТИВИ И ПАСИВИ - ПОЗИЦИИ",null,"Уточнен план","Отчет",{"$nulls":4},1]
[null,"§§","(параграфи по ЕБК)",null,2017,"Общо","левови\nсметки ","валутни\nсметки ","Касови операции в лева и валута","Приравнени некасови операции",1]
[1,null," 0 6 ¦",null,"(1)","(2)","(3)","(4)","(5)","(6)",1]
[5,{"v":7000,"d":"70-00"},"Придобиване на дялове, акции и съучастия (нето)",null,{"$f":"OTCHET!$E461","v":0},{"$f":"OTCHET!$F461","v":0},{"$f":"OTCHET!$G461","v":0},{"$f":"OTCHET!$H461","v":0},{"$f":"OTCHET!$I461","v":0},{"$f":"OTCHET!$J461","v":0},{"$f":"(IF(E164<>0,$K$2,IF(F164<>0,$K$2,\"\")))","v":""}]
[30,{"v":7100,"d":"71-00"},"Предоставени кредити (нето)",null,{"$f":"OTCHET!$E465","v":0},{"$f":"OTCHET!$F465","v":0},{"$f":"OTCHET!$G465","v":0},{"$f":"OTCHET!$H465","v":0},{"$f":"OTCHET!$I465","v":0},{"$f":"OTCHET!$J465","v":0},""]
[45,{"v":7200,"d":"72-00"},"Предоставена възмездна финансова помощ (нето)",null,{"$f":"OTCHET!$E468","v":0},{"$f":"OTCHET!$F468","v":0},{"$f":"OTCHET!$G468","v":0},{"$f":"OTCHET!$H468","v":0},{"$f":"OTCHET!$I468","v":0},{"$f":"OTCHET!$J468","v":0},""]
[60,{"v":7300,"d":"73-00"},"Плащания по активирани гаранции, поръчителства и преоформен държавен дълг (нето)",null,{"$f":"OTCHET!$E471","v":0},{"$f":"OTCHET!$F471","v":0},{"$f":"OTCHET!$G471","v":0},{"$f":"OTCHET!$H471","v":0},{"$f":"OTCHET!$I471","v":0},{"$f":"OTCHET!$J471","v":0},""]
[110,{"v":7900,"d":"79-00"},"Предоставени заеми към крайни бенефициенти по държавни инвестиционни заеми (нето)",null,{"$f":"OTCHET!$E478","v":0},{"$f":"OTCHET!$F478","v":0},{"$f":"OTCHET!$G478","v":0},{"$f":"OTCHET!$H478","v":0},{"$f":"OTCHET!$I478","v":0},{"$f":"OTCHET!$J478","v":0},""]
[125,{"v":8000,"d":"80-00"},"Заеми от чужбина - нето (+/-)",null,{"$f":"OTCHET!$E481","v":0},{"$f":"OTCHET!$F481","v":0},{"$f":"OTCHET!$G481","v":0},{"$f":"OTCHET!$H481","v":0},{"$f":"OTCHET!$I481","v":0},{"$f":"OTCHET!$J481","v":0},""]
[220,{"v":8100,"d":"81-00"},"Държавни (общински) ценни книжа емитирани на международните капиталови пазари - нето (+/-)",null,{"$f":"OTCHET!$E497","v":0},{"$f":"OTCHET!$F497","v":0},{"$f":"OTCHET!$G497","v":0},{"$f":"OTCHET!$H497","v":0},{"$f":"OTCHET!$I497","v":0},{"$f":"OTCHET!$J497","v":0},""]
[245,{"v":8200,"d":"82-00"},"Получени погашения по предоставени кредити на други държави (+)",null,{"$f":"OTCHET!$E502","v":0},{"$f":"OTCHET!$F502","v":0},{"$f":"OTCHET!$G502","v":0},{"$f":"OTCHET!$H502","v":0},{"$f":"OTCHET!$I502","v":0},{"$f":"OTCHET!$J502","v":0},""]
[255,{"v":8300,"d":"83-00"},"Заеми от банки и други лица в страната - нето (+/-)",null,{"$f":"OTCHET!$E503","v":0},{"$f":"OTCHET!$F503","v":0},{"$f":"OTCHET!$G503","v":0},{"$f":"OTCHET!$H503","v":0},{"$f":"OTCHET!$I503","v":0},{"$f":"OTCHET!$J503","v":0},""]
[295,{"v":8500,"d":"85-00"},"Емисии на държавни (общински) ценни книжа (+)",null,{"$f":"OTCHET!$E512","v":0},{"$f":"OTCHET!$F512","v":0},{"$f":"OTCHET!$G512","v":0},{"$f":"OTCHET!$H512","v":0},{"$f":"OTCHET!$I512","v":0},{"$f":"OTCHET!$J512","v":0},""]
[315,{"v":8600,"d":"86-00"},"Погашения на държавни (общински) ценни книжа (-)",null,{"$f":"OTCHET!$E516","v":0},{"$f":"OTCHET!$F516","v":0},{"$f":"OTCHET!$G516","v":0},{"$f":"OTCHET!$H516","v":0},{"$f":"OTCHET!$I516","v":0},{"$f":"OTCHET!$J516","v":0},""]
[355,{"v":8700,"d":"87-00"},"Разчети между първостепенни разпоредители  за централизация на средства и плащания в Себра",null,{"$f":"OTCHET!$E521","v":0},{"$f":"OTCHET!$F521","v":0},{"$f":"OTCHET!$G521","v":0},{"$f":"OTCHET!$H521","v":0},{"$f":"OTCHET!$I521","v":0},{"$f":"OTCHET!$J521","v":0},""]
[355,{"v":8800,"d":"88-00"},"Събрани средства и извършени плащания за сметка на други бюджети, сметки и фондове - нето (+/-)",null,{"$f":"OTCHET!$E524","v":0},{"$f":"OTCHET!$F524","v":0},{"$f":"OTCHET!$G524","v":0},{"$f":"OTCHET!$H524","v":0},{"$f":"OTCHET!$I524","v":0},{"$f":"OTCHET!$J524","v":0},""]
[375,{"v":8900,"d":"89-00"},"Суми по разчети за поети осигурителни вноски и данъци",null,{"$f":"OTCHET!$E531","v":0},{"$f":"OTCHET!$F531","v":0},{"$f":"OTCHET!$G531","v":0},{"$f":"OTCHET!$H531","v":0},{"$f":"OTCHET!$I531","v":0},{"$f":"OTCHET!$J531","v":0},""]
[395,{"v":9000,"d":"90-00"},"Приватизация (+)",null,{"$f":"OTCHET!$E535","v":0},{"$f":"OTCHET!$F535","v":0},{"$f":"OTCHET!$G535","v":0},{"$f":"OTCHET!$H535","v":0},{"$f":"OTCHET!$I535","v":0},{"$f":"OTCHET!$J535","v":0},""]
[405,{"v":9100,"d":"91-00"},"Покупко-продажба на държавни (общински) ценни книжа от бюджетни организации - нето  (+/-)",null,{"$f":"OTCHET!$E536","v":0},{"$f":"OTCHET!$F536","v":0},{"$f":"OTCHET!$G536","v":0},{"$f":"OTCHET!$H536","v":0},{"$f":"OTCHET!$I536","v":0},{"$f":"OTCHET!$J536","v":0},""]
[430,{"v":9200,"d":"92-00"},"Операции с други ценни книжа и финансови активи за управление на ликвидността - нето (+/-)",null,{"$f":"OTCHET!$E541","v":0},{"$f":"OTCHET!$F541","v":0},{"$f":"OTCHET!$G541","v":0},{"$f":"OTCHET!$H541","v":0},{"$f":"OTCHET!$I541","v":0},{"$f":"OTCHET!$J541","v":0},""]
[445,{"v":9300,"d":"93-00"},"Друго финансиране - нето(+/-)",null,{"$f":"OTCHET!$E544","v":0},{"$f":"OTCHET!$F544","v":{"v":3128,"d":"3,128"}},{"$f":"OTCHET!$G544","v":{"v":3329,"d":"3,329"}},{"$f":"OTCHET!$H544","v":0},{"$f":"OTCHET!$I544","v":-201},{"$f":"OTCHET!$J544","v":0},1]
[470,{"v":9500,"d":"95-00"},"Депозити и средства по сметки - нето (+/-)    (този параграф се използва и за наличностите на ЦБ в БНБ)",null,{"$f":"OTCHET!$E566","v":0},{"$f":"OTCHET!$F566","v":0},{"$f":"OTCHET!$G566","v":0},{"$f":"OTCHET!$H566","v":0},{"$f":"OTCHET!$I566","v":0},{"$f":"OTCHET!$J566","v":0},""]
[565,{"v":9600,"d":"96-00"},"Депозити и сметки консолидирани в системата на \"Единната сметка\"-нето (+/-)",null,{"$f":"OTCHET!$E586","v":0},{"$f":"OTCHET!$F586","v":0},{"$f":"OTCHET!$G586","v":0},{"$f":"OTCHET!$H586","v":0},{"$f":"OTCHET!$I586","v":0},{"$f":"OTCHET!$J586","v":0},""]
[575,{"v":9800,"d":"98-00"},"Касови операции, депозити, покупко-продажба на валута и сетълмент операции",null,{"$f":"OTCHET!$E591","v":0},{"$f":"OTCHET!$F591","v":0},{"$f":"OTCHET!$G591","v":{"v":109450,"d":"109,450"}},{"$f":"OTCHET!$H591","v":0},{"$f":"OTCHET!$I591","v":{"v":-109450,"d":"-109,450"}},{"$f":"OTCHET!$J591","v":0},""]
[610,null,"VI. ОБЩО ОПЕРАЦИИ С ФИНАНСОВИ АКТИВИ И ПАСИВИ",null,{"$f":"OTCHET!$E597","v":0},{"$f":"OTCHET!$F597","v":{"v":3128,"d":"3,128"}},{"$f":"OTCHET!$G597","v":{"v":112779,"d":"112,779"}},{"$f":"OTCHET!$H597","v":0},{"$f":"OTCHET!$I597","v":{"v":-109651,"d":"-109,651"}},{"$f":"OTCHET!$J597","v":0},1]
[{"$nulls":10},1]
[{"$nulls":10},1]
[{"$nulls":10},1]
[null,{"$f":"$B$7","v":"ОТЧЕТНИ ДАННИ ПО ЕБК ЗА ИЗПЪЛНЕНИЕТО НА БЮДЖЕТА"},{"$nulls":8},1]
[{"$nulls":4},"за периода от ","до",{"$nulls":4},1]
[null,{"$f":"$B$9","v":"РЕГИОНАЛНА ЗДРАВНА ИНСПЕКЦИЯ-БУРГАС"},null,null,{"$f":"$E$9","v":"2021-01-01"},{"$f":"$F$9","v":"2021-12-31"},{"$nulls":4},1]
[null,{"$f":"$B$10","v":"                                                            (наименование на разпоредителя с бюджет)"},{"$nulls":3},{"$f":"$F$10","v":0},{"$nulls":4},1]
[{"$nulls":10},1]
[null,{"$f":"$B$12","v":{"$error":"#N/A"}},null,null,"код :",{"$f":"$F$12","v":"0"},{"$nulls":4},1]
[null,{"$f":"$B$13","v":"                                             (наименование на първостепенния разпоредител с бюджет)"},null,null,"(по ЕБК)",{"$nulls":5},1]
[{"$nulls":10},1]
[{"$nulls":9},"(в лева)",1]
[null,"§§","РАЗПРЕДЕЛЕНИЕ НА РАЗХОДИТЕ ПО ФУНКЦИИ",null,"Уточнен план","Отчет",{"$nulls":4},1]
[{"$nulls":4},2017,"Общо","левови\nсметки ","валутни\nсметки ","Касови операции в лева и валута","Приравнени некасови операции",1]
[null,"I.","ОБЩИ ДЪРЖАВНИ СЛУЖБИ",null,{"$f":"SUMIF(OTCHET!L:L,1,OTCHET!E:E)","v":0},{"$f":"SUMIF(OTCHET!L:L,1,OTCHET!F:F)","v":0},{"$f":"SUMIF(OTCHET!L:L,1,OTCHET!G:G)","v":0},{"$f":"SUMIF(OTCHET!L:L,1,OTCHET!H:H)","v":0},{"$f":"SUMIF(OTCHET!L:L,1,OTCHET!I:I)","v":0},{"$f":"SUMIF(OTCHET!L:L,1,OTCHET!J:J)","v":0},1]
[null,"II.","ОТБРАНА И СИГУРНОСТ",null,{"$f":"SUMIF(OTCHET!L:L,2,OTCHET!E:E)","v":0},{"$f":"SUMIF(OTCHET!L:L,2,OTCHET!F:F)","v":0},{"$f":"SUMIF(OTCHET!L:L,2,OTCHET!G:G)","v":0},{"$f":"SUMIF(OTCHET!L:L,2,OTCHET!H:H)","v":0},{"$f":"SUMIF(OTCHET!L:L,2,OTCHET!I:I)","v":0},{"$f":"SUMIF(OTCHET!L:L,2,OTCHET!J:J)","v":0},1]
[null,"III.","ОБРАЗОВАНИЕ",null,{"$f":"SUMIF(OTCHET!L:L,3,OTCHET!E:E)","v":0},{"$f":"SUMIF(OTCHET!L:L,3,OTCHET!F:F)","v":0},{"$f":"SUMIF(OTCHET!L:L,3,OTCHET!G:G)","v":0},{"$f":"SUMIF(OTCHET!L:L,3,OTCHET!H:H)","v":0},{"$f":"SUMIF(OTCHET!L:L,3,OTCHET!I:I)","v":0},{"$f":"SUMIF(OTCHET!L:L,3,OTCHET!J:J)","v":0},1]
[null,"IV.","ЗДРАВЕОПАЗВАНЕ",null,{"$f":"SUMIF(OTCHET!L:L,4,OTCHET!E:E)","v":{"v":4521852,"d":"4,521,852"}},{"$f":"SUMIF(OTCHET!L:L,4,OTCHET!F:F)","v":{"v":4505976,"d":"4,505,976"}},{"$f":"SUMIF(OTCHET!L:L,4,OTCHET!G:G)","v":{"v":3425030,"d":"3,425,030"}},{"$f":"SUMIF(OTCHET!L:L,4,OTCHET!H:H)","v":0},{"$f":"SUMIF(OTCHET!L:L,4,OTCHET!I:I)","v":{"v":8281,"d":"8,281"}},{"$f":"SUMIF(OTCHET!L:L,4,OTCHET!J:J)","v":{"v":1072665,"d":"1,072,665"}},1]
[null,"V.","СОЦИАЛНО ОСИГУРЯВАНЕ, ПОДПОМАГАНЕ И ГРИЖИ",null,{"$f":"SUMIF(OTCHET!L:L,5,OTCHET!E:E)","v":0},{"$f":"SUMIF(OTCHET!L:L,5,OTCHET!F:F)","v":0},{"$f":"SUMIF(OTCHET!L:L,5,OTCHET!G:G)","v":0},{"$f":"SUMIF(OTCHET!L:L,5,OTCHET!H:H)","v":0},{"$f":"SUMIF(OTCHET!L:L,5,OTCHET!I:I)","v":0},{"$f":"SUMIF(OTCHET!L:L,5,OTCHET!J:J)","v":0},1]
[null,"VI.","ЖИЛИЩНО СТРОИТЕЛСТВО, БЛАГОУСТРОЙСТВО, КОМУНАЛНО СТОПАНСТВО И ОПАЗВАНЕ НА ОКОЛНАТА СРЕДА",null,{"$f":"SUMIF(OTCHET!L:L,6,OTCHET!E:E)","v":0},{"$f":"SUMIF(OTCHET!L:L,6,OTCHET!F:F)","v":0},{"$f":"SUMIF(OTCHET!L:L,6,OTCHET!G:G)","v":0},{"$f":"SUMIF(OTCHET!L:L,6,OTCHET!H:H)","v":0},{"$f":"SUMIF(OTCHET!L:L,6,OTCHET!I:I)","v":0},{"$f":"SUMIF(OTCHET!L:L,6,OTCHET!J:J)","v":0},1]
[null,"VII.","ПОЧИВНО ДЕЛО, КУЛТУРА, РЕЛИГИОЗНИ ДЕЙНОСТИ",null,{"$f":"SUMIF(OTCHET!L:L,7,OTCHET!E:E)","v":0},{"$f":"SUMIF(OTCHET!L:L,7,OTCHET!F:F)","v":0},{"$f":"SUMIF(OTCHET!L:L,7,OTCHET!G:G)","v":0},{"$f":"SUMIF(OTCHET!L:L,7,OTCHET!H:H)","v":0},{"$f":"SUMIF(OTCHET!L:L,7,OTCHET!I:I)","v":0},{"$f":"SUMIF(OTCHET!L:L,7,OTCHET!J:J)","v":0},1]
[null,"VIII.","ИКОНОМИЧЕСКИ ДЕЙНОСТИ И УСЛУГИ",null,{"$f":"SUMIF(OTCHET!L:L,8,OTCHET!E:E)","v":0},{"$f":"SUMIF(OTCHET!L:L,8,OTCHET!F:F)","v":0},{"$f":"SUMIF(OTCHET!L:L,8,OTCHET!G:G)","v":0},{"$f":"SUMIF(OTCHET!L:L,8,OTCHET!H:H)","v":0},{"$f":"SUMIF(OTCHET!L:L,8,OTCHET!I:I)","v":0},{"$f":"SUMIF(OTCHET!L:L,8,OTCHET!J:J)","v":0},1]
[null,"IX.","РАЗХОДИ НЕКЛАСИФИЦИРАНИ В ДРУГИТЕ ДЕЙНОСТИ",null,{"$f":"SUMIF(OTCHET!L:L,9,OTCHET!E:E)","v":0},{"$f":"SUMIF(OTCHET!L:L,9,OTCHET!F:F)","v":0},{"$f":"SUMIF(OTCHET!L:L,9,OTCHET!G:G)","v":0},{"$f":"SUMIF(OTCHET!L:L,9,OTCHET!H:H)","v":0},{"$f":"SUMIF(OTCHET!L:L,9,OTCHET!I:I)","v":0},{"$f":"SUMIF(OTCHET!L:L,9,OTCHET!J:J)","v":0},1]
[null,null,"ОБЩО РАЗХОДИ ПО ФУНКЦИИ",null,{"$f":"SUM(E200:E208)","v":{"v":4521852,"d":"4,521,852"}},{"v":4505976,"d":"4,505,976"},{"v":3425030,"d":"3,425,030"},0,{"v":8281,"d":"8,281"},{"v":1072665,"d":"1,072,665"},1]
{"$rows_empty":524}
[{"$nulls":6},{"$f":"(IF(E693<>0,$G$2,IF(F693<>0,$G$2,\"\")))","v":""}]

{"sheet":"OTCHET","index":3,"n_rows":3951,"n_cols":13,"rows_kept":3951,"merged":[[6,1,6,3],[8,1,8,3],[8,8,8,9],[9,8,11,9],[11,1,11,3],[21,2,21,3],[27,2,27,3],[32,2,32,3],[38,2,38,3],[173,1,173,3],[175,1,175,3],[178,1,178,3],[186,2,186,3],[189,2,189,3],[195,2,195,3],[203,2,203,3],[204,2,204,3],[222,2,222,3],[226,2,226,3],[232,2,232,3],[235,2,235,3],[236,2,236,3],[237,2,237,3],[238,2,238,3],[239,2,239,3],[254,2,254,3],[255,2,255,3],[256,2,256,3],[257,2,257,3],[264,2,264,3],[268,2,268,3],[269,2,269,3],[270,2,270,3],[271,2,271,3],[274,2,274,3],[275,2,275,3],[283,2,283,3],[286,2,286,3],[287,2,287,3],[292,2,292,3],[296,2,296,3],[305,1,305,3],[307,1,307,3],[310,1,310,3],[343,1,343,3],[347,1,347,3],[349,1,349,3],[352,1,352,3],[360,2,360,3],[374,2,374,3],[382,2,382,3],[387,2,387,3],[390,2,390,3],[395,2,395,3],[398,2,398,3],[401,2,401,3],[404,2,404,3],[405,2,405,3],[408,2,408,3],[411,2,411,3],[421,2,421,3],[422,2,422,3],[423,2,423,3],[424,2,424,3],[425,2,425,3],[432,1,432,3],[434,1,434,3],[437,1,437,3],[448,1,448,3],[450,1,450,3],[453,1,453,3],[460,2,460,3],[464,2,464,3],[467,2,467,3],[470,2,470,3],[477,2,477,3],[480,2,480,3],[496,2,496,3],[501,2,501,3],[502,2,502,3],[511,2,511,3],[515,2,515,3],[520,2,520,3],[523,2,523,3],[530,2,530,3],[534,2,534,3],[535,2,535,3],[540,2,540,3],[543,2,543,3],[565,2,565,3],[585,2,585,3],[590,2,590,3],[599,6,599,9],[600,6,600,9],[602,6,602,9],[603,1,603,2],[603,6,603,9],[604,1,604,2],[604,7,604,9],[606,7,606,9],[610,1,610,3],[612,1,612,3],[615,1,615,3],[626,2,626,3],[629,2,629,3],[635,2,635,3],[643,2,643,3],[644,2,644,3],[662,2,662,3],[666,2,666,3],[672,2,672,3],[675,2,675,3],[676,2,676,3],[677,2,677,3],[678,2,678,3],[679,2,679,3],[694,2,694,3],[695,2,695,3],[696,2,696,3],[697,2,697,3],[704,2,704,3],[708,2,708,3],[709,2,709,3],[710,2,710,3],[711,2,711,3],[714,2,714,3],[715,2,715,3],[723,2,723,3],[726,2,726,3],[727,2,727,3],[732,2,732,3],[737,2,737,3],[745,1,745,3],[747,1,747,3],[750,1,750,3],[782,1,782,3],[786,1,786,3],[788,1,788,3],[791,1,791,3],[802,2,802,3],[805,2,805,3],[811,2,811,3],[819,2,819,3],[820,2,820,3],[838,2,838,3],[842,2,842,3],[848,2,848,3],[851,2,851,3],[852,2,852,3],[853,2,853,3],[854,2,854,3],[855,2,855,3],[870,2,870,3],[871,2,871,3],[872,2,872,3],[873,2,873,3],[880,2,880,3],[884,2,884,3],[885,2,885,3],[886,2,886,3],[887,2,887,3],[890,2,890,3],[891,2,891,3],[899,2,899,3],[902,2,902,3],[903,2,903,3],[908,2,908,3],[913,2,913,3],[921,1,921,3],[923,1,923,3],[926,1,926,3],[958,1,958,3],[962,1,962,3],[964,1,964,3],[967,1,967,3],[978,2,978,3],[981,2,981,3],[987,2,987,3],[995,2,995,3],[996,2,996,3],[1014,2,1014,3],[1018,2,1018,3],[1024,2,1024,3],[1027,2,1027,3],[1028,2,1028,3],[1029,2,1029,3],[1030,2,1030,3],[1031,2,1031,3],[1046,2,1046,3],[1047,2,1047,3],[1048,2,1048,3],[1049,2,1049,3],[1056,2,1056,3],[1060,2,1060,3],[1061,2,1061,3],[1062,2,1062,3],[1063,2,1063,3],[1066,2,1066,3],[1067,2,1067,3],[1075,2,1075,3],[1078,2,1078,3],[1079,2,1079,3],[1084,2,1084,3],[1089,2,1089,3],[1097,1,1097,3],[1099,1,1099,3],[1102,1,1102,3],[1134,1,1134,3],[1138,1,1138,3],[1140,1,1140,3],[1143,1,1143,3],[1154,2,1154,3],[1157,2,1157,3],[1163,2,1163,3],[1171,2,1171,3],[1172,2,1172,3],[1190,2,1190,3],[1194,2,1194,3],[1200,2,1200,3],[1203,2,1203,3],[1204,2,1204,3],[1205,2,1205,3],[1206,2,1206,3],[1207,2,1207,3],[1222,2,1222,3],[1223,2,1223,3],[1224,2,1224,3],[1225,2,1225,3],[1232,2,1232,3],[1236,2,1236,3],[1237,2,1237,3],[1238,2,1238,3],[1239,2,1239,3],[1242,2,1242,3],[1243,2,1243,3],[1251,2,1251,3],[1254,2,1254,3],[1255,2,1255,3],[1260,2,1260,3],[1265,2,1265,3],[1273,1,1273,3],[1275,1,1275,3],[1278,1,1278,3],[1310,1,1310,3],[1314,1,1314,3],[1316,1,1316,3],[1319,1,1319,3],[1330,2,1330,3],[1333,2,1333,3],[1339,2,1339,3],[1347,2,1347,3],[1348,2,1348,3],[1366,2,1366,3],[1370,2,1370,3],[1376,2,1376,3],[1379,2,1379,3],[1380,2,1380,3],[1381,2,1381,3],[1382,2,1382,3],[1383,2,1383,3],[1398,2,1398,3],[1399,2,1399,3],[1400,2,1400,3],[1401,2,1401,3],[1408,2,1408,3],[1412,2,1412,3],[1413,2,1413,3],[1414,2,1414,3],[1415,2,1415,3],[1418,2,1418,3],[1419,2,1419,3],[1427,2,1427,3],[1430,2,1430,3],[1431,2,1431,3],[1436,2,1436,3],[1441,2,1441,3],[1449,1,1449,3],[1451,1,1451,3],[1454,1,1454,3],[1486,1,1486,3],[1490,1,1490,3],[1492,1,1492,3],[1495,1,1495,3],[1506,2,1506,3],[1509,2,1509,3],[1515,2,1515,3],[1523,2,1523,3],[1524,2,1524,3],[1542,2,1542,3],[1546,2,1546,3],[1552,2,1552,3],[1555,2,1555,3],[1556,2,1556,3],[1557,2,1557,3],[1558,2,1558,3],[1559,2,1559,3],[1574,2,1574,3],[1575,2,1575,3],[1576,2,1576,3],[1577,2,1577,3],[1584,2,1584,3],[1588,2,1588,3],[1589,2,1589,3],[1590,2,1590,3],[1591,2,1591,3],[1594,2,1594,3],[1595,2,1595,3],[1603,2,1603,3],[1606,2,1606,3],[1607,2,1607,3],[1612,2,1612,3],[1617,2,1617,3],[1625,1,1625,3],[1627,1,1627,3],[1630,1,1630,3],[1662,1,1662,3],[1666,1,1666,3],[1668,1,1668,3],[1671,1,1671,3],[1682,2,1682,3],[1685,2,1685,3],[1691,2,1691,3],[1699,2,1699,3],[1700,2,1700,3],[1718,2,1718,3],[1722,2,1722,3],[1728,2,1728,3],[1731,2,1731,3],[1732,2,1732,3],[1733,2,1733,3],[1734,2,1734,3],[1735,2,1735,3],[1750,2,1750,3],[1751,2,1751,3],[1752,2,1752,3],[1753,2,1753,3],[1760,2,1760,3],[1764,2,1764,3],[1765,2,1765,3],[1766,2,1766,3],[1767,2,1767,3],[1770,2,1770,3],[1771,2,1771,3],[1779,2,1779,3],[1782,2,1782,3],[1783,2,1783,3],[1788,2,1788,3],[1793,2,1793,3],[1801,1,1801,3],[1803,1,1803,3],[1806,1,1806,3],[1838,1,1838,3],[1842,1,1842,3],[1844,1,1844,3],[1847,1,1847,3],[1858,2,1858,3],[1861,2,1861,3],[1867,2,1867,3],[1875,2,1875,3],[1876,2,1876,3],[1894,2,1894,3],[1898,2,1898,3],[1904,2,1904,3],[1907,2,1907,3],[1908,2,1908,3],[1909,2,1909,3],[1910,2,1910,3],[1911,2,1911,3],[1926,2,1926,3],[1927,2,1927,3],[1928,2,1928,3],[1929,2,1929,3],[1936,2,1936,3],[1940,2,1940,3],[1941,2,1941,3],[1942,2,1942,3],[1943,2,1943,3],[1946,2,1946,3],[1947,2,1947,3],[1955,2,1955,3],[1958,2,1958,3],[1959,2,1959,3],[1964,2,1964,3],[1969,2,1969,3],[1977,1,1977,3],[1979,1,1979,3],[1982,1,1982,3],[2014,1,2014,3],[2018,1,2018,3],[2020,1,2020,3],[2023,1,2023,3],[2034,2,2034,3],[2037,2,2037,3],[2043,2,2043,3],[2051,2,2051,3],[2052,2,2052,3],[2070,2,2070,3],[2074,2,2074,3],[2080,2,2080,3],[2083,2,2083,3],[2084,2,2084,3],[2085,2,2085,3],[2086,2,2086,3],[2087,2,2087,3],[2102,2,2102,3],[2103,2,2103,3],[2104,2,2104,3],[2105,2,2105,3],[2112,2,2112,3],[2116,2,2116,3],[2117,2,2117,3],[2118,2,2118,3],[2119,2,2119,3],[2122,2,2122,3],[2123,2,2123,3],[2131,2,2131,3],[2134,2,2134,3],[2135,2,2135,3],[2140,2,2140,3],[2145,2,2145,3],[2153,1,2153,3],[2155,1,2155,3],[2158,1,2158,3],[2190,1,2190,3],[2194,1,2194,3],[2196,1,2196,3],[2199,1,2199,3],[2210,2,2210,3],[2213,2,2213,3],[2219,2,2219,3],[2227,2,2227,3],[2228,2,2228,3],[2246,2,2246,3],[2250,2,2250,3],[2256,2,2256,3],[2259,2,2259,3],[2260,2,2260,3],[2261,2,2261,3],[2262,2,2262,3],[2263,2,2263,3],[2278,2,2278,3],[2279,2,2279,3],[2280,2,2280,3],[2281,2,2281,3],[2288,2,2288,3],[2292,2,2292,3],[2293,2,2293,3],[2294,2,2294,3],[2295,2,2295,3],[2298,2,2298,3],[2299,2,2299,3],[2307,2,2307,3],[2310,2,2310,3],[2311,2,2311,3],[2316,2,2316,3],[2321,2,2321,3],[2329,1,2329,3],[2331,1,2331,3],[2334,1,2334,3],[2366,1,2366,3],[2370,1,2370,3],[2372,1,2372,3],[2375,1,2375,3],[2386,2,2386,3],[2389,2,2389,3],[2395,2,2395,3],[2403,2,2403,3],[2404,2,2404,3],[2422,2,2422,3],[2426,2,2426,3],[2432,2,2432,3],[2435,2,2435,3],[2436,2,2436,3],[2437,2,2437,3],[2438,2,2438,3],[2439,2,2439,3],[2454,2,2454,3],[2455,2,2455,3],[2456,2,2456,3],[2457,2,2457,3],[2464,2,2464,3],[2468,2,2468,3],[2469,2,2469,3],[2470,2,2470,3],[2471,2,2471,3],[2474,2,2474,3],[2475,2,2475,3],[2483,2,2483,3],[2486,2,2486,3],[2487,2,2487,3],[2492,2,2492,3],[2497,2,2497,3],[2505,1,2505,3],[2507,1,2507,3],[2510,1,2510,3],[2542,1,2542,3],[2546,1,2546,3],[2548,1,2548,3],[2551,1,2551,3],[2562,2,2562,3],[2565,2,2565,3],[2571,2,2571,3],[2579,2,2579,3],[2580,2,2580,3],[2598,2,2598,3],[2602,2,2602,3],[2608,2,2608,3],[2611,2,2611,3],[2612,2,2612,3],[2613,2,2613,3],[2614,2,2614,3],[2615,2,2615,3],[2630,2,2630,3],[2631,2,2631,3],[2632,2,2632,3],[2633,2,2633,3],[2640,2,2640,3],[2644,2,2644,3],[2645,2,2645,3],[2646,2,2646,3],[2647,2,2647,3],[2650,2,2650,3],[2651,2,2651,3],[2659,2,2659,3],[2662,2,2662,3],[2663,2,2663,3],[2668,2,2668,3],[2673,2,2673,3],[2681,1,2681,3],[2683,1,2683,3],[2686,1,2686,3],[2718,1,2718,3],[2722,1,2722,3],[2724,1,2724,3],[2727,1,2727,3],[2738,2,2738,3],[2741,2,2741,3],[2747,2,2747,3],[2755,2,2755,3],[2756,2,2756,3],[2774,2,2774,3],[2778,2,2778,3],[2784,2,2784,3],[2787,2,2787,3],[2788,2,2788,3],[2789,2,2789,3],[2790,2,2790,3],[2791,2,2791,3],[2806,2,2806,3],[2807,2,2807,3],[2808,2,2808,3],[2809,2,2809,3],[2816,2,2816,3],[2820,2,2820,3],[2821,2,2821,3],[2822,2,2822,3],[2823,2,2823,3],[2826,2,2826,3],[2827,2,2827,3],[2835,2,2835,3],[2838,2,2838,3],[2839,2,2839,3],[2844,2,2844,3],[2849,2,2849,3],[2857,1,2857,3],[2859,1,2859,3],[2862,1,2862,3],[2894,1,2894,3],[2898,1,2898,3],[2900,1,2900,3],[2903,1,2903,3],[2914,2,2914,3],[2917,2,2917,3],[2923,2,2923,3],[2931,2,2931,3],[2932,2,2932,3],[2950,2,2950,3],[2954,2,2954,3],[2960,2,2960,3],[2963,2,2963,3],[2964,2,2964,3],[2965,2,2965,3],[2966,2,2966,3],[2967,2,2967,3],[2982,2,2982,3],[2983,2,2983,3],[2984,2,2984,3],[2985,2,2985,3],[2992,2,2992,3],[2996,2,2996,3],[2997,2,2997,3],[2998,2,2998,3],[2999,2,2999,3],[3002,2,3002,3],[3003,2,3003,3],[3011,2,3011,3],[3014,2,3014,3],[3015,2,3015,3],[3020,2,3020,3],[3025,2,3025,3],[3033,1,3033,3],[3035,1,3035,3],[3038,1,3038,3],[3070,1,3070,3],[3074,1,3074,3],[3076,1,3076,3],[3079,1,3079,3],[3090,2,3090,3],[3093,2,3093,3],[3099,2,3099,3],[3107,2,3107,3],[3108,2,3108,3],[3126,2,3126,3],[3130,2,3130,3],[3136,2,3136,3],[3139,2,3139,3],[3140,2,3140,3],[3141,2,3141,3],[3142,2,3142,3],[3143,2,3143,3],[3158,2,3158,3],[3159,2,3159,3],[3160,2,3160,3],[3161,2,3161,3],[3168,2,3168,3],[3172,2,3172,3],[3173,2,3173,3],[3174,2,3174,3],[3175,2,3175,3],[3178,2,3178,3],[3179,2,3179,3],[3187,2,3187,3],[3190,2,3190,3],[3191,2,3191,3],[3196,2,3196,3],[3201,2,3201,3],[3209,1,3209,3],[3211,1,3211,3],[3214,1,3214,3],[3246,1,3246,3],[3250,1,3250,3],[3252,1,3252,3],[3255,1,3255,3],[3266,2,3266,3],[3269,2,3269,3],[3275,2,3275,3],[3283,2,3283,3],[3284,2,3284,3],[3302,2,3302,3],[3306,2,3306,3],[3312,2,3312,3],[3315,2,3315,3],[3316,2,3316,3],[3317,2,3317,3],[3318,2,3318,3],[3319,2,3319,3],[3334,2,3334,3],[3335,2,3335,3],[3336,2,3336,3],[3337,2,3337,3],[3344,2,3344,3],[3348,2,3348,3],[3349,2,3349,3],[3350,2,3350,3],[3351,2,3351,3],[3354,2,3354,3],[3355,2,3355,3],[3363,2,3363,3],[3366,2,3366,3],[3367,2,3367,3],[3372,2,3372,3],[3377,2,3377,3],[3385,1,3385,3],[3387,1,3387,3],[3390,1,3390,3],[3422,1,3422,3],[3426,1,3426,3],[3428,1,3428,3],[3431,1,3431,3],[3442,2,3442,3],[3445,2,3445,3],[3451,2,3451,3],[3459,2,3459,3],[3460,2,3460,3],[3478,2,3478,3],[3482,2,3482,3],[3488,2,3488,3],[3491,2,3491,3],[3492,2,3492,3],[3493,2,3493,3],[3494,2,3494,3],[3495,2,3495,3],[3510,2,3510,3],[3511,2,3511,3],[3512,2,3512,3],[3513,2,3513,3],[3520,2,3520,3],[3524,2,3524,3],[3525,2,3525,3],[3526,2,3526,3],[3527,2,3527,3],[3530,2,3530,3],[3531,2,3531,3],[3539,2,3539,3],[3542,2,3542,3],[3543,2,3543,3],[3548,2,3548,3],[3553,2,3553,3],[3561,1,3561,3],[3563,1,3563,3],[3566,1,3566,3],[3598,1,3598,3],[3602,1,3602,3],[3604,1,3604,3],[3607,1,3607,3],[3618,2,3618,3],[3621,2,3621,3],[3627,2,3627,3],[3635,2,3635,3],[3636,2,3636,3],[3654,2,3654,3],[3658,2,3658,3],[3664,2,3664,3],[3667,2,3667,3],[3668,2,3668,3],[3669,2,3669,3],[3670,2,3670,3],[3671,2,3671,3],[3686,2,3686,3],[3687,2,3687,3],[3688,2,3688,3],[3689,2,3689,3],[3696,2,3696,3],[3700,2,3700,3],[3701,2,3701,3],[3702,2,3702,3],[3703,2,3703,3],[3706,2,3706,3],[3707,2,3707,3],[3715,2,3715,3],[3718,2,3718,3],[3719,2,3719,3],[3724,2,3724,3],[3729,2,3729,3],[3737,1,3737,3],[3739,1,3739,3],[3742,1,3742,3],[3774,1,3774,3],[3778,1,3778,3],[3780,1,3780,3],[3783,1,3783,3],[3794,2,3794,3],[3797,2,3797,3],[3803,2,3803,3],[3811,2,3811,3],[3812,2,3812,3],[3830,2,3830,3],[3834,2,3834,3],[3840,2,3840,3],[3843,2,3843,3],[3844,2,3844,3],[3845,2,3845,3],[3846,2,3846,3],[3847,2,3847,3],[3862,2,3862,3],[3863,2,3863,3],[3864,2,3864,3],[3865,2,3865,3],[3872,2,3872,3],[3876,2,3876,3],[3877,2,3877,3],[3878,2,3878,3],[3879,2,3879,3],[3882,2,3882,3],[3883,2,3883,3],[3891,2,3891,3],[3894,2,3894,3],[3895,2,3895,3],[3900,2,3900,3],[3905,2,3905,3],[3913,1,3913,3],[3915,1,3915,3],[3918,1,3918,3],[3950,1,3950,3]]}
["a","Бланка версия 1.01 от 2019г.","c","d","e","f","f","f","f","f","endprint"]
[2,{"$nulls":9},1]
[null,"година",{"$f":"YEAR(F9)","v":2021},{"$nulls":7},1]
[{"$nulls":10},1]
[{"$nulls":4}," "," "," "," "," "," ",1]
[{"$nulls":5}," "," "," "," "," ",1]
[null,{"$f":"VLOOKUP(E15,SMETKA,2,FALSE)","v":"ОТЧЕТНИ ДАННИ ПО ЕБК ЗА ИЗПЪЛНЕНИЕТО НА БЮДЖЕТА"},{"$nulls":8},1]
[{"$nulls":4},"за периода        от ","до",null,"ЕИК/БУЛСТАТ",null,null,1]
[null,"РЕГИОНАЛНА ЗДРАВНА ИНСПЕКЦИЯ-БУРГАС",null,null,"2021-01-01","2021-12-31",{"$nulls":4},1]
[null,"                                                            (наименование на разпоредителя с бюджет)",{"$nulls":6},"код от регистъра на бюджетните организации в СЕБРА",null,1]
[{"$nulls":10},1]
[null,{"$f":"VLOOKUP(F12,PRBK,2,FALSE)","v":{"$error":"#N/A"}},null,null,"код по ЕБК:","0",{"$nulls":4},1]
[null,"                                             (наименование на първостепенния разпоредител с бюджет)",{"$nulls":8},1]
[{"$nulls":10},1]
[{"$nulls":3},"ФИНАНСОВО-ПРАВНА ФОРМА",0,{"$f":"+IF(+E15=0,\"БЮДЖЕТ\",+IF(+E15=98,\"СЕС - КСФ\",+IF(+E15=42,\"СЕС - РА\",+IF(+E15=96,\"СЕС - ДЕС\",+IF(+E15=97,\"СЕС - ДМП\",+IF(+E15=33,\"Чужди средства\"))))))","v":"БЮДЖЕТ"},{"$nulls":4},1]
[{"$nulls":10},1]
[{"$nulls":10},1]
[{"$nulls":9},"(в лева)",1]
[{"$nulls":3},"I. П Р И Х О Д И,  П О М О Щ И   И   Д А Р Е Н И Я","Уточнен план","                                                                                                                              О Т Ч Е Т Н И   Д А Н Н И",{"$nulls":4},1]
[null,"§§","под-§§","Н А И М Е Н О В А Н И Е",{"$f":"$C$3","v":2021},"ОБЩО","левови\n сметки и СЕБРА ","валутни \nсметки ","операции в брой (в левове и валута)","операции приравнени на касов поток",1]
[{"$nulls":3}," 0 1 ¦","(1)","(2)","(3)","(4)","(5)","(6)",1]
[5,{"v":100,"d":"01-00"},"Данък върху доходите на физически лица:",null,{"$f":"SUM(E23:E27)","v":0},0,0,0,0,0,{"$f":"(IF($E22<>0,$K$2,IF($F22<>0,$K$2,IF($G22<>0,$K$2,IF($H22<>0,$K$2,IF($I22<>0,$K$2,IF($J22<>0,$K$2,\"\")))))))","v":""}]
[10,null,{"v":101,"d":"01-01"},"за доходи по трудови, служебни и приравнени на тях правоотношения",0,{"$f":"G23+H23+I23+J23","v":0},0,{"$nulls":3},""]
[15,null,{"v":102,"d":"01-02"},"за доходи на  еднолични търговци, свободни професии, извънтрудови правоотношения и др.",0,{"$f":"G24+H24+I24+J24","v":0},0,{"$nulls":3},""]
[20,null,{"v":103,"d":"01-03"},"патентен данък и данък върху таксиметров превоз на пътници",null,{"$f":"G25+H25+I25+J25","v":0},{"$nulls":4},""]
[20,null,{"v":108,"d":"01-08"},"окончателен данък върху доходите от лихви по банкови сметки на местните физически лица",0,{"$f":"G26+H26+I26+J26","v":0},0,{"$nulls":3},""]
[21,null,{"v":109,"d":"01-09"},"окончателен данък  върху доходи на местни и чуждестранни физически лица по чл. 37 и 38 от ЗДДФЛ",0,{"$f":"G27+H27+I27+J27","v":0},0,{"$nulls":3},""]
[25,{"v":200,"d":"02-00"},"Корпоративен данък:",null,{"$f":"SUM(E29:E32)","v":0},0,0,0,0,0,""]
[30,null,{"v":201,"d":"02-01"},"корпоративен данък от нефинансови предприятия",0,{"$f":"G29+H29+I29+J29","v":0},0,{"$nulls":3},""]
[35,null,{"v":202,"d":"02-02"},"корпоративен данък от финансови институции",0,{"$f":"G30+H30+I30+J30","v":0},0,{"$nulls":3},""]
[40,null,{"v":203,"d":"02-03"},"корпоративен данък от юридически лица с нестопанска цел",0,{"$f":"G31+H31+I31+J31","v":0},0,{"$nulls":3},""]
[45,null,{"v":204,"d":"02-04"},"корпоративен данък от застрахователни дружества",0,{"$f":"G32+H32+I32+J32","v":0},0,{"$nulls":3},""]
[50,{"v":400,"d":"04-00"},"Данъци върху дивидентите, ликвидационните дялове и доходите на местни и чуждестранни лица:",null,{"$f":"SUM(E34:E38)","v":0},0,0,0,0,0,""]
[55,null,{"v":401,"d":"04-01"},"данък върху дивидентите и ликвидационните дялове на местни юридически лица",0,{"$f":"G34+H34+I34+J34","v":0},0,{"$nulls":3},""]
[56,null,{"v":402,"d":"04-02"},"данък върху дивидентите и ликвидационните дялове на бюджетни предприятия",0,{"$f":"G35+H35+I35+J35","v":0},0,{"$nulls":3},""]
[57,null,{"v":403,"d":"04-03"},"данък върху дивидентите и ликвидационните дялове на чуждестрани юридически лица",0,{"$f":"G36+H36+I36+J36","v":0},0,{"$nulls":3},""]
[58,null,{"v":404,"d":"04-04"},"данък при източника върху доходи на чуждестранни юридически лица",0,{"$f":"G37+H37+I37+J37","v":0},0,{"$nulls":3},""]
[59,null,{"v":411,"d":"04-11"},"данък върху дивидентите и ликвидационните дялове на физически лица",0,{"$f":"G38+H38+I38+J38","v":0},0,{"$nulls":3},""]
[65,{"v":800,"d":"08-00"},"Осигурителни вноски",null,{"$f":"SUM(E40:E46)","v":0},0,0,0,0,0,""]
[70,null,{"v":801,"d":"08-01"},"вноски за работници и служители от работодатели",0,{"$f":"G40+H40+I40+J40","v":0},0,{"$nulls":3},""]
[75,null,{"v":802,"d":"08-02"},"вноски от работници и служители (лична вноска) ",0,0,0,0,0,0,""]
[80,null,{"v":804,"d":"08-04"},"вноски от самонаети лица (самоосигуряващи се лица) ",0,0,0,{"$nulls":3},""]
[85,null,{"v":809,"d":"08-09"},"вноски  за други категории осигурени лица",0,0,0,{"$nulls":3},""]
[85,null,{"v":811,"d":"08-11"},"вноски по чл. 4б и 4в от КСО за сметка на осигурителя",0,0,0,{"$nulls":3},""]
[85,null,{"v":812,"d":"08-12"},"вноски по чл. 4б от КСО за сметка на осигурените лица",0,0,0,{"$nulls":3},""]
[85,null,{"v":814,"d":"08-14"},"вноски по чл. 4б от КСО от самонаети лица (самоосигуряващи се лица) ",0,0,0,{"$nulls":3},""]
[95,{"v":1000,"d":"10-00"},"Здравно-осигурителни вноски",null,{"$f":"SUM(E48:E51)","v":0},0,0,0,0,0,""]
[100,null,{"v":1001,"d":"10-01"},"здравно-осигурителни вноски за работници и служители от работодатели",0,{"$f":"G48+H48+I48+J48","v":0},0,{"$nulls":3},""]
[105,null,{"v":1002,"d":"10-02"},"здравно-осигурителни вноски от работници и служители (лична вноска) ",0,{"$f":"G49+H49+I49+J49","v":0},0,{"$nulls":3},""]
[110,null,{"v":1004,"d":"10-04"},"здравно-осигурителни вноски от самонаети (самоосигуряващи се лица) ",0,{"$f":"G50+H50+I50+J50","v":0},0,{"$nulls":3},""]
[125,null,{"v":1007,"d":"10-07"},"здравно-осигур.вноски  за други категории осигурени лица",0,{"$f":"G51+H51+I51+J51","v":0},0,{"$nulls":3},""]
[130,{"v":1300,"d":"13-00"},"Имуществени и други местни данъци :",null,{"$f":"SUM(E53:E57)","v":0},0,0,0,0,0,""]
[135,null,{"v":1301,"d":"13-01"},"данък върху недвижими имоти",0,{"$f":"G53+H53+I53+J53","v":0},0,{"$nulls":3},""]
[140,null,{"v":1302,"d":"13-02"},"данък върху наследствата",0,{"$f":"G54+H54+I54+J54","v":0},0,{"$nulls":3},""]
[145,null,{"v":1303,"d":"13-03"},"данък върху превозните средства",0,{"$f":"G55+H55+I55+J55","v":0},0,{"$nulls":3},""]
[null,null,{"v":1304,"d":"13-04"},"данък при придобиване на имущество по дарения и възмезден начин",0,{"$f":"G56+H56+I56+J56","v":0},0,{"$nulls":3},""]
[150,null,{"v":1308,"d":"13-08"},"туристически данък",0,{"$f":"G57+H57+I57+J57","v":0},0,{"$nulls":3},""]
[160,{"v":1400,"d":"14-00"},"Данък върху добавената стойност",null,{"$f":"SUM(E59:E60)","v":0},0,0,0,0,0,""]
[165,null,{"v":1401,"d":"14-01"},"данък върху добавената стойност при сделки в страната",0,{"$f":"G59+H59+I59+J59","v":0},0,{"$nulls":3},""]
[170,null,{"v":1402,"d":"14-02"},"данък върху добавената стойност при внос",0,{"$f":"G60+H60+I60+J60","v":0},0,{"$nulls":3},""]
[175,{"v":1500,"d":"15-00"},"Акцизи ",null,{"$f":"SUM(E62:E63)","v":0},0,0,0,0,0,""]
[180,null,{"v":1501,"d":"15-01"},"акциз при сделки в страната",0,{"$f":"G62+H62+I62+J62","v":0},0,{"$nulls":3},""]
[185,null,{"v":1502,"d":"15-02"},"акциз при внос",0,{"$f":"G63+H63+I63+J63","v":0},0,{"$nulls":3},""]
[null,{"v":1600,"d":"16-00"},"Данък върху застрахователните премии",null,null,{"$f":"G64+H64+I64+J64","v":0},{"$nulls":4},""]
[200,{"v":1700,"d":"17-00"},"Други данъци по Закона за корпоративното подоходно облагане:",null,{"$f":"SUM(E66:E71)","v":0},0,0,0,0,0,""]
[205,null,{"v":1701,"d":"17-01"},"данък върху представителните разходи",0,{"$f":"G66+H66+I66+J66","v":0},0,{"$nulls":3},""]
[210,null,{"v":1702,"d":"17-02"},"данък върху разходи, предоставяни в натура",0,0,0,{"$nulls":3},""]
[215,null,{"v":1703,"d":"17-03"},"данък върху разходите за превозни средства",0,0,0,{"$nulls":3},""]
[225,null,{"v":1706,"d":"17-06"},"данък върху хазартната дейност",0,0,0,{"$nulls":3},""]
[226,null,{"v":1707,"d":"17-07"},"данък върху дейността от опериране на кораби",0,0,0,{"$nulls":3},""]
[227,null,{"v":1709,"d":"17-09"},"данък върху приходите на бюджетните предприятия",null,0,{"$nulls":4},""]
[235,{"v":1900,"d":"19-00"},"Мита и митнически такси:",null,null,0,{"$nulls":4},""]
[255,{"v":2000,"d":"20-00"},"Други данъци",null,null,0,{"$nulls":4},""]
[265,{"v":2400,"d":"24-00"},"Приходи и доходи от собственост",null,{"$f":"SUM(E75:E89)","v":0},{"v":1383,"d":"1,383"},{"v":1383,"d":"1,383"},0,0,0,1]
[270,null,{"v":2401,"d":"24-01"},"вноски от приходи на държавни (общински) предприятия и институции",0,{"$f":"G75+H75+I75+J75","v":0},0,{"$nulls":3},""]
[280,null,{"v":2403,"d":"24-03"},"превишение на приходите над разходите на БНБ",0,0,0,{"$nulls":3},""]
[285,null,{"v":2404,"d":"24-04"},"нетни приходи от продажби на услуги, стоки и продукция",0,0,0,0,0,0,""]
[290,null,{"v":2405,"d":"24-05"},"приходи от наеми на имущество",0,{"v":1383,"d":"1,383"},{"v":1383,"d":"1,383"},0,0,0,1]
[295,null,{"v":2406,"d":"24-06"},"приходи от наеми на земя",0,0,0,0,0,0,""]
[300,null,{"v":2407,"d":"24-07"},"приходи от дивиденти",0,0,0,{"$nulls":3},""]
[305,null,{"v":2408,"d":"24-08"},"приходи от лихви по текущи банкови сметки",0,0,0,0,0,0,""]
[310,null,{"v":2409,"d":"24-09"},"приходи от лихви по срочни депозити",0,0,0,{"$nulls":3},""]
[315,null,{"v":2410,"d":"24-10"},"приходи от лихви по предоставени заеми в страната и чужбина",0,0,0,{"$nulls":3},""]
[325,null,{"v":2412,"d":"24-12"},"приходи от лихви от предприятия по преоформен държавен дълг",0,0,0,{"$nulls":3},""]
[330,null,{"v":2413,"d":"24-13"},"приходи от лихви и отстъпки от държавни и общински ценни книжа",0,0,0,{"$nulls":3},""]
[335,null,{"v":2415,"d":"24-15"},"приходи от лихви и отстъпки от дългови ценни книжа на местни и чуждестранни лица",0,0,0,{"$nulls":3},""]
[340,null,{"v":2417,"d":"24-17"},"приходи от лихви по заеми, предоставени на бюджетни организации",null,{"$f":"G87+H87+I87+J87","v":0},{"$nulls":4},""]
[340,null,{"v":2418,"d":"24-18"},"лихви по срочни депозити за сметка на централния бюджет (+/-)",0,0,0,{"$nulls":3},""]
[345,null,{"v":2419,"d":"24-19"},"приходи от други лихви",0,0,0,{"$nulls":3},{"$f":"(IF($E89<>0,$K$2,IF($F89<>0,$K$2,IF($G89<>0,$K$2,IF($H89<>0,$K$2,IF($I89<>0,$K$2,IF($J89<>0,$K$2,\"\")))))))","v":""}]
[350,{"v":2500,"d":"25-00"},"Държавни такси",null,{"$f":"SUM(E91:E92)","v":{"v":280000,"d":"280,000"}},{"v":202525,"d":"202,525"},{"v":89653,"d":"89,653"},0,{"v":112872,"d":"112,872"},0,1]
[355,null,{"v":2501,"d":"25-01"},"такси за административни и други услуги и дейности",{"v":280000,"d":"280,000"},{"$f":"G91+H91+I91+J91","v":{"v":202525,"d":"202,525"}},{"v":89653,"d":"89,653"},0,{"v":112872,"d":"112,872"},0,1]
[356,null,{"v":2502,"d":"25-02"},"такси и лицензии с данъчен характер",0,{"$f":"G92+H92+I92+J92","v":0},0,{"$nulls":3},""]
[360,{"v":2600,"d":"26-00"},"Съдебни такси",null,null,{"$f":"G93+H93+I93+J93","v":0},{"$nulls":4},""]
[370,{"v":2700,"d":"27-00"},"Общински такси",null,{"$f":"SUM(E95:E107)","v":0},0,0,0,0,0,""]
[375,null,{"v":2701,"d":"27-01"},"за ползване на детски градини",0,{"$f":"G95+H95+I95+J95","v":0},0,{"$nulls":3},""]
[380,null,"27-02","за ползване на детски ясли и други по здравеопазването",0,0,0,{"$nulls":3},""]
[385,null,"27-03","за ползване на лагери и други по социалния отдих",0,0,0,{"$nulls":3},""]
[390,null,{"v":2704,"d":"27-04"},"за ползване на домашен социален патронаж и други общински социални услуги",0,0,0,{"$nulls":3},""]
[395,null,"27-05","за ползване на пазари, тържища, панаири, тротоари, улични платна и др.",0,0,0,{"$nulls":3},""]
[400,null,{"v":2706,"d":"27-06"},"за ползване на полудневни детски градини",0,0,0,{"$nulls":3},""]
[405,null,"27-07","за битови отпадъци",0,0,0,{"$nulls":3},""]
[410,null,"27-08","за ползване на общежития и други по образованието",0,0,0,{"$nulls":3},""]
[420,null,"27-10","за технически услуги",0,0,0,{"$nulls":3},""]
[425,null,"27-11","за административни услуги",0,0,0,{"$nulls":3},""]
[430,null,"27-15","за откупуване на гробни места",0,0,0,{"$nulls":3},""]
[436,null,"27-17","за притежаване на куче",0,0,0,{"$nulls":3},""]
[440,null,"27-29","други общински такси",0,0,0,{"$nulls":3},""]
[445,{"v":2800,"d":"28-00"},"Глоби, санкции и наказателни лихви",null,{"$f":"+E109+E110+E111","v":{"v":50000,"d":"50,000"}},{"$f":"+F109+F110+F111","v":{"v":31836,"d":"31,836"}},{"$f":"+G109+G110+G111","v":{"v":27136,"d":"27,136"}},{"$f":"SUM(H109:H111)","v":0},{"$f":"+I109+I110+I111","v":{"v":4700,"d":"4,700"}},{"$f":"SUM(J109:J111)","v":0},1]
[450,null,{"v":2801,"d":"28-01"},"конфискувани средства и приходи от продажби на конфискувани и придобити от залог вещи",0,{"$f":"G109+H109+I109+J109","v":0},0,{"$nulls":3},""]
[455,null,{"v":2802,"d":"28-02"},"глоби, санкции, неустойки, наказателни лихви, обезщетения и начети",{"v":50000,"d":"50,000"},{"$f":"G110+H110+I110+J110","v":{"v":31836,"d":"31,836"}},{"v":27136,"d":"27,136"},0,{"v":4700,"d":"4,700"},0,1]
[455,null,{"v":2809,"d":"28-09"},"наказателни лихви за данъци, мита и осигурителни вноски",0,{"$f":"G111+H111+I111+J111","v":0},0,{"$nulls":3},""]
[470,{"v":3600,"d":"36-00"},"Други приходи",null,{"$f":"SUM(E113:E120)","v":0},{"v":-10921,"d":"-10,921"},{"v":-11281,"d":"-11,281"},0,360,0,1]
[475,null,{"v":3601,"d":"36-01"},"реализирани курсови разлики от валутни операции (нето) (+/-)",0,{"$f":"G113+H113+I113+J113","v":0},0,0,0,0,""]
[480,null,{"v":3605,"d":"36-05"},"прехвърлени/възстановени акумулирани средства от осигурителни вноски",null,{"$f":"G114+H114+I114+J114","v":0},null,0,null,null,""]
[480,null,{"v":3608,"d":"36-08"},"вноски за фонд \"ИЕЯС\" и фонд \"РАО\"",null,{"$f":"G115+H115+I115+J115","v":0},{"$nulls":4},""]
[480,null,{"v":3610,"d":"36-10"},"приходи от други вноски",null,0,{"$nulls":4},""]
[480,null,{"v":3611,"d":"36-11"},"получени застрахователни обезщетения за ДМА",0,0,0,0,null,null,""]
[485,null,{"v":3612,"d":"36-12"},"получени други застрахователни обезщетения",0,0,0,0,null,null,""]
[null,null,{"v":3618,"d":"36-18"},"коректив за касови постъпления (-/+) ",0,{"v":-11756,"d":"-11,756"},{"v":-11756,"d":"-11,756"},{"$nulls":3},1]
[490,null,{"v":3619,"d":"36-19"},"други неданъчни приходи",0,835,475,0,360,0,1]
[495,{"v":3700,"d":"37-00"},"Внесени ДДС и други данъци върху продажбите ",null,{"$f":"SUM(E122:E124)","v":0},-42,-42,0,0,0,1]
[500,null,{"v":3701,"d":"37-01"},"внесен ДДС (-)",0,{"$f":"G122+H122+I122+J122","v":0},0,0,0,0,""]
[505,null,{"v":3702,"d":"37-02"},"внесен данък върху приходите от стопанска дейност на бюджетните предприятия (-)",0,{"$f":"G123+H123+I123+J123","v":-42},-42,0,0,0,1]
[510,null,{"v":3709,"d":"37-09"},"внесени други данъци,такси и вноски върху продажбите (-)",0,{"$f":"G124+H124+I124+J124","v":0},0,{"$nulls":3},""]
[515,{"v":4000,"d":"40-00"},"Постъпления от продажба на нефинансови активи (без § 40-71)",null,{"$f":"SUM(E126:E136)","v":0},{"v":57340,"d":"57,340"},{"v":57340,"d":"57,340"},0,0,0,1]
[516,null,{"v":4021,"d":"40-21"},"постъпления от продажба на компютри и хардуер",0,{"$f":"G126+H126+I126+J126","v":0},0,{"$nulls":3},""]
[517,null,{"v":4022,"d":"40-22"},"постъпления от продажба на сгради",0,{"v":57340,"d":"57,340"},{"v":57340,"d":"57,340"},{"$nulls":3},1]
[518,null,{"v":4023,"d":"40-23"},"постъпления от продажба на друго оборудване, машини и съоръжения",0,0,0,{"$nulls":3},""]
[519,null,{"v":4024,"d":"40-24"},"постъпления от продажба на транспортни средства",0,0,0,null,0,null,""]
[520,null,{"v":4025,"d":"40-25"},"постъпления от продажба на стопански инвентар",0,0,0,{"$nulls":3},""]
[521,null,{"v":4026,"d":"40-26"},"постъпления от продажба на инфраструктурни обекти",0,0,0,{"$nulls":3},""]
[522,null,{"v":4029,"d":"40-29"},"постъпления от продажба на други ДМА",0,0,0,{"$nulls":3},""]
[523,null,{"v":4030,"d":"40-30"},"постъпления от продажба на нематериални дълготрайни активи",0,0,0,{"$nulls":3},""]
[523,null,{"v":4039,"d":"40-39"},"постъпления от продажба на квоти за емисии на парникови газове",0,0,0,{"$nulls":3},""]
[524,null,{"v":4040,"d":"40-40"},"постъпления от продажба на земя",0,0,0,{"$nulls":3},""]
[526,null,{"v":4072,"d":"40-72"},"постъпления от продажба на земеделска продукция",0,0,0,{"$nulls":3},""]
[540,{"v":4100,"d":"41-00"},"Приходи от концесии",null,null,0,{"$nulls":4},""]
[550,{"v":4200,"d":"42-00"},"Приходи от лицензии за ползване на държавни/общински активи",null,null,0,{"$nulls":4},""]
[560,"45-00","Помощи и дарения от страната",null,{"$f":"SUM(E140:E141)","v":0},0,0,0,0,0,""]
[565,null,{"v":4501,"d":"45-01"},"текущи помощи и дарения от страната",0,{"$f":"G140+H140+I140+J140","v":0},0,0,0,0,""]
[570,null,{"v":4503,"d":"45-03"},"капиталови помощи и дарения от страната",0,{"$f":"G141+H141+I141+J141","v":0},0,{"$nulls":3},""]
[575,{"v":4600,"d":"46-00"},"Помощи и дарения от чужбина",null,{"$f":"SUM(E143:E150)","v":0},0,0,0,0,0,""]
[580,null,{"v":4610,"d":"46-10"},"текущи помощи и дарения от Европейския съюз",0,{"$f":"G143+H143+I143+J143","v":0},0,0,0,0,""]
[585,null,{"v":4620,"d":"46-20"},"капиталови помощи и дарения от Европейския съюз",0,0,0,0,0,0,""]
[590,null,{"v":4630,"d":"46-30"},"текущи помощи и дарения от други държави",0,0,0,0,0,0,""]
[595,null,{"v":4640,"d":"46-40"},"капиталови помощи и дарения от други държави",0,0,0,0,0,0,""]
[600,null,{"v":4650,"d":"46-50"},"текущи помощи и дарения от други международни организации",0,0,0,0,0,0,""]
[605,null,{"v":4660,"d":"46-60"},"капиталови помощи и дарения от други международни организации",0,0,0,0,0,0,""]
[610,null,{"v":4670,"d":"46-70"},"други текущи помощи и дарения от чужбина",0,0,0,0,0,0,""]
[615,null,{"v":4680,"d":"46-80"},"други капиталови помощи и дарения  от чужбина",0,0,0,0,0,0,""]
[575,{"v":4700,"d":"47-00"},"Получени чрез небюджетни предприятия средства от КФП по международни и други програми",null,{"$f":"SUM(E152:E159)","v":0},0,0,0,0,0,""]
[580,null,{"v":4743,"d":"47-43"},"получени чрез нефинансови предприятия текущи трансфери от КФП по международни и други програми ",0,{"$f":"G152+H152+I152+J152","v":0},0,{"$nulls":3},""]
[585,null,{"v":4744,"d":"47-44"},"получени чрез финансови институции текущи трансфери от КФП по международни и други програми",0,0,0,{"$nulls":3},""]
[590,null,{"v":4745,"d":"47-45"},"получени чрез нестопански организации текущи трансфери от КФП по международни и други програми ",0,0,0,{"$nulls":3},""]
[595,null,{"v":4749,"d":"47-49"},"получени чрез предприятия от чужбина текущи трансфери от КФП по международни и други програми",0,0,0,{"$nulls":3},{"$f":"(IF($E155<>0,$K$2,IF($F155<>0,$K$2,IF($G155<>0,$K$2,IF($H155<>0,$K$2,IF($I155<>0,$K$2,IF($J155<>0,$K$2,\"\")))))))","v":""}]
[600,null,{"v":4751,"d":"47-51"},"получени чрез нефинансови предприятия капиталови трансфери от КФП по международни и други програми ",0,0,0,{"$nulls":3},""]
[605,null,{"v":4752,"d":"47-52"},"получени чрез финансови институции капиталови трансфери от КФП по международни и други програми ",0,0,0,{"$nulls":3},""]
[610,null,{"v":4753,"d":"47-53"},"получени чрез нестопански организации капиталови трансфери от КФП по международни и други програми",0,0,0,{"$nulls":3},""]
[615,null,{"v":4759,"d":"47-59"},"получени чрез предприятия от чужбина капиталови трансфери от КФП по международни и други програми",0,0,0,{"$nulls":3},""]
[575,{"v":4800,"d":"48-00"},"Разпределени към администратори от чужбина средства по международни програми и договори (-)",null,{"$f":"SUM(E161:E168)","v":0},0,0,0,0,0,""]
[580,null,{"v":4810,"d":"48-10"},"разпределени към чужбина текущи трансфери по програми на Европейския съюз (-)",0,{"$f":"G161+H161+I161+J161","v":0},0,{"$nulls":3},""]
[585,null,{"v":4820,"d":"48-20"},"разпределени към чужбина капиталови трансфери по програми на Европейския съюз ",0,0,0,{"$nulls":3},""]
[590,null,{"v":4830,"d":"48-30"},"разпределени към чужбина текущи трансфери по програми на други държави (-)",0,0,0,{"$nulls":3},""]
[595,null,{"v":4840,"d":"48-40"},"разпределени към чужбина капиталови трансфери по програми на други държави (-)",0,0,0,{"$nulls":3},""]
[600,null,{"v":4850,"d":"48-50"},"разпределени към чужбина текущи трансфери по програми на други международни организации (-)",0,0,0,{"$nulls":3},""]
[605,null,{"v":4860,"d":"48-60"},"разпределени към чужбина капиталови трансфери по програми на други международни организации  (-)",0,0,0,{"$nulls":3},""]
[610,null,{"v":4870,"d":"48-70"},"разпределени към чужбина текущи трансфери по други чуждестранни дарения и помощи (-)",0,0,0,{"$nulls":3},""]
[615,null,{"v":4880,"d":"48-80"},"разпределени към чужбина капиталови трансфери по други чуждестранни дарения и помощи (-)",0,0,0,{"$nulls":3},""]
[620,"ВСИЧКО","99-99","I. В С И Ч К О   П Р И Х О Д И,  П О М О Щ И   И   Д А Р Е Н И Я",{"$f":"SUM(E22,E28,E33,E39,E47,E52,E58,E61,E64,E65,E72,E73,E74,E90,E93,E94,E108,E112,E121,E125,E137,E138,E139,E142,E151,E160)","v":{"v":330000,"d":"330,000"}},{"v":282121,"d":"282,121"},{"v":164189,"d":"164,189"},0,{"v":117932,"d":"117,932"},0,1]
[{"$nulls":10},1]
[{"$nulls":10},1]
[{"$nulls":10},1]
[{"$nulls":10},1]
[null,{"$f":"$B$7","v":"ОТЧЕТНИ ДАННИ ПО ЕБК ЗА ИЗПЪЛНЕНИЕТО НА БЮДЖЕТА"},{"$nulls":8},1]
[{"$nulls":4},"за периода        от ","до",{"$nulls":4},1]
[null,{"$f":"$B$9","v":"РЕГИОНАЛНА ЗДРАВНА ИНСПЕКЦИЯ-БУРГАС"},null,null,{"$f":"$E$9","v":"2021-01-01"},{"$f":"$F$9","v":"2021-12-31"},{"$nulls":4},1]
[null,{"$f":"$B$10","v":"                                                            (наименование на разпоредителя с бюджет)"},{"$nulls":8},1]
[{"$nulls":10},1]
[null,{"$f":"$B$12","v":{"$error":"#N/A"}},null,null,"       код по ЕБК:",{"$f":"$F$12","v":"0"},{"$nulls":4},1]
[null,{"$f":"$B$13","v":"                                             (наименование на първостепенния разпоредител с бюджет)"},{"$nulls":8},1]
[{"$nulls":3},"ФИНАНСОВО-ПРАВНА ФОРМА",{"$f":"$E$15","v":0},{"$f":"$F$15","v":"БЮДЖЕТ"},{"$nulls":4},1]
[{"$nulls":9},"(в лева)",1]
[{"$nulls":3},"II. РАЗХОДИ - РЕКАПИТУЛАЦИЯ ПО ПАРАГРАФИ И ПОДПАРАГРАФИ","Уточнен план","                                                                                                                              О Т Ч Е Т Н И   Д А Н Н И",{"$nulls":4},1]
[null,"§§","под-§§","НАИМЕНОВАНИЕ НА ПАРАГРАФИТЕ И ПОДПАРАГРАФИТЕ",{"$f":"$C$3","v":2021},"ОБЩО","левови\n сметки и СЕБРА ","валутни \nсметки ","операции в брой (в левове и валута)","операции приравнени на касов поток",1]
[{"$nulls":3}," 02 ¦","(1)","(2)","(3)","(4)","(5)","(6)",1]
[{"$nulls":10},1]
[5,{"v":100,"d":"01-00"},"Заплати и възнаграждения за персонала, нает по трудови и служебни правоотношения",null,{"$f":"SUMIF($B$607:$B$12276,$B187,E$607:E$12276)","v":{"v":2675845,"d":"2,675,845"}},{"v":2656411,"d":"2,656,411"},{"v":2350183,"d":"2,350,183"},0,{"v":-2334,"d":"-2,334"},{"v":308562,"d":"308,562"},{"$f":"(IF($E187<>0,$K$2,IF($F187<>0,$K$2,IF($G187<>0,$K$2,IF($H187<>0,$K$2,IF($I187<>0,$K$2,IF($J187<>0,$K$2,\"\")))))))","v":1}]
[10,null,{"v":101,"d":"01-01"},"заплати и възнаграждения на персонала нает по трудови правоотношения",{"$f":"SUMIF($C$607:$C$12276,$C188,E$607:E$12276)","v":{"v":569847,"d":"569,847"}},{"v":569847,"d":"569,847"},{"v":452474,"d":"452,474"},0,-148,{"v":117521,"d":"117,521"},1,"Р"]
[15,null,{"v":102,"d":"01-02"},"заплати и възнаграждения на персонала нает по служебни правоотношения",{"v":2105998,"d":"2,105,998"},{"v":2086564,"d":"2,086,564"},{"v":1897709,"d":"1,897,709"},0,{"v":-2186,"d":"-2,186"},{"v":191041,"d":"191,041"},1,"Е"]
[35,{"v":200,"d":"02-00"},"Други възнаграждения и плащания за персонала",null,{"$f":"SUMIF($B$607:$B$12276,$B190,E$607:E$12276)","v":{"v":131557,"d":"131,557"}},{"v":145390,"d":"145,390"},{"v":132920,"d":"132,920"},0,0,{"v":12470,"d":"12,470"},1,"К"]
[40,null,{"v":201,"d":"02-01"},"за нещатен персонал нает по трудови правоотношения ",{"$f":"SUMIF($C$607:$C$12276,$C191,E$607:E$12276)","v":0},0,0,0,0,0,"","А"]
[45,null,{"v":202,"d":"02-02"},"за персонала по извънтрудови правоотношения",{"v":84870,"d":"84,870"},{"v":95166,"d":"95,166"},{"v":82696,"d":"82,696"},0,0,{"v":12470,"d":"12,470"},1,"П"]
[50,null,{"v":205,"d":"02-05"},"изплатени суми от СБКО за облекло и други на персонала, с характер на възнаграждение",{"v":33509,"d":"33,509"},{"v":33509,"d":"33,509"},{"v":33509,"d":"33,509"},0,0,0,1,"И"]
[55,null,{"v":208,"d":"02-08"},"обезщетения за персонала, с характер на възнаграждение",0,{"v":2002,"d":"2,002"},{"v":2002,"d":"2,002"},0,0,0,1,"Т"]
[60,null,{"v":209,"d":"02-09"},"другиплащания и възнаграждения",{"v":13178,"d":"13,178"},{"v":14713,"d":"14,713"},{"v":14713,"d":"14,713"},0,0,0,1,"У"]
[65,{"v":500,"d":"05-00"},"Задължителни осигурителни вноски от работодатели",null,{"$f":"SUMIF($B$607:$B$12276,$B196,E$607:E$12276)","v":{"v":755656,"d":"755,656"}},{"v":751633,"d":"751,633"},0,0,0,{"v":751633,"d":"751,633"},1,"Л"]
[70,null,{"v":551,"d":"05-51"},"осигурителни вноски от работодатели за Държавното обществено осигуряване (ДОО)",{"$f":"SUMIF($C$607:$C$12276,$C197,E$607:E$12276)","v":{"v":469122,"d":"469,122"}},{"v":465099,"d":"465,099"},0,0,0,{"v":465099,"d":"465,099"},1,"А"]
[75,null,{"$f":"C197+1","v":{"v":552,"d":"05-52"}},"осигурителни вноски от работодатели за Учителския пенсионен фонд (УчПФ)",0,0,0,0,0,0,"","Ц"]
[80,null,{"v":558,"d":"05-58"},"вноски по чл. 4б и 4в от КСО за сметка на осигурителя",0,0,0,0,0,0,"","И"]
[80,null,{"v":560,"d":"05-60"},"здравно-осигурителни вноски от работодатели",{"v":184730,"d":"184,730"},{"v":184730,"d":"184,730"},0,0,0,{"v":184730,"d":"184,730"},1,"Я"]
[85,null,{"v":580,"d":"05-80"},"вноски за допълнително задължително осигуряване от работодатели",{"v":101804,"d":"101,804"},{"v":101804,"d":"101,804"},0,0,0,{"v":101804,"d":"101,804"},1]
[90,null,{"v":588,"d":"05-88"},"коректив на вноски за ДЗПО за сумите по чл. 4б и 4в от КСО за сметка на осигурителя",0,0,0,0,0,0,""]
[90,null,{"v":590,"d":"05-90"},"задължителни вноски за чуждестранни пенсионни фондове и  схеми за сметка на осигурителя",0,0,0,0,0,0,""]
[115,{"v":800,"d":"08-00"},"Вноски за доброволно осигуряване  ",null,{"$f":"SUMIF($B$607:$B$12276,$B204,E$607:E$12276)","v":0},0,0,0,0,0,"","Н"]
[125,{"v":1000,"d":"10-00"},"Издръжка",null,{"v":700365,"d":"700,365"},{"v":723164,"d":"723,164"},{"v":714018,"d":"714,018"},0,{"v":9146,"d":"9,146"},0,1,"А"]
[130,null,{"v":1011,"d":"10-11"},"Храна",{"$f":"SUMIF($C$607:$C$12276,$C206,E$607:E$12276)","v":0},0,0,0,0,0,""]
[135,null,{"v":1012,"d":"10-12"},"Медикаменти",{"v":86380,"d":"86,380"},{"v":80672,"d":"80,672"},{"v":82930,"d":"82,930"},0,{"v":-2258,"d":"-2,258"},0,1,"Р"]
[140,null,{"v":1013,"d":"10-13"},"Постелен инвентар и облекло",{"v":50780,"d":"50,780"},{"v":56425,"d":"56,425"},{"v":56557,"d":"56,557"},0,-132,0,1,"А"]
[145,null,{"v":1014,"d":"10-14"},"Учебни и научно-изследователски разходи и книги за библиотеките",0,229,229,0,0,0,1,"З"]
[150,null,{"v":1015,"d":"10-15"},"материали",{"v":95770,"d":"95,770"},{"v":96102,"d":"96,102"},{"v":90671,"d":"90,671"},0,{"v":5431,"d":"5,431"},0,1,"Х"]
[155,null,{"v":1016,"d":"10-16"},"вода, горива и енергия",{"v":96699,"d":"96,699"},{"v":126034,"d":"126,034"},{"v":125042,"d":"125,042"},0,992,0,1,"О"]
[160,null,{"v":1020,"d":"10-20"},"разходи за външни услуги",{"v":294006,"d":"294,006"},{"v":335301,"d":"335,301"},{"v":332338,"d":"332,338"},0,{"v":2963,"d":"2,963"},0,1,"Д"]
[165,null,{"v":1030,"d":"10-30"},"Текущ ремонт",{"v":42840,"d":"42,840"},{"v":12052,"d":"12,052"},{"v":12052,"d":"12,052"},0,0,0,1,"И"]
[175,null,{"v":1051,"d":"10-51"},"командировки в страната",{"v":16100,"d":"16,100"},{"v":4490,"d":"4,490"},{"v":3238,"d":"3,238"},0,{"v":1252,"d":"1,252"},0,1]
[180,null,{"v":1052,"d":"10-52"},"краткосрочни командировки в чужбина",0,0,0,0,0,0,""]
[185,null,{"v":1053,"d":"10-53"},"дългосрочни командировки в чужбина",{"$f":"SUMIF($C$607:$C$12276,$C216,E$607:E$12276)","v":0},0,0,0,0,0,"","Р"]
[190,null,{"v":1062,"d":"10-62"},"разходи за застраховки",{"v":15660,"d":"15,660"},{"v":10354,"d":"10,354"},{"v":9456,"d":"9,456"},0,898,0,1,"Е"]
[200,null,{"v":1063,"d":"10-63"},"такса ангажимент по заеми",0,0,0,0,0,0,"","К"]
[200,null,{"v":1069,"d":"10-69"},"други финансови услуги",0,0,0,0,0,0,"","А"]
[205,null,{"v":1091,"d":"10-91"},"други разходи за СБКО",{"v":2130,"d":"2,130"},0,0,0,0,0,1,"П"]
[210,null,{"v":1092,"d":"10-92"},"разходи за договорни санкции и неустойки, съдебни обезщетения и разноски",0,{"v":1505,"d":"1,505"},{"v":1505,"d":"1,505"},0,0,0,1,"И"]
[215,null,{"v":1098,"d":"10-98"},"други разходи, некласифицирани в другите параграфи и подпараграфи",0,0,0,0,0,0,"","Т"]
[220,{"v":1900,"d":"19-00"},"Платени данъци, такси и административни санкции",null,{"$f":"SUMIF($B$607:$B$12276,$B223,E$607:E$12276)","v":{"v":14198,"d":"14,198"}},{"v":14586,"d":"14,586"},{"v":13117,"d":"13,117"},0,{"v":1469,"d":"1,469"},0,1,"У"]
[225,null,{"v":1901,"d":"19-01"},"платени държавни данъци, такси, наказателни лихви и административни санкции",{"$f":"SUMIF($C$607:$C$12276,$C224,E$607:E$12276)","v":598},{"v":1469,"d":"1,469"},0,0,{"v":1469,"d":"1,469"},0,1,"Л"]
[230,null,{"v":1981,"d":"19-81"},"платени общински данъци, такси, наказателни лихви и административни санкции",{"v":13600,"d":"13,600"},{"v":13117,"d":"13,117"},{"v":13117,"d":"13,117"},0,0,0,1,"А"]
[245,null,{"v":1991,"d":"19-91"},"платени данъци, такси, наказателни лихви и административни санкции в чужбина",0,0,0,0,0,0,"","Ц"]
[220,{"v":2100,"d":"21-00"},"Разходи за лихви по емисии на държавни (общински) ценни книжа",null,{"$f":"SUMIF($B$607:$B$12276,$B227,E$607:E$12276)","v":0},0,0,0,0,0,"","И"]
[225,null,{"v":2110,"d":"21-10"},"лихви по държавни (общински) ценни книжа",{"$f":"SUMIF($C$607:$C$12276,$C228,E$607:E$12276)","v":0},0,0,0,0,0,"","Я"]
[230,null,{"v":2120,"d":"21-20"},"отстъпки по държавни (общински) ценни книжа",0,0,0,0,0,0,""]
[235,null,{"v":2125,"d":"21-25"},"лихви и отстъпки по целеви емисии на държавни ценни книжа",0,0,0,0,0,0,"","Н"]
[240,null,{"v":2140,"d":"21-40"},"лихви по държавни ценни книжа, емитирани за структурната реформа ",0,0,0,0,0,0,"","А"]
[245,null,{"v":2190,"d":"21-90"},"премии над номинала от емисии на държавни (общински) ценни книжа (-)",0,0,0,0,0,0,""]
[250,{"v":2200,"d":"22-00"},"Разходи за лихви по заеми от страната",null,{"$f":"SUMIF($B$607:$B$12276,$B233,E$607:E$12276)","v":0},0,0,0,0,0,"","Р"]
[255,null,{"v":2221,"d":"22-21"},"Разходи за лихви по заеми от банки в страната",{"$f":"SUMIF($C$607:$C$12276,$C234,E$607:E$12276)","v":0},0,0,0,0,0,"","А"]
[265,null,{"v":2224,"d":"22-24"},"Разходи за лихви по други заеми от страната",0,0,0,0,0,0,"","З"]
[270,{"v":2500,"d":"25-00"},"Разходи за лихви по заеми от други държави",null,{"$f":"SUMIF($B$607:$B$12276,$B236,E$607:E$12276)","v":0},0,0,0,0,0,"","Х"]
[290,{"v":2600,"d":"26-00"},"Разходи за лихви по заеми от международни организации и институции",null,0,0,0,0,0,0,"","О"]
[320,{"v":2700,"d":"27-00"},"Разходи за лихви по заеми от банки и други финансови институции от чужбина",null,0,0,0,0,0,0,"","Д"]
[330,{"v":2800,"d":"28-00"},"Разходи за лихви и отстъпки по облигации, емитирани и търгувани на международните капиталови пазари",null,0,0,0,0,0,0,"","И"]
[350,{"v":2900,"d":"29-00"},"Други разходи за лихви",null,0,161,161,0,0,0,1]
[355,null,{"v":2910,"d":"29-10"},"Платени лихви по финансов лизинг и търговски кредит",{"$f":"SUMIF($C$607:$C$12276,$C241,E$607:E$12276)","v":0},0,0,0,0,0,""]
[375,null,{"v":2920,"d":"29-20"},"Платени лихви по активирани гаранции по заеми от  банки в страната",0,0,0,0,0,0,""]
[375,null,{"v":2969,"d":"29-69"},"Платени лихви по активирани гаранции по заеми от международни организации и институции",0,0,0,0,0,0,""]
[380,null,{"v":2970,"d":"29-70"},"Платени лихви по активирани гаранции по заеми от банки и финансови институции от чужбина",0,0,0,0,0,0,""]
[385,null,{"v":2989,"d":"29-89"},"Възстановени суми по платени лихви по активирани гаранции (-)",0,0,0,0,0,0,""]
[390,null,{"v":2990,"d":"29-90"},"Платени лихви по заеми, предоставени от централния бюджет и бюджетни организации",0,0,0,0,0,0,""]
[390,null,{"v":2991,"d":"29-91"},"Други разходи за лихви към  местни лица",0,161,161,0,0,0,1]
[395,null,{"v":2992,"d":"29-92"},"Други разходи за лихви към чуждестранни лица",0,0,0,0,0,0,""]
[397,{"v":3300,"d":"33-00"},"Вноска в общия бюджет на Европейския съюз",null,{"$f":"SUMIF($B$607:$B$12276,$B249,E$607:E$12276)","v":0},0,0,0,0,0,"","Р"]
[398,null,{"v":3301,"d":"33-01"},"ресурс на база брутен национален доход",{"$f":"SUMIF($C$607:$C$12276,$C250,E$607:E$12276)","v":0},0,0,0,0,0,"","Е"]
[399,null,{"v":3302,"d":"33-02"},"ресурс на база данък върху добавената стойност",0,0,0,0,0,0,"","К"]
[400,null,{"v":3304,"d":"33-04"},"традиционни собствени ресурси - мита",0,0,0,0,0,0,"","А"]
[401,null,{"v":3306,"d":"33-06"},"участие във финансирането на брутното намаление за Австрия, Дания, Германия, Нидерландия и Швеция",0,0,0,0,0,0,"","П"]
[404,null,{"v":3307,"d":"33-07"},"ресурс на база нерециклираните отпадъци от опаковки от пластмаса",0,0,0,0,0,0,{"$f":"(IF($E254<>0,$K$2,IF($F254<>0,$K$2,IF($G254<>0,$K$2,IF($H254<>0,$K$2,IF($I254<>0,$K$2,IF($J254<>0,$K$2,\"\")))))))","v":""},"Т"]
[404,{"v":3900,"d":"39-00"},"Здравно-осигурителни плащания",null,{"$f":"SUMIF($B$607:$B$12276,$B255,E$607:E$12276)","v":0},0,0,0,0,0,"","У"]
[440,{"v":4000,"d":"40-00"},"Стипендии",null,0,0,0,0,0,0,"","Л"]
[450,{"v":4100,"d":"41-00"},"Пенсии",null,0,0,0,0,0,0,"","А"]
[495,{"v":4200,"d":"42-00"},"Текущи трансфери, обезщетения и помощи за домакинствата",null,0,0,0,0,0,0,"","Ц"]
[500,null,{"v":4201,"d":"42-01"},"обезщетения и помощи по социалното осигуряване",{"$f":"SUMIF($C$607:$C$12276,$C259,E$607:E$12276)","v":0},0,0,0,0,0,"","И"]
[505,null,{"v":4202,"d":"42-02"},"обезщетения и помощи по социалното подпомагане",0,0,0,0,0,0,"","Я"]
[510,null,{"v":4214,"d":"42-14"},"обезщетения и помощи по решение на общинския съвет",0,0,0,0,0,0,""]
[515,null,{"v":4217,"d":"42-17"},"текущи трансфери за домакинства от средства на Европейския съюз",0,0,0,0,0,0,"","Н"]
[520,null,{"v":4218,"d":"42-18"},"текущи трансфери за домакинства по други международни програми и споразумения",0,0,0,0,0,0,"","А"]
[525,null,{"v":4219,"d":"42-19"},"други текущи трансфери за домакинствата",0,0,0,0,0,0,""]
[635,{"v":4300,"d":"43-00"},"Субсидии и други текущи трансфери за нефинансови предприятия ",null,{"$f":"SUMIF($B$607:$B$12276,$B265,E$607:E$12276)","v":0},0,0,0,0,0,"","Р"]
[640,null,{"v":4301,"d":"43-01"},"за текуща дейност",{"$f":"SUMIF($C$607:$C$12276,$C266,E$607:E$12276)","v":0},0,0,0,0,0,"","А"]
[645,null,{"v":4302,"d":"43-02"},"за осъществяване на болнична помощ ",0,0,0,0,0,0,"","З"]
[650,null,{"v":4309,"d":"43-09"},"други субсидии и плащания",0,0,0,0,0,0,"","Х"]
[655,{"v":4400,"d":"44-00"},"Субсидии и други текущи трансфери за финансови институции",null,{"$f":"SUMIF($B$607:$B$12276,$B269,E$607:E$12276)","v":0},0,0,0,0,0,"","О"]
[665,{"v":4500,"d":"45-00"},"Субсидии и други текущи трансфери за юридически лица с нестопанска цел",null,0,0,0,0,0,0,"","Д"]
[675,{"v":4600,"d":"46-00"},"Разходи за членски внос и участие в нетърговски организации и дейности",null,0,0,0,0,0,0,"","И"]
[685,{"v":4900,"d":"49-00"},"Предоставени текущи и капиталови трансфери за чужбина",null,0,0,0,0,0,0,""]
[690,null,{"v":4901,"d":"49-01"},"текущи трансфери за чужбина",{"$f":"SUMIF($C$607:$C$12276,$C273,E$607:E$12276)","v":0},0,0,0,0,0,""]
[695,null,{"v":4902,"d":"49-02"},"капиталови трансфери за чужбина",0,0,0,0,0,0,"","Р"]
[700,{"v":5100,"d":"51-00"},"Основен ремонт на дълготрайни материални активи",null,{"$f":"SUMIF($B$607:$B$12276,$B275,E$607:E$12276)","v":0},0,0,0,0,0,"","Е"]
[710,{"v":5200,"d":"52-00"},"Придобиване на дълготрайни материални активи",null,{"v":244231,"d":"244,231"},{"v":214631,"d":"214,631"},{"v":214631,"d":"214,631"},0,0,0,1,"К"]
[715,null,{"v":5201,"d":"52-01"},"придобиване на компютри и хардуер",{"$f":"SUMIF($C$607:$C$12276,$C277,E$607:E$12276)","v":0},0,0,0,0,0,"","А"]
[720,null,{"v":5202,"d":"52-02"},"придобиване на сгради",0,0,0,0,0,0,"","П"]
[725,null,{"v":5203,"d":"52-03"},"придобиване на друго оборудване, машини и съоръжения",{"v":209996,"d":"209,996"},{"v":180396,"d":"180,396"},{"v":180396,"d":"180,396"},0,0,0,1,"И"]
[730,null,{"v":5204,"d":"52-04"},"придобиване на транспортни средства",{"v":34235,"d":"34,235"},{"v":34235,"d":"34,235"},{"v":34235,"d":"34,235"},0,0,0,1,"Т"]
[735,null,{"v":5205,"d":"52-05"},"придобиване на стопански инвентар",0,0,0,0,0,0,"","У"]
[740,null,{"v":5206,"d":"52-06"},"изграждане на инфраструктурни обекти",0,0,0,0,0,0,"","Л"]
[745,null,{"v":5219,"d":"52-19"},"придобиване на други ДМА",0,0,0,0,0,0,"","А"]
[750,{"v":5300,"d":"53-00"},"Придобиване на нематериални дълготрайни активи",null,{"$f":"SUMIF($B$607:$B$12276,$B284,E$607:E$12276)","v":0},0,0,0,0,0,"","Ц"]
[755,null,{"v":5301,"d":"53-01"},"придобиване на програмни продукти и лицензи за програмни продукти",{"$f":"SUMIF($C$607:$C$12276,$C285,E$607:E$12276)","v":0},0,0,0,0,0,"","И"]
[760,null,{"v":5309,"d":"53-09"},"придобиване на други нематериални дълготрайни активи",0,0,0,0,0,0,"","Я"]
[765,{"v":5400,"d":"54-00"},"Придобиване на земя",null,{"$f":"SUMIF($B$607:$B$12276,$B287,E$607:E$12276)","v":0},0,0,0,0,0,""]
[775,{"v":5500,"d":"55-00"},"Капиталови трансфери",null,0,0,0,0,0,0,"","Н"]
[780,null,{"v":5501,"d":"55-01"},"капиталови трансфери за нефинансови предприятия",{"$f":"SUMIF($C$607:$C$12276,$C289,E$607:E$12276)","v":0},0,0,0,0,0,"","А"]
[785,null,{"v":5502,"d":"55-02"},"капиталови трансфери за финансови институции",0,0,0,0,0,0,""]
[790,null,{"v":5503,"d":"55-03"},"капиталови трансфери за организации с нестопанска цел",0,0,0,0,0,0,"","Р"]
[795,null,{"v":5504,"d":"55-04"},"капиталови трансфери за домакинствата",0,0,0,0,0,0,"","А"]
[805,{"v":5700,"d":"57-00"},"Прираст на държавния резерв и изкупуване на земеделска продукция (включва и § 40-71)",null,{"$f":"SUMIF($B$607:$B$12276,$B293,E$607:E$12276)","v":0},0,0,0,0,0,"","З"]
[810,null,{"v":5701,"d":"57-01"},"плащания за попълване на държавния резерв",{"$f":"SUMIF($C$607:$C$12276,$C294,E$607:E$12276)","v":0},0,0,0,0,0,"","Х"]
[815,null,{"v":5702,"d":"57-02"},"плащания за изкупуване на земеделска продукция",0,0,0,0,0,0,"","О"]
[525,null,{"v":4071,"d":"40-71"},"постъпления от продажба на държавния резерв (-)",0,0,0,0,0,0,"","Д"]
[820,{"v":98,"d":"00-98"},"Резерв за непредвидени и неотложни разходи",null,{"$f":"SUMIF($B$607:$B$12276,$B297,E$607:E$12276)","v":0},0,0,0,0,0,"","И"]
[821,{"$nulls":9},""]
[822,{"$nulls":9},""]
[823,{"$nulls":9},""]
[825,"ВСИЧКО","99-99","II. ВСИЧКО РАЗХОДИ - РЕКАПИТУЛАЦИЯ ПО ПАРАГРАФИ И ПОДПАРАГРАФИ",{"$f":"SUMIF($C$607:$C$12276,$C301,E$607:E$12276)","v":{"v":4521852,"d":"4,521,852"}},{"v":4505976,"d":"4,505,976"},{"v":3425030,"d":"3,425,030"},0,{"v":8281,"d":"8,281"},{"v":1072665,"d":"1,072,665"},1]
[{"$nulls":10},1]
[{"$nulls":10},1]
[{"$nulls":10},{"$f":"(IF($E$301<>0,$K$2,IF($F$301<>0,$K$2,\"\")))","v":1}]
[{"$nulls":10},1]
[null,{"$f":"$B$7","v":"ОТЧЕТНИ ДАННИ ПО ЕБК ЗА ИЗПЪЛНЕНИЕТО НА БЮДЖЕТА"},{"$nulls":8},1]
[{"$nulls":4},"за периода        от ","до",{"$nulls":4},1]
[null,{"$f":"$B$9","v":"РЕГИОНАЛНА ЗДРАВНА ИНСПЕКЦИЯ-БУРГАС"},null,null,{"$f":"$E$9","v":"2021-01-01"},{"$f":"$F$9","v":"2021-12-31"},{"$nulls":4},1]
[null,{"$f":"$B$10","v":"                                                            (наименование на разпоредителя с бюджет)"},{"$nulls":8},1]
[{"$nulls":10},1]
[null,{"$f":"$B$12","v":{"$error":"#N/A"}},null,null,"       код по ЕБК:",{"$f":"$F$12","v":"0"},{"$nulls":4},1]
[null,{"$f":"$B$13","v":"                                             (наименование на първостепенния разпоредител с бюджет)"},{"$nulls":8},1,"Р"]
[{"$nulls":3},"               ФИНАНСОВО-ПРАВНА ФОРМА",{"$f":"$E$15","v":0},{"$f":"+$F$15","v":"БЮДЖЕТ"},{"$nulls":4},1,"Е"]
[{"$nulls":10},1,"К"]
[{"$nulls":3},"НАТУРАЛНИ И ДРУГИ ПОКАЗАТЕЛИ - РЕКАПИТУЛАЦИЯ",{"$nulls":6},1,"А"]
[null,"МЯРКА","Код  9 8","  О б щ и   н а т у р а л н и   п о к а з а т е л и","    П л а н","    О т ч е т ",{"$nulls":4},1,"П"]
[905,null," 9 8 0 1","Щ а т н и   б р о й к и",{"$f":"SUMIF($C$607:$C$12276,$C317,E$607:E$12276)","v":130},123,{"$nulls":4},1,"И"]
[906,null," 9 8 1 1","в т.ч.: по трудови правоотношения",32,32,{"$nulls":4},1,"Т"]
[907,null," 9 8 1 2","           по служебни правоотношения",98,91,{"$nulls":4},1,"У"]
[910,null," 9 8 0 2","Средногодишни щатни бройки",130,122,{"$nulls":4},1,"Л"]
[911,null," 9 8 2 1","в т.ч.: по трудови правоотношения",32,32,{"$nulls":4},1,"А"]
[912,null," 9 8 2 2","         по служебни правоотношения",98,90,{"$nulls":4},1,"Ц"]
[920,null," 9 8 0 3","Средна годишна брутна заплата",{"$f":"IF(ISERROR(E187/(E320+E332)),0,E187/(E320+E332))","v":{"v":20583.423076923078,"d":"20,583"}},{"$f":"IF(ISERROR(J187/(F320+F332)),0,F187/(F320+F332))","v":{"v":21773.860655737706,"d":"21,774"}},{"$nulls":4},1,"И"]
[921,null," 9 8 3 1"," в т.ч.:   по трудови правоотношения",{"$f":"IF(ISERROR(E188/(E321+E332)),0,E188/(E321+E332))","v":{"v":17807.71875,"d":"17,808"}},{"$f":"IF(ISERROR(J188/(F321+F332)),0,F188/(F321+F332))","v":{"v":17807.71875,"d":"17,808"}},{"$nulls":4},1,"Я"]
[922,null," 9 8 3 2","            по служебни правоотношения",{"$f":"IF(ISERROR(E189/(E322)),0,E189/(E322))","v":{"v":21489.775510204083,"d":"21,490"}},{"$f":"IF(ISERROR(J189/(F322)),0,F189/(F322))","v":{"v":23184.044444444444,"d":"23,184"}},{"$nulls":4},1,"-"]
[930,null," 9 8 0 4","Брой на моторни превозни средства",{"$f":"SUMIF($C$607:$C$12276,$C326,E$607:E$12276)","v":10},11,{"$nulls":4},1,"Н"]
[931,null,"9 8 0 5","- в т.ч. - леки автомобили",9,10,{"$nulls":4},1,"А"]
[932,null,"9 8 0 6","             - санитарни линейки",1,1,{"$nulls":4},1,"Т"]
[935,null," 9 8 0 7","Брой ученици, финансирани по единни разходни стандарти",0,0,{"$nulls":4},1,"У"]
[940,null," 9 8 0 8","Средна годишна брутна заплата на делегирани бюджети",{"$nulls":6},1,"Р"]
[950,null," 9 8 0 9","Щатни бройки на делегирани бюджети",{"$f":"SUMIF($C$607:$C$12276,$C331,E$607:E$12276)","v":0},0,{"$nulls":4},1,"А"]
[953,null," 9 8 1 0","Средногодишни щатни бройки на делегирани бюджети",0,0,{"$nulls":4},1,"Л"]
[954,null,"9 8 1 3","Средногодишен приравнен брой учащи във ВУ, финансирани по норматив за издръжка на обучението",0,0,{"$nulls":4},1,"Н"]
[955,null,"9 8 1 4","Брой леглодни в студентски общежития",0,0,{"$nulls":4},1,"И"]
[956,null,"9 8 1 5","Брой хранодни в студентски стол",0,0,{"$nulls":4},1]
[958,null,"9 8 1 7","Болнични легла",0,0,{"$nulls":4},1,"П"]
[959,null,"9 8 1 8","Обем радиопрограма /часове/",0,0,{"$nulls":4},1,"-"]
[955,null,"9 8 1 9","Обем телевизионна програма /часове/",0,0,{"$nulls":4},1,"И"]
[956,"МЯРКА","Код  ","Разходи в областта на електронното управление и за използваните информационни и комуникационни технологии","    П л а н","    О т ч е т ",{"$nulls":4},1]
[958,null,"9 8 5 0","Общо разходи в областта на ЕУ и за използваните ИКТ",{"$f":"E341+E342","v":{"v":28498,"d":"28,498"}},{"$f":"F341+F342","v":{"v":28498,"d":"28,498"}},{"$nulls":4},1]
[959,null,"9 8 5 1","Текущи разходи в областта на ЕУ и за използваните ИКТ",{"$f":"SUMIF($C$607:$C$12276,$C341,E$607:E$12276)","v":{"v":28498,"d":"28,498"}},{"$f":"SUMIF($C$607:$C$12276,$C341,F$607:F$12276)","v":{"v":28498,"d":"28,498"}},{"$nulls":4},1]
[960,null,"9 8 5 2","Капиталови разходи в областта на ЕУ и за използваните ИКТ",{"$f":"SUMIF($C$607:$C$12276,$C342,E$607:E$12276)","v":0},{"$f":"SUMIF($C$607:$C$12276,$C342,F$607:F$12276)","v":0},{"$nulls":4},1]
[null,"ЗАБЕЛЕЖКА:",{"$nulls":8},1]
[null," За натурални показатели, не влючени в този отчет, специфични за конкретна дейност се представят отделни справки, допълнително определени от Министерство на финансите.",{"$nulls":8},1]
[{"$nulls":10},1]
[{"$nulls":10},1]
[{"$nulls":10},1]
[null,{"$f":"$B$7","v":"ОТЧЕТНИ ДАННИ ПО ЕБК ЗА ИЗПЪЛНЕНИЕТО НА БЮДЖЕТА"},{"$nulls":8},1]
[{"$nulls":4},"за периода        от ","до",{"$nulls":4},1]
[null,{"$f":"$B$9","v":"РЕГИОНАЛНА ЗДРАВНА ИНСПЕКЦИЯ-БУРГАС"},null,null,{"$f":"$E$9","v":"2021-01-01"},{"$f":"$F$9","v":"2021-12-31"},{"$nulls":4},1]
[null,{"$f":"$B$10","v":"                                                            (наименование на разпоредителя с бюджет)"},{"$nulls":8},1]
[{"$nulls":10},1]
[null,{"$f":"$B$12","v":{"$error":"#N/A"}},null,null,"       код по ЕБК:",{"$f":"$F$12","v":"0"},{"$nulls":4},1]
[null,{"$f":"$B$13","v":"                                             (наименование на първостепенния разпоредител с бюджет)"},{"$nulls":8},1]
[{"$nulls":3},"ФИНАНСОВО-ПРАВНА ФОРМА",{"$f":"$E$15","v":0},{"$f":"+$F$15","v":"БЮДЖЕТ"},{"$nulls":4},1]
[{"$nulls":9},"(в лева)",1]
[{"$nulls":3},"III-ІV. ТРАНСФЕРИ И ВРЕМЕННИ БЕЗЛИХВЕНИ ЗАЕМИ - РЕКАПИТУЛАЦИЯ","Уточнен план","                                                                                                                              О Т Ч Е Т Н И   Д А Н Н И",{"$nulls":4},1]
[null,"§§","под-§§","НАИМЕНОВАНИЕ НА ПАРАГРАФИТЕ И ПОДПАРАГРАФИТЕ",{"$f":"$C$3","v":2021},"ОБЩО","левови\n сметки и СЕБРА ","валутни \nсметки ","операции в брой (в левове и валута)","операции приравнени на касов поток",1]
[1,"  ІІІ. ТРАНСФЕРИ",null," 03 ¦","(1)","(2)","(3)","(4)","(5)","(6)",1]
[2,{"$nulls":9},1]
[5,{"v":3000,"d":"30-00"},"Трансфери от ЦБ за други бюджети (нето)",null,{"$f":"SUM(E362:E374)","v":0},0,0,0,0,0,{"$f":"(IF($E361<>0,$K$2,IF($F361<>0,$K$2,IF($G361<>0,$K$2,IF($H361<>0,$K$2,IF($I361<>0,$K$2,IF($J361<>0,$K$2,\"\")))))))","v":""}]
[10,null,{"v":3020,"d":"30-20"},"трансфери между ЦБ и бюджети по държавния бюджет",0,{"$f":"G362+H362+I362+J362","v":0},0,{"$nulls":3},""]
[20,null,{"v":3040,"d":"30-40"},"възстановени трансфери в ЦБ от бюджети на общини",0,0,0,{"$nulls":3},""]
[25,null,{"v":3041,"d":"30-41"},"обща субсидия и други трансфери за държавни дейности от ЦБ за общини",0,0,0,{"$nulls":3},""]
[30,null,{"v":3042,"d":"30-42"},"обща изравнителна субсидия и други трансфери за местни дейности от ЦБ за общини",0,0,0,{"$nulls":3},""]
[35,null,{"v":3043,"d":"30-43"},"целеви субсидии от ЦБ за капиталови разходи за общини",0,0,0,{"$nulls":3},""]
[36,null,{"v":3048,"d":"30-48"},"други целеви трансфери от ЦБ за общини",0,0,0,{"$nulls":3},""]
[45,null,{"v":3050,"d":"30-50"},"трансфери между ЦБ и Държавното обществено осигуряване",0,0,0,{"$nulls":3},""]
[50,null,{"v":3061,"d":"30-61"},"трансфери между ЦБ и НЗОК",0,0,0,{"$nulls":3},""]
[60,null,{"v":3081,"d":"30-81"},"трансфери между ЦБ и БНТ",0,0,0,{"$nulls":3},""]
[null,null,"30-82","трансфери между ЦБ и БНР",0,0,0,{"$nulls":3},""]
[65,null,{"v":3083,"d":"30-83"},"трансфери между ЦБ и БТА",0,0,0,{"$nulls":3},""]
[65,null,{"v":3089,"d":"30-89"},"трансфери  между ЦБ и други бюджети",0,0,0,{"$nulls":3},""]
[65,null,{"v":3090,"d":"30-90"},"други възстановени в ЦБ трансфери от бюджети",0,0,0,{"$nulls":3},""]
[70,{"v":3100,"d":"31-00"},"Трансфери между бюджета на бюджетната организация и ЦБ (нето)",null,{"$f":"SUM(E376:E382)","v":{"v":4191852,"d":"4,191,852"}},0,0,0,0,0,1]
[75,null,{"v":3110,"d":"31-10"},"трансфери от/за ЦБ (+/-)",{"v":4191852,"d":"4,191,852"},{"$f":"G376+H376+I376+J376","v":0},0,0,0,0,1]
[80,null,{"v":3111,"d":"31-11"},"обща субсидия и други трансфери за държавни дейности от ЦБ за общини (+)",0,0,0,{"$nulls":3},""]
[85,null,{"v":3112,"d":"31-12"},"обща изравнителна субсидия и други трансфери за местни дейности от ЦБ за общини (+)",0,0,0,{"$nulls":3},""]
[90,null,{"v":3113,"d":"31-13"},"получени от общини целеви субсидии от ЦБ за капиталови разходи (+)",0,0,0,{"$nulls":3},""]
[91,null,{"v":3118,"d":"31-18"},"получени от общини трансфери за други целеви разходи от ЦБ чрез  кодовете в СЕБРА 488 001 ххх-х",0,0,0,{"$nulls":3},""]
[null,null,{"v":3128,"d":"31-28"},"получени от общини трансфери за други целеви разходи от ЦБ чрез  кодовете в СЕБРА 488 002 ххх-х",0,0,0,{"$nulls":3},""]
[100,null,{"v":3120,"d":"31-20"},"възстановени трансфери за ЦБ (-)",0,0,0,{"$nulls":3},""]
[115,{"v":3200,"d":"32-00"},"Предоставени субсидии от държавния бюджет за БАН и държавните висши училища (нето)",null,{"$f":"SUM(E384:E387)","v":0},0,0,0,0,0,""]
[120,null,{"v":3210,"d":"32-10"},"предоставени трансфери от ДБ за държавните висши училища",0,{"$f":"G384+H384+I384+J384","v":0},0,{"$nulls":3},""]
[125,null,{"v":3220,"d":"32-20"},"предоставени трансфери от ДБ за БАН",0,{"$f":"G385+H385+I385+J385","v":0},0,{"$nulls":3},""]
[130,null,{"v":3230,"d":"32-30"},"получени от държавните висши училища  трансфери от ДБ (+)",0,{"$f":"G386+H386+I386+J386","v":0},0,{"$nulls":3},""]
[135,null,{"v":3240,"d":"32-40"},"получени от БАН трансфери от ДБ (+)",0,{"$f":"G387+H387+I387+J387","v":0},0,{"$nulls":3},""]
[145,{"v":6000,"d":"60-00"},"Трансфери между ЦБ и сметки за средствата от ЕС (нето)",null,{"$f":"+E389+E390","v":0},0,0,0,0,0,""]
[150,null,{"v":6001,"d":"60-01"}," - получени трансфери (+)",0,{"$f":"G389+H389+I389+J389","v":0},0,{"$nulls":3},""]
[155,null,{"v":6002,"d":"60-02"}," - предоставени трансфери (-)",0,{"$f":"G390+H390+I390+J390","v":0},0,{"$nulls":3},""]
[160,{"v":6100,"d":"61-00"},"Трансфери между бюджети (нето)",null,{"$f":"SUM(E392:E395)","v":0},{"v":-285292,"d":"-285,292"},{"v":-285292,"d":"-285,292"},0,0,0,1]
[165,null,{"v":6101,"d":"61-01"},"трансфери между бюджети - получени трансфери (+)",0,{"$f":"G392+H392+I392+J392","v":0},0,0,0,null,""]
[170,null,{"v":6102,"d":"61-02"},"трансфери между бюджети - предоставени трансфери (-)",0,{"$f":"G393+H393+I393+J393","v":0},0,0,0,0,""]
[180,null,{"v":6105,"d":"61-05"},"трансфери от МТСП по програми за осигуряване на заетост (+/-)",0,{"$f":"G394+H394+I394+J394","v":0},0,0,0,0,""]
[180,null,{"v":6109,"d":"61-09"},"вътрешни трансфери в системата на първостепенния разпоредител (+/-)",0,{"$f":"G395+H395+I395+J395","v":{"v":-285292,"d":"-285,292"}},{"v":-285292,"d":"-285,292"},0,0,0,1]
[185,{"v":6200,"d":"62-00"},"Трансфери между бюджети и сметки за средствата от ЕС (нето)",null,{"$f":"+E397+E398","v":0},0,0,0,0,0,""]
[190,null,{"v":6201,"d":"62-01"},"- получени трансфери (+)",0,{"$f":"G397+H397+I397+J397","v":0},0,{"$nulls":3},""]
[195,null,{"v":6202,"d":"62-02"},"- предоставени трансфери (-)",0,{"$f":"G398+H398+I398+J398","v":0},0,0,0,0,""]
[200,{"v":6300,"d":"63-00"},"Трансфери между сметки за средствата от ЕС (нето)",null,{"$f":"+E400+E401","v":0},0,0,0,0,0,""]
[205,null,{"v":6301,"d":"63-01"},"- получени трансфери (+)",0,{"$f":"G400+H400+I400+J400","v":0},0,null,null,0,""]
[206,null,{"v":6302,"d":"63-02"},"- предоставени трансфери (-)",0,{"$f":"G401+H401+I401+J401","v":0},0,{"$nulls":3},""]
[210,{"v":6400,"d":"64-00"},"Трансфери от/за държавни предприятия и други лица, включени в КФП",null,{"$f":"+E403+E404","v":0},0,0,0,0,0,""]
[211,null,{"v":6401,"d":"64-01"},"- получени трансфери (+)",0,{"$f":"G403+H403+I403+J403","v":0},0,{"$nulls":3},""]
[212,null,{"v":6402,"d":"64-02"},"- предоставени трансфери (-)",0,{"$f":"G404+H404+I404+J404","v":0},0,{"$nulls":3},""]
[213,{"v":6500,"d":"65-00"},"Трансфери на отчислени постъпления",null,null,{"$f":"G405+H405+I405+J405","v":0},{"$nulls":4},""]
[215,{"v":6600,"d":"66-00"},"Разчети за извършени плащания в СЕБРА (+/-)",null,{"$f":"+E407+E408","v":0},{"v":3433354,"d":"3,433,354"},{"v":3433354,"d":"3,433,354"},0,0,0,{"$f":"(IF($E406<>0,$K$2,IF($F406<>0,$K$2,IF($F407<>0,$K$2,IF($F408<>0,$K$2,\"\")))))","v":1}]
[220,null,{"v":6601,"d":"66-01"},"Разчети с подведомствени разпоредители за плащания в СЕБРА  (-)",0,{"$f":"G407+H407+I407+J407","v":0},0,0,0,0,""]
[225,null,{"v":6602,"d":"66-02"},"Разчети с първостепенен разпоредител за плащания в СЕБРА  (+)",0,{"$f":"G408+H408+I408+J408","v":{"v":3433354,"d":"3,433,354"}},{"v":3433354,"d":"3,433,354"},0,0,0,1]
[215,{"v":6700,"d":"67-00"},"Трансфери от/за сметки за чужди средства",null,{"$f":"+E410+E411","v":0},0,0,0,0,0,""]
[220,null,{"v":6701,"d":"67-01"},"трансфери от/за сметки за чужди средства - получени трансфери (+)",0,{"$f":"G410+H410+I410+J410","v":0},0,{"$nulls":3},""]
[225,null,{"v":6702,"d":"67-02"},"трансфери от/за сметки за чужди средства - предоставени трансфери (-)",0,{"$f":"G411+H411+I411+J411","v":0},0,{"$nulls":3},""]
[230,{"v":6900,"d":"69-00"},"Трансфери за поети осигурителни вноски и данъци",null,{"$f":"SUM(E413:E418)","v":0},{"v":1072665,"d":"1,072,665"},0,0,0,{"v":1072665,"d":"1,072,665"},{"$f":"(IF($E412<>0,$K$2,IF($F412<>0,$K$2,IF($F413<>0,$K$2,IF($F414<>0,$K$2,IF($F415<>0,$K$2,IF($F416<>0,$K$2,IF($F417<>0,$K$2,IF($F418<>0,$K$2,\"\")))))))))","v":1}]
[235,null,{"v":6901,"d":"69-01"},"Трансфери за поети данъци върху доходите на физически лица",0,{"$f":"G413+H413+I413+J413","v":{"v":241458,"d":"241,458"}},0,0,0,{"v":241458,"d":"241,458"},1]
[240,null,{"v":6905,"d":"69-05"},"Трансфери за поети осигурителни вноски за ДОО",0,{"v":515333,"d":"515,333"},0,0,0,{"v":515333,"d":"515,333"},1]
[240,null,{"v":6906,"d":"69-06"},"Трансфери за поети осигурителни вноски за здравно осигуряване",0,{"v":203997,"d":"203,997"},0,0,0,{"v":203997,"d":"203,997"},1]
[245,null,{"v":6907,"d":"69-07"},"Трансфери за поети осигурителни вноски за ДЗПО",0,{"v":111877,"d":"111,877"},0,0,0,{"v":111877,"d":"111,877"},1]
[250,null,{"v":6908,"d":"69-08"},"Корективен трансфер за поети осигурителни вноски и данъци",0,0,0,0,0,0,""]
[255,null,{"v":6909,"d":"69-09"},"Разпределени суми на трансфери за поети осигурителни вноски и данъци (-)",0,0,0,0,0,0,""]
[260,"ВСИЧКО","99-99","III. ВСИЧКО ТРАНСФЕРИ",{"$f":"SUM(E361,E375,E383,E388,E391,E396,E399,E402,E405,E406,E409,E412)","v":{"v":4191852,"d":"4,191,852"}},{"v":4220727,"d":"4,220,727"},{"v":3148062,"d":"3,148,062"},0,0,{"v":1072665,"d":"1,072,665"},1]
[261,"ІV. ВР.БЕЗЛ.ЗАЕМИ",null," 04 ¦",{"$nulls":6},""]
[262,{"$nulls":9},""]
[265,{"v":7400,"d":"74-00"},"Получени/предоставени временни безлихвени заеми от/за ЦБ (нето)",null,0,{"$f":"G422+H422+I422+J422","v":0},0,{"$nulls":3},""]
[275,{"v":7500,"d":"75-00"},"Временни безлихвени заеми между бюджети (нето)",null,0,{"$f":"G423+H423+I423+J423","v":0},0,{"$nulls":3},""]
[285,{"v":7600,"d":"76-00"},"Временни безлихвени заеми между бюджети и сметки за средствата от ЕС (нето)",null,0,{"$f":"G424+H424+I424+J424","v":0},0,{"$nulls":3},""]
[295,{"v":7700,"d":"77-00"},"Временни безлихвени заеми между сметки за средствата от ЕС (нето)",null,0,{"$f":"G425+H425+I425+J425","v":0},0,{"$nulls":3},{"$f":"(IF($E425<>0,$K$2,IF($F425<>0,$K$2,IF($G425<>0,$K$2,IF($H425<>0,$K$2,IF($I425<>0,$K$2,IF($J425<>0,$K$2,\"\")))))))","v":""}]
[215,{"v":7800,"d":"78-00"},"Временни безлихвени заеми от/за държавни предприятия и други сметки, включени в КФП ",null,{"$f":"+E427+E428","v":0},0,0,0,0,0,{"$f":"(IF($E426<>0,$K$2,IF($F426<>0,$K$2,IF($G426<>0,$K$2,IF($H426<>0,$K$2,IF($I426<>0,$K$2,IF($J426<>0,$K$2,\"\")))))))","v":""}]
[220,null,{"v":7833,"d":"78-33"},"Временни безлихвени заеми от/за сметки за чужди средства (нето) ",0,{"$f":"G427+H427+I427+J427","v":0},0,{"$nulls":3},{"$f":"(IF($E427<>0,$K$2,IF($F427<>0,$K$2,IF($G427<>0,$K$2,IF($H427<>0,$K$2,IF($I427<>0,$K$2,IF($J427<>0,$K$2,\"\")))))))","v":""}]
[225,null,{"v":7888,"d":"78-88"},"Временни безлихвени заеми от/за държавни предприятия, включени в КФП (нето) ",0,{"$f":"G428+H428+I428+J428","v":0},0,{"$nulls":3},{"$f":"(IF($E428<>0,$K$2,IF($F428<>0,$K$2,IF($G428<>0,$K$2,IF($H428<>0,$K$2,IF($I428<>0,$K$2,IF($J428<>0,$K$2,\"\")))))))","v":""}]
[315,"ВСИЧКО","99-99","IV. ВСИЧКО ВРЕМЕННИ БЕЗЛИХВЕНИ ЗАЕМИ",{"$f":"SUM(E422,E423,E424,E425,E426)","v":0},0,0,0,0,0,1]
[{"$nulls":10},1]
[{"$nulls":10},1]
[{"$nulls":10},1]
[null,{"$f":"$B$7","v":"ОТЧЕТНИ ДАННИ ПО ЕБК ЗА ИЗПЪЛНЕНИЕТО НА БЮДЖЕТА"},{"$nulls":8},1]
[{"$nulls":4},"за периода        от ","до",{"$nulls":4},1]
[null,{"$f":"$B$9","v":"РЕГИОНАЛНА ЗДРАВНА ИНСПЕКЦИЯ-БУРГАС"},null,null,{"$f":"$E$9","v":"2021-01-01"},{"$f":"$F$9","v":"2021-12-31"},{"$nulls":4},1]
[null,{"$f":"$B$10","v":"                                                            (наименование на разпоредителя с бюджет)"},{"$nulls":8},1]
[{"$nulls":10},1]
[null,{"$f":"$B$12","v":{"$error":"#N/A"}},null,null,"       код по ЕБК:",{"$f":"$F$12","v":"0"},{"$nulls":4},1]
[null,{"$f":"$B$13","v":"                                             (наименование на първостепенния разпоредител с бюджет)"},{"$nulls":8},1]
[{"$nulls":3},"ФИНАНСОВО-ПРАВНА ФОРМА",{"$f":"$E$15","v":0},{"$f":"+$F$15","v":"БЮДЖЕТ"},{"$nulls":4},1]
[{"$nulls":10},1]
[{"$nulls":9},"(в лева)",1]
[{"$nulls":3},"V.-VІ. БЮДЖЕТНО САЛДО и ФИНАНСИРАНЕ НА БЮДЖЕТНОТО САЛДО","Уточнен план 2021","ОТЧЕТНИ ДАННИ ОБЩО","левови\n сметки и СЕБРА ","валутни \nсметки ","операции в брой (в левове и валута)","операции приравнени на касов поток",1]
[{"$nulls":3}," 0 5  ¦","(1)","(2)=(3+4+5+6)","(3)","(4)","(5)","(6)",1]
[{"$nulls":3},"V. БЮДЖЕТНО САЛДО - ДЕФИЦИТ (-) / ИЗЛИШЪК (+)      (V.=I.-II.+III.+ІV.)",{"$f":"+E169-E301+E419+E429","v":0},{"v":-3128,"d":"(3,128)"},{"v":-112779,"d":"(112,779)"},0,{"v":109651,"d":"109,651"},0,1]
[{"$nulls":3},"VІ. ФИНАНСИРАНЕ НА БЮДЖЕТНОТО САЛДО (VІ.=-V.)",{"$f":"+E597","v":0},{"v":3128,"d":"3,128"},{"v":112779,"d":"112,779"},0,{"v":-109651,"d":"(109,651)"},0,1]
[{"$nulls":3},{"$f":"+IF(+SUM(E447:J447)=0,0,\"Контрола: дефицит/излишък = финансиране с обратен знак (V. + VІ. = 0)\")","v":0},0,0,0,0,0,0,1]
[{"$nulls":10},1]
[null,{"$f":"$B$7","v":"ОТЧЕТНИ ДАННИ ПО ЕБК ЗА ИЗПЪЛНЕНИЕТО НА БЮДЖЕТА"},{"$nulls":8},1]
[{"$nulls":4},"за периода        от ","до",{"$nulls":4},1]
[null,{"$f":"$B$9","v":"РЕГИОНАЛНА ЗДРАВНА ИНСПЕКЦИЯ-БУРГАС"},null,null,{"$f":"$E$9","v":"2021-01-01"},{"$f":"$F$9","v":"2021-12-31"},{"$nulls":4},1]
[null,{"$f":"$B$10","v":"                                                            (наименование на разпоредителя с бюджет)"},{"$nulls":8},1]
[{"$nulls":10},1]
[null,{"$f":"$B$12","v":{"$error":"#N/A"}},null,null,"       код по ЕБК:",{"$f":"$F$12","v":"0"},{"$nulls":4},1]
[{"$nulls":10},1]
[{"$nulls":3},"ФИНАНСОВО-ПРАВНА ФОРМА",{"$f":"$E$15","v":0},{"$f":"+$F$15","v":"БЮДЖЕТ"},{"$nulls":4},1]
[{"$nulls":9},"(в лева)",1]
[null,"       VI. ОПЕРАЦИИ С ФИНАНСОВИ АКТИВИ И ПАСИВИ (финансиране на бюдж. салдо)",null,null,"Уточнен план","                                                                                                                              О Т Ч Е Т Н И   Д А Н Н И",{"$nulls":4},1]
[null,"§§","под-§§","НАИМЕНОВАНИЕ НА ПАРАГРАФИТЕ И ПОДПАРАГРАФИТЕ",{"$f":"$C$3","v":2021},"ОБЩО","левови\n сметки и СЕБРА ","валутни \nсметки ","операции в брой (в левове и валута)","операции приравнени на касов поток",1]
[1,null,null," 0 6 ¦","(1)","(2)","(3)","(4)","(5)","(6)",1]
[5,{"v":7000,"d":"70-00"},"Придобиване на дялове, акции и съучастия (нето)",null,{"$f":"SUM(E462:E464)","v":0},0,0,0,0,0,{"$f":"(IF($E461<>0,$K$2,IF($F461<>0,$K$2,IF($G461<>0,$K$2,IF($H461<>0,$K$2,IF($I461<>0,$K$2,IF($J461<>0,$K$2,\"\")))))))","v":""}]
[10,null,{"v":7001,"d":"70-01"},"придобиване на дялове и акции и увеличение на капитала и капиталовите резерви (-)",0,{"$f":"G462+H462+I462+J462","v":0},0,{"$nulls":3},""]
[20,null,{"v":7003,"d":"70-03"},"участия в съвместни предприятия, активи и стопански дейности (-)",0,{"$f":"G463+H463+I463+J463","v":0},0,{"$nulls":3},""]
[25,null,{"v":7010,"d":"70-10"},"постъпления от продажби на дялове, акции, съучастия, и от ликвидационни дялове (+)",0,{"$f":"G464+H464+I464+J464","v":0},0,{"$nulls":3},""]
[30,{"v":7100,"d":"71-00"},"Предоставени кредити (нето)",null,{"$f":"+E466+E467","v":0},0,0,0,0,0,""]
[35,null,{"v":7101,"d":"71-01"},"предоставени средства по лихвени заеми (-)",0,{"$f":"G466+H466+I466+J466","v":0},0,{"$nulls":3},""]
[40,null,{"v":7102,"d":"71-02"},"възстановени главници по предоставени лихвени заеми (+)",0,{"$f":"G467+H467+I467+J467","v":0},0,{"$nulls":3},""]
[45,{"v":7200,"d":"72-00"},"Предоставена възмездна финансова помощ (нето)",null,{"$f":"+E469+E470","v":0},0,0,0,0,0,""]
[50,null,{"v":7201,"d":"72-01"},"предоставени средства по възмездна финансова помощ (-)",0,{"$f":"G469+H469+I469+J469","v":0},0,0,0,0,""]
[55,null,{"v":7202,"d":"72-02"},"възстановени суми по възмездна финансова помощ (+)",0,{"$f":"G470+H470+I470+J470","v":0},0,0,0,0,""]
[60,{"v":7300,"d":"73-00"},"Плащания по активирани гаранции, поръчителства и преоформен държавен дълг (нето)",null,{"$f":"SUM(E472:E477)","v":0},0,0,0,0,0,""]
[65,null,{"v":7320,"d":"73-20"},"Погашения по активирани гаранции по заеми от  банки в страната",0,{"$f":"G472+H472+I472+J472","v":0},0,{"$nulls":3},""]
[85,null,{"v":7369,"d":"73-69"},"Погашения по активирани гаранции по заеми от международни организации и институции",0,0,0,{"$nulls":3},""]
[90,null,{"v":7370,"d":"73-70"},"Погашения по активирани гаранции по заеми от банки и финансови институции от чужбина",0,0,0,{"$nulls":3},""]
[95,null,{"v":7391,"d":"73-91"},"възстановени средства по активирани гаранции и поръчителства (+)",0,0,0,{"$nulls":3},""]
[100,null,{"v":7392,"d":"73-92"},"вноски от предприятия по преоформен държавен дълг (+)",0,0,0,{"$nulls":3},""]
[105,null,{"v":7393,"d":"73-93"},"получени суми от банки в несъстоятелност (+)",0,0,0,{"$nulls":3},""]
[110,{"v":7900,"d":"79-00"},"Предоставени заеми към крайни бенефициенти по държавни инвестиционни заеми (нето)",null,{"$f":"+E479+E480","v":0},0,0,0,0,0,""]
[115,null,{"v":7901,"d":"79-01"},"предоставени заеми на крайни бенефициенти (-)",0,{"$f":"G479+H479+I479+J479","v":0},0,{"$nulls":3},""]
[120,null,{"v":7902,"d":"79-02"},"възстановени суми по предоставени заеми на крайни бенефиценти (+)",0,{"$f":"G480+H480+I480+J480","v":0},0,{"$nulls":3},""]
[125,{"v":8000,"d":"80-00"},"Заеми от чужбина - нето (+/-)",null,{"$f":"SUM(E482:E496)","v":0},0,0,0,0,0,""]
[130,null,{"v":8011,"d":"80-11"},"получени краткосрочни заеми от други държави (+)",0,{"$f":"G482+H482+I482+J482","v":0},0,{"$nulls":3},""]
[135,null,{"v":8012,"d":"80-12"},"получени дългосрочни заеми от други държави (+)",0,0,0,{"$nulls":3},""]
[140,null,{"v":8017,"d":"80-17"},"погашения по краткосрочни заеми от други държави (-)",0,0,0,{"$nulls":3},""]
[145,null,{"v":8018,"d":"80-18"},"погашения по дългосрочни заеми от други държави (-)",0,0,0,{"$nulls":3},""]
[150,null,{"v":8031,"d":"80-31"},"получени краткосрочни заеми от международни организации (+)",0,0,0,{"$nulls":3},""]
[155,null,{"v":8032,"d":"80-32"},"получени дългосрочни заеми от международни организации (+)",0,0,0,{"$nulls":3},""]
[175,null,{"v":8037,"d":"80-37"},"погашения по краткосрочни заеми от международни организации (-)",0,0,0,{"$nulls":3},""]
[180,null,{"v":8038,"d":"80-38"},"погашения по дългосрочнизаеми от международни организации (-)",0,0,0,{"$nulls":3},""]
[185,null,{"v":8051,"d":"80-51"},"получени краткосрочни заеми от банки и финансови институции от чужбина (+)",0,0,0,{"$nulls":3},""]
[190,null,{"v":8052,"d":"80-52"},"получени дългосрочни заеми от банки и финансови институции от чужбина (+)",0,0,0,{"$nulls":3},""]
[195,null,{"v":8057,"d":"80-57"},"погашения по краткосрочни заеми от банки и финансови институции от чужбина (-)",0,0,0,{"$nulls":3},""]
[200,null,{"v":8058,"d":"80-58"},"погашения по дългосрочни заеми от банки и финансови институции от чужбина (-)",0,0,0,{"$nulls":3},""]
[205,null,{"v":8080,"d":"80-80"},"клирингови разчети - пасивни и активни салда (-/+)",0,0,0,{"$nulls":3},""]
[210,null,{"v":8097,"d":"80-97"},"друго финансиране от чужбина (+)",0,0,0,{"$nulls":3},""]
[215,null,{"v":8098,"d":"80-98"},"други погашения и плащания по финансиране от чужбина (-)",0,0,0,0,0,0,""]
[220,{"v":8100,"d":"81-00"},"Държавни (общински) ценни книжа емитирани на международните капиталови пазари",null,{"$f":"SUM(E498:E501)","v":0},0,0,0,0,0,""]
[225,null,{"v":8111,"d":"81-11"},"краткосрочни  ДЦК (ОбЦК) емитирани на международните капиталови пазари (+)",0,{"$f":"G498+H498+I498+J498","v":0},0,{"$nulls":3},""]
[230,null,{"v":8112,"d":"81-12"},"дългосрочни ДЦК (ОбЦК) емитирани на международните капиталови пазари (+)",0,{"$f":"G499+H499+I499+J499","v":0},0,{"$nulls":3},""]
[235,null,{"v":8121,"d":"81-21"},"погашения по  краткосрочни ДЦК (ОбЦК) емитирани на международните капиталови пазари (-)",0,{"$f":"G500+H500+I500+J500","v":0},0,{"$nulls":3},""]
[240,null,{"v":8122,"d":"81-22"},"погашения по дългосрочни ДЦК (ОбЦК) емитирани на международните капиталови пазари (-)",0,{"$f":"G501+H501+I501+J501","v":0},0,{"$nulls":3},""]
[245,{"v":8200,"d":"82-00"},"Получени погашения по предоставени кредити на други държави (+)",null,null,{"$f":"G502+H502+I502+J502","v":0},{"$nulls":4},""]
[255,{"v":8300,"d":"83-00"},"Заеми от банки и други лица в страната - нето (+/-)",null,{"$f":"SUM(E504:E511)","v":0},0,0,0,0,0,""]
[260,null,{"v":8311,"d":"83-11"},"получени краткосрочни заеми от банки в страната (+)",0,{"$f":"G504+H504+I504+J504","v":0},0,{"$nulls":3},""]
[261,null,{"v":8312,"d":"83-12"},"получени дългосрочни заеми от банки в страната (+)",0,0,0,{"$nulls":3},""]
[262,null,{"v":8321,"d":"83-21"},"погашения по краткосрочни заеми от банки в страната (-)",0,0,0,{"$nulls":3},""]
[263,null,{"v":8322,"d":"83-22"},"погашения по дългосрочни заеми от банки в страната (-)",0,0,0,{"$nulls":3},""]
[264,null,{"v":8371,"d":"83-71"},"получени краткосрочни заеми от други лица  в страната (+)",0,0,0,{"$nulls":3},""]
[265,null,{"v":8372,"d":"83-72"},"получени дългосрочни заеми от други лица в страната (+)",0,0,0,{"$nulls":3},""]
[266,null,{"v":8381,"d":"83-81"},"погашения по краткосрочни заеми от други лица в страната (-)",0,0,0,{"$nulls":3},""]
[267,null,{"v":8382,"d":"83-82"},"погашения по дългосрочни заеми от други лица в страната (-)",0,0,0,{"$nulls":3},""]
[295,{"v":8500,"d":"85-00"},"Емисии на държавни (общински) ценни книжа (+)",null,{"$f":"SUM(E513:E515)","v":0},0,0,0,0,0,""]
[300,null,{"v":8501,"d":"85-01"},"емисии на краткосрочни държавни (общински) ценни книжа (+)",0,{"$f":"G513+H513+I513+J513","v":0},0,{"$nulls":3},""]
[305,null,{"v":8502,"d":"85-02"},"емисии на дългосрочни държавни (общински) ценни книжа (+)",0,{"$f":"G514+H514+I514+J514","v":0},0,{"$nulls":3},""]
[310,null,{"v":8504,"d":"85-04"},"целеви емисии на дългосрочни държавни (общински) ценни книжа (+)",0,{"$f":"G515+H515+I515+J515","v":0},0,{"$nulls":3},""]
[315,{"v":8600,"d":"86-00"},"Погашения на държавни (общински) ценни книжа (-)",null,{"$f":"SUM(E517:E520)","v":0},0,0,0,0,0,""]
[320,null,{"v":8611,"d":"86-11"},"погашения по краткосрочни държавни (общински) ценни книжа (-)",0,{"$f":"G517+H517+I517+J517","v":0},0,{"$nulls":3},""]
[325,null,{"v":8621,"d":"86-21"},"погашения по дългосрочни държавни (общински) ценни книжа (-)",0,{"$f":"G518+H518+I518+J518","v":0},0,{"$nulls":3},""]
[330,null,{"v":8623,"d":"86-23"},"погашения по целеви емисии на дългосрочни държавни (общински) ценни книжа (-)",0,{"$f":"G519+H519+I519+J519","v":0},0,{"$nulls":3},""]
[340,null,{"v":8640,"d":"86-40"},"погашения по ДЦК, емитирани за структурната реформа (-)",0,{"$f":"G520+H520+I520+J520","v":0},0,{"$nulls":3},""]
[295,{"v":8700,"d":"87-00"},"Разчети между първостепенни разпоредители  за централизация на средства и плащания в СЕБРА",null,{"$f":"SUM(E522:E523)","v":0},0,0,0,0,0,""]
[300,null,{"v":8733,"d":"87-33"},"разчети между първостепенни разпоредители за централизация на средства (+/-)",0,{"$f":"G522+H522+I522+J522","v":0},0,{"$nulls":3},""]
[310,null,{"v":8766,"d":"87-66"},"разчети между първостепенни разпоредители за плащания в СЕБРА (+/-)",0,{"$f":"G523+H523+I523+J523","v":0},0,{"$nulls":3},""]
[355,{"v":8800,"d":"88-00"},"Събрани средства и извършени плащания за сметка на други бюджети, сметки и фондове ",null,{"$f":"SUM(E525:E530)","v":0},0,0,0,0,0,""]
[360,null,{"v":8801,"d":"88-01"},"събрани средства и извършени плащания от/за ЦБ (+/-)",0,{"$f":"G525+H525+I525+J525","v":0},0,0,0,0,{"$f":"(IF($E525<>0,$K$2,IF($F525<>0,$K$2,IF($G525<>0,$K$2,IF($H525<>0,$K$2,IF($I525<>0,$K$2,IF($J525<>0,$K$2,\"\")))))))","v":""}]
[365,null,{"v":8802,"d":"88-02"},"събрани средства и извършени плащания от/за бюджети по държавния бюджет (+/-)",0,0,0,0,0,0,""]
[365,null,{"v":8803,"d":"88-03"},"събрани средства и извършени плащания от/за сметки за средствата от Европейския съюз ",0,0,0,0,0,0,""]
[370,null,{"v":8804,"d":"88-04"},"събрани средства и извършени плащания от/за общински бюджети (+/-)",0,0,0,{"$nulls":3},""]
[365,null,"88-05","събрани средства и извършени плащания от/за социалноосигурителни фондове (+/-)",0,0,0,{"$nulls":3},""]
[370,null,{"v":8809,"d":"88-09"},"събрани средства и извършени плащания от/за други бюджети (+/-)",0,0,0,{"$nulls":3},""]
[375,{"v":8900,"d":"89-00"},"Суми по разчети за поети осигурителни вноски и данъци",null,{"$f":"SUM(E532:E534)","v":0},0,0,0,0,0,""]
[380,null,{"v":8901,"d":"89-01"},"суми по разчети м/у ЦБ,НОИ, НЗОК и НАП за поети осигурителни вноски",0,{"$f":"G532+H532+I532+J532","v":0},0,{"$nulls":3},""]
[385,null,{"v":8902,"d":"89-02"},"суми по разчети м/у ЦБ и бюджетните организации за поети осигурителни вноски и данъци",0,{"$f":"G533+H533+I533+J533","v":0},0,{"$nulls":3},""]
[390,null,{"v":8903,"d":"89-03"},"суми по разчети м/у бюджети, сметки и фондове за поети осигурителни вноски и данъци",0,{"$f":"G534+H534+I534+J534","v":0},0,0,0,0,""]
[395,{"v":9000,"d":"90-00"},"Приватизация на дялове, акции и участия",null,null,{"$f":"G535+H535+I535+J535","v":0},{"$nulls":4},""]
[405,{"v":9100,"d":"91-00"},"Покупко-продажба на държавни (общински) ценни книжа от бюджетни организации - нето  (+/-)",null,{"$f":"SUM(E537:E540)","v":0},0,0,0,0,0,""]
[410,null,{"v":9111,"d":"91-11"},"покупка на държавни (общински) ценни книжа на първичния пазар (-)",0,{"$f":"G537+H537+I537+J537","v":0},0,{"$nulls":3},""]
[415,null,{"v":9112,"d":"91-12"},"покупка на държавни (общински) ценни книжа на вторичния пазар (-)",0,{"$f":"G538+H538+I538+J538","v":0},0,{"$nulls":3},""]
[420,null,{"v":9121,"d":"91-21"},"продажба на държавни (общински) ценни книжа (+)",0,{"$f":"G539+H539+I539+J539","v":0},0,{"$nulls":3},""]
[425,null,{"v":9122,"d":"91-22"},"получени погашения по държавни (общински) ценни книжа (+)",0,{"$f":"G540+H540+I540+J540","v":0},0,{"$nulls":3},""]
[430,{"v":9200,"d":"92-00"},"Операции с други ценни книжа и финансови активи за управление на ликвидността - нето (+/-)",null,{"$f":"+E542+E543","v":0},0,0,0,0,0,""]
[435,null,{"v":9201,"d":"92-01"},"с чуждестранни ценни книжа и финасови активи (+/-)",0,{"$f":"G542+H542+I542+J542","v":0},0,{"$nulls":3},""]
[440,null,{"v":9202,"d":"92-02"},"с ценни книжа и финансови активи на местни лица /резиденти/ (+/-)",0,{"$f":"G543+H543+I543+J543","v":0},0,{"$nulls":3},""]
[445,{"v":9300,"d":"93-00"},"Друго финансиране - нето(+/-)",null,{"$f":"SUM(E545:E565)","v":0},{"v":3128,"d":"3,128"},{"v":3329,"d":"3,329"},0,-201,0,1]
[450,null,{"v":9301,"d":"93-01"},"чужди средства от държавни/общински предприятия (+/-)",0,{"$f":"G545+H545+I545+J545","v":0},0,{"$nulls":3},""]
[450,null,{"v":9310,"d":"93-10"},"чужди средства от други лица (небюджетни предприятия и физически лица) (+/-)",0,0,201,0,-201,0,1]
[451,null,{"v":9317,"d":"93-17"},"задължения по финансов лизинг и търговски кредит (+)",0,0,0,0,0,null,""]
[452,null,{"v":9318,"d":"93-18"},"погашения по финансов лизинг и търговски кредит (-)",0,0,0,{"$nulls":3},""]
[456,null,{"v":9321,"d":"93-21"},"плащания за сметка на Европейския съюз - директни плащания на земеделски производители (-)",0,0,0,{"$nulls":3},""]
[457,null,{"v":9322,"d":"93-22"},"възстановени суми от Европейския съюз - директни плащания на земеделски производители (+)",0,0,0,{"$nulls":3},""]
[458,null,{"v":9323,"d":"93-23"},"плащания за сметка на Европейския съюз - средства от ЕЗФРСР, прехвърлени към директни плащания (-)",0,0,0,{"$nulls":3},""]
[459,null,{"v":9324,"d":"93-24"},"възстановени суми от Европейския съюз - средства от ЕЗФРСР, прехвърлени към директни плащания (+)",0,0,0,{"$nulls":3},""]
[460,null,{"v":9325,"d":"93-25"},"плащания за сметка на Европейския съюз - пазарни мерки  (-)",0,0,0,{"$nulls":3},""]
[461,null,{"v":9326,"d":"93-26"},"възстановени суми от Европейския съюз - пазарни мерки (+)",0,0,0,{"$nulls":3},""]
[null,null,{"v":9327,"d":"93-27"},"плащания за сметка на средства на Европейския съюз от суми за преструктуриране (-)",0,0,0,{"$nulls":3},""]
[null,null,{"v":9328,"d":"93-28"}," постъпления от Европейския съюз - суми за преструктуриране (+)",0,0,0,{"$nulls":3},""]
[462,null,{"v":9330,"d":"93-30"},"суми по разчети с централния бюджет за финансиране на плащания при недостиг на средства по сметки (+/-)",0,0,0,{"$nulls":3},""]
[null,null,{"v":9336,"d":"93-36"},"друго финансиране - операции с активи - предоставени временни депозити и гаранции на други бюджетни организации (-/+)",0,0,0,{"$nulls":3},""]
[462,null,{"v":9337,"d":"93-37"},"друго финансиране - операции с пасиви - получени временни депозити и гаранции от други бюджетни организации (-/+)",0,0,0,{"$nulls":3},""]
[null,null,{"v":9338,"d":"93-38"},"друго финансиране - операции с активи (+/-)",0,{"v":3128,"d":"3,128"},{"v":3128,"d":"3,128"},0,0,0,1]
[462,null,{"v":9339,"d":"93-39"},"друго финансиране - операции с пасиви (+/-)",0,0,0,0,0,0,""]
[null,null,{"v":9355,"d":"93-55"},"събрани суми за допълнително задължително пенсионно осигуряване (+)",0,0,0,0,null,null,""]
[462,null,{"v":9356,"d":"93-56"},"разпределени суми за допълнително задължително пенсионно осигуряване (-)",0,0,0,{"$nulls":3},""]
[462,null,{"v":9395,"d":"93-95"},"получени парични наличности при преобразуване на бюджетни организации (+)",0,0,0,{"$nulls":3},""]
[465,null,{"v":9396,"d":"93-96"},"прехвърлени парични наличности при преобразуване на бюджетни организации (-)",0,{"$f":"G565+H565+I565+J565","v":0},0,{"$nulls":3},""]
[470,{"v":9500,"d":"95-00"},"Депозити и средства по сметки - нето (+/-)   ",null,{"$f":"SUM(E567:E585)","v":0},0,0,0,0,0,""]
[475,null,{"v":9501,"d":"95-01"},"остатък в левове по сметки от предходния период (+)",0,{"$f":"G567+H567+I567+J567","v":0},0,0,0,0,"",null,{"$f":"+IF(OR($F567<0,$E567<0),\"Гр.знак\",0)","v":0}]
[480,null,{"v":9502,"d":"95-02"},"остатък в левова равностойност по валутни сметки от предходния период (+)",0,0,0,0,0,0,"",null,0]
[485,null,{"v":9503,"d":"95-03"},"остатък в левове по депозити от предходния период (+)",0,0,0,0,0,0,"",null,0]
[490,null,{"v":9504,"d":"95-04"},"остатък в левова равностойност по депозити във валута от предходния период (+)",0,0,0,null,0,0,"",null,0]
[495,null,{"v":9505,"d":"95-05"},"остатък в касата в  левове от предходния период (+)",0,0,0,0,0,0,"",null,0]
[500,null,{"v":9506,"d":"95-06"},"остътък  в касата във валута от предходния период (+)",0,0,0,0,null,0,"",null,0]
[505,null,{"v":9507,"d":"95-07"},"наличност в левове по сметки в края на периода (-)",0,0,0,0,0,0,"",null,{"$f":"+IF(OR($F573>0,$E573>0),\"Гр.знак\",0)","v":0}]
[510,null,{"v":9508,"d":"95-08"},"наличност в левова равностойност по валутни сметки в края на периода (-)",0,0,0,0,0,0,"",null,0]
[515,null,{"v":9509,"d":"95-09"},"наличност в левове по депозити в края на периода (-)",0,0,0,0,0,0,"",null,0]
[520,null,{"v":9510,"d":"95-10"},"наличност в левова равностойност по депозити във валута в края на периода (-)",0,0,0,null,0,0,"",null,0]
[525,null,{"v":9511,"d":"95-11"},"наличност в касата в левове в края на периода (-)",0,0,0,0,0,0,"",null,0]
[530,null,{"v":9512,"d":"95-12"},"наличност в касата във валута в края на периода (-)",0,0,0,0,0,0,"",null,0]
[535,null,{"v":9513,"d":"95-13"},"преводи в процес на сетълмент (-/+)",0,0,0,null,0,0,""]
[540,null,{"v":9514,"d":"95-14"}," преоценка на валутни наличности (нереализирани курсови разлики) по сметки и средства в страната  (+/-)",0,0,0,0,0,0,""]
[545,null,{"v":9521,"d":"95-21"},"остатък в левова равностойност по валутни сметки  в чужбина от предходния период (+)",0,0,0,null,0,0,"",null,{"$f":"+IF(OR($F581<0,$E581<0),\"Гр.знак\",0)","v":0}]
[550,null,{"v":9522,"d":"95-22"},"остатък в касата във валута  в чужбина от предходния период (+)",0,0,0,0,null,0,"",null,{"$f":"+IF(OR($F582<0,$E582<0),\"Гр.знак\",0)","v":0}]
[555,null,{"v":9528,"d":"95-28"},"наличност в касата във валута  в чужбина в края на периода (-)",0,0,0,0,null,0,"",null,{"$f":"+IF(OR($F583>0,$E583>0),\"Гр.знак\",0)","v":0}]
[560,null,{"v":9529,"d":"95-29"},"наличност в левова равностойност по валутни сметки в чужбина в края на периода(-)",0,0,0,null,0,0,"",null,{"$f":"+IF(OR($F584>0,$E584>0),\"Гр.знак\",0)","v":0}]
[561,null,{"v":9549,"d":"95-49"},"преоценка на валутни наличности (нереализирани курсови разлики) по сметки и средства в чужбина (+/-)",0,0,0,null,null,0,""]
[565,{"v":9600,"d":"96-00"},"Депозити и сметки консолидирани в системата на \"Единната сметка\"-нето (+/-)",null,{"$f":"SUM(E587:E590)","v":0},0,0,0,0,0,""]
[566,null,{"v":9601,"d":"96-01"},"остатък по левови текущи сметки на бюджетните организации в БНБ от предходния период (+) ",0,{"$f":"G587+H587+I587+J587","v":0},0,0,0,0,"",null,{"$f":"+IF(AND($F$12<>\"9900\",OR($F587<0,$E587<0)),\"Гр.знак\",IF(AND($F$12=\"9900\",OR($F587>0,$E587>0)),\"Гр.знак\",0))","v":0}]
[567,null,{"v":9603,"d":"96-03"},"остатък по левови депозити на бюджетните организации в БНБ от предходния период (+)",0,{"$f":"G588+H588+I588+J588","v":0},0,0,0,0,"",null,{"$f":"+IF(AND($F$12<>\"9900\",OR($F588<0,$E588<0)),\"Гр.знак\",IF(AND($F$12=\"9900\",OR($F588>0,$E588>0)),\"Гр.знак\",0))","v":0}]
[568,null,{"v":9607,"d":"96-07"},"наличност по левови текущи сметки на бюджетните организации в БНБ в края на периода (-) ",0,{"$f":"G589+H589+I589+J589","v":0},0,0,0,0,{"$f":"(IF($E589<>0,$K$2,IF($F589<>0,$K$2,IF($G589<>0,$K$2,IF($H589<>0,$K$2,IF($I589<>0,$K$2,IF($J589<>0,$K$2,\"\")))))))","v":""},null,{"$f":"+IF(AND($F$12<>\"9900\",OR($F589>0,$E589>0)),\"Гр.знак\",IF(AND($F$12=\"9900\",OR($F589<0,$E589<0)),\"Гр.знак\",0))","v":0}]
[569,null,{"v":9609,"d":"96-09"},"наличност по левови депозити на бюджетните организации в БНБ в края на периода (-)",0,{"$f":"G590+H590+I590+J590","v":0},0,0,0,0,"",null,{"$f":"+IF(AND($F$12<>\"9900\",OR($F590>0,$E590>0)),\"Гр.знак\",IF(AND($F$12=\"9900\",OR($F590<0,$E590<0)),\"Гр.знак\",0))","v":0}]
[575,{"v":9800,"d":"98-00"},"Касови операции, депозити, покупко-продажба на валута и сетълмент операции",null,{"$f":"SUM(E592:E596)","v":0},0,{"v":109450,"d":"109,450"},0,{"v":-109450,"d":"-109,450"},0,1]
[580,null,{"v":9810,"d":"98-10"},"операции в брой между банка и каса (+/-)",0,{"$f":"G592+H592+I592+J592","v":0},{"v":109450,"d":"109,450"},0,{"v":-109450,"d":"-109,450"},0,1]
[585,null,{"v":9820,"d":"98-20"},"предоставяне (възстановяване) на средства по срочни депозити (+/-)",0,{"$f":"G593+H593+I593+J593","v":0},0,null,null,0,""]
[590,null,{"v":9830,"d":"98-30"},"покупко-продажба на валута (+/-)",0,{"$f":"G594+H594+I594+J594","v":0},0,0,null,0,""]
[600,null,{"v":9850,"d":"98-50"},"операции СЕБРА - захранване на \"сметки за наличности\" (+/-)",0,{"$f":"G595+H595+I595+J595","v":0},0,0,0,0,""]
[605,null,{"v":9890,"d":"98-90"},"салдо по сметката на ЦБ за разпределение на преводи от системата за брутен сетълмент в реално време (+/-)",0,{"$f":"G596+H596+I596+J596","v":0},0,0,0,0,""]
[610,"ВСИЧКО","99-99","VI. ВСИЧКО ОПЕРАЦИИ С ФИНАНСОВИ АКТИВИ И ПАСИВИ",{"$f":"SUM(E461,E465,E468,E471,E481,E497,E502,E503,E512,E516,E521,E478,E524,E531,E535,E536,E541,E544,E566,E586,E591)","v":0},{"v":3128,"d":"3,128"},{"v":112779,"d":"112,779"},0,{"v":-109651,"d":"-109,651"},0,1]
[{"$nulls":3},{"$f":"+IF(+SUM(E598:J598)=0,0,\"Контрола: дефицит/излишък = финансиране с обратен знак (V. + VІ. = 0)\")","v":0},{"$f":"E597+E445","v":0},0,0,0,0,0,1]
[{"$nulls":10},1]
[{"$nulls":5},"ГЛ. СЧЕТОВОДИТЕЛ:","Ц. ДИМИТРОВА",{"$nulls":3},1]
[{"$nulls":6},"( име и фамилия)",{"$nulls":3},1]
[{"$nulls":10},1]
[null,null,"ИЗГОТВИЛ:","Ц. ДИМИТРОВА",null,"РЪКОВОДИТЕЛ:","Д-Р ГЕОРГИ ПАЗДЕРОВ",{"$nulls":3},1]
[null,"дата",null,"                                                                      ( име и фамилия)",null,null,"( име и фамилия)",{"$nulls":3},1]
[{"$nulls":3},"служебни телефони ",null,{"v":879505280,"d":"879,505,280"},"e-mail:",{"$nulls":3},1]
[{"$nulls":10},1]
[{"$nulls":6},"Web-адрес:",{"$nulls":3},1]
[{"$nulls":10},1]
[{"$nulls":10},{"$f":"(IF($E742<>0,$K$2,IF($F742<>0,$K$2,IF($G742<>0,$K$2,IF($H742<>0,$K$2,IF($I742<>0,$K$2,IF($J742<>0,$K$2,\"\")))))))","v":""}]
[{"$nulls":10},{"$f":"(IF($E742<>0,$K$2,IF($F742<>0,$K$2,IF($G742<>0,$K$2,IF($H742<>0,$K$2,IF($I742<>0,$K$2,IF($J742<>0,$K$2,\"\")))))))","v":""}]
[null,{"$f":"$B$7","v":"ОТЧЕТНИ ДАННИ ПО ЕБК ЗА ИЗПЪЛНЕНИЕТО НА БЮДЖЕТА"},{"$nulls":8},{"$f":"(IF($E742<>0,$K$2,IF($F742<>0,$K$2,IF($G742<>0,$K$2,IF($H742<>0,$K$2,IF($I742<>0,$K$2,IF($J742<>0,$K$2,\"\")))))))","v":""}]
[{"$nulls":4},"за периода от ","до",null,"                 II.1. РАЗХОДИ ПО ДЕЙНОСТИ",null,null,{"$f":"(IF($E742<>0,$K$2,IF($F742<>0,$K$2,IF($G742<>0,$K$2,IF($H742<>0,$K$2,IF($I742<>0,$K$2,IF($J742<>0,$K$2,\"\")))))))","v":""}]
[null,{"$f":"$B$9","v":"РЕГИОНАЛНА ЗДРАВНА ИНСПЕКЦИЯ-БУРГАС"},null,null,{"$f":"$E$9","v":"2021-01-01"},{"$f":"$F$9","v":"2021-12-31"},{"$nulls":4},{"$f":"(IF($E742<>0,$K$2,IF($F742<>0,$K$2,IF($G742<>0,$K$2,IF($H742<>0,$K$2,IF($I742<>0,$K$2,IF($J742<>0,$K$2,\"\")))))))","v":""}]
[null,{"$f":"$B$10","v":"                                                            (наименование на разпоредителя с бюджет)"},{"$nulls":8},{"$f":"(IF($E742<>0,$K$2,IF($F742<>0,$K$2,IF($G742<>0,$K$2,IF($H742<>0,$K$2,IF($I742<>0,$K$2,IF($J742<>0,$K$2,\"\")))))))","v":""}]
[{"$nulls":10},{"$f":"(IF($E742<>0,$K$2,IF($F742<>0,$K$2,IF($G742<>0,$K$2,IF($H742<>0,$K$2,IF($I742<>0,$K$2,IF($J742<>0,$K$2,\"\")))))))","v":""}]
[null,{"$f":"$B$12","v":{"$error":"#N/A"}},null,null,"       код по ЕБК:",{"$f":"$F$12","v":"0"},{"$nulls":4},{"$f":"(IF($E742<>0,$K$2,IF($F742<>0,$K$2,IF($G742<>0,$K$2,IF($H742<>0,$K$2,IF($I742<>0,$K$2,IF($J742<>0,$K$2,\"\")))))))","v":""}]
[null,{"$f":"$B$13","v":"                                             (наименование на първостепенния разпоредител с бюджет)"},{"$nulls":8},{"$f":"(IF($E742<>0,$K$2,IF($F742<>0,$K$2,IF($G742<>0,$K$2,IF($H742<>0,$K$2,IF($I742<>0,$K$2,IF($J742<>0,$K$2,\"\")))))))","v":""}]
[{"$nulls":3},"ФИНАНСОВО-ПРАВНА ФОРМА",{"$f":"$E$15","v":0},{"$f":"$F$15","v":"БЮДЖЕТ"},{"$nulls":4},{"$f":"(IF($E742<>0,$K$2,IF($F742<>0,$K$2,IF($G742<>0,$K$2,IF($H742<>0,$K$2,IF($I742<>0,$K$2,IF($J742<>0,$K$2,\"\")))))))","v":""}]
[{"$nulls":9},"(в лева)",{"$f":"(IF($E742<>0,$K$2,IF($F742<>0,$K$2,IF($G742<>0,$K$2,IF($H742<>0,$K$2,IF($I742<>0,$K$2,IF($J742<>0,$K$2,\"\")))))))","v":""}]
[{"$nulls":3},"II.1. РАЗХОДИ ПО ДЕЙНОСТИ","Уточнен план","                                                                                                                              О Т Ч Е Т Н И   Д А Н Н И",{"$nulls":4},{"$f":"(IF($E742<>0,$K$2,IF($F742<>0,$K$2,IF($G742<>0,$K$2,IF($H742<>0,$K$2,IF($I742<>0,$K$2,IF($J742<>0,$K$2,\"\")))))))","v":""}]
[null,"§§","под-§§","НАИМЕНОВАНИЯ НА ПАРАГРАФИТЕ И ПОДПАРАГРАФИТЕ",{"$f":"$C$3","v":2021},"ОБЩО","левови\n сметки и СЕБРА ","валутни \nсметки ","операции в брой (в левове и валута)","операции приравнени на касов поток",{"$f":"(IF($E742<>0,$K$2,IF($F742<>0,$K$2,IF($G742<>0,$K$2,IF($H742<>0,$K$2,IF($I742<>0,$K$2,IF($J742<>0,$K$2,\"\")))))))","v":""}]
[{"$nulls":3}," 02 ¦","(1)","(2)","(3)","(4)","(5)","(6)",{"$f":"(IF($E742<>0,$K$2,IF($F742<>0,$K$2,IF($G742<>0,$K$2,IF($H742<>0,$K$2,IF($I742<>0,$K$2,IF($J742<>0,$K$2,\"\")))))))","v":""}]
[null,null,0,"ИЗБЕРЕТЕ ОПЕРАТИВНА ПРОГРАМА ",{"$nulls":6},{"$f":"(IF($E742<>0,$K$2,IF($F742<>0,$K$2,IF($G742<>0,$K$2,IF($H742<>0,$K$2,IF($I742<>0,$K$2,IF($J742<>0,$K$2,\"\")))))))","v":""}]
[null,null,{"$f":"VLOOKUP(D625,EBK_DEIN2,2,FALSE)","v":1104},"<------          ДЕЙНОСТ    -  код  по  ЕБК",{"$nulls":6},{"$f":"(IF($E742<>0,$K$2,IF($F742<>0,$K$2,IF($G742<>0,$K$2,IF($H742<>0,$K$2,IF($I742<>0,$K$2,IF($J742<>0,$K$2,\"\")))))))","v":""}]
[null,null,{"$f":"+C624","v":1104},"104 Централни държавни органи по здравеопазването",{"$nulls":6},{"$f":"(IF($E742<>0,$K$2,IF($F742<>0,$K$2,IF($G742<>0,$K$2,IF($H742<>0,$K$2,IF($I742<>0,$K$2,IF($J742<>0,$K$2,\"\")))))))","v":""}]
[{"$nulls":3},"(наименование на дейността)",{"$nulls":6},{"$f":"(IF($E742<>0,$K$2,IF($F742<>0,$K$2,IF($G742<>0,$K$2,IF($H742<>0,$K$2,IF($I742<>0,$K$2,IF($J742<>0,$K$2,\"\")))))))","v":""}]
[null,{"v":100,"d":"01-00"},"Заплати и възнаграждения за персонала, нает по трудови и служебни правоотношения",null,{"$f":"SUM(E628:E629)","v":0},0,0,0,0,0,{"$f":"(IF($E627<>0,$K$2,IF($F627<>0,$K$2,IF($G627<>0,$K$2,IF($H627<>0,$K$2,IF($I627<>0,$K$2,IF($J627<>0,$K$2,\"\")))))))","v":""}]
[null,null,{"v":101,"d":"01-01"},"заплати и възнаграждения на персонала нает по трудови правоотношения",0,{"$f":"G628+H628+I628+J628","v":0},0,0,0,0,{"$f":"(IF($E628<>0,$K$2,IF($F628<>0,$K$2,IF($G628<>0,$K$2,IF($H628<>0,$K$2,IF($I628<>0,$K$2,IF($J628<>0,$K$2,\"\")))))))","v":""}]
[null,null,{"v":102,"d":"01-02"},"заплати и възнаграждения на персонала нает по служебни правоотношения",0,{"$f":"G629+H629+I629+J629","v":0},0,0,0,0,""]
[null,{"v":200,"d":"02-00"},"Други възнаграждения и плащания за персонала",null,{"$f":"SUM(E631:E635)","v":0},0,0,0,0,0,""]
[null,null,{"v":201,"d":"02-01"},"за нещатен персонал нает по трудови правоотношения ",0,{"$f":"G631+H631+I631+J631","v":0},0,0,0,0,""]
[null,null,{"v":202,"d":"02-02"},"за персонала по извънтрудови правоотношения",0,{"$f":"G632+H632+I632+J632","v":0},0,0,0,0,""]
[null,null,{"v":205,"d":"02-05"},"изплатени суми от СБКО за облекло и други на персонала, с характер на възнаграждение",0,{"$f":"G633+H633+I633+J633","v":0},0,0,0,0,""]
[null,null,{"v":208,"d":"02-08"},"обезщетения за персонала, с характер на възнаграждение",0,{"$f":"G634+H634+I634+J634","v":0},0,0,0,0,""]
[null,null,{"v":209,"d":"02-09"},"другиплащания и възнаграждения",0,{"$f":"G635+H635+I635+J635","v":0},0,0,0,0,""]
[null,{"v":500,"d":"05-00"},"Задължителни осигурителни вноски от работодатели",null,{"$f":"SUM(E637:E643)","v":0},0,0,0,0,0,""]
[null,null,{"v":551,"d":"05-51"},"осигурителни вноски от работодатели за Държавното обществено осигуряване (ДОО)",0,{"$f":"G637+H637+I637+J637","v":0},0,0,0,0,""]
[null,null,{"$f":"C637+1","v":{"v":552,"d":"05-52"}},"осигурителни вноски от работодатели за Учителския пенсионен фонд (УПФ)",0,0,0,0,0,0,""]
[null,null,{"v":558,"d":"05-58"},"вноски по чл. 4б и 4в от КСО за сметка на осигурителя",null,{"$f":"G639+H639+I639+J639","v":0},0,0,0,0,""]
[null,null,{"v":560,"d":"05-60"},"здравно-осигурителни вноски от работодатели",0,0,0,0,0,0,""]
[null,null,{"v":580,"d":"05-80"},"вноски за допълнително задължително осигуряване от работодатели",0,0,0,0,0,0,""]
[null,null,{"v":588,"d":"05-88"},"коректив на вноски за ДЗПО за сумите по чл. 4б и 4в от КСО за сметка на осигурителя",null,{"$f":"G642+H642+I642+J642","v":0},0,0,0,0,""]
[null,null,{"v":590,"d":"05-90"},"задължителни вноски за чуждестранни пенсионни фондове и  схеми за сметка на осигурителя",0,0,0,0,0,0,""]
[5,{"v":800,"d":"08-00"},"Вноски за доброволно осигуряване ",null,null,0,{"$nulls":4},""]
[10,{"v":1000,"d":"10-00"},"Издръжка",null,{"$f":"SUM(E646:E662)","v":0},0,0,0,0,0,""]
[15,null,{"v":1011,"d":"10-11"},"Храна",0,{"$f":"G646+H646+I646+J646","v":0},0,0,0,0,""]
[35,null,{"v":1012,"d":"10-12"},"Медикаменти",0,0,0,0,0,0,""]
[40,null,{"v":1013,"d":"10-13"},"Постелен инвентар и облекло",0,0,0,0,0,0,""]
[45,null,{"v":1014,"d":"10-14"},"Учебни и научно-изследователски разходи и книги за библиотеките",0,0,0,0,0,0,""]
[50,null,{"v":1015,"d":"10-15"},"материали",0,0,0,0,0,0,""]
[55,null,{"v":1016,"d":"10-16"},"вода, горива и енергия",0,0,0,0,0,0,""]
[60,null,{"v":1020,"d":"10-20"},"разходи за външни услуги",0,0,0,0,0,0,""]
[65,null,{"v":1030,"d":"10-30"},"Текущ ремонт",0,0,0,0,0,0,""]
[70,null,{"v":1051,"d":"10-51"},"командировки в страната",0,0,0,0,0,0,""]
[75,null,{"v":1052,"d":"10-52"},"краткосрочни командировки в чужбина",0,0,0,0,0,0,""]
[80,null,{"v":1053,"d":"10-53"},"дългосрочни командировки в чужбина",0,0,0,0,0,0,""]
[80,null,{"v":1062,"d":"10-62"},"разходи за застраховки",0,0,0,0,0,0,""]
[85,null,{"v":1063,"d":"10-63"},"такса ангажимент по заеми",0,0,0,0,0,0,""]
[90,null,{"v":1069,"d":"10-69"},"други финансови услуги",0,0,0,0,0,0,""]
[90,null,{"v":1091,"d":"10-91"},"други разходи за СБКО",0,0,0,0,0,0,""]
[115,null,{"v":1092,"d":"10-92"},"разходи за договорни санкции и неустойки, съдебни обезщетения и разноски",0,0,0,0,0,0,""]
[125,null,{"v":1098,"d":"10-98"},"други разходи, некласифицирани в другите параграфи и подпараграфи",0,0,0,0,0,0,""]
[130,{"v":1900,"d":"19-00"},"Платени данъци, такси и административни санкции",null,{"$f":"SUM(E664:E666)","v":0},0,0,0,0,0,""]
[135,null,{"v":1901,"d":"19-01"},"платени държавни данъци, такси, наказателни лихви и административни санкции",0,{"$f":"G664+H664+I664+J664","v":0},0,0,0,0,""]
[140,null,{"v":1981,"d":"19-81"},"платени общински данъци, такси, наказателни лихви и административни санкции",0,{"$f":"G665+H665+I665+J665","v":0},0,0,0,0,""]
[145,null,{"v":1991,"d":"19-91"},"платени данъци, такси, наказателни лихви и административни санкции в чужбина",0,{"$f":"G666+H666+I666+J666","v":0},0,0,0,0,""]
[150,{"v":2100,"d":"21-00"},"Разходи за лихви по емисии на държавни (общински) ценни книжа",null,{"$f":"SUM(E668:E672)","v":0},0,0,0,0,0,""]
[155,null,{"v":2110,"d":"21-10"},"лихви по държавни (общински) ценни книжа",0,{"$f":"G668+H668+I668+J668","v":0},0,0,0,0,""]
[160,null,{"v":2120,"d":"21-20"},"отстъпки по държавни (общински) ценни книжа",0,{"$f":"G669+H669+I669+J669","v":0},0,0,0,0,""]
[165,null,{"v":2125,"d":"21-25"},"лихви и отстъпки по целеви емисии на държавни ценни книжа",0,{"$f":"G670+H670+I670+J670","v":0},0,0,0,0,""]
[175,null,{"v":2140,"d":"21-40"},"лихви по държавни ценни книжа, емитирани за структурната реформа ",0,{"$f":"G671+H671+I671+J671","v":0},0,0,0,0,""]
[180,null,{"v":2190,"d":"21-90"},"премии над номинала от емисии на държавни (общински) ценни книжа (-)",0,{"$f":"G672+H672+I672+J672","v":0},0,0,0,0,""]
[185,{"v":2200,"d":"22-00"},"Разходи за лихви по заеми от страната",null,{"$f":"SUM(E674:E675)","v":0},0,0,0,0,0,""]
[190,null,{"v":2221,"d":"22-21"},"Разходи за лихви по заеми от банки в страната",0,{"$f":"G674+H674+I674+J674","v":0},0,0,0,0,""]
[200,null,{"v":2224,"d":"22-24"},"Разходи за лихви по други заеми от страната",0,0,0,0,0,0,""]
[200,{"v":2500,"d":"25-00"},"Разходи за лихви по заеми от други държави",null,null,0,{"$nulls":4},""]
[205,{"v":2600,"d":"26-00"},"Разходи за лихви по заеми от международни организации и институции",null,null,0,{"$nulls":4},""]
[210,{"v":2700,"d":"27-00"},"Разходи за лихви по заеми от банки и други финансови институции от чужбина",null,null,0,{"$nulls":4},""]
[215,{"v":2800,"d":"28-00"},"Разходи за лихви и отстъпки по облигации, емитирани и търгувани на международните капиталови пазари",null,null,0,{"$nulls":4},""]
[220,{"v":2900,"d":"29-00"},"Други разходи за лихви",null,{"$f":"SUM(E681:E688)","v":0},0,0,0,0,0,""]
[225,null,{"v":2910,"d":"29-10"},"Платени лихви по финансов лизинг и търговски кредит",null,{"$f":"G681+H681+I681+J681","v":0},{"$nulls":4},""]
[230,null,{"v":2920,"d":"29-20"},"Платени лихви по активирани гаранции по заеми от  банки в страната",0,{"$f":"G682+H682+I682+J682","v":0},0,0,0,0,""]
[245,null,{"v":2969,"d":"29-69"},"Платени лихви по активирани гаранции по заеми от международни организации и институции",0,0,0,0,0,0,""]
[220,null,{"v":2970,"d":"29-70"},"Платени лихви по активирани гаранции по заеми от банки и финансови институции от чужбина",null,0,{"$nulls":4},""]
[225,null,{"v":2989,"d":"29-89"},"Възстановени суми по платени лихви по активирани гаранции (-)",0,0,0,0,0,0,""]
[230,null,{"v":2990,"d":"29-90"},"Платени лихви по заеми, предоставени от централния бюджет и бюджетни организации",null,{"$f":"G686+H686+I686+J686","v":0},{"$nulls":4},""]
[235,null,{"v":2991,"d":"29-91"},"Други разходи за лихви към  местни лица",0,0,0,0,0,0,""]
[240,null,{"v":2992,"d":"29-92"},"Други разходи за лихви към чуждестранни лица",0,0,0,0,0,0,""]
[245,{"v":3300,"d":"33-00"},"Вноска в общия бюджет на Европейския съюз",null,{"$f":"SUM(E690:E694)","v":0},0,0,0,0,0,""]
[250,null,{"v":3301,"d":"33-01"},"ресурс на база брутен национален доход",0,{"$f":"G690+H690+I690+J690","v":0},0,0,0,0,""]
[255,null,{"v":3302,"d":"33-02"},"ресурс на база данък върху добавената стойност",0,0,0,0,0,0,""]
[265,null,{"v":3304,"d":"33-04"},"традиционни собствени ресурси - мита",0,0,0,0,0,0,""]
[270,null,{"v":3306,"d":"33-06"},"участие във финансирането на брутното намаление за Австрия, Дания, Германия, Нидерландия и Швеция",0,0,0,0,0,0,""]
[290,null,{"v":3307,"d":"33-07"},"ресурс на база нерециклираните отпадъци от опаковки от пластмаса",0,0,0,0,0,0,""]
[320,{"v":3900,"d":"39-00"},"Здравно-осигурителни плащания",null,null,0,{"$nulls":4},{"$f":"(IF($E695<>0,$K$2,IF($F695<>0,$K$2,IF($G695<>0,$K$2,IF($H695<>0,$K$2,IF($I695<>0,$K$2,IF($J695<>0,$K$2,\"\")))))))","v":""}]
[330,{"v":4000,"d":"40-00"},"Стипендии",null,0,0,0,0,0,0,""]
[350,{"v":4100,"d":"41-00"},"Пенсии",null,null,0,{"$nulls":4},""]
[355,{"v":4200,"d":"42-00"},"Текущи трансфери, обезщетения и помощи за домакинствата",null,{"$f":"SUM(E699:E704)","v":0},0,0,0,0,0,""]
[375,null,{"v":4201,"d":"42-01"},"обезщетения и помощи по социалното осигуряване",0,{"$f":"G699+H699+I699+J699","v":0},0,0,0,0,""]
[375,null,{"v":4202,"d":"42-02"},"обезщетения и помощи по социалното подпомагане",0,0,0,0,0,0,""]
[380,null,{"v":4214,"d":"42-14"},"обезщетения и помощи по решение на общинския съвет",0,0,0,0,0,0,""]
[385,null,{"v":4217,"d":"42-17"},"текущи трансфери за домакинства от средства на Европейския съюз",0,0,0,0,0,0,""]
[390,null,{"v":4218,"d":"42-18"},"текущи трансфери за домакинства по други международни програми и споразумения",0,0,0,0,0,0,""]
[390,null,{"v":4219,"d":"42-19"},"други текущи трансфери за домакинствата",0,0,0,0,0,0,""]
[395,{"v":4300,"d":"43-00"},"Субсидии и други текущи трансфери за нефинансови предприятия ",null,{"$f":"SUM(E706:E708)","v":0},0,0,0,0,0,""]
[397,null,{"v":4301,"d":"43-01"},"за текуща дейност",0,{"$f":"G706+H706+I706+J706","v":0},0,0,0,0,""]
[398,null,{"v":4302,"d":"43-02"},"за осъществяване на болнична помощ ",0,0,0,0,0,0,""]
[399,null,{"v":4309,"d":"43-09"},"други субсидии и плащания",0,0,0,0,0,0,""]
[400,{"v":4400,"d":"44-00"},"Субсидии и други текущи трансфери за финансови институции",null,null,0,{"$nulls":4},""]
[401,{"v":4500,"d":"45-00"},"Субсидии и други текущи трансфери за юридически лица с нестопанска цел",null,null,0,0,{"$nulls":3},""]
[404,{"v":4600,"d":"46-00"},"Разходи за членски внос и участие в нетърговски организации и дейности",null,null,0,0,0,0,0,""]
[404,{"v":4900,"d":"49-00"},"Предоставени текущи и капиталови трансфери за чужбина",null,{"$f":"+E713+E714","v":0},0,0,0,0,0,""]
[440,null,{"v":4901,"d":"49-01"},"текущи трансфери за чужбина",0,{"$f":"G713+H713+I713+J713","v":0},0,0,0,0,""]
[450,null,{"v":4902,"d":"49-02"},"капиталови трансфери за чужбина",0,{"$f":"G714+H714+I714+J714","v":0},0,0,0,0,""]
[495,{"v":5100,"d":"51-00"},"Основен ремонт на дълготрайни материални активи",null,0,{"$f":"G715+H715+I715+J715","v":0},0,0,0,null,""]
[500,{"v":5200,"d":"52-00"},"Придобиване на дълготрайни материални активи",null,{"$f":"SUM(E717:E723)","v":0},0,0,0,0,0,""]
[505,null,{"v":5201,"d":"52-01"},"придобиване на компютри и хардуер",0,{"$f":"G717+H717+I717+J717","v":0},0,0,0,0,""]
[510,null,{"v":5202,"d":"52-02"},"придобиване на сгради",0,0,0,0,0,0,""]
[515,null,{"v":5203,"d":"52-03"},"придобиване на друго оборудване, машини и съоръжения",0,0,0,0,0,0,""]
[520,null,{"v":5204,"d":"52-04"},"придобиване на транспортни средства",0,0,0,0,0,0,""]
[525,null,{"v":5205,"d":"52-05"},"придобиване на стопански инвентар",0,0,0,0,0,0,""]
[635,null,{"v":5206,"d":"52-06"},"изграждане на инфраструктурни обекти",0,0,0,0,0,0,""]
[640,null,{"v":5219,"d":"52-19"},"придобиване на други ДМА",0,0,0,0,0,0,""]
[645,{"v":5300,"d":"53-00"},"Придобиване на нематериални дълготрайни активи",null,{"$f":"SUM(E725:E726)","v":0},0,0,0,0,0,""]
[650,null,{"v":5301,"d":"53-01"},"придобиване на програмни продукти и лицензи за програмни продукти",0,{"$f":"G725+H725+I725+J725","v":0},0,0,0,0,""]
[655,null,{"v":5309,"d":"53-09"},"придобиване на други нематериални дълготрайни активи",0,{"$f":"G726+H726+I726+J726","v":0},0,0,0,0,""]
[665,{"v":5400,"d":"54-00"},"Придобиване на земя",null,null,{"$f":"G727+H727+I727+J727","v":0},{"$nulls":4},""]
[675,{"v":5500,"d":"55-00"},"Капиталови трансфери",null,{"$f":"SUM(E729:E732)","v":0},0,0,0,0,0,""]
[685,null,{"v":5501,"d":"55-01"},"капиталови трансфери за нефинансови предприятия",0,{"$f":"G729+H729+I729+J729","v":0},0,0,0,0,""]
[690,null,{"v":5502,"d":"55-02"},"капиталови трансфери за финансови институции",0,{"$f":"G730+H730+I730+J730","v":0},0,0,0,0,""]
[695,null,{"v":5503,"d":"55-03"},"капиталови трансфери за организации с нестопанска цел",0,{"$f":"G731+H731+I731+J731","v":0},0,0,0,0,""]
[700,null,{"v":5504,"d":"55-04"},"капиталови трансфери за домакинствата",0,{"$f":"G732+H732+I732+J732","v":0},0,0,0,0,""]
[710,{"v":5700,"d":"57-00"},"Прираст на държавния резерв и изкупуване на земеделска продукция (включва и § 40-71)",null,{"$f":"SUM(E734:E736)","v":0},0,0,0,0,0,""]
[715,null,{"v":5701,"d":"57-01"},"плащания за попълване на държавния резерв",0,{"$f":"G734+H734+I734+J734","v":0},0,0,0,0,""]
[720,null,{"v":5702,"d":"57-02"},"плащания за изкупуване на земеделска продукция",0,{"$f":"G735+H735+I735+J735","v":0},0,0,0,0,""]
[725,null,{"v":4071,"d":"40-71"},"постъпления от продажба на държавния резерв (-)",0,{"$f":"G736+H736+I736+J736","v":0},0,0,0,0,""]
[730,{"$nulls":9},""]
[735,{"v":98,"d":"00-98"},"Резерв за непредвидени и неотложни разходи",null,null,{"$f":"G738+H738+I738+J738","v":0},0,0,0,0,""]
[740,{"$nulls":9},""]
[745,{"$nulls":9},""]
[750,{"$nulls":9},""]
[755,null,"99-99",{"$f":"+B742","v":{"v":0,"d":"II. ОБЩО РАЗХОДИ ЗА ДЕЙНОСТ 0000"}},{"$f":"SUM(E627,E630,E636,E644,E645,E663,E667,E673,E676,E677,E678,E679,E680,E689,E695,E696,E697,E698,E705,E709,E710,E711,E712,E715,E716,E724,E727,E728,E733)+E738","v":0},0,0,0,0,0,"",{"$f":"LEFT(C624,1)","v":"1"}]
[760,{"$nulls":9},{"$f":"K742","v":""}]
[765,{"$nulls":9},{"$f":"K742","v":""}]
[775,{"$nulls":9},{"$f":"(IF(SUM(K756:K777)<>0,$K$2,\"\"))","v":""}]
[780,{"$f":"$B$7","v":"ОТЧЕТНИ ДАННИ ПО ЕБК ЗА ИЗПЪЛНЕНИЕТО НА БЮДЖЕТА"},{"$nulls":8},{"$f":"(IF(SUM(K756:K777)<>0,$K$2,\"\"))","v":""}]
[785,{"$nulls":3},"за периода от ","до",{"$nulls":4},{"$f":"(IF(SUM(K756:K777)<>0,$K$2,\"\"))","v":""}]
[790,{"$f":"$B$9","v":"РЕГИОНАЛНА ЗДРАВНА ИНСПЕКЦИЯ-БУРГАС"},null,null,{"$f":"$E$9","v":"2021-01-01"},{"$f":"$F$9","v":"2021-12-31"},{"$nulls":4},{"$f":"(IF(SUM(K756:K777)<>0,$K$2,\"\"))","v":""}]
[795,{"$f":"$B$10","v":"                                                            (наименование на разпоредителя с бюджет)"},{"$nulls":8},{"$f":"(IF(SUM(K756:K777)<>0,$K$2,\"\"))","v":""}]
[805,{"$nulls":9},{"$f":"(IF(SUM(K756:K777)<>0,$K$2,\"\"))","v":""}]
[810,{"$f":"$B$12","v":{"$error":"#N/A"}},null,null,"       код по ЕБК:",{"$f":"$F$12","v":"0"},{"$nulls":4},{"$f":"(IF(SUM(K756:K777)<>0,$K$2,\"\"))","v":""}]
[815,{"$f":"$B$13","v":"                                             (наименование на първостепенния разпоредител с бюджет)"},{"$nulls":8},{"$f":"(IF(SUM(K756:K777)<>0,$K$2,\"\"))","v":""}]
[525,null,null,"               ФИНАНСОВО-ПРАВНА ФОРМА",{"$f":"$E$15","v":0},{"$f":"$F$15","v":"БЮДЖЕТ"},{"$nulls":4},{"$f":"(IF(SUM(K756:K777)<>0,$K$2,\"\"))","v":""}]
[820,null,null,"Натурални и други показатели за дейността",null,"(в лева)",{"$nulls":4},{"$f":"(IF(SUM(K756:K777)<>0,$K$2,\"\"))","v":""}]
[821,"МЯРКА","Код 9 8","  О б щ и   н а т у р а л н и   п о к а з а т е л и","    П л а н","    О т ч е т ",{"$nulls":4},{"$f":"(IF(SUM(K756:K777)<>0,$K$2,\"\"))","v":""}]
[822,null," 9 8 0 1","Щ а т н и   б р о й к и",{"$f":"E757+E758","v":0},{"$f":"F757+F758","v":0},{"$nulls":4},{"$f":"(IF($E756<>0,$K$2,IF($F756<>0,$K$2,\"\")))","v":""}]
[823,null," 9 8 1 1","в т.ч.: по трудови правоотношения",0,0,{"$nulls":4},""]
[825,null," 9 8 1 2","           по служебни правоотношения",0,0,{"$nulls":4},""]
[null,null," 9 8 0 2","Средногодишни щатни бройки",{"$f":"E760+E761","v":0},{"$f":"F760+F761","v":0},{"$nulls":4},""]
[null,null," 9 8 2 1","в т.ч.: по трудови правоотношения",0,0,{"$nulls":4},""]
[null,null," 9 8 2 2","         по служебни правоотношения",0,0,{"$nulls":4},""]
[null,null," 9 8 0 3","Средна годишна брутна заплата",0,0,{"$nulls":4},""]
[null,null," 9 8 3 1"," в т.ч.:   по трудови правоотношения",0,0,{"$nulls":4},""]
[null,null," 9 8 3 2","            по служебни правоотношения",0,0,{"$nulls":4},""]
[null,null," 9 8 0 4","Брой на моторни превозни средства",0,0,{"$nulls":4},""]
[null,null,"9 8 0 5","- в т.ч. - леки автомобили",0,0,{"$nulls":4},""]
[null,null,"9 8 0 6","             - санитарни линейки",0,0,{"$nulls":4},""]
[null,null," 9 8 0 7","Брой ученици, финансирани по единни разходни стандарти",0,0,{"$nulls":4},""]
[null,null," 9 8 0 8","Средна годишна брутна заплата на делегирани бюджети",0,0,{"$nulls":4},""]
[null,null," 9 8 0 9","Щатни бройки на делегирани бюджети",0,0,{"$nulls":4},""]
[null,null," 9 8 1 0","Средногодишни щатни бройки на делегирани бюджети",0,0,{"$nulls":4},""]
[null,null,"9 8 1 3","Средногодишен приравнен брой учащи във ВУ, финансирани по норматив за издръжка на обучението",0,0,{"$nulls":4},""]
[null,null,"9 8 1 4","Брой леглодни в студентски общежития",0,0,{"$nulls":4},""]
[905,null,"9 8 1 5","Брой хранодни в студентски стол",0,0,{"$nulls":4},""]
[906,null,"9 8 1 7","Болнични легла",0,0,{"$nulls":4},""]
[907,null,"9 8 1 8","Обем радиопрограма /часове/",0,0,{"$nulls":4},""]
[910,null,"9 8 1 9","Обем телевизионна програма /часове/",0,0,{"$nulls":4},""]
[911,"МЯРКА","Код  ","Разходи в областта на електронното управление и за използваните информационни и комуникационни технологии","    П л а н","    О т ч е т ",{"$nulls":4},{"$f":"(IF($E779<>0,$K$2,IF($F779<>0,$K$2,\"\")))","v":""}]
[null,null,"9 8 5 0","Общо разходи в областта на ЕУ и за използваните ИКТ",{"$f":"E780+E781","v":0},{"$f":"F780+F781","v":0},{"$nulls":4},""]
[null,null,"9 8 5 1","Текущи разходи в областта на ЕУ и за използваните ИКТ",0,0,{"$nulls":4},""]
[null,null,"9 8 5 2","Капиталови разходи в областта на ЕУ и за използваните ИКТ",0,0,{"$nulls":4},""]
[null,"ЗАБЕЛЕЖКА:",{"$nulls":8},{"$f":"K742","v":""}]
[null," За натурални показатели, не влючени в този отчет, специфични за конкретна дейност се представят отделни справки, допълнително определени от Министерство на финансите.",{"$nulls":8},{"$f":"K742","v":""}]
[]
[{"$nulls":10},{"$f":"(IF($E918<>0,$K$2,IF($F918<>0,$K$2,IF($G918<>0,$K$2,IF($H918<>0,$K$2,IF($I918<>0,$K$2,IF($J918<>0,$K$2,\"\")))))))","v":""}]
[{"$nulls":10},{"$f":"(IF($E918<>0,$K$2,IF($F918<>0,$K$2,IF($G918<>0,$K$2,IF($H918<>0,$K$2,IF($I918<>0,$K$2,IF($J918<>0,$K$2,\"\")))))))","v":""}]
[null,{"$f":"$B$7","v":"ОТЧЕТНИ ДАННИ ПО ЕБК ЗА ИЗПЪЛНЕНИЕТО НА БЮДЖЕТА"},{"$nulls":8},{"$f":"(IF($E918<>0,$K$2,IF($F918<>0,$K$2,IF($G918<>0,$K$2,IF($H918<>0,$K$2,IF($I918<>0,$K$2,IF($J918<>0,$K$2,\"\")))))))","v":""}]
[{"$nulls":4},"за периода от ","до",null,"                 II.1. РАЗХОДИ ПО ДЕЙНОСТИ",null,null,{"$f":"(IF($E918<>0,$K$2,IF($F918<>0,$K$2,IF($G918<>0,$K$2,IF($H918<>0,$K$2,IF($I918<>0,$K$2,IF($J918<>0,$K$2,\"\")))))))","v":""}]
[null,{"$f":"$B$9","v":"РЕГИОНАЛНА ЗДРАВНА ИНСПЕКЦИЯ-БУРГАС"},null,null,{"$f":"$E$9","v":"2021-01-01"},{"$f":"$F$9","v":"2021-12-31"},{"$nulls":4},{"$f":"(IF($E918<>0,$K$2,IF($F918<>0,$K$2,IF($G918<>0,$K$2,IF($H918<>0,$K$2,IF($I918<>0,$K$2,IF($J918<>0,$K$2,\"\")))))))","v":""}]
[null,{"$f":"$B$10","v":"                                                            (наименование на разпоредителя с бюджет)"},{"$nulls":8},{"$f":"(IF($E918<>0,$K$2,IF($F918<>0,$K$2,IF($G918<>0,$K$2,IF($H918<>0,$K$2,IF($I918<>0,$K$2,IF($J918<>0,$K$2,\"\")))))))","v":""}]
[{"$nulls":10},{"$f":"(IF($E918<>0,$K$2,IF($F918<>0,$K$2,IF($G918<>0,$K$2,IF($H918<>0,$K$2,IF($I918<>0,$K$2,IF($J918<>0,$K$2,\"\")))))))","v":""}]
[null,{"$f":"$B$12","v":{"$error":"#N/A"}},null,null,"       код по ЕБК:",{"$f":"$F$12","v":"0"},{"$nulls":4},{"$f":"(IF($E918<>0,$K$2,IF($F918<>0,$K$2,IF($G918<>0,$K$2,IF($H918<>0,$K$2,IF($I918<>0,$K$2,IF($J918<>0,$K$2,\"\")))))))","v":""}]
[null,{"$f":"$B$13","v":"                                             (наименование на първостепенния разпоредител с бюджет)"},{"$nulls":8},{"$f":"(IF($E918<>0,$K$2,IF($F918<>0,$K$2,IF($G918<>0,$K$2,IF($H918<>0,$K$2,IF($I918<>0,$K$2,IF($J918<>0,$K$2,\"\")))))))","v":""}]
[{"$nulls":3},"ФИНАНСОВО-ПРАВНА ФОРМА",{"$f":"$E$15","v":0},{"$f":"$F$15","v":"БЮДЖЕТ"},{"$nulls":4},{"$f":"(IF($E918<>0,$K$2,IF($F918<>0,$K$2,IF($G918<>0,$K$2,IF($H918<>0,$K$2,IF($I918<>0,$K$2,IF($J918<>0,$K$2,\"\")))))))","v":""}]
[{"$nulls":9},"(в лева)",{"$f":"(IF($E918<>0,$K$2,IF($F918<>0,$K$2,IF($G918<>0,$K$2,IF($H918<>0,$K$2,IF($I918<>0,$K$2,IF($J918<>0,$K$2,\"\")))))))","v":""}]
[{"$nulls":3},"II.1. РАЗХОДИ ПО ДЕЙНОСТИ","Уточнен план","                                                                                                                              О Т Ч Е Т Н И   Д А Н Н И",{"$nulls":4},{"$f":"(IF($E918<>0,$K$2,IF($F918<>0,$K$2,IF($G918<>0,$K$2,IF($H918<>0,$K$2,IF($I918<>0,$K$2,IF($J918<>0,$K$2,\"\")))))))","v":""}]
[null,"§§","под-§§","НАИМЕНОВАНИЯ НА ПАРАГРАФИТЕ И ПОДПАРАГРАФИТЕ",{"$f":"$C$3","v":2021},"ОБЩО","левови\n сметки и СЕБРА ","валутни \nсметки ","операции в брой (в левове и валута)","операции приравнени на касов поток",{"$f":"(IF($E918<>0,$K$2,IF($F918<>0,$K$2,IF($G918<>0,$K$2,IF($H918<>0,$K$2,IF($I918<>0,$K$2,IF($J918<>0,$K$2,\"\")))))))","v":""}]
[{"$nulls":3}," 02 ¦","(1)","(2)","(3)","(4)","(5)","(6)",{"$f":"(IF($E918<>0,$K$2,IF($F918<>0,$K$2,IF($G918<>0,$K$2,IF($H918<>0,$K$2,IF($I918<>0,$K$2,IF($J918<>0,$K$2,\"\")))))))","v":""}]
[null,null,0,"ИЗБЕРЕТЕ ОПЕРАТИВНА ПРОГРАМА ",{"$nulls":6},{"$f":"(IF($E918<>0,$K$2,IF($F918<>0,$K$2,IF($G918<>0,$K$2,IF($H918<>0,$K$2,IF($I918<>0,$K$2,IF($J918<>0,$K$2,\"\")))))))","v":""}]
[null,null,{"$f":"VLOOKUP(D801,EBK_DEIN2,2,FALSE)","v":2205},"<------          ДЕЙНОСТ    -  код  по  ЕБК",{"$nulls":6},{"$f":"(IF($E918<>0,$K$2,IF($F918<>0,$K$2,IF($G918<>0,$K$2,IF($H918<>0,$K$2,IF($I918<>0,$K$2,IF($J918<>0,$K$2,\"\")))))))","v":""}]
[null,null,{"$f":"+C800","v":2205},"205 Участие на Република България в НАТО",{"$nulls":6},{"$f":"(IF($E918<>0,$K$2,IF($F918<>0,$K$2,IF($G918<>0,$K$2,IF($H918<>0,$K$2,IF($I918<>0,$K$2,IF($J918<>0,$K$2,\"\")))))))","v":""}]
[{"$nulls":3},"(наименование на дейността)",{"$nulls":6},{"$f":"(IF($E918<>0,$K$2,IF($F918<>0,$K$2,IF($G918<>0,$K$2,IF($H918<>0,$K$2,IF($I918<>0,$K$2,IF($J918<>0,$K$2,\"\")))))))","v":""}]
[null,{"v":100,"d":"01-00"},"Заплати и възнаграждения за персонала, нает по трудови и служебни правоотношения",null,{"$f":"SUM(E804:E805)","v":0},0,0,0,0,0,{"$f":"(IF($E803<>0,$K$2,IF($F803<>0,$K$2,IF($G803<>0,$K$2,IF($H803<>0,$K$2,IF($I803<>0,$K$2,IF($J803<>0,$K$2,\"\")))))))","v":""}]
[null,null,{"v":101,"d":"01-01"},"заплати и възнаграждения на персонала нает по трудови правоотношения",0,{"$f":"G804+H804+I804+J804","v":0},0,0,0,0,{"$f":"(IF($E804<>0,$K$2,IF($F804<>0,$K$2,IF($G804<>0,$K$2,IF($H804<>0,$K$2,IF($I804<>0,$K$2,IF($J804<>0,$K$2,\"\")))))))","v":""}]
[null,null,{"v":102,"d":"01-02"},"заплати и възнаграждения на персонала нает по служебни правоотношения",0,{"$f":"G805+H805+I805+J805","v":0},0,0,0,0,""]
[null,{"v":200,"d":"02-00"},"Други възнаграждения и плащания за персонала",null,{"$f":"SUM(E807:E811)","v":0},0,0,0,0,0,""]
[null,null,{"v":201,"d":"02-01"},"за нещатен персонал нает по трудови правоотношения ",0,{"$f":"G807+H807+I807+J807","v":0},0,0,0,0,""]
[null,null,{"v":202,"d":"02-02"},"за персонала по извънтрудови правоотношения",0,{"$f":"G808+H808+I808+J808","v":0},0,0,0,0,""]
[null,null,{"v":205,"d":"02-05"},"изплатени суми от СБКО за облекло и други на персонала, с характер на възнаграждение",0,{"$f":"G809+H809+I809+J809","v":0},0,0,0,0,""]
[null,null,{"v":208,"d":"02-08"},"обезщетения за персонала, с характер на възнаграждение",0,{"$f":"G810+H810+I810+J810","v":0},0,0,0,0,""]
[null,null,{"v":209,"d":"02-09"},"другиплащания и възнаграждения",0,{"$f":"G811+H811+I811+J811","v":0},0,0,0,0,""]
[null,{"v":500,"d":"05-00"},"Задължителни осигурителни вноски от работодатели",null,{"$f":"SUM(E813:E819)","v":0},0,0,0,0,0,""]
[null,null,{"v":551,"d":"05-51"},"осигурителни вноски от работодатели за Държавното обществено осигуряване (ДОО)",0,{"$f":"G813+H813+I813+J813","v":0},0,0,0,0,""]
[null,null,{"$f":"C813+1","v":{"v":552,"d":"05-52"}},"осигурителни вноски от работодатели за Учителския пенсионен фонд (УПФ)",0,0,0,0,0,0,""]
[null,null,{"v":558,"d":"05-58"},"вноски по чл. 4б и 4в от КСО за сметка на осигурителя",null,{"$f":"G815+H815+I815+J815","v":0},0,0,0,0,""]
[null,null,{"v":560,"d":"05-60"},"здравно-осигурителни вноски от работодатели",0,0,0,0,0,0,""]
[null,null,{"v":580,"d":"05-80"},"вноски за допълнително задължително осигуряване от работодатели",0,0,0,0,0,0,""]
[null,null,{"v":588,"d":"05-88"},"коректив на вноски за ДЗПО за сумите по чл. 4б и 4в от КСО за сметка на осигурителя",null,{"$f":"G818+H818+I818+J818","v":0},0,0,0,0,""]
[null,null,{"v":590,"d":"05-90"},"задължителни вноски за чуждестранни пенсионни фондове и  схеми за сметка на осигурителя",0,0,0,0,0,0,""]
[5,{"v":800,"d":"08-00"},"Вноски за доброволно осигуряване ",null,null,0,{"$nulls":4},""]
[10,{"v":1000,"d":"10-00"},"Издръжка",null,{"$f":"SUM(E822:E838)","v":0},0,0,0,0,0,""]
[15,null,{"v":1011,"d":"10-11"},"Храна",0,{"$f":"G822+H822+I822+J822","v":0},0,0,0,0,""]
[35,null,{"v":1012,"d":"10-12"},"Медикаменти",0,0,0,0,0,0,""]
[40,null,{"v":1013,"d":"10-13"},"Постелен инвентар и облекло",0,0,0,0,0,0,""]
[45,null,{"v":1014,"d":"10-14"},"Учебни и научно-изследователски разходи и книги за библиотеките",0,0,0,0,0,0,""]
[50,null,{"v":1015,"d":"10-15"},"материали",0,0,0,0,0,0,""]
[55,null,{"v":1016,"d":"10-16"},"вода, горива и енергия",0,0,0,0,0,0,""]
[60,null,{"v":1020,"d":"10-20"},"разходи за външни услуги",0,0,0,0,0,0,""]
[65,null,{"v":1030,"d":"10-30"},"Текущ ремонт",0,0,0,0,0,0,""]
[70,null,{"v":1051,"d":"10-51"},"командировки в страната",0,0,0,0,0,0,""]
[75,null,{"v":1052,"d":"10-52"},"краткосрочни командировки в чужбина",0,0,0,0,0,0,""]
[80,null,{"v":1053,"d":"10-53"},"дългосрочни командировки в чужбина",0,0,0,0,0,0,""]
[80,null,{"v":1062,"d":"10-62"},"разходи за застраховки",0,0,0,0,0,0,""]
[85,null,{"v":1063,"d":"10-63"},"такса ангажимент по заеми",0,0,0,0,0,0,""]
[90,null,{"v":1069,"d":"10-69"},"други финансови услуги",0,0,0,0,0,0,""]
[90,null,{"v":1091,"d":"10-91"},"други разходи за СБКО",0,0,0,0,0,0,""]
[115,null,{"v":1092,"d":"10-92"},"разходи за договорни санкции и неустойки, съдебни обезщетения и разноски",0,0,0,0,0,0,""]
[125,null,{"v":1098,"d":"10-98"},"други разходи, некласифицирани в другите параграфи и подпараграфи",0,0,0,0,0,0,""]
[130,{"v":1900,"d":"19-00"},"Платени данъци, такси и административни санкции",null,{"$f":"SUM(E840:E842)","v":0},0,0,0,0,0,""]
[135,null,{"v":1901,"d":"19-01"},"платени държавни данъци, такси, наказателни лихви и административни санкции",0,{"$f":"G840+H840+I840+J840","v":0},0,0,0,0,""]
[140,null,{"v":1981,"d":"19-81"},"платени общински данъци, такси, наказателни лихви и административни санкции",0,{"$f":"G841+H841+I841+J841","v":0},0,0,0,0,""]
[145,null,{"v":1991,"d":"19-91"},"платени данъци, такси, наказателни лихви и административни санкции в чужбина",0,{"$f":"G842+H842+I842+J842","v":0},0,0,0,0,""]
[150,{"v":2100,"d":"21-00"},"Разходи за лихви по емисии на държавни (общински) ценни книжа",null,{"$f":"SUM(E844:E848)","v":0},0,0,0,0,0,""]
[155,null,{"v":2110,"d":"21-10"},"лихви по държавни (общински) ценни книжа",0,{"$f":"G844+H844+I844+J844","v":0},0,0,0,0,""]
[160,null,{"v":2120,"d":"21-20"},"отстъпки по държавни (общински) ценни книжа",0,{"$f":"G845+H845+I845+J845","v":0},0,0,0,0,""]
[165,null,{"v":2125,"d":"21-25"},"лихви и отстъпки по целеви емисии на държавни ценни книжа",0,{"$f":"G846+H846+I846+J846","v":0},0,0,0,0,""]
[175,null,{"v":2140,"d":"21-40"},"лихви по държавни ценни книжа, емитирани за структурната реформа ",0,{"$f":"G847+H847+I847+J847","v":0},0,0,0,0,""]
[180,null,{"v":2190,"d":"21-90"},"премии над номинала от емисии на държавни (общински) ценни книжа (-)",0,{"$f":"G848+H848+I848+J848","v":0},0,0,0,0,""]
[185,{"v":2200,"d":"22-00"},"Разходи за лихви по заеми от страната",null,{"$f":"SUM(E850:E851)","v":0},0,0,0,0,0,""]
[190,null,{"v":2221,"d":"22-21"},"Разходи за лихви по заеми от банки в страната",0,{"$f":"G850+H850+I850+J850","v":0},0,0,0,0,""]
[200,null,{"v":2224,"d":"22-24"},"Разходи за лихви по други заеми от страната",0,0,0,0,0,0,""]
[200,{"v":2500,"d":"25-00"},"Разходи за лихви по заеми от други държави",null,null,0,{"$nulls":4},""]
[205,{"v":2600,"d":"26-00"},"Разходи за лихви по заеми от международни организации и институции",null,null,0,{"$nulls":4},""]
[210,{"v":2700,"d":"27-00"},"Разходи за лихви по заеми от банки и други финансови институции от чужбина",null,null,0,{"$nulls":4},""]
[215,{"v":2800,"d":"28-00"},"Разходи за лихви и отстъпки по облигации, емитирани и търгувани на международните капиталови пазари",null,null,0,{"$nulls":4},""]
[220,{"v":2900,"d":"29-00"},"Други разходи за лихви",null,{"$f":"SUM(E857:E864)","v":0},0,0,0,0,0,""]
[225,null,{"v":2910,"d":"29-10"},"Платени лихви по финансов лизинг и търговски кредит",null,{"$f":"G857+H857+I857+J857","v":0},{"$nulls":4},""]
[230,null,{"v":2920,"d":"29-20"},"Платени лихви по активирани гаранции по заеми от  банки в страната",0,{"$f":"G858+H858+I858+J858","v":0},0,0,0,0,""]
[245,null,{"v":2969,"d":"29-69"},"Платени лихви по активирани гаранции по заеми от международни организации и институции",0,0,0,0,0,0,""]
[220,null,{"v":2970,"d":"29-70"},"Платени лихви по активирани гаранции по заеми от банки и финансови институции от чужбина",null,0,{"$nulls":4},""]
[225,null,{"v":2989,"d":"29-89"},"Възстановени суми по платени лихви по активирани гаранции (-)",0,0,0,0,0,0,""]
[230,null,{"v":2990,"d":"29-90"},"Платени лихви по заеми, предоставени от централния бюджет и бюджетни организации",null,{"$f":"G862+H862+I862+J862","v":0},{"$nulls":4},""]
[235,null,{"v":2991,"d":"29-91"},"Други разходи за лихви към  местни лица",0,0,0,0,0,0,""]
[240,null,{"v":2992,"d":"29-92"},"Други разходи за лихви към чуждестранни лица",0,0,0,0,0,0,""]
[245,{"v":3300,"d":"33-00"},"Вноска в общия бюджет на Европейския съюз",null,{"$f":"SUM(E866:E870)","v":0},0,0,0,0,0,""]
[250,null,{"v":3301,"d":"33-01"},"ресурс на база брутен национален доход",0,{"$f":"G866+H866+I866+J866","v":0},0,0,0,0,""]
[255,null,{"v":3302,"d":"33-02"},"ресурс на база данък върху добавената стойност",0,0,0,0,0,0,""]
[265,null,{"v":3304,"d":"33-04"},"традиционни собствени ресурси - мита",0,0,0,0,0,0,""]
[270,null,{"v":3306,"d":"33-06"},"участие във финансирането на брутното намаление за Австрия, Дания, Германия, Нидерландия и Швеция",0,0,0,0,0,0,""]
[290,null,{"v":3307,"d":"33-07"},"ресурс на база нерециклираните отпадъци от опаковки от пластмаса",0,0,0,0,0,0,""]
[320,{"v":3900,"d":"39-00"},"Здравно-осигурителни плащания",null,null,0,{"$nulls":4},{"$f":"(IF($E871<>0,$K$2,IF($F871<>0,$K$2,IF($G871<>0,$K$2,IF($H871<>0,$K$2,IF($I871<>0,$K$2,IF($J871<>0,$K$2,\"\")))))))","v":""}]
[330,{"v":4000,"d":"40-00"},"Стипендии",null,0,0,0,0,0,0,""]
[350,{"v":4100,"d":"41-00"},"Пенсии",null,null,0,{"$nulls":4},""]
[355,{"v":4200,"d":"42-00"},"Текущи трансфери, обезщетения и помощи за домакинствата",null,{"$f":"SUM(E875:E880)","v":0},0,0,0,0,0,""]
[375,null,{"v":4201,"d":"42-01"},"обезщетения и помощи по социалното осигуряване",0,{"$f":"G875+H875+I875+J875","v":0},0,0,0,0,""]
[375,null,{"v":4202,"d":"42-02"},"обезщетения и помощи по социалното подпомагане",0,0,0,0,0,0,""]
[380,null,{"v":4214,"d":"42-14"},"обезщетения и помощи по решение на общинския съвет",0,0,0,0,0,0,""]
[385,null,{"v":4217,"d":"42-17"},"текущи трансфери за домакинства от средства на Европейския съюз",0,0,0,0,0,0,""]
[390,null,{"v":4218,"d":"42-18"},"текущи трансфери за домакинства по други международни програми и споразумения",0,0,0,0,0,0,""]
[390,null,{"v":4219,"d":"42-19"},"други текущи трансфери за домакинствата",0,0,0,0,0,0,""]
[395,{"v":4300,"d":"43-00"},"Субсидии и други текущи трансфери за нефинансови предприятия ",null,{"$f":"SUM(E882:E884)","v":0},0,0,0,0,0,""]
[397,null,{"v":4301,"d":"43-01"},"за текуща дейност",0,{"$f":"G882+H882+I882+J882","v":0},0,0,0,0,""]
[398,null,{"v":4302,"d":"43-02"},"за осъществяване на болнична помощ ",0,0,0,0,0,0,""]
[399,null,{"v":4309,"d":"43-09"},"други субсидии и плащания",0,0,0,0,0,0,""]
[400,{"v":4400,"d":"44-00"},"Субсидии и други текущи трансфери за финансови институции",null,null,0,{"$nulls":4},""]
[401,{"v":4500,"d":"45-00"},"Субсидии и други текущи трансфери за юридически лица с нестопанска цел",null,null,0,{"$nulls":4},""]
[404,{"v":4600,"d":"46-00"},"Разходи за членски внос и участие в нетърговски организации и дейности",null,null,0,{"$nulls":4},""]
[404,{"v":4900,"d":"49-00"},"Предоставени текущи и капиталови трансфери за чужбина",null,{"$f":"+E889+E890","v":0},0,0,0,0,0,""]
[440,null,{"v":4901,"d":"49-01"},"текущи трансфери за чужбина",0,{"$f":"G889+H889+I889+J889","v":0},0,0,0,0,""]
[450,null,{"v":4902,"d":"49-02"},"капиталови трансфери за чужбина",0,{"$f":"G890+H890+I890+J890","v":0},0,0,0,0,""]
[495,{"v":5100,"d":"51-00"},"Основен ремонт на дълготрайни материални активи",null,null,{"$f":"G891+H891+I891+J891","v":0},{"$nulls":4},""]
[500,{"v":5200,"d":"52-00"},"Придобиване на дълготрайни материални активи",null,{"$f":"SUM(E893:E899)","v":0},0,0,0,0,0,""]
[505,null,{"v":5201,"d":"52-01"},"придобиване на компютри и хардуер",0,{"$f":"G893+H893+I893+J893","v":0},0,0,0,0,""]
[510,null,{"v":5202,"d":"52-02"},"придобиване на сгради",0,0,0,0,0,0,""]
[515,null,{"v":5203,"d":"52-03"},"придобиване на друго оборудване, машини и съоръжения",0,0,0,0,0,0,""]
[520,null,{"v":5204,"d":"52-04"},"придобиване на транспортни средства",0,0,0,0,0,0,""]
[525,null,{"v":5205,"d":"52-05"},"придобиване на стопански инвентар",0,0,0,0,0,0,""]
[635,null,{"v":5206,"d":"52-06"},"изграждане на инфраструктурни обекти",0,0,0,0,0,0,""]
[640,null,{"v":5219,"d":"52-19"},"придобиване на други ДМА",0,0,0,0,0,0,""]
[645,{"v":5300,"d":"53-00"},"Придобиване на нематериални дълготрайни активи",null,{"$f":"SUM(E901:E902)","v":0},0,0,0,0,0,""]
[650,null,{"v":5301,"d":"53-01"},"придобиване на програмни продукти и лицензи за програмни продукти",0,{"$f":"G901+H901+I901+J901","v":0},0,0,0,0,""]
[655,null,{"v":5309,"d":"53-09"},"придобиване на други нематериални дълготрайни активи",0,{"$f":"G902+H902+I902+J902","v":0},0,0,0,0,""]
[665,{"v":5400,"d":"54-00"},"Придобиване на земя",null,null,{"$f":"G903+H903+I903+J903","v":0},{"$nulls":4},""]
[675,{"v":5500,"d":"55-00"},"Капиталови трансфери",null,{"$f":"SUM(E905:E908)","v":0},0,0,0,0,0,""]
[685,null,{"v":5501,"d":"55-01"},"капиталови трансфери за нефинансови предприятия",0,{"$f":"G905+H905+I905+J905","v":0},0,0,0,0,""]
[690,null,{"v":5502,"d":"55-02"},"капиталови трансфери за финансови институции",0,{"$f":"G906+H906+I906+J906","v":0},0,0,0,0,""]
[695,null,{"v":5503,"d":"55-03"},"капиталови трансфери за организации с нестопанска цел",0,{"$f":"G907+H907+I907+J907","v":0},0,0,0,0,""]
[700,null,{"v":5504,"d":"55-04"},"капиталови трансфери за домакинствата",0,{"$f":"G908+H908+I908+J908","v":0},0,0,0,0,""]
[710,{"v":5700,"d":"57-00"},"Прираст на държавния резерв и изкупуване на земеделска продукция (включва и § 40-71)",null,{"$f":"SUM(E910:E912)","v":0},0,0,0,0,0,""]
[715,null,{"v":5701,"d":"57-01"},"плащания за попълване на държавния резерв",0,{"$f":"G910+H910+I910+J910","v":0},0,0,0,0,""]
[720,null,{"v":5702,"d":"57-02"},"плащания за изкупуване на земеделска продукция",0,{"$f":"G911+H911+I911+J911","v":0},0,0,0,0,""]
[725,null,{"v":4071,"d":"40-71"},"постъпления от продажба на държавния резерв (-)",0,{"$f":"G912+H912+I912+J912","v":0},0,0,0,0,""]
[730,{"$nulls":9},""]
[735,{"v":98,"d":"00-98"},"Резерв за непредвидени и неотложни разходи",null,null,{"$f":"G914+H914+I914+J914","v":0},0,0,0,0,""]
[740,{"$nulls":9},""]
[745,{"$nulls":9},""]
[750,{"$nulls":9},""]
[755,null,"99-99",{"$f":"+B918","v":{"v":0,"d":"II. ОБЩО РАЗХОДИ ЗА ДЕЙНОСТ 0000"}},{"$f":"SUM(E803,E806,E812,E820,E821,E839,E843,E849,E852,E853,E854,E855,E856,E865,E871,E872,E873,E874,E881,E885,E886,E887,E888,E891,E892,E900,E903,E904,E909)+E914","v":0},0,0,0,0,0,"",{"$f":"LEFT(C800,1)","v":"2"}]
[760,{"$nulls":9},{"$f":"K918","v":""}]
[765,{"$nulls":9},{"$f":"K918","v":""}]
[775,{"$nulls":9},{"$f":"(IF(SUM(K932:K953)<>0,$K$2,\"\"))","v":""}]
[780,{"$f":"$B$7","v":"ОТЧЕТНИ ДАННИ ПО ЕБК ЗА ИЗПЪЛНЕНИЕТО НА БЮДЖЕТА"},{"$nulls":8},{"$f":"(IF(SUM(K932:K953)<>0,$K$2,\"\"))","v":""}]
[785,{"$nulls":3},"за периода от ","до",{"$nulls":4},{"$f":"(IF(SUM(K932:K953)<>0,$K$2,\"\"))","v":""}]
[790,{"$f":"$B$9","v":"РЕГИОНАЛНА ЗДРАВНА ИНСПЕКЦИЯ-БУРГАС"},null,null,{"$f":"$E$9","v":"2021-01-01"},{"$f":"$F$9","v":"2021-12-31"},{"$nulls":4},{"$f":"(IF(SUM(K932:K953)<>0,$K$2,\"\"))","v":""}]
[795,{"$f":"$B$10","v":"                                                            (наименование на разпоредителя с бюджет)"},{"$nulls":8},{"$f":"(IF(SUM(K932:K953)<>0,$K$2,\"\"))","v":""}]
[805,{"$nulls":9},{"$f":"(IF(SUM(K932:K953)<>0,$K$2,\"\"))","v":""}]
[810,{"$f":"$B$12","v":{"$error":"#N/A"}},null,null,"       код по ЕБК:",{"$f":"$F$12","v":"0"},{"$nulls":4},{"$f":"(IF(SUM(K932:K953)<>0,$K$2,\"\"))","v":""}]
[815,{"$f":"$B$13","v":"                                             (наименование на първостепенния разпоредител с бюджет)"},{"$nulls":8},{"$f":"(IF(SUM(K932:K953)<>0,$K$2,\"\"))","v":""}]
[525,null,null,"               ФИНАНСОВО-ПРАВНА ФОРМА",{"$f":"$E$15","v":0},{"$f":"$F$15","v":"БЮДЖЕТ"},{"$nulls":4},{"$f":"(IF(SUM(K932:K953)<>0,$K$2,\"\"))","v":""}]
[820,null,null,"Натурални и други показатели за дейността",null,"(в лева)",{"$nulls":4},{"$f":"(IF(SUM(K932:K953)<>0,$K$2,\"\"))","v":""}]
[821,"МЯРКА","Код 9 8","  О б щ и   н а т у р а л н и   п о к а з а т е л и","    П л а н","    О т ч е т ",{"$nulls":4},{"$f":"(IF(SUM(K932:K953)<>0,$K$2,\"\"))","v":""}]
[822,null," 9 8 0 1","Щ а т н и   б р о й к и",{"$f":"E933+E934","v":0},{"$f":"F933+F934","v":0},{"$nulls":4},{"$f":"(IF($E932<>0,$K$2,IF($F932<>0,$K$2,\"\")))","v":""}]
[823,null," 9 8 1 1","в т.ч.: по трудови правоотношения",0,0,{"$nulls":4},""]
[825,null," 9 8 1 2","           по служебни правоотношения",0,0,{"$nulls":4},""]
[null,null," 9 8 0 2","Средногодишни щатни бройки",{"$f":"E936+E937","v":0},{"$f":"F936+F937","v":0},{"$nulls":4},""]
[null,null," 9 8 2 1","в т.ч.: по трудови правоотношения",0,0,{"$nulls":4},""]
[null,null," 9 8 2 2","         по служебни правоотношения",0,0,{"$nulls":4},""]
[null,null," 9 8 0 3","Средна годишна брутна заплата",{"$nulls":6},""]
[null,null," 9 8 3 1"," в т.ч.:   по трудови правоотношения",0,{"$nulls":5},""]
[null,null," 9 8 3 2","            по служебни правоотношения",0,{"$nulls":5},""]
[null,null," 9 8 0 4","Брой на моторни превозни средства",0,0,{"$nulls":4},""]
[null,null,"9 8 0 5","- в т.ч. - леки автомобили",0,0,{"$nulls":4},""]
[null,null,"9 8 0 6","             - санитарни линейки",0,0,{"$nulls":4},""]
[null,null," 9 8 0 7","Брой ученици, финансирани по единни разходни стандарти",0,0,{"$nulls":4},""]
[null,null," 9 8 0 8","Средна годишна брутна заплата на делегирани бюджети",0,0,{"$nulls":4},""]
[null,null," 9 8 0 9","Щатни бройки на делегирани бюджети",0,0,{"$nulls":4},""]
[null,null," 9 8 1 0","Средногодишни щатни бройки на делегирани бюджети",0,0,{"$nulls":4},""]
[null,null,"9 8 1 3","Средногодишен приравнен брой учащи във ВУ, финансирани по норматив за издръжка на обучението",0,0,{"$nulls":4},""]
[null,null,"9 8 1 4","Брой леглодни в студентски общежития",0,0,{"$nulls":4},""]
[905,null,"9 8 1 5","Брой хранодни в студентски стол",0,0,{"$nulls":4},""]
[906,null,"9 8 1 7","Болнични легла",0,0,{"$nulls":4},""]
[907,null,"9 8 1 8","Обем радиопрограма /часове/",0,0,{"$nulls":4},""]
[910,null,"9 8 1 9","Обем телевизионна програма /часове/",0,0,{"$nulls":4},""]
[911,"МЯРКА","Код  ","Разходи в областта на електронното управление и за използваните информационни и комуникационни технологии","    П л а н","    О т ч е т ",{"$nulls":4},{"$f":"(IF($E955<>0,$K$2,IF($F955<>0,$K$2,\"\")))","v":""}]
[null,null,"9 8 5 0","Общо разходи в областта на ЕУ и за използваните ИКТ",{"$f":"E956+E957","v":0},{"$f":"F956+F957","v":0},{"$nulls":4},""]
[null,null,"9 8 5 1","Текущи разходи в областта на ЕУ и за използваните ИКТ",0,0,{"$nulls":4},""]
[null,null,"9 8 5 2","Капиталови разходи в областта на ЕУ и за използваните ИКТ",0,0,{"$nulls":4},""]
[null,"ЗАБЕЛЕЖКА:",{"$nulls":8},{"$f":"K918","v":""}]
[null," За натурални показатели, не влючени в този отчет, специфични за конкретна дейност се представят отделни справки, допълнително определени от Министерство на финансите.",{"$nulls":8},{"$f":"K918","v":""}]
[]
[{"$nulls":10},{"$f":"(IF($E1094<>0,$K$2,IF($F1094<>0,$K$2,IF($G1094<>0,$K$2,IF($H1094<>0,$K$2,IF($I1094<>0,$K$2,IF($J1094<>0,$K$2,\"\")))))))","v":""}]
[{"$nulls":10},{"$f":"(IF($E1094<>0,$K$2,IF($F1094<>0,$K$2,IF($G1094<>0,$K$2,IF($H1094<>0,$K$2,IF($I1094<>0,$K$2,IF($J1094<>0,$K$2,\"\")))))))","v":""}]
[null,{"$f":"$B$7","v":"ОТЧЕТНИ ДАННИ ПО ЕБК ЗА ИЗПЪЛНЕНИЕТО НА БЮДЖЕТА"},{"$nulls":8},{"$f":"(IF($E1094<>0,$K$2,IF($F1094<>0,$K$2,IF($G1094<>0,$K$2,IF($H1094<>0,$K$2,IF($I1094<>0,$K$2,IF($J1094<>0,$K$2,\"\")))))))","v":""}]
[{"$nulls":4},"за периода от ","до",null,"                 II.1. РАЗХОДИ ПО ДЕЙНОСТИ",null,null,{"$f":"(IF($E1094<>0,$K$2,IF($F1094<>0,$K$2,IF($G1094<>0,$K$2,IF($H1094<>0,$K$2,IF($I1094<>0,$K$2,IF($J1094<>0,$K$2,\"\")))))))","v":""}]
[null,{"$f":"$B$9","v":"РЕГИОНАЛНА ЗДРАВНА ИНСПЕКЦИЯ-БУРГАС"},null,null,{"$f":"$E$9","v":"2021-01-01"},{"$f":"$F$9","v":"2021-12-31"},{"$nulls":4},{"$f":"(IF($E1094<>0,$K$2,IF($F1094<>0,$K$2,IF($G1094<>0,$K$2,IF($H1094<>0,$K$2,IF($I1094<>0,$K$2,IF($J1094<>0,$K$2,\"\")))))))","v":""}]
[null,{"$f":"$B$10","v":"                                                            (наименование на разпоредителя с бюджет)"},{"$nulls":8},{"$f":"(IF($E1094<>0,$K$2,IF($F1094<>0,$K$2,IF($G1094<>0,$K$2,IF($H1094<>0,$K$2,IF($I1094<>0,$K$2,IF($J1094<>0,$K$2,\"\")))))))","v":""}]
[{"$nulls":10},{"$f":"(IF($E1094<>0,$K$2,IF($F1094<>0,$K$2,IF($G1094<>0,$K$2,IF($H1094<>0,$K$2,IF($I1094<>0,$K$2,IF($J1094<>0,$K$2,\"\")))))))","v":""}]
[null,{"$f":"$B$12","v":{"$error":"#N/A"}},null,null,"       код по ЕБК:",{"$f":"$F$12","v":"0"},{"$nulls":4},{"$f":"(IF($E1094<>0,$K$2,IF($F1094<>0,$K$2,IF($G1094<>0,$K$2,IF($H1094<>0,$K$2,IF($I1094<>0,$K$2,IF($J1094<>0,$K$2,\"\")))))))","v":""}]
[null,{"$f":"$B$13","v":"                                             (наименование на първостепенния разпоредител с бюджет)"},{"$nulls":8},{"$f":"(IF($E1094<>0,$K$2,IF($F1094<>0,$K$2,IF($G1094<>0,$K$2,IF($H1094<>0,$K$2,IF($I1094<>0,$K$2,IF($J1094<>0,$K$2,\"\")))))))","v":""}]
[{"$nulls":3},"ФИНАНСОВО-ПРАВНА ФОРМА",{"$f":"$E$15","v":0},{"$f":"$F$15","v":"БЮДЖЕТ"},{"$nulls":4},{"$f":"(IF($E1094<>0,$K$2,IF($F1094<>0,$K$2,IF($G1094<>0,$K$2,IF($H1094<>0,$K$2,IF($I1094<>0,$K$2,IF($J1094<>0,$K$2,\"\")))))))","v":""}]
[{"$nulls":9},"(в лева)",{"$f":"(IF($E1094<>0,$K$2,IF($F1094<>0,$K$2,IF($G1094<>0,$K$2,IF($H1094<>0,$K$2,IF($I1094<>0,$K$2,IF($J1094<>0,$K$2,\"\")))))))","v":""}]
[{"$nulls":3},"II.1. РАЗХОДИ ПО ДЕЙНОСТИ","Уточнен план","                                                                                                                              О Т Ч Е Т Н И   Д А Н Н И",{"$nulls":4},{"$f":"(IF($E1094<>0,$K$2,IF($F1094<>0,$K$2,IF($G1094<>0,$K$2,IF($H1094<>0,$K$2,IF($I1094<>0,$K$2,IF($J1094<>0,$K$2,\"\")))))))","v":""}]
[null,"§§","под-§§","НАИМЕНОВАНИЯ НА ПАРАГРАФИТЕ И ПОДПАРАГРАФИТЕ",{"$f":"$C$3","v":2021},"ОБЩО","левови\n сметки и СЕБРА ","валутни \nсметки ","операции в брой (в левове и валута)","операции приравнени на касов поток",{"$f":"(IF($E1094<>0,$K$2,IF($F1094<>0,$K$2,IF($G1094<>0,$K$2,IF($H1094<>0,$K$2,IF($I1094<>0,$K$2,IF($J1094<>0,$K$2,\"\")))))))","v":""}]
[{"$nulls":3}," 02 ¦","(1)","(2)","(3)","(4)","(5)","(6)",{"$f":"(IF($E1094<>0,$K$2,IF($F1094<>0,$K$2,IF($G1094<>0,$K$2,IF($H1094<>0,$K$2,IF($I1094<>0,$K$2,IF($J1094<>0,$K$2,\"\")))))))","v":""}]
[null,null,0,"ИЗБЕРЕТЕ ОПЕРАТИВНА ПРОГРАМА ",{"$nulls":6},{"$f":"(IF($E1094<>0,$K$2,IF($F1094<>0,$K$2,IF($G1094<>0,$K$2,IF($H1094<>0,$K$2,IF($I1094<>0,$K$2,IF($J1094<>0,$K$2,\"\")))))))","v":""}]
[null,null,{"$f":"VLOOKUP(D977,EBK_DEIN2,2,FALSE)","v":2219},"<------          ДЕЙНОСТ    -  код  по  ЕБК",{"$nulls":6},{"$f":"(IF($E1094<>0,$K$2,IF($F1094<>0,$K$2,IF($G1094<>0,$K$2,IF($H1094<>0,$K$2,IF($I1094<>0,$K$2,IF($J1094<>0,$K$2,\"\")))))))","v":""}]
[null,null,{"$f":"+C976","v":2219},"219 Други дейности по отбраната",{"$nulls":6},{"$f":"(IF($E1094<>0,$K$2,IF($F1094<>0,$K$2,IF($G1094<>0,$K$2,IF($H1094<>0,$K$2,IF($I1094<>0,$K$2,IF($J1094<>0,$K$2,\"\")))))))","v":""}]
[{"$nulls":3},"(наименование на дейността)",{"$nulls":6},{"$f":"(IF($E1094<>0,$K$2,IF($F1094<>0,$K$2,IF($G1094<>0,$K$2,IF($H1094<>0,$K$2,IF($I1094<>0,$K$2,IF($J1094<>0,$K$2,\"\")))))))","v":""}]
[null,{"v":100,"d":"01-00"},"Заплати и възнаграждения за персонала, нает по трудови и служебни правоотношения",null,{"$f":"SUM(E980:E981)","v":0},0,0,0,0,0,{"$f":"(IF($E979<>0,$K$2,IF($F979<>0,$K$2,IF($G979<>0,$K$2,IF($H979<>0,$K$2,IF($I979<>0,$K$2,IF($J979<>0,$K$2,\"\")))))))","v":""}]
[null,null,{"v":101,"d":"01-01"},"заплати и възнаграждения на персонала нает по трудови правоотношения",0,{"$f":"G980+H980+I980+J980","v":0},0,0,0,0,{"$f":"(IF($E980<>0,$K$2,IF($F980<>0,$K$2,IF($G980<>0,$K$2,IF($H980<>0,$K$2,IF($I980<>0,$K$2,IF($J980<>0,$K$2,\"\")))))))","v":""}]
[null,null,{"v":102,"d":"01-02"},"заплати и възнаграждения на персонала нает по служебни правоотношения",0,{"$f":"G981+H981+I981+J981","v":0},0,0,0,0,""]
[null,{"v":200,"d":"02-00"},"Други възнаграждения и плащания за персонала",null,{"$f":"SUM(E983:E987)","v":0},0,0,0,0,0,""]
[null,null,{"v":201,"d":"02-01"},"за нещатен персонал нает по трудови правоотношения ",0,{"$f":"G983+H983+I983+J983","v":0},0,0,0,0,""]
[null,null,{"v":202,"d":"02-02"},"за персонала по извънтрудови правоотношения",0,{"$f":"G984+H984+I984+J984","v":0},0,0,0,0,""]
[null,null,{"v":205,"d":"02-05"},"изплатени суми от СБКО за облекло и други на персонала, с характер на възнаграждение",0,{"$f":"G985+H985+I985+J985","v":0},0,0,0,0,""]
[null,null,{"v":208,"d":"02-08"},"обезщетения за персонала, с характер на възнаграждение",0,{"$f":"G986+H986+I986+J986","v":0},0,0,0,0,""]
[null,null,{"v":209,"d":"02-09"},"другиплащания и възнаграждения",0,{"$f":"G987+H987+I987+J987","v":0},0,0,0,0,""]
[null,{"v":500,"d":"05-00"},"Задължителни осигурителни вноски от работодатели",null,{"$f":"SUM(E989:E995)","v":0},0,0,0,0,0,""]
[null,null,{"v":551,"d":"05-51"},"осигурителни вноски от работодатели за Държавното обществено осигуряване (ДОО)",0,{"$f":"G989+H989+I989+J989","v":0},0,0,0,0,""]
[null,null,{"$f":"C989+1","v":{"v":552,"d":"05-52"}},"осигурителни вноски от работодатели за Учителския пенсионен фонд (УПФ)",0,0,0,0,0,0,""]
[null,null,{"v":558,"d":"05-58"},"вноски по чл. 4б и 4в от КСО за сметка на осигурителя",null,{"$f":"G991+H991+I991+J991","v":0},0,0,0,0,""]
[null,null,{"v":560,"d":"05-60"},"здравно-осигурителни вноски от работодатели",0,0,0,0,0,0,""]
[null,null,{"v":580,"d":"05-80"},"вноски за допълнително задължително осигуряване от работодатели",0,0,0,0,0,0,""]
[null,null,{"v":588,"d":"05-88"},"коректив на вноски за ДЗПО за сумите по чл. 4б и 4в от КСО за сметка на осигурителя",null,{"$f":"G994+H994+I994+J994","v":0},0,0,0,0,""]
[null,null,{"v":590,"d":"05-90"},"задължителни вноски за чуждестранни пенсионни фондове и  схеми за сметка на осигурителя",0,0,0,0,0,0,""]
[5,{"v":800,"d":"08-00"},"Вноски за доброволно осигуряване ",null,null,0,{"$nulls":4},""]
[10,{"v":1000,"d":"10-00"},"Издръжка",null,{"$f":"SUM(E998:E1014)","v":0},0,0,0,0,0,""]
[15,null,{"v":1011,"d":"10-11"},"Храна",0,{"$f":"G998+H998+I998+J998","v":0},0,0,0,0,""]
[35,null,{"v":1012,"d":"10-12"},"Медикаменти",0,0,0,0,0,0,""]
[40,null,{"v":1013,"d":"10-13"},"Постелен инвентар и облекло",0,0,0,0,0,0,""]
[45,null,{"v":1014,"d":"10-14"},"Учебни и научно-изследователски разходи и книги за библиотеките",0,0,0,0,0,0,""]
[50,null,{"v":1015,"d":"10-15"},"материали",0,0,0,0,0,0,""]
[55,null,{"v":1016,"d":"10-16"},"вода, горива и енергия",0,0,0,0,0,0,""]
[60,null,{"v":1020,"d":"10-20"},"разходи за външни услуги",0,0,0,0,0,0,""]
[65,null,{"v":1030,"d":"10-30"},"Текущ ремонт",0,0,0,0,0,0,""]
[70,null,{"v":1051,"d":"10-51"},"командировки в страната",0,0,0,0,0,0,""]
[75,null,{"v":1052,"d":"10-52"},"краткосрочни командировки в чужбина",0,0,0,0,0,0,""]
[80,null,{"v":1053,"d":"10-53"},"дългосрочни командировки в чужбина",0,0,0,0,0,0,""]
[80,null,{"v":1062,"d":"10-62"},"разходи за застраховки",0,0,0,0,0,0,""]
[85,null,{"v":1063,"d":"10-63"},"такса ангажимент по заеми",0,0,0,0,0,0,""]
[90,null,{"v":1069,"d":"10-69"},"други финансови услуги",0,0,0,0,0,0,""]
[90,null,{"v":1091,"d":"10-91"},"други разходи за СБКО",0,0,0,0,0,0,""]
[115,null,{"v":1092,"d":"10-92"},"разходи за договорни санкции и неустойки, съдебни обезщетения и разноски",0,0,0,0,0,0,""]
[125,null,{"v":1098,"d":"10-98"},"други разходи, некласифицирани в другите параграфи и подпараграфи",0,0,0,0,0,0,""]
[130,{"v":1900,"d":"19-00"},"Платени данъци, такси и административни санкции",null,{"$f":"SUM(E1016:E1018)","v":0},0,0,0,0,0,""]
[135,null,{"v":1901,"d":"19-01"},"платени държавни данъци, такси, наказателни лихви и административни санкции",0,{"$f":"G1016+H1016+I1016+J1016","v":0},0,0,0,0,""]
[140,null,{"v":1981,"d":"19-81"},"платени общински данъци, такси, наказателни лихви и административни санкции",0,{"$f":"G1017+H1017+I1017+J1017","v":0},0,0,0,0,""]
[145,null,{"v":1991,"d":"19-91"},"платени данъци, такси, наказателни лихви и административни санкции в чужбина",0,{"$f":"G1018+H1018+I1018+J1018","v":0},0,0,0,0,""]
[150,{"v":2100,"d":"21-00"},"Разходи за лихви по емисии на държавни (общински) ценни книжа",null,{"$f":"SUM(E1020:E1024)","v":0},0,0,0,0,0,""]
[155,null,{"v":2110,"d":"21-10"},"лихви по държавни (общински) ценни книжа",0,{"$f":"G1020+H1020+I1020+J1020","v":0},0,0,0,0,""]
[160,null,{"v":2120,"d":"21-20"},"отстъпки по държавни (общински) ценни книжа",0,{"$f":"G1021+H1021+I1021+J1021","v":0},0,0,0,0,""]
[165,null,{"v":2125,"d":"21-25"},"лихви и отстъпки по целеви емисии на държавни ценни книжа",0,{"$f":"G1022+H1022+I1022+J1022","v":0},0,0,0,0,""]
[175,null,{"v":2140,"d":"21-40"},"лихви по държавни ценни книжа, емитирани за структурната реформа ",0,{"$f":"G1023+H1023+I1023+J1023","v":0},0,0,0,0,""]
[180,null,{"v":2190,"d":"21-90"},"премии над номинала от емисии на държавни (общински) ценни книжа (-)",0,{"$f":"G1024+H1024+I1024+J1024","v":0},0,0,0,0,""]
[185,{"v":2200,"d":"22-00"},"Разходи за лихви по заеми от страната",null,{"$f":"SUM(E1026:E1027)","v":0},0,0,0,0,0,""]
[190,null,{"v":2221,"d":"22-21"},"Разходи за лихви по заеми от банки в страната",0,{"$f":"G1026+H1026+I1026+J1026","v":0},0,0,0,0,""]
[200,null,{"v":2224,"d":"22-24"},"Разходи за лихви по други заеми от страната",0,0,0,0,0,0,""]
[200,{"v":2500,"d":"25-00"},"Разходи за лихви по заеми от други държави",null,null,0,{"$nulls":4},""]
[205,{"v":2600,"d":"26-00"},"Разходи за лихви по заеми от международни организации и институции",null,null,0,{"$nulls":4},""]
[210,{"v":2700,"d":"27-00"},"Разходи за лихви по заеми от банки и други финансови институции от чужбина",null,null,0,{"$nulls":4},""]
[215,{"v":2800,"d":"28-00"},"Разходи за лихви и отстъпки по облигации, емитирани и търгувани на международните капиталови пазари",null,null,0,{"$nulls":4},""]
[220,{"v":2900,"d":"29-00"},"Други разходи за лихви",null,{"$f":"SUM(E1033:E1040)","v":0},0,0,0,0,0,""]
[225,null,{"v":2910,"d":"29-10"},"Платени лихви по финансов лизинг и търговски кредит",null,{"$f":"G1033+H1033+I1033+J1033","v":0},{"$nulls":4},""]
[230,null,{"v":2920,"d":"29-20"},"Платени лихви по активирани гаранции по заеми от  банки в страната",0,{"$f":"G1034+H1034+I1034+J1034","v":0},0,0,0,0,""]
[245,null,{"v":2969,"d":"29-69"},"Платени лихви по активирани гаранции по заеми от международни организации и институции",0,0,0,0,0,0,""]
[220,null,{"v":2970,"d":"29-70"},"Платени лихви по активирани гаранции по заеми от банки и финансови институции от чужбина",null,0,{"$nulls":4},""]
[225,null,{"v":2989,"d":"29-89"},"Възстановени суми по платени лихви по активирани гаранции (-)",0,0,0,0,0,0,""]
[230,null,{"v":2990,"d":"29-90"},"Платени лихви по заеми, предоставени от централния бюджет и бюджетни организации",null,{"$f":"G1038+H1038+I1038+J1038","v":0},{"$nulls":4},""]
[235,null,{"v":2991,"d":"29-91"},"Други разходи за лихви към  местни лица",0,0,0,0,0,0,""]
[240,null,{"v":2992,"d":"29-92"},"Други разходи за лихви към чуждестранни лица",0,0,0,0,0,0,""]
[245,{"v":3300,"d":"33-00"},"Вноска в общия бюджет на Европейския съюз",null,{"$f":"SUM(E1042:E1046)","v":0},0,0,0,0,0,""]
[250,null,{"v":3301,"d":"33-01"},"ресурс на база брутен национален доход",0,{"$f":"G1042+H1042+I1042+J1042","v":0},0,0,0,0,""]
[255,null,{"v":3302,"d":"33-02"},"ресурс на база данък върху добавената стойност",0,0,0,0,0,0,""]
[265,null,{"v":3304,"d":"33-04"},"традиционни собствени ресурси - мита",0,0,0,0,0,0,""]
[270,null,{"v":3306,"d":"33-06"},"участие във финансирането на брутното намаление за Австрия, Дания, Германия, Нидерландия и Швеция",0,0,0,0,0,0,""]
[290,null,{"v":3307,"d":"33-07"},"ресурс на база нерециклираните отпадъци от опаковки от пластмаса",0,0,0,0,0,0,""]
[320,{"v":3900,"d":"39-00"},"Здравно-осигурителни плащания",null,null,0,{"$nulls":4},{"$f":"(IF($E1047<>0,$K$2,IF($F1047<>0,$K$2,IF($G1047<>0,$K$2,IF($H1047<>0,$K$2,IF($I1047<>0,$K$2,IF($J1047<>0,$K$2,\"\")))))))","v":""}]
[330,{"v":4000,"d":"40-00"},"Стипендии",null,0,0,0,0,0,0,""]
[350,{"v":4100,"d":"41-00"},"Пенсии",null,null,0,{"$nulls":4},""]
[355,{"v":4200,"d":"42-00"},"Текущи трансфери, обезщетения и помощи за домакинствата",null,{"$f":"SUM(E1051:E1056)","v":0},0,0,0,0,0,""]
[375,null,{"v":4201,"d":"42-01"},"обезщетения и помощи по социалното осигуряване",0,{"$f":"G1051+H1051+I1051+J1051","v":0},0,0,0,0,""]
[375,null,{"v":4202,"d":"42-02"},"обезщетения и помощи по социалното подпомагане",0,0,0,0,0,0,""]
[380,null,{"v":4214,"d":"42-14"},"обезщетения и помощи по решение на общинския съвет",0,0,0,0,0,0,""]
[385,null,{"v":4217,"d":"42-17"},"текущи трансфери за домакинства от средства на Европейския съюз",0,0,0,0,0,0,""]
[390,null,{"v":4218,"d":"42-18"},"текущи трансфери за домакинства по други международни програми и споразумения",0,0,0,0,0,0,""]
[390,null,{"v":4219,"d":"42-19"},"други текущи трансфери за домакинствата",0,0,0,0,0,0,""]
[395,{"v":4300,"d":"43-00"},"Субсидии и други текущи трансфери за нефинансови предприятия ",null,{"$f":"SUM(E1058:E1060)","v":0},0,0,0,0,0,""]
[397,null,{"v":4301,"d":"43-01"},"за текуща дейност",0,{"$f":"G1058+H1058+I1058+J1058","v":0},0,0,0,0,""]
[398,null,{"v":4302,"d":"43-02"},"за осъществяване на болнична помощ ",0,0,0,0,0,0,""]
[399,null,{"v":4309,"d":"43-09"},"други субсидии и плащания",0,0,0,0,0,0,""]
[400,{"v":4400,"d":"44-00"},"Субсидии и други текущи трансфери за финансови институции",null,null,0,{"$nulls":4},""]
[401,{"v":4500,"d":"45-00"},"Субсидии и други текущи трансфери за юридически лица с нестопанска цел",null,null,0,{"$nulls":4},""]
[404,{"v":4600,"d":"46-00"},"Разходи за членски внос и участие в нетърговски организации и дейности",null,null,0,{"$nulls":4},""]
[404,{"v":4900,"d":"49-00"},"Предоставени текущи и капиталови трансфери за чужбина",null,{"$f":"+E1065+E1066","v":0},0,0,0,0,0,""]
[440,null,{"v":4901,"d":"49-01"},"текущи трансфери за чужбина",0,{"$f":"G1065+H1065+I1065+J1065","v":0},0,0,0,0,""]
[450,null,{"v":4902,"d":"49-02"},"капиталови трансфери за чужбина",0,{"$f":"G1066+H1066+I1066+J1066","v":0},0,0,0,0,""]
[495,{"v":5100,"d":"51-00"},"Основен ремонт на дълготрайни материални активи",null,null,{"$f":"G1067+H1067+I1067+J1067","v":0},0,{"$nulls":3},""]
[500,{"v":5200,"d":"52-00"},"Придобиване на дълготрайни материални активи",null,{"$f":"SUM(E1069:E1075)","v":0},0,0,0,0,0,""]
[505,null,{"v":5201,"d":"52-01"},"придобиване на компютри и хардуер",0,{"$f":"G1069+H1069+I1069+J1069","v":0},0,0,0,0,""]
[510,null,{"v":5202,"d":"52-02"},"придобиване на сгради",0,0,0,0,0,0,""]
[515,null,{"v":5203,"d":"52-03"},"придобиване на друго оборудване, машини и съоръжения",0,0,0,0,0,0,""]
[520,null,{"v":5204,"d":"52-04"},"придобиване на транспортни средства",0,0,0,0,0,0,""]
[525,null,{"v":5205,"d":"52-05"},"придобиване на стопански инвентар",0,0,0,0,0,0,""]
[635,null,{"v":5206,"d":"52-06"},"изграждане на инфраструктурни обекти",0,0,0,0,0,0,""]
[640,null,{"v":5219,"d":"52-19"},"придобиване на други ДМА",0,0,0,0,0,0,""]
[645,{"v":5300,"d":"53-00"},"Придобиване на нематериални дълготрайни активи",null,{"$f":"SUM(E1077:E1078)","v":0},0,0,0,0,0,""]
[650,null,{"v":5301,"d":"53-01"},"придобиване на програмни продукти и лицензи за програмни продукти",0,{"$f":"G1077+H1077+I1077+J1077","v":0},0,0,0,0,""]
[655,null,{"v":5309,"d":"53-09"},"придобиване на други нематериални дълготрайни активи",0,{"$f":"G1078+H1078+I1078+J1078","v":0},0,0,0,0,""]
[665,{"v":5400,"d":"54-00"},"Придобиване на земя",null,null,{"$f":"G1079+H1079+I1079+J1079","v":0},{"$nulls":4},""]
[675,{"v":5500,"d":"55-00"},"Капиталови трансфери",null,{"$f":"SUM(E1081:E1084)","v":0},0,0,0,0,0,""]
[685,null,{"v":5501,"d":"55-01"},"капиталови трансфери за нефинансови предприятия",0,{"$f":"G1081+H1081+I1081+J1081","v":0},0,0,0,0,""]
[690,null,{"v":5502,"d":"55-02"},"капиталови трансфери за финансови институции",0,{"$f":"G1082+H1082+I1082+J1082","v":0},0,0,0,0,""]
[695,null,{"v":5503,"d":"55-03"},"капиталови трансфери за организации с нестопанска цел",0,{"$f":"G1083+H1083+I1083+J1083","v":0},0,0,0,0,""]
[700,null,{"v":5504,"d":"55-04"},"капиталови трансфери за домакинствата",0,{"$f":"G1084+H1084+I1084+J1084","v":0},0,0,0,0,""]
[710,{"v":5700,"d":"57-00"},"Прираст на държавния резерв и изкупуване на земеделска продукция (включва и § 40-71)",null,{"$f":"SUM(E1086:E1088)","v":0},0,0,0,0,0,""]
[715,null,{"v":5701,"d":"57-01"},"плащания за попълване на държавния резерв",0,{"$f":"G1086+H1086+I1086+J1086","v":0},0,0,0,0,""]
[720,null,{"v":5702,"d":"57-02"},"плащания за изкупуване на земеделска продукция",0,{"$f":"G1087+H1087+I1087+J1087","v":0},0,0,0,0,""]
[725,null,{"v":4071,"d":"40-71"},"постъпления от продажба на държавния резерв (-)",0,{"$f":"G1088+H1088+I1088+J1088","v":0},0,0,0,0,""]
[730,{"$nulls":9},""]
[735,{"v":98,"d":"00-98"},"Резерв за непредвидени и неотложни разходи",null,null,{"$f":"G1090+H1090+I1090+J1090","v":0},0,0,0,0,""]
[740,{"$nulls":9},""]
[745,{"$nulls":9},""]
[750,{"$nulls":9},""]
[755,null,"99-99",{"$f":"+B1094","v":{"v":0,"d":"II. ОБЩО РАЗХОДИ ЗА ДЕЙНОСТ 0000"}},{"$f":"SUM(E979,E982,E988,E996,E997,E1015,E1019,E1025,E1028,E1029,E1030,E1031,E1032,E1041,E1047,E1048,E1049,E1050,E1057,E1061,E1062,E1063,E1064,E1067,E1068,E1076,E1079,E1080,E1085)+E1090","v":0},0,0,0,0,0,"",{"$f":"LEFT(C976,1)","v":"2"}]
[760,{"$nulls":9},{"$f":"K1094","v":""}]
[765,{"$nulls":9},{"$f":"K1094","v":""}]
[775,{"$nulls":9},{"$f":"(IF(SUM(K1108:K1129)<>0,$K$2,\"\"))","v":""}]
[780,{"$f":"$B$7","v":"ОТЧЕТНИ ДАННИ ПО ЕБК ЗА ИЗПЪЛНЕНИЕТО НА БЮДЖЕТА"},{"$nulls":8},{"$f":"(IF(SUM(K1108:K1129)<>0,$K$2,\"\"))","v":""}]
[785,{"$nulls":3},"за периода от ","до",{"$nulls":4},{"$f":"(IF(SUM(K1108:K1129)<>0,$K$2,\"\"))","v":""}]
[790,{"$f":"$B$9","v":"РЕГИОНАЛНА ЗДРАВНА ИНСПЕКЦИЯ-БУРГАС"},null,null,{"$f":"$E$9","v":"2021-01-01"},{"$f":"$F$9","v":"2021-12-31"},{"$nulls":4},{"$f":"(IF(SUM(K1108:K1129)<>0,$K$2,\"\"))","v":""}]
[795,{"$f":"$B$10","v":"                                                            (наименование на разпоредителя с бюджет)"},{"$nulls":8},{"$f":"(IF(SUM(K1108:K1129)<>0,$K$2,\"\"))","v":""}]
[805,{"$nulls":9},{"$f":"(IF(SUM(K1108:K1129)<>0,$K$2,\"\"))","v":""}]
[810,{"$f":"$B$12","v":{"$error":"#N/A"}},null,null,"       код по ЕБК:",{"$f":"$F$12","v":"0"},{"$nulls":4},{"$f":"(IF(SUM(K1108:K1129)<>0,$K$2,\"\"))","v":""}]
[815,{"$f":"$B$13","v":"                                             (наименование на първостепенния разпоредител с бюджет)"},{"$nulls":8},{"$f":"(IF(SUM(K1108:K1129)<>0,$K$2,\"\"))","v":""}]
[525,null,null,"               ФИНАНСОВО-ПРАВНА ФОРМА",{"$f":"$E$15","v":0},{"$f":"$F$15","v":"БЮДЖЕТ"},{"$nulls":4},{"$f":"(IF(SUM(K1108:K1129)<>0,$K$2,\"\"))","v":""}]
[820,null,null,"Натурални и други показатели за дейността",null,"(в лева)",{"$nulls":4},{"$f":"(IF(SUM(K1108:K1129)<>0,$K$2,\"\"))","v":""}]
[821,"МЯРКА","Код 9 8","  О б щ и   н а т у р а л н и   п о к а з а т е л и","    П л а н","    О т ч е т ",{"$nulls":4},{"$f":"(IF(SUM(K1108:K1129)<>0,$K$2,\"\"))","v":""}]
[822,null," 9 8 0 1","Щ а т н и   б р о й к и",{"$f":"E1109+E1110","v":0},{"$f":"F1109+F1110","v":0},{"$nulls":4},{"$f":"(IF($E1108<>0,$K$2,IF($F1108<>0,$K$2,\"\")))","v":""}]
[823,null," 9 8 1 1","в т.ч.: по трудови правоотношения",0,0,{"$nulls":4},""]
[825,null," 9 8 1 2","           по служебни правоотношения",0,0,{"$nulls":4},""]
[null,null," 9 8 0 2","Средногодишни щатни бройки",{"$f":"E1112+E1113","v":0},{"$f":"F1112+F1113","v":0},{"$nulls":4},""]
[null,null," 9 8 2 1","в т.ч.: по трудови правоотношения",0,0,{"$nulls":4},""]
[null,null," 9 8 2 2","         по служебни правоотношения",0,0,{"$nulls":4},""]
[null,null," 9 8 0 3","Средна годишна брутна заплата",0,0,{"$nulls":4},""]
[null,null," 9 8 3 1"," в т.ч.:   по трудови правоотношения",0,0,{"$nulls":4},""]
[null,null," 9 8 3 2","            по служебни правоотношения",0,0,{"$nulls":4},""]
[null,null," 9 8 0 4","Брой на моторни превозни средства",0,0,{"$nulls":4},""]
[null,null,"9 8 0 5","- в т.ч. - леки автомобили",0,0,{"$nulls":4},""]
[null,null,"9 8 0 6","             - санитарни линейки",0,0,{"$nulls":4},""]
[null,null," 9 8 0 7","Брой ученици, финансирани по единни разходни стандарти",0,0,{"$nulls":4},""]
[null,null," 9 8 0 8","Средна годишна брутна заплата на делегирани бюджети",0,0,{"$nulls":4},""]
[null,null," 9 8 0 9","Щатни бройки на делегирани бюджети",0,0,{"$nulls":4},""]
[null,null," 9 8 1 0","Средногодишни щатни бройки на делегирани бюджети",0,0,{"$nulls":4},""]
[null,null,"9 8 1 3","Средногодишен приравнен брой учащи във ВУ, финансирани по норматив за издръжка на обучението",0,0,{"$nulls":4},""]
[null,null,"9 8 1 4","Брой леглодни в студентски общежития",0,0,{"$nulls":4},""]
[905,null,"9 8 1 5","Брой хранодни в студентски стол",0,0,{"$nulls":4},""]
[906,null,"9 8 1 7","Болнични легла",0,0,{"$nulls":4},""]
[907,null,"9 8 1 8","Обем радиопрограма /часове/",0,0,{"$nulls":4},""]
[910,null,"9 8 1 9","Обем телевизионна програма /часове/",0,0,{"$nulls":4},""]
[911,"МЯРКА","Код  ","Разходи в областта на електронното управление и за използваните информационни и комуникационни технологии","    П л а н","    О т ч е т ",{"$nulls":4},{"$f":"(IF($E1131<>0,$K$2,IF($F1131<>0,$K$2,\"\")))","v":""}]
[null,null,"9 8 5 0","Общо разходи в областта на ЕУ и за използваните ИКТ",{"$f":"E1132+E1133","v":0},{"$f":"F1132+F1133","v":0},{"$nulls":4},""]
[null,null,"9 8 5 1","Текущи разходи в областта на ЕУ и за използваните ИКТ",0,0,{"$nulls":4},""]
[null,null,"9 8 5 2","Капиталови разходи в областта на ЕУ и за използваните ИКТ",0,0,{"$nulls":4},""]
[null,"ЗАБЕЛЕЖКА:",{"$nulls":8},{"$f":"K1094","v":""}]
[null," За натурални показатели, не влючени в този отчет, специфични за конкретна дейност се представят отделни справки, допълнително определени от Министерство на финансите.",{"$nulls":8},{"$f":"K1094","v":""}]
[]
[{"$nulls":10},{"$f":"(IF($E1270<>0,$K$2,IF($F1270<>0,$K$2,IF($G1270<>0,$K$2,IF($H1270<>0,$K$2,IF($I1270<>0,$K$2,IF($J1270<>0,$K$2,\"\")))))))","v":""}]
[{"$nulls":10},{"$f":"(IF($E1270<>0,$K$2,IF($F1270<>0,$K$2,IF($G1270<>0,$K$2,IF($H1270<>0,$K$2,IF($I1270<>0,$K$2,IF($J1270<>0,$K$2,\"\")))))))","v":""}]
[null,{"$f":"$B$7","v":"ОТЧЕТНИ ДАННИ ПО ЕБК ЗА ИЗПЪЛНЕНИЕТО НА БЮДЖЕТА"},{"$nulls":8},{"$f":"(IF($E1270<>0,$K$2,IF($F1270<>0,$K$2,IF($G1270<>0,$K$2,IF($H1270<>0,$K$2,IF($I1270<>0,$K$2,IF($J1270<>0,$K$2,\"\")))))))","v":""}]
[{"$nulls":4},"за периода от ","до",null,"                 II.1. РАЗХОДИ ПО ДЕЙНОСТИ",null,null,{"$f":"(IF($E1270<>0,$K$2,IF($F1270<>0,$K$2,IF($G1270<>0,$K$2,IF($H1270<>0,$K$2,IF($I1270<>0,$K$2,IF($J1270<>0,$K$2,\"\")))))))","v":""}]
[null,{"$f":"$B$9","v":"РЕГИОНАЛНА ЗДРАВНА ИНСПЕКЦИЯ-БУРГАС"},null,null,{"$f":"$E$9","v":"2021-01-01"},{"$f":"$F$9","v":"2021-12-31"},{"$nulls":4},{"$f":"(IF($E1270<>0,$K$2,IF($F1270<>0,$K$2,IF($G1270<>0,$K$2,IF($H1270<>0,$K$2,IF($I1270<>0,$K$2,IF($J1270<>0,$K$2,\"\")))))))","v":""}]
[null,{"$f":"$B$10","v":"                                                            (наименование на разпоредителя с бюджет)"},{"$nulls":8},{"$f":"(IF($E1270<>0,$K$2,IF($F1270<>0,$K$2,IF($G1270<>0,$K$2,IF($H1270<>0,$K$2,IF($I1270<>0,$K$2,IF($J1270<>0,$K$2,\"\")))))))","v":""}]
[{"$nulls":10},{"$f":"(IF($E1270<>0,$K$2,IF($F1270<>0,$K$2,IF($G1270<>0,$K$2,IF($H1270<>0,$K$2,IF($I1270<>0,$K$2,IF($J1270<>0,$K$2,\"\")))))))","v":""}]
[null,{"$f":"$B$12","v":{"$error":"#N/A"}},null,null,"       код по ЕБК:",{"$f":"$F$12","v":"0"},{"$nulls":4},{"$f":"(IF($E1270<>0,$K$2,IF($F1270<>0,$K$2,IF($G1270<>0,$K$2,IF($H1270<>0,$K$2,IF($I1270<>0,$K$2,IF($J1270<>0,$K$2,\"\")))))))","v":""}]
[null,{"$f":"$B$13","v":"                                             (наименование на първостепенния разпоредител с бюджет)"},{"$nulls":8},{"$f":"(IF($E1270<>0,$K$2,IF($F1270<>0,$K$2,IF($G1270<>0,$K$2,IF($H1270<>0,$K$2,IF($I1270<>0,$K$2,IF($J1270<>0,$K$2,\"\")))))))","v":""}]
[{"$nulls":3},"ФИНАНСОВО-ПРАВНА ФОРМА",{"$f":"$E$15","v":0},{"$f":"$F$15","v":"БЮДЖЕТ"},{"$nulls":4},{"$f":"(IF($E1270<>0,$K$2,IF($F1270<>0,$K$2,IF($G1270<>0,$K$2,IF($H1270<>0,$K$2,IF($I1270<>0,$K$2,IF($J1270<>0,$K$2,\"\")))))))","v":""}]
[{"$nulls":9},"(в лева)",{"$f":"(IF($E1270<>0,$K$2,IF($F1270<>0,$K$2,IF($G1270<>0,$K$2,IF($H1270<>0,$K$2,IF($I1270<>0,$K$2,IF($J1270<>0,$K$2,\"\")))))))","v":""}]
[{"$nulls":3},"II.1. РАЗХОДИ ПО ДЕЙНОСТИ","Уточнен план","                                                                                                                              О Т Ч Е Т Н И   Д А Н Н И",{"$nulls":4},{"$f":"(IF($E1270<>0,$K$2,IF($F1270<>0,$K$2,IF($G1270<>0,$K$2,IF($H1270<>0,$K$2,IF($I1270<>0,$K$2,IF($J1270<>0,$K$2,\"\")))))))","v":""}]
[null,"§§","под-§§","НАИМЕНОВАНИЯ НА ПАРАГРАФИТЕ И ПОДПАРАГРАФИТЕ",{"$f":"$C$3","v":2021},"ОБЩО","левови\n сметки и СЕБРА ","валутни \nсметки ","операции в брой (в левове и валута)","операции приравнени на касов поток",{"$f":"(IF($E1270<>0,$K$2,IF($F1270<>0,$K$2,IF($G1270<>0,$K$2,IF($H1270<>0,$K$2,IF($I1270<>0,$K$2,IF($J1270<>0,$K$2,\"\")))))))","v":""}]
[{"$nulls":3}," 02 ¦","(1)","(2)","(3)","(4)","(5)","(6)",{"$f":"(IF($E1270<>0,$K$2,IF($F1270<>0,$K$2,IF($G1270<>0,$K$2,IF($H1270<>0,$K$2,IF($I1270<>0,$K$2,IF($J1270<>0,$K$2,\"\")))))))","v":""}]
[null,null,0,"ИЗБЕРЕТЕ ОПЕРАТИВНА ПРОГРАМА ",{"$nulls":6},{"$f":"(IF($E1270<>0,$K$2,IF($F1270<>0,$K$2,IF($G1270<>0,$K$2,IF($H1270<>0,$K$2,IF($I1270<>0,$K$2,IF($J1270<>0,$K$2,\"\")))))))","v":""}]
[null,null,{"$f":"VLOOKUP(D1153,EBK_DEIN2,2,FALSE)","v":2282},"<------          ДЕЙНОСТ    -  код  по  ЕБК",{"$nulls":6},{"$f":"(IF($E1270<>0,$K$2,IF($F1270<>0,$K$2,IF($G1270<>0,$K$2,IF($H1270<>0,$K$2,IF($I1270<>0,$K$2,IF($J1270<>0,$K$2,\"\")))))))","v":""}]
[null,null,{"$f":"+C1152","v":2282},"282 Отбранително-мобилизационна подготовка, поддържане на запаси и мощности",{"$nulls":6},{"$f":"(IF($E1270<>0,$K$2,IF($F1270<>0,$K$2,IF($G1270<>0,$K$2,IF($H1270<>0,$K$2,IF($I1270<>0,$K$2,IF($J1270<>0,$K$2,\"\")))))))","v":""}]
[{"$nulls":3},"(наименование на дейността)",{"$nulls":6},{"$f":"(IF($E1270<>0,$K$2,IF($F1270<>0,$K$2,IF($G1270<>0,$K$2,IF($H1270<>0,$K$2,IF($I1270<>0,$K$2,IF($J1270<>0,$K$2,\"\")))))))","v":""}]
[null,{"v":100,"d":"01-00"},"Заплати и възнаграждения за персонала, нает по трудови и служебни правоотношения",null,{"$f":"SUM(E1156:E1157)","v":0},0,0,0,0,0,{"$f":"(IF($E1155<>0,$K$2,IF($F1155<>0,$K$2,IF($G1155<>0,$K$2,IF($H1155<>0,$K$2,IF($I1155<>0,$K$2,IF($J1155<>0,$K$2,\"\")))))))","v":""}]
[null,null,{"v":101,"d":"01-01"},"заплати и възнаграждения на персонала нает по трудови правоотношения",0,{"$f":"G1156+H1156+I1156+J1156","v":0},0,0,0,0,{"$f":"(IF($E1156<>0,$K$2,IF($F1156<>0,$K$2,IF($G1156<>0,$K$2,IF($H1156<>0,$K$2,IF($I1156<>0,$K$2,IF($J1156<>0,$K$2,\"\")))))))","v":""}]
[null,null,{"v":102,"d":"01-02"},"заплати и възнаграждения на персонала нает по служебни правоотношения",0,{"$f":"G1157+H1157+I1157+J1157","v":0},0,0,0,0,""]
[null,{"v":200,"d":"02-00"},"Други възнаграждения и плащания за персонала",null,{"$f":"SUM(E1159:E1163)","v":0},0,0,0,0,0,""]
[null,null,{"v":201,"d":"02-01"},"за нещатен персонал нает по трудови правоотношения ",0,{"$f":"G1159+H1159+I1159+J1159","v":0},0,0,0,0,""]
[null,null,{"v":202,"d":"02-02"},"за персонала по извънтрудови правоотношения",0,{"$f":"G1160+H1160+I1160+J1160","v":0},0,0,0,0,""]
[null,null,{"v":205,"d":"02-05"},"изплатени суми от СБКО за облекло и други на персонала, с характер на възнаграждение",0,{"$f":"G1161+H1161+I1161+J1161","v":0},0,0,0,0,""]
[null,null,{"v":208,"d":"02-08"},"обезщетения за персонала, с характер на възнаграждение",0,{"$f":"G1162+H1162+I1162+J1162","v":0},0,0,0,0,""]
[null,null,{"v":209,"d":"02-09"},"другиплащания и възнаграждения",0,{"$f":"G1163+H1163+I1163+J1163","v":0},0,0,0,0,""]
[null,{"v":500,"d":"05-00"},"Задължителни осигурителни вноски от работодатели",null,{"$f":"SUM(E1165:E1171)","v":0},0,0,0,0,0,""]
[null,null,{"v":551,"d":"05-51"},"осигурителни вноски от работодатели за Държавното обществено осигуряване (ДОО)",0,{"$f":"G1165+H1165+I1165+J1165","v":0},0,0,0,0,""]
[null,null,{"$f":"C1165+1","v":{"v":552,"d":"05-52"}},"осигурителни вноски от работодатели за Учителския пенсионен фонд (УПФ)",0,0,0,0,0,0,""]
[null,null,{"v":558,"d":"05-58"},"вноски по чл. 4б и 4в от КСО за сметка на осигурителя",null,{"$f":"G1167+H1167+I1167+J1167","v":0},0,0,0,0,""]
[null,null,{"v":560,"d":"05-60"},"здравно-осигурителни вноски от работодатели",0,0,0,0,0,0,""]
[null,null,{"v":580,"d":"05-80"},"вноски за допълнително задължително осигуряване от работодатели",0,0,0,0,0,0,""]
[null,null,{"v":588,"d":"05-88"},"коректив на вноски за ДЗПО за сумите по чл. 4б и 4в от КСО за сметка на осигурителя",null,{"$f":"G1170+H1170+I1170+J1170","v":0},0,0,0,0,""]
[null,null,{"v":590,"d":"05-90"},"задължителни вноски за чуждестранни пенсионни фондове и  схеми за сметка на осигурителя",0,0,0,0,0,0,""]
[5,{"v":800,"d":"08-00"},"Вноски за доброволно осигуряване ",null,null,0,{"$nulls":4},""]
[10,{"v":1000,"d":"10-00"},"Издръжка",null,{"$f":"SUM(E1174:E1190)","v":0},0,0,0,0,0,""]
[15,null,{"v":1011,"d":"10-11"},"Храна",0,{"$f":"G1174+H1174+I1174+J1174","v":0},0,0,0,0,""]
[35,null,{"v":1012,"d":"10-12"},"Медикаменти",0,0,0,0,0,0,""]
[40,null,{"v":1013,"d":"10-13"},"Постелен инвентар и облекло",0,0,0,0,0,0,""]
[45,null,{"v":1014,"d":"10-14"},"Учебни и научно-изследователски разходи и книги за библиотеките",0,0,0,0,0,0,""]
[50,null,{"v":1015,"d":"10-15"},"материали",0,0,0,0,0,0,""]
[55,null,{"v":1016,"d":"10-16"},"вода, горива и енергия",0,0,0,0,0,0,""]
[60,null,{"v":1020,"d":"10-20"},"разходи за външни услуги",0,0,0,0,0,0,""]
[65,null,{"v":1030,"d":"10-30"},"Текущ ремонт",0,0,0,0,0,0,""]
[70,null,{"v":1051,"d":"10-51"},"командировки в страната",0,0,0,0,0,0,""]
[75,null,{"v":1052,"d":"10-52"},"краткосрочни командировки в чужбина",0,0,0,0,0,0,""]
[80,null,{"v":1053,"d":"10-53"},"дългосрочни командировки в чужбина",0,0,0,0,0,0,""]
[80,null,{"v":1062,"d":"10-62"},"разходи за застраховки",0,0,0,0,0,0,""]
[85,null,{"v":1063,"d":"10-63"},"такса ангажимент по заеми",0,0,0,0,0,0,""]
[90,null,{"v":1069,"d":"10-69"},"други финансови услуги",0,0,0,0,0,0,""]
[90,null,{"v":1091,"d":"10-91"},"други разходи за СБКО",0,0,0,0,0,0,""]
[115,null,{"v":1092,"d":"10-92"},"разходи за договорни санкции и неустойки, съдебни обезщетения и разноски",0,0,0,0,0,0,""]
[125,null,{"v":1098,"d":"10-98"},"други разходи, некласифицирани в другите параграфи и подпараграфи",0,0,0,0,0,0,""]
[130,{"v":1900,"d":"19-00"},"Платени данъци, такси и административни санкции",null,{"$f":"SUM(E1192:E1194)","v":0},0,0,0,0,0,""]
[135,null,{"v":1901,"d":"19-01"},"платени държавни данъци, такси, наказателни лихви и административни санкции",0,{"$f":"G1192+H1192+I1192+J1192","v":0},0,0,0,0,""]
[140,null,{"v":1981,"d":"19-81"},"платени общински данъци, такси, наказателни лихви и административни санкции",0,{"$f":"G1193+H1193+I1193+J1193","v":0},0,0,0,0,""]
[145,null,{"v":1991,"d":"19-91"},"платени данъци, такси, наказателни лихви и административни санкции в чужбина",0,{"$f":"G1194+H1194+I1194+J1194","v":0},0,0,0,0,""]
[150,{"v":2100,"d":"21-00"},"Разходи за лихви по емисии на държавни (общински) ценни книжа",null,{"$f":"SUM(E1196:E1200)","v":0},0,0,0,0,0,""]
[155,null,{"v":2110,"d":"21-10"},"лихви по държавни (общински) ценни книжа",0,{"$f":"G1196+H1196+I1196+J1196","v":0},0,0,0,0,""]
[160,null,{"v":2120,"d":"21-20"},"отстъпки по държавни (общински) ценни книжа",0,{"$f":"G1197+H1197+I1197+J1197","v":0},0,0,0,0,""]
[165,null,{"v":2125,"d":"21-25"},"лихви и отстъпки по целеви емисии на държавни ценни книжа",0,{"$f":"G1198+H1198+I1198+J1198","v":0},0,0,0,0,""]
[175,null,{"v":2140,"d":"21-40"},"лихви по държавни ценни книжа, емитирани за структурната реформа ",0,{"$f":"G1199+H1199+I1199+J1199","v":0},0,0,0,0,""]
[180,null,{"v":2190,"d":"21-90"},"премии над номинала от емисии на държавни (общински) ценни книжа (-)",0,{"$f":"G1200+H1200+I1200+J1200","v":0},0,0,0,0,""]
[185,{"v":2200,"d":"22-00"},"Разходи за лихви по заеми от страната",null,{"$f":"SUM(E1202:E1203)","v":0},0,0,0,0,0,""]
[190,null,{"v":2221,"d":"22-21"},"Разходи за лихви по заеми от банки в страната",0,{"$f":"G1202+H1202+I1202+J1202","v":0},0,0,0,0,""]
[200,null,{"v":2224,"d":"22-24"},"Разходи за лихви по други заеми от страната",0,0,0,0,0,0,""]
[200,{"v":2500,"d":"25-00"},"Разходи за лихви по заеми от други държави",null,null,0,{"$nulls":4},""]
[205,{"v":2600,"d":"26-00"},"Разходи за лихви по заеми от международни организации и институции",null,null,0,{"$nulls":4},""]
[210,{"v":2700,"d":"27-00"},"Разходи за лихви по заеми от банки и други финансови институции от чужбина",null,null,0,{"$nulls":4},""]
[215,{"v":2800,"d":"28-00"},"Разходи за лихви и отстъпки по облигации, емитирани и търгувани на международните капиталови пазари",null,null,0,{"$nulls":4},""]
[220,{"v":2900,"d":"29-00"},"Други разходи за лихви",null,{"$f":"SUM(E1209:E1216)","v":0},0,0,0,0,0,""]
[225,null,{"v":2910,"d":"29-10"},"Платени лихви по финансов лизинг и търговски кредит",null,{"$f":"G1209+H1209+I1209+J1209","v":0},{"$nulls":4},""]
[230,null,{"v":2920,"d":"29-20"},"Платени лихви по активирани гаранции по заеми от  банки в страната",0,{"$f":"G1210+H1210+I1210+J1210","v":0},0,0,0,0,""]
[245,null,{"v":2969,"d":"29-69"},"Платени лихви по активирани гаранции по заеми от международни организации и институции",0,0,0,0,0,0,""]
[220,null,{"v":2970,"d":"29-70"},"Платени лихви по активирани гаранции по заеми от банки и финансови институции от чужбина",null,0,{"$nulls":4},""]
[225,null,{"v":2989,"d":"29-89"},"Възстановени суми по платени лихви по активирани гаранции (-)",0,0,0,0,0,0,""]
[230,null,{"v":2990,"d":"29-90"},"Платени лихви по заеми, предоставени от централния бюджет и бюджетни организации",null,{"$f":"G1214+H1214+I1214+J1214","v":0},{"$nulls":4},""]
[235,null,{"v":2991,"d":"29-91"},"Други разходи за лихви към  местни лица",0,0,0,0,0,0,""]
[240,null,{"v":2992,"d":"29-92"},"Други разходи за лихви към чуждестранни лица",0,0,0,0,0,0,""]
[245,{"v":3300,"d":"33-00"},"Вноска в общия бюджет на Европейския съюз",null,{"$f":"SUM(E1218:E1222)","v":0},0,0,0,0,0,""]
[250,null,{"v":3301,"d":"33-01"},"ресурс на база брутен национален доход",0,{"$f":"G1218+H1218+I1218+J1218","v":0},0,0,0,0,""]
[255,null,{"v":3302,"d":"33-02"},"ресурс на база данък върху добавената стойност",0,0,0,0,0,0,""]
[265,null,{"v":3304,"d":"33-04"},"традиционни собствени ресурси - мита",0,0,0,0,0,0,""]
[270,null,{"v":3306,"d":"33-06"},"участие във финансирането на брутното намаление за Австрия, Дания, Германия, Нидерландия и Швеция",0,0,0,0,0,0,""]
[290,null,{"v":3307,"d":"33-07"},"ресурс на база нерециклираните отпадъци от опаковки от пластмаса",0,0,0,0,0,0,""]
[320,{"v":3900,"d":"39-00"},"Здравно-осигурителни плащания",null,null,0,{"$nulls":4},{"$f":"(IF($E1223<>0,$K$2,IF($F1223<>0,$K$2,IF($G1223<>0,$K$2,IF($H1223<>0,$K$2,IF($I1223<>0,$K$2,IF($J1223<>0,$K$2,\"\")))))))","v":""}]
[330,{"v":4000,"d":"40-00"},"Стипендии",null,0,0,0,0,0,0,""]
[350,{"v":4100,"d":"41-00"},"Пенсии",null,null,0,{"$nulls":4},""]
[355,{"v":4200,"d":"42-00"},"Текущи трансфери, обезщетения и помощи за домакинствата",null,{"$f":"SUM(E1227:E1232)","v":0},0,0,0,0,0,""]
[375,null,{"v":4201,"d":"42-01"},"обезщетения и помощи по социалното осигуряване",0,{"$f":"G1227+H1227+I1227+J1227","v":0},0,0,0,0,""]
[375,null,{"v":4202,"d":"42-02"},"обезщетения и помощи по социалното подпомагане",0,0,0,0,0,0,""]
[380,null,{"v":4214,"d":"42-14"},"обезщетения и помощи по решение на общинския съвет",0,0,0,0,0,0,""]
[385,null,{"v":4217,"d":"42-17"},"текущи трансфери за домакинства от средства на Европейския съюз",0,0,0,0,0,0,""]
[390,null,{"v":4218,"d":"42-18"},"текущи трансфери за домакинства по други международни програми и споразумения",0,0,0,0,0,0,""]
[390,null,{"v":4219,"d":"42-19"},"други текущи трансфери за домакинствата",0,0,0,0,0,0,""]
[395,{"v":4300,"d":"43-00"},"Субсидии и други текущи трансфери за нефинансови предприятия ",null,{"$f":"SUM(E1234:E1236)","v":0},0,0,0,0,0,""]
[397,null,{"v":4301,"d":"43-01"},"за текуща дейност",0,{"$f":"G1234+H1234+I1234+J1234","v":0},0,0,0,0,""]
[398,null,{"v":4302,"d":"43-02"},"за осъществяване на болнична помощ ",0,0,0,0,0,0,""]
[399,null,{"v":4309,"d":"43-09"},"други субсидии и плащания",0,0,0,0,0,0,""]
[400,{"v":4400,"d":"44-00"},"Субсидии и други текущи трансфери за финансови институции",null,null,0,{"$nulls":4},""]
[401,{"v":4500,"d":"45-00"},"Субсидии и други текущи трансфери за юридически лица с нестопанска цел",null,null,0,{"$nulls":4},""]
[404,{"v":4600,"d":"46-00"},"Разходи за членски внос и участие в нетърговски организации и дейности",null,null,0,{"$nulls":4},""]
[404,{"v":4900,"d":"49-00"},"Предоставени текущи и капиталови трансфери за чужбина",null,{"$f":"+E1241+E1242","v":0},0,0,0,0,0,""]
[440,null,{"v":4901,"d":"49-01"},"текущи трансфери за чужбина",0,{"$f":"G1241+H1241+I1241+J1241","v":0},0,0,0,0,""]
[450,null,{"v":4902,"d":"49-02"},"капиталови трансфери за чужбина",0,{"$f":"G1242+H1242+I1242+J1242","v":0},0,0,0,0,""]
[495,{"v":5100,"d":"51-00"},"Основен ремонт на дълготрайни материални активи",null,null,{"$f":"G1243+H1243+I1243+J1243","v":0},{"$nulls":4},""]
[500,{"v":5200,"d":"52-00"},"Придобиване на дълготрайни материални активи",null,{"$f":"SUM(E1245:E1251)","v":0},0,0,0,0,0,""]
[505,null,{"v":5201,"d":"52-01"},"придобиване на компютри и хардуер",0,{"$f":"G1245+H1245+I1245+J1245","v":0},0,0,0,0,""]
[510,null,{"v":5202,"d":"52-02"},"придобиване на сгради",0,0,0,0,0,0,""]
[515,null,{"v":5203,"d":"52-03"},"придобиване на друго оборудване, машини и съоръжения",0,0,0,0,0,0,""]
[520,null,{"v":5204,"d":"52-04"},"придобиване на транспортни средства",0,0,0,0,0,0,""]
[525,null,{"v":5205,"d":"52-05"},"придобиване на стопански инвентар",0,0,0,0,0,0,""]
[635,null,{"v":5206,"d":"52-06"},"изграждане на инфраструктурни обекти",0,0,0,0,0,0,""]
[640,null,{"v":5219,"d":"52-19"},"придобиване на други ДМА",0,0,0,0,0,0,""]
[645,{"v":5300,"d":"53-00"},"Придобиване на нематериални дълготрайни активи",null,{"$f":"SUM(E1253:E1254)","v":0},0,0,0,0,0,""]
[650,null,{"v":5301,"d":"53-01"},"придобиване на програмни продукти и лицензи за програмни продукти",0,{"$f":"G1253+H1253+I1253+J1253","v":0},0,0,0,0,""]
[655,null,{"v":5309,"d":"53-09"},"придобиване на други нематериални дълготрайни активи",0,{"$f":"G1254+H1254+I1254+J1254","v":0},0,0,0,0,""]
[665,{"v":5400,"d":"54-00"},"Придобиване на земя",null,null,{"$f":"G1255+H1255+I1255+J1255","v":0},{"$nulls":4},""]
[675,{"v":5500,"d":"55-00"},"Капиталови трансфери",null,{"$f":"SUM(E1257:E1260)","v":0},0,0,0,0,0,""]
[685,null,{"v":5501,"d":"55-01"},"капиталови трансфери за нефинансови предприятия",0,{"$f":"G1257+H1257+I1257+J1257","v":0},0,0,0,0,""]
[690,null,{"v":5502,"d":"55-02"},"капиталови трансфери за финансови институции",0,{"$f":"G1258+H1258+I1258+J1258","v":0},0,0,0,0,""]
[695,null,{"v":5503,"d":"55-03"},"капиталови трансфери за организации с нестопанска цел",0,{"$f":"G1259+H1259+I1259+J1259","v":0},0,0,0,0,""]
[700,null,{"v":5504,"d":"55-04"},"капиталови трансфери за домакинствата",0,{"$f":"G1260+H1260+I1260+J1260","v":0},0,0,0,0,""]
[710,{"v":5700,"d":"57-00"},"Прираст на държавния резерв и изкупуване на земеделска продукция (включва и § 40-71)",null,{"$f":"SUM(E1262:E1264)","v":0},0,0,0,0,0,""]
[715,null,{"v":5701,"d":"57-01"},"плащания за попълване на държавния резерв",0,{"$f":"G1262+H1262+I1262+J1262","v":0},0,0,0,0,""]
[720,null,{"v":5702,"d":"57-02"},"плащания за изкупуване на земеделска продукция",0,{"$f":"G1263+H1263+I1263+J1263","v":0},0,0,0,0,""]
[725,null,{"v":4071,"d":"40-71"},"постъпления от продажба на държавния резерв (-)",0,{"$f":"G1264+H1264+I1264+J1264","v":0},0,0,0,0,""]
[730,{"$nulls":9},""]
[735,{"v":98,"d":"00-98"},"Резерв за непредвидени и неотложни разходи",null,null,{"$f":"G1266+H1266+I1266+J1266","v":0},0,0,0,0,""]
[740,{"$nulls":9},""]
[745,{"$nulls":9},""]
[750,{"$nulls":9},""]
[755,null,"99-99",{"$f":"+B1270","v":{"v":0,"d":"II. ОБЩО РАЗХОДИ ЗА ДЕЙНОСТ 0000"}},{"$f":"SUM(E1155,E1158,E1164,E1172,E1173,E1191,E1195,E1201,E1204,E1205,E1206,E1207,E1208,E1217,E1223,E1224,E1225,E1226,E1233,E1237,E1238,E1239,E1240,E1243,E1244,E1252,E1255,E1256,E1261)+E1266","v":0},0,0,0,0,0,"",{"$f":"LEFT(C1152,1)","v":"2"}]
[760,{"$nulls":9},{"$f":"K1270","v":""}]
[765,{"$nulls":9},{"$f":"K1270","v":""}]
[775,{"$nulls":9},{"$f":"(IF(SUM(K1284:K1305)<>0,$K$2,\"\"))","v":""}]
[780,{"$f":"$B$7","v":"ОТЧЕТНИ ДАННИ ПО ЕБК ЗА ИЗПЪЛНЕНИЕТО НА БЮДЖЕТА"},{"$nulls":8},{"$f":"(IF(SUM(K1284:K1305)<>0,$K$2,\"\"))","v":""}]
[785,{"$nulls":3},"за периода от ","до",{"$nulls":4},{"$f":"(IF(SUM(K1284:K1305)<>0,$K$2,\"\"))","v":""}]
[790,{"$f":"$B$9","v":"РЕГИОНАЛНА ЗДРАВНА ИНСПЕКЦИЯ-БУРГАС"},null,null,{"$f":"$E$9","v":"2021-01-01"},{"$f":"$F$9","v":"2021-12-31"},{"$nulls":4},{"$f":"(IF(SUM(K1284:K1305)<>0,$K$2,\"\"))","v":""}]
[795,{"$f":"$B$10","v":"                                                            (наименование на разпоредителя с бюджет)"},{"$nulls":8},{"$f":"(IF(SUM(K1284:K1305)<>0,$K$2,\"\"))","v":""}]
[805,{"$nulls":9},{"$f":"(IF(SUM(K1284:K1305)<>0,$K$2,\"\"))","v":""}]
[810,{"$f":"$B$12","v":{"$error":"#N/A"}},null,null,"       код по ЕБК:",{"$f":"$F$12","v":"0"},{"$nulls":4},{"$f":"(IF(SUM(K1284:K1305)<>0,$K$2,\"\"))","v":""}]
[815,{"$f":"$B$13","v":"                                             (наименование на първостепенния разпоредител с бюджет)"},{"$nulls":8},{"$f":"(IF(SUM(K1284:K1305)<>0,$K$2,\"\"))","v":""}]
[525,null,null,"               ФИНАНСОВО-ПРАВНА ФОРМА",{"$f":"$E$15","v":0},{"$f":"$F$15","v":"БЮДЖЕТ"},{"$nulls":4},{"$f":"(IF(SUM(K1284:K1305)<>0,$K$2,\"\"))","v":""}]
[820,null,null,"Натурални и други показатели за дейността",null,"(в лева)",{"$nulls":4},{"$f":"(IF(SUM(K1284:K1305)<>0,$K$2,\"\"))","v":""}]
[821,"МЯРКА","Код 9 8","  О б щ и   н а т у р а л н и   п о к а з а т е л и","    П л а н","    О т ч е т ",{"$nulls":4},{"$f":"(IF(SUM(K1284:K1305)<>0,$K$2,\"\"))","v":""}]
[822,null," 9 8 0 1","Щ а т н и   б р о й к и",{"$f":"E1285+E1286","v":0},{"$f":"F1285+F1286","v":0},{"$nulls":4},{"$f":"(IF($E1284<>0,$K$2,IF($F1284<>0,$K$2,\"\")))","v":""}]
[823,null," 9 8 1 1","в т.ч.: по трудови правоотношения",0,0,{"$nulls":4},""]
[825,null," 9 8 1 2","           по служебни правоотношения",0,0,{"$nulls":4},""]
[null,null," 9 8 0 2","Средногодишни щатни бройки",{"$f":"E1288+E1289","v":0},{"$f":"F1288+F1289","v":0},{"$nulls":4},""]
[null,null," 9 8 2 1","в т.ч.: по трудови правоотношения",0,0,{"$nulls":4},""]
[null,null," 9 8 2 2","         по служебни правоотношения",0,0,{"$nulls":4},""]
[null,null," 9 8 0 3","Средна годишна брутна заплата",0,0,{"$nulls":4},""]
[null,null," 9 8 3 1"," в т.ч.:   по трудови правоотношения",0,0,{"$nulls":4},""]
[null,null," 9 8 3 2","            по служебни правоотношения",0,0,{"$nulls":4},""]
[null,null," 9 8 0 4","Брой на моторни превозни средства",0,0,{"$nulls":4},""]
[null,null,"9 8 0 5","- в т.ч. - леки автомобили",0,0,{"$nulls":4},""]
[null,null,"9 8 0 6","             - санитарни линейки",0,0,{"$nulls":4},""]
[null,null," 9 8 0 7","Брой ученици, финансирани по единни разходни стандарти",0,0,{"$nulls":4},""]
[null,null," 9 8 0 8","Средна годишна брутна заплата на делегирани бюджети",0,0,{"$nulls":4},""]
[null,null," 9 8 0 9","Щатни бройки на делегирани бюджети",0,0,{"$nulls":4},""]
[null,null," 9 8 1 0","Средногодишни щатни бройки на делегирани бюджети",0,0,{"$nulls":4},""]
[null,null,"9 8 1 3","Средногодишен приравнен брой учащи във ВУ, финансирани по норматив за издръжка на обучението",0,0,{"$nulls":4},""]
[null,null,"9 8 1 4","Брой леглодни в студентски общежития",0,0,{"$nulls":4},""]
[905,null,"9 8 1 5","Брой хранодни в студентски стол",0,0,{"$nulls":4},""]
[906,null,"9 8 1 7","Болнични легла",0,0,{"$nulls":4},""]
[907,null,"9 8 1 8","Обем радиопрограма /часове/",0,0,{"$nulls":4},""]
[910,null,"9 8 1 9","Обем телевизионна програма /часове/",0,0,{"$nulls":4},""]
[911,"МЯРКА","Код  ","Разходи в областта на електронното управление и за използваните информационни и комуникационни технологии","    П л а н","    О т ч е т ",{"$nulls":4},{"$f":"(IF($E1307<>0,$K$2,IF($F1307<>0,$K$2,\"\")))","v":""}]
[null,null,"9 8 5 0","Общо разходи в областта на ЕУ и за използваните ИКТ",{"$f":"E1308+E1309","v":0},{"$f":"F1308+F1309","v":0},{"$nulls":4},""]
[null,null,"9 8 5 1","Текущи разходи в областта на ЕУ и за използваните ИКТ",0,0,{"$nulls":4},""]
[null,null,"9 8 5 2","Капиталови разходи в областта на ЕУ и за използваните ИКТ",0,0,{"$nulls":4},""]
[null,"ЗАБЕЛЕЖКА:",{"$nulls":8},{"$f":"K1270","v":""}]
[null," За натурални показатели, не влючени в този отчет, специфични за конкретна дейност се представят отделни справки, допълнително определени от Министерство на финансите.",{"$nulls":8},{"$f":"K1270","v":""}]
[]
[{"$nulls":10},{"$f":"(IF($E1446<>0,$K$2,IF($F1446<>0,$K$2,IF($G1446<>0,$K$2,IF($H1446<>0,$K$2,IF($I1446<>0,$K$2,IF($J1446<>0,$K$2,\"\")))))))","v":""}]
[{"$nulls":10},{"$f":"(IF($E1446<>0,$K$2,IF($F1446<>0,$K$2,IF($G1446<>0,$K$2,IF($H1446<>0,$K$2,IF($I1446<>0,$K$2,IF($J1446<>0,$K$2,\"\")))))))","v":""}]
[null,{"$f":"$B$7","v":"ОТЧЕТНИ ДАННИ ПО ЕБК ЗА ИЗПЪЛНЕНИЕТО НА БЮДЖЕТА"},{"$nulls":8},{"$f":"(IF($E1446<>0,$K$2,IF($F1446<>0,$K$2,IF($G1446<>0,$K$2,IF($H1446<>0,$K$2,IF($I1446<>0,$K$2,IF($J1446<>0,$K$2,\"\")))))))","v":""}]
[{"$nulls":4},"за периода от ","до",null,"                 II.1. РАЗХОДИ ПО ДЕЙНОСТИ",null,null,{"$f":"(IF($E1446<>0,$K$2,IF($F1446<>0,$K$2,IF($G1446<>0,$K$2,IF($H1446<>0,$K$2,IF($I1446<>0,$K$2,IF($J1446<>0,$K$2,\"\")))))))","v":""}]
[null,{"$f":"$B$9","v":"РЕГИОНАЛНА ЗДРАВНА ИНСПЕКЦИЯ-БУРГАС"},null,null,{"$f":"$E$9","v":"2021-01-01"},{"$f":"$F$9","v":"2021-12-31"},{"$nulls":4},{"$f":"(IF($E1446<>0,$K$2,IF($F1446<>0,$K$2,IF($G1446<>0,$K$2,IF($H1446<>0,$K$2,IF($I1446<>0,$K$2,IF($J1446<>0,$K$2,\"\")))))))","v":""}]
[null,{"$f":"$B$10","v":"                                                            (наименование на разпоредителя с бюджет)"},{"$nulls":8},{"$f":"(IF($E1446<>0,$K$2,IF($F1446<>0,$K$2,IF($G1446<>0,$K$2,IF($H1446<>0,$K$2,IF($I1446<>0,$K$2,IF($J1446<>0,$K$2,\"\")))))))","v":""}]
[{"$nulls":10},{"$f":"(IF($E1446<>0,$K$2,IF($F1446<>0,$K$2,IF($G1446<>0,$K$2,IF($H1446<>0,$K$2,IF($I1446<>0,$K$2,IF($J1446<>0,$K$2,\"\")))))))","v":""}]
[null,{"$f":"$B$12","v":{"$error":"#N/A"}},null,null,"       код по ЕБК:",{"$f":"$F$12","v":"0"},{"$nulls":4},{"$f":"(IF($E1446<>0,$K$2,IF($F1446<>0,$K$2,IF($G1446<>0,$K$2,IF($H1446<>0,$K$2,IF($I1446<>0,$K$2,IF($J1446<>0,$K$2,\"\")))))))","v":""}]
[null,{"$f":"$B$13","v":"                                             (наименование на първостепенния разпоредител с бюджет)"},{"$nulls":8},{"$f":"(IF($E1446<>0,$K$2,IF($F1446<>0,$K$2,IF($G1446<>0,$K$2,IF($H1446<>0,$K$2,IF($I1446<>0,$K$2,IF($J1446<>0,$K$2,\"\")))))))","v":""}]
[{"$nulls":3},"ФИНАНСОВО-ПРАВНА ФОРМА",{"$f":"$E$15","v":0},{"$f":"$F$15","v":"БЮДЖЕТ"},{"$nulls":4},{"$f":"(IF($E1446<>0,$K$2,IF($F1446<>0,$K$2,IF($G1446<>0,$K$2,IF($H1446<>0,$K$2,IF($I1446<>0,$K$2,IF($J1446<>0,$K$2,\"\")))))))","v":""}]
[{"$nulls":9},"(в лева)",{"$f":"(IF($E1446<>0,$K$2,IF($F1446<>0,$K$2,IF($G1446<>0,$K$2,IF($H1446<>0,$K$2,IF($I1446<>0,$K$2,IF($J1446<>0,$K$2,\"\")))))))","v":""}]
[{"$nulls":3},"II.1. РАЗХОДИ ПО ДЕЙНОСТИ","Уточнен план","                                                                                                                              О Т Ч Е Т Н И   Д А Н Н И",{"$nulls":4},{"$f":"(IF($E1446<>0,$K$2,IF($F1446<>0,$K$2,IF($G1446<>0,$K$2,IF($H1446<>0,$K$2,IF($I1446<>0,$K$2,IF($J1446<>0,$K$2,\"\")))))))","v":""}]
[null,"§§","под-§§","НАИМЕНОВАНИЯ НА ПАРАГРАФИТЕ И ПОДПАРАГРАФИТЕ",{"$f":"$C$3","v":2021},"ОБЩО","левови\n сметки и СЕБРА ","валутни \nсметки ","операции в брой (в левове и валута)","операции приравнени на касов поток",{"$f":"(IF($E1446<>0,$K$2,IF($F1446<>0,$K$2,IF($G1446<>0,$K$2,IF($H1446<>0,$K$2,IF($I1446<>0,$K$2,IF($J1446<>0,$K$2,\"\")))))))","v":""}]
[{"$nulls":3}," 02 ¦","(1)","(2)","(3)","(4)","(5)","(6)",{"$f":"(IF($E1446<>0,$K$2,IF($F1446<>0,$K$2,IF($G1446<>0,$K$2,IF($H1446<>0,$K$2,IF($I1446<>0,$K$2,IF($J1446<>0,$K$2,\"\")))))))","v":""}]
[null,null,0,"ИЗБЕРЕТЕ ОПЕРАТИВНА ПРОГРАМА ",{"$nulls":6},{"$f":"(IF($E1446<>0,$K$2,IF($F1446<>0,$K$2,IF($G1446<>0,$K$2,IF($H1446<>0,$K$2,IF($I1446<>0,$K$2,IF($J1446<>0,$K$2,\"\")))))))","v":""}]
[null,null,{"$f":"VLOOKUP(D1329,EBK_DEIN2,2,FALSE)","v":2284},"<------          ДЕЙНОСТ    -  код  по  ЕБК",{"$nulls":6},{"$f":"(IF($E1446<>0,$K$2,IF($F1446<>0,$K$2,IF($G1446<>0,$K$2,IF($H1446<>0,$K$2,IF($I1446<>0,$K$2,IF($J1446<>0,$K$2,\"\")))))))","v":""}]
[null,null,{"$f":"+C1328","v":2284},"284 Ликвидиране на последици от стихийни бедствия и производствени аварии",{"$nulls":6},{"$f":"(IF($E1446<>0,$K$2,IF($F1446<>0,$K$2,IF($G1446<>0,$K$2,IF($H1446<>0,$K$2,IF($I1446<>0,$K$2,IF($J1446<>0,$K$2,\"\")))))))","v":""}]
[{"$nulls":3},"(наименование на дейността)",{"$nulls":6},{"$f":"(IF($E1446<>0,$K$2,IF($F1446<>0,$K$2,IF($G1446<>0,$K$2,IF($H1446<>0,$K$2,IF($I1446<>0,$K$2,IF($J1446<>0,$K$2,\"\")))))))","v":""}]
[null,{"v":100,"d":"01-00"},"Заплати и възнаграждения за персонала, нает по трудови и служебни правоотношения",null,{"$f":"SUM(E1332:E1333)","v":0},0,0,0,0,0,{"$f":"(IF($E1331<>0,$K$2,IF($F1331<>0,$K$2,IF($G1331<>0,$K$2,IF($H1331<>0,$K$2,IF($I1331<>0,$K$2,IF($J1331<>0,$K$2,\"\")))))))","v":""}]
[null,null,{"v":101,"d":"01-01"},"заплати и възнаграждения на персонала нает по трудови правоотношения",0,{"$f":"G1332+H1332+I1332+J1332","v":0},0,0,0,0,{"$f":"(IF($E1332<>0,$K$2,IF($F1332<>0,$K$2,IF($G1332<>0,$K$2,IF($H1332<>0,$K$2,IF($I1332<>0,$K$2,IF($J1332<>0,$K$2,\"\")))))))","v":""}]
[null,null,{"v":102,"d":"01-02"},"заплати и възнаграждения на персонала нает по служебни правоотношения",0,{"$f":"G1333+H1333+I1333+J1333","v":0},0,0,0,0,""]
[null,{"v":200,"d":"02-00"},"Други възнаграждения и плащания за персонала",null,{"$f":"SUM(E1335:E1339)","v":0},0,0,0,0,0,""]
[null,null,{"v":201,"d":"02-01"},"за нещатен персонал нает по трудови правоотношения ",0,{"$f":"G1335+H1335+I1335+J1335","v":0},0,0,0,0,""]
[null,null,{"v":202,"d":"02-02"},"за персонала по извънтрудови правоотношения",0,{"$f":"G1336+H1336+I1336+J1336","v":0},0,0,0,0,""]
[null,null,{"v":205,"d":"02-05"},"изплатени суми от СБКО за облекло и други на персонала, с характер на възнаграждение",0,{"$f":"G1337+H1337+I1337+J1337","v":0},0,0,0,0,""]
[null,null,{"v":208,"d":"02-08"},"обезщетения за персонала, с характер на възнаграждение",0,{"$f":"G1338+H1338+I1338+J1338","v":0},0,0,0,0,""]
[null,null,{"v":209,"d":"02-09"},"другиплащания и възнаграждения",0,{"$f":"G1339+H1339+I1339+J1339","v":0},0,0,0,0,""]
[null,{"v":500,"d":"05-00"},"Задължителни осигурителни вноски от работодатели",null,{"$f":"SUM(E1341:E1347)","v":0},0,0,0,0,0,""]
[null,null,{"v":551,"d":"05-51"},"осигурителни вноски от работодатели за Държавното обществено осигуряване (ДОО)",0,{"$f":"G1341+H1341+I1341+J1341","v":0},0,0,0,0,""]
[null,null,{"$f":"C1341+1","v":{"v":552,"d":"05-52"}},"осигурителни вноски от работодатели за Учителския пенсионен фонд (УПФ)",0,0,0,0,0,0,""]
[null,null,{"v":558,"d":"05-58"},"вноски по чл. 4б и 4в от КСО за сметка на осигурителя",null,{"$f":"G1343+H1343+I1343+J1343","v":0},0,0,0,0,""]
[null,null,{"v":560,"d":"05-60"},"здравно-осигурителни вноски от работодатели",0,0,0,0,0,0,""]
[null,null,{"v":580,"d":"05-80"},"вноски за допълнително задължително осигуряване от работодатели",0,0,0,0,0,0,""]
[null,null,{"v":588,"d":"05-88"},"коректив на вноски за ДЗПО за сумите по чл. 4б и 4в от КСО за сметка на осигурителя",null,{"$f":"G1346+H1346+I1346+J1346","v":0},0,0,0,0,""]
[null,null,{"v":590,"d":"05-90"},"задължителни вноски за чуждестранни пенсионни фондове и  схеми за сметка на осигурителя",0,0,0,0,0,0,""]
[5,{"v":800,"d":"08-00"},"Вноски за доброволно осигуряване ",null,null,0,{"$nulls":4},""]
[10,{"v":1000,"d":"10-00"},"Издръжка",null,{"$f":"SUM(E1350:E1366)","v":0},0,0,0,0,0,""]
[15,null,{"v":1011,"d":"10-11"},"Храна",0,{"$f":"G1350+H1350+I1350+J1350","v":0},0,0,0,0,""]
[35,null,{"v":1012,"d":"10-12"},"Медикаменти",0,0,0,0,0,0,""]
[40,null,{"v":1013,"d":"10-13"},"Постелен инвентар и облекло",0,0,0,0,0,0,""]
[45,null,{"v":1014,"d":"10-14"},"Учебни и научно-изследователски разходи и книги за библиотеките",0,0,0,0,0,0,""]
[50,null,{"v":1015,"d":"10-15"},"материали",0,0,0,0,0,0,""]
[55,null,{"v":1016,"d":"10-16"},"вода, горива и енергия",0,0,0,0,0,0,""]
[60,null,{"v":1020,"d":"10-20"},"разходи за външни услуги",0,0,0,0,0,0,""]
[65,null,{"v":1030,"d":"10-30"},"Текущ ремонт",0,0,0,0,0,0,""]
[70,null,{"v":1051,"d":"10-51"},"командировки в страната",0,0,0,0,0,0,""]
[75,null,{"v":1052,"d":"10-52"},"краткосрочни командировки в чужбина",0,0,0,0,0,0,""]
[80,null,{"v":1053,"d":"10-53"},"дългосрочни командировки в чужбина",0,0,0,0,0,0,""]
[80,null,{"v":1062,"d":"10-62"},"разходи за застраховки",0,0,0,0,0,0,""]
[85,null,{"v":1063,"d":"10-63"},"такса ангажимент по заеми",0,0,0,0,0,0,""]
[90,null,{"v":1069,"d":"10-69"},"други финансови услуги",0,0,0,0,0,0,""]
[90,null,{"v":1091,"d":"10-91"},"други разходи за СБКО",0,0,0,0,0,0,""]
[115,null,{"v":1092,"d":"10-92"},"разходи за договорни санкции и неустойки, съдебни обезщетения и разноски",0,0,0,0,0,0,""]
[125,null,{"v":1098,"d":"10-98"},"други разходи, некласифицирани в другите параграфи и подпараграфи",0,0,0,0,0,0,""]
[130,{"v":1900,"d":"19-00"},"Платени данъци, такси и административни санкции",null,{"$f":"SUM(E1368:E1370)","v":0},0,0,0,0,0,""]
[135,null,{"v":1901,"d":"19-01"},"платени държавни данъци, такси, наказателни лихви и административни санкции",0,{"$f":"G1368+H1368+I1368+J1368","v":0},0,0,0,0,""]
[140,null,{"v":1981,"d":"19-81"},"платени общински данъци, такси, наказателни лихви и административни санкции",0,{"$f":"G1369+H1369+I1369+J1369","v":0},0,0,0,0,""]
[145,null,{"v":1991,"d":"19-91"},"платени данъци, такси, наказателни лихви и административни санкции в чужбина",0,{"$f":"G1370+H1370+I1370+J1370","v":0},0,0,0,0,""]
[150,{"v":2100,"d":"21-00"},"Разходи за лихви по емисии на държавни (общински) ценни книжа",null,{"$f":"SUM(E1372:E1376)","v":0},0,0,0,0,0,""]
[155,null,{"v":2110,"d":"21-10"},"лихви по държавни (общински) ценни книжа",0,{"$f":"G1372+H1372+I1372+J1372","v":0},0,0,0,0,""]
[160,null,{"v":2120,"d":"21-20"},"отстъпки по държавни (общински) ценни книжа",0,{"$f":"G1373+H1373+I1373+J1373","v":0},0,0,0,0,""]
[165,null,{"v":2125,"d":"21-25"},"лихви и отстъпки по целеви емисии на държавни ценни книжа",0,{"$f":"G1374+H1374+I1374+J1374","v":0},0,0,0,0,""]
[175,null,{"v":2140,"d":"21-40"},"лихви по държавни ценни книжа, емитирани за структурната реформа ",0,{"$f":"G1375+H1375+I1375+J1375","v":0},0,0,0,0,""]
[180,null,{"v":2190,"d":"21-90"},"премии над номинала от емисии на държавни (общински) ценни книжа (-)",0,{"$f":"G1376+H1376+I1376+J1376","v":0},0,0,0,0,""]
[185,{"v":2200,"d":"22-00"},"Разходи за лихви по заеми от страната",null,{"$f":"SUM(E1378:E1379)","v":0},0,0,0,0,0,""]
[190,null,{"v":2221,"d":"22-21"},"Разходи за лихви по заеми от банки в страната",0,{"$f":"G1378+H1378+I1378+J1378","v":0},0,0,0,0,""]
[200,null,{"v":2224,"d":"22-24"},"Разходи за лихви по други заеми от страната",0,0,0,0,0,0,""]
[200,{"v":2500,"d":"25-00"},"Разходи за лихви по заеми от други държави",null,null,0,{"$nulls":4},""]
[205,{"v":2600,"d":"26-00"},"Разходи за лихви по заеми от международни организации и институции",null,null,0,{"$nulls":4},""]
[210,{"v":2700,"d":"27-00"},"Разходи за лихви по заеми от банки и други финансови институции от чужбина",null,null,0,{"$nulls":4},""]
[215,{"v":2800,"d":"28-00"},"Разходи за лихви и отстъпки по облигации, емитирани и търгувани на международните капиталови пазари",null,null,0,{"$nulls":4},""]
[220,{"v":2900,"d":"29-00"},"Други разходи за лихви",null,{"$f":"SUM(E1385:E1392)","v":0},0,0,0,0,0,""]
[225,null,{"v":2910,"d":"29-10"},"Платени лихви по финансов лизинг и търговски кредит",null,{"$f":"G1385+H1385+I1385+J1385","v":0},{"$nulls":4},""]
[230,null,{"v":2920,"d":"29-20"},"Платени лихви по активирани гаранции по заеми от  банки в страната",0,{"$f":"G1386+H1386+I1386+J1386","v":0},0,0,0,0,""]
[245,null,{"v":2969,"d":"29-69"},"Платени лихви по активирани гаранции по заеми от международни организации и институции",0,0,0,0,0,0,""]
[220,null,{"v":2970,"d":"29-70"},"Платени лихви по активирани гаранции по заеми от банки и финансови институции от чужбина",null,0,{"$nulls":4},""]
[225,null,{"v":2989,"d":"29-89"},"Възстановени суми по платени лихви по активирани гаранции (-)",0,0,0,0,0,0,""]
[230,null,{"v":2990,"d":"29-90"},"Платени лихви по заеми, предоставени от централния бюджет и бюджетни организации",null,{"$f":"G1390+H1390+I1390+J1390","v":0},{"$nulls":4},""]
[235,null,{"v":2991,"d":"29-91"},"Други разходи за лихви към  местни лица",0,0,0,0,0,0,""]
[240,null,{"v":2992,"d":"29-92"},"Други разходи за лихви към чуждестранни лица",0,0,0,0,0,0,""]
[245,{"v":3300,"d":"33-00"},"Вноска в общия бюджет на Европейския съюз",null,{"$f":"SUM(E1394:E1398)","v":0},0,0,0,0,0,""]
[250,null,{"v":3301,"d":"33-01"},"ресурс на база брутен национален доход",0,{"$f":"G1394+H1394+I1394+J1394","v":0},0,0,0,0,""]
[255,null,{"v":3302,"d":"33-02"},"ресурс на база данък върху добавената стойност",0,0,0,0,0,0,""]
[265,null,{"v":3304,"d":"33-04"},"традиционни собствени ресурси - мита",0,0,0,0,0,0,""]
[270,null,{"v":3306,"d":"33-06"},"участие във финансирането на брутното намаление за Австрия, Дания, Германия, Нидерландия и Швеция",0,0,0,0,0,0,""]
[290,null,{"v":3307,"d":"33-07"},"ресурс на база нерециклираните отпадъци от опаковки от пластмаса",0,0,0,0,0,0,""]
[320,{"v":3900,"d":"39-00"},"Здравно-осигурителни плащания",null,null,0,{"$nulls":4},{"$f":"(IF($E1399<>0,$K$2,IF($F1399<>0,$K$2,IF($G1399<>0,$K$2,IF($H1399<>0,$K$2,IF($I1399<>0,$K$2,IF($J1399<>0,$K$2,\"\")))))))","v":""}]
[330,{"v":4000,"d":"40-00"},"Стипендии",null,0,0,0,0,0,0,""]
[350,{"v":4100,"d":"41-00"},"Пенсии",null,null,0,{"$nulls":4},""]
[355,{"v":4200,"d":"42-00"},"Текущи трансфери, обезщетения и помощи за домакинствата",null,{"$f":"SUM(E1403:E1408)","v":0},0,0,0,0,0,""]
[375,null,{"v":4201,"d":"42-01"},"обезщетения и помощи по социалното осигуряване",0,{"$f":"G1403+H1403+I1403+J1403","v":0},0,0,0,0,""]
[375,null,{"v":4202,"d":"42-02"},"обезщетения и помощи по социалното подпомагане",0,0,0,0,0,0,""]
[380,null,{"v":4214,"d":"42-14"},"обезщетения и помощи по решение на общинския съвет",0,0,0,0,0,0,""]
[385,null,{"v":4217,"d":"42-17"},"текущи трансфери за домакинства от средства на Европейския съюз",0,0,0,0,0,0,""]
[390,null,{"v":4218,"d":"42-18"},"текущи трансфери за домакинства по други международни програми и споразумения",0,0,0,0,0,0,""]
[390,null,{"v":4219,"d":"42-19"},"други текущи трансфери за домакинствата",0,0,0,0,0,0,""]
[395,{"v":4300,"d":"43-00"},"Субсидии и други текущи трансфери за нефинансови предприятия ",null,{"$f":"SUM(E1410:E1412)","v":0},0,0,0,0,0,""]
[397,null,{"v":4301,"d":"43-01"},"за текуща дейност",0,{"$f":"G1410+H1410+I1410+J1410","v":0},0,0,0,0,""]
[398,null,{"v":4302,"d":"43-02"},"за осъществяване на болнична помощ ",0,0,0,0,0,0,""]
[399,null,{"v":4309,"d":"43-09"},"други субсидии и плащания",0,0,0,0,0,0,""]
[400,{"v":4400,"d":"44-00"},"Субсидии и други текущи трансфери за финансови институции",null,null,0,{"$nulls":4},""]
[401,{"v":4500,"d":"45-00"},"Субсидии и други текущи трансфери за юридически лица с нестопанска цел",null,null,0,{"$nulls":4},""]
[404,{"v":4600,"d":"46-00"},"Разходи за членски внос и участие в нетърговски организации и дейности",null,null,0,{"$nulls":4},""]
[404,{"v":4900,"d":"49-00"},"Предоставени текущи и капиталови трансфери за чужбина",null,{"$f":"+E1417+E1418","v":0},0,0,0,0,0,""]
[440,null,{"v":4901,"d":"49-01"},"текущи трансфери за чужбина",0,{"$f":"G1417+H1417+I1417+J1417","v":0},0,0,0,0,""]
[450,null,{"v":4902,"d":"49-02"},"капиталови трансфери за чужбина",0,{"$f":"G1418+H1418+I1418+J1418","v":0},0,0,0,0,""]
[495,{"v":5100,"d":"51-00"},"Основен ремонт на дълготрайни материални активи",null,0,{"$f":"G1419+H1419+I1419+J1419","v":0},0,{"$nulls":3},""]
[500,{"v":5200,"d":"52-00"},"Придобиване на дълготрайни материални активи",null,{"$f":"SUM(E1421:E1427)","v":0},0,0,0,0,0,""]
[505,null,{"v":5201,"d":"52-01"},"придобиване на компютри и хардуер",0,{"$f":"G1421+H1421+I1421+J1421","v":0},0,0,0,0,""]
[510,null,{"v":5202,"d":"52-02"},"придобиване на сгради",0,0,0,0,0,0,""]
[515,null,{"v":5203,"d":"52-03"},"придобиване на друго оборудване, машини и съоръжения",0,0,0,0,0,0,""]
[520,null,{"v":5204,"d":"52-04"},"придобиване на транспортни средства",0,0,0,0,0,0,""]
[525,null,{"v":5205,"d":"52-05"},"придобиване на стопански инвентар",0,0,0,0,0,0,""]
[635,null,{"v":5206,"d":"52-06"},"изграждане на инфраструктурни обекти",0,0,0,0,0,0,""]
[640,null,{"v":5219,"d":"52-19"},"придобиване на други ДМА",0,0,0,0,0,0,""]
[645,{"v":5300,"d":"53-00"},"Придобиване на нематериални дълготрайни активи",null,{"$f":"SUM(E1429:E1430)","v":0},0,0,0,0,0,""]
[650,null,{"v":5301,"d":"53-01"},"придобиване на програмни продукти и лицензи за програмни продукти",0,{"$f":"G1429+H1429+I1429+J1429","v":0},0,0,0,0,""]
[655,null,{"v":5309,"d":"53-09"},"придобиване на други нематериални дълготрайни активи",0,{"$f":"G1430+H1430+I1430+J1430","v":0},0,0,0,0,""]
[665,{"v":5400,"d":"54-00"},"Придобиване на земя",null,null,{"$f":"G1431+H1431+I1431+J1431","v":0},{"$nulls":4},""]
[675,{"v":5500,"d":"55-00"},"Капиталови трансфери",null,{"$f":"SUM(E1433:E1436)","v":0},0,0,0,0,0,""]
[685,null,{"v":5501,"d":"55-01"},"капиталови трансфери за нефинансови предприятия",0,{"$f":"G1433+H1433+I1433+J1433","v":0},0,0,0,0,""]
[690,null,{"v":5502,"d":"55-02"},"капиталови трансфери за финансови институции",0,{"$f":"G1434+H1434+I1434+J1434","v":0},0,0,0,0,""]
[695,null,{"v":5503,"d":"55-03"},"капиталови трансфери за организации с нестопанска цел",0,{"$f":"G1435+H1435+I1435+J1435","v":0},0,0,0,0,""]
[700,null,{"v":5504,"d":"55-04"},"капиталови трансфери за домакинствата",0,{"$f":"G1436+H1436+I1436+J1436","v":0},0,0,0,0,""]
[710,{"v":5700,"d":"57-00"},"Прираст на държавния резерв и изкупуване на земеделска продукция (включва и § 40-71)",null,{"$f":"SUM(E1438:E1440)","v":0},0,0,0,0,0,""]
[715,null,{"v":5701,"d":"57-01"},"плащания за попълване на държавния резерв",0,{"$f":"G1438+H1438+I1438+J1438","v":0},0,0,0,0,""]
[720,null,{"v":5702,"d":"57-02"},"плащания за изкупуване на земеделска продукция",0,{"$f":"G1439+H1439+I1439+J1439","v":0},0,0,0,0,""]
[725,null,{"v":4071,"d":"40-71"},"постъпления от продажба на държавния резерв (-)",0,{"$f":"G1440+H1440+I1440+J1440","v":0},0,0,0,0,""]
[730,{"$nulls":9},""]
[735,{"v":98,"d":"00-98"},"Резерв за непредвидени и неотложни разходи",null,null,{"$f":"G1442+H1442+I1442+J1442","v":0},0,0,0,0,""]
[740,{"$nulls":9},""]
[745,{"$nulls":9},""]
[750,{"$nulls":9},""]
[755,null,"99-99",{"$f":"+B1446","v":{"v":0,"d":"II. ОБЩО РАЗХОДИ ЗА ДЕЙНОСТ 0000"}},{"$f":"SUM(E1331,E1334,E1340,E1348,E1349,E1367,E1371,E1377,E1380,E1381,E1382,E1383,E1384,E1393,E1399,E1400,E1401,E1402,E1409,E1413,E1414,E1415,E1416,E1419,E1420,E1428,E1431,E1432,E1437)+E1442","v":0},0,0,0,0,0,"",{"$f":"LEFT(C1328,1)","v":"2"}]
[760,{"$nulls":9},{"$f":"K1446","v":""}]
[765,{"$nulls":9},{"$f":"K1446","v":""}]
[775,{"$nulls":9},{"$f":"(IF(SUM(K1460:K1481)<>0,$K$2,\"\"))","v":""}]
[780,{"$f":"$B$7","v":"ОТЧЕТНИ ДАННИ ПО ЕБК ЗА ИЗПЪЛНЕНИЕТО НА БЮДЖЕТА"},{"$nulls":8},{"$f":"(IF(SUM(K1460:K1481)<>0,$K$2,\"\"))","v":""}]
[785,{"$nulls":3},"за периода от ","до",{"$nulls":4},{"$f":"(IF(SUM(K1460:K1481)<>0,$K$2,\"\"))","v":""}]
[790,{"$f":"$B$9","v":"РЕГИОНАЛНА ЗДРАВНА ИНСПЕКЦИЯ-БУРГАС"},null,null,{"$f":"$E$9","v":"2021-01-01"},{"$f":"$F$9","v":"2021-12-31"},{"$nulls":4},{"$f":"(IF(SUM(K1460:K1481)<>0,$K$2,\"\"))","v":""}]
[795,{"$f":"$B$10","v":"                                                            (наименование на разпоредителя с бюджет)"},{"$nulls":8},{"$f":"(IF(SUM(K1460:K1481)<>0,$K$2,\"\"))","v":""}]
[805,{"$nulls":9},{"$f":"(IF(SUM(K1460:K1481)<>0,$K$2,\"\"))","v":""}]
[810,{"$f":"$B$12","v":{"$error":"#N/A"}},null,null,"       код по ЕБК:",{"$f":"$F$12","v":"0"},{"$nulls":4},{"$f":"(IF(SUM(K1460:K1481)<>0,$K$2,\"\"))","v":""}]
[815,{"$f":"$B$13","v":"                                             (наименование на първостепенния разпоредител с бюджет)"},{"$nulls":8},{"$f":"(IF(SUM(K1460:K1481)<>0,$K$2,\"\"))","v":""}]
[525,null,null,"               ФИНАНСОВО-ПРАВНА ФОРМА",{"$f":"$E$15","v":0},{"$f":"$F$15","v":"БЮДЖЕТ"},{"$nulls":4},{"$f":"(IF(SUM(K1460:K1481)<>0,$K$2,\"\"))","v":""}]
[820,null,null,"Натурални и други показатели за дейността",null,"(в лева)",{"$nulls":4},{"$f":"(IF(SUM(K1460:K1481)<>0,$K$2,\"\"))","v":""}]
[821,"МЯРКА","Код 9 8","  О б щ и   н а т у р а л н и   п о к а з а т е л и","    П л а н","    О т ч е т ",{"$nulls":4},{"$f":"(IF(SUM(K1460:K1481)<>0,$K$2,\"\"))","v":""}]
[822,null," 9 8 0 1","Щ а т н и   б р о й к и",{"$f":"E1461+E1462","v":0},{"$f":"F1461+F1462","v":0},{"$nulls":4},{"$f":"(IF($E1460<>0,$K$2,IF($F1460<>0,$K$2,\"\")))","v":""}]
[823,null," 9 8 1 1","в т.ч.: по трудови правоотношения",0,0,{"$nulls":4},""]
[825,null," 9 8 1 2","           по служебни правоотношения",0,0,{"$nulls":4},""]
[null,null," 9 8 0 2","Средногодишни щатни бройки",{"$f":"E1464+E1465","v":0},{"$f":"F1464+F1465","v":0},{"$nulls":4},""]
[null,null," 9 8 2 1","в т.ч.: по трудови правоотношения",0,0,{"$nulls":4},""]
[null,null," 9 8 2 2","         по служебни правоотношения",0,0,{"$nulls":4},""]
[null,null," 9 8 0 3","Средна годишна брутна заплата",0,0,{"$nulls":4},""]
[null,null," 9 8 3 1"," в т.ч.:   по трудови правоотношения",0,0,{"$nulls":4},""]
[null,null," 9 8 3 2","            по служебни правоотношения",0,0,{"$nulls":4},""]
[null,null," 9 8 0 4","Брой на моторни превозни средства",0,0,{"$nulls":4},""]
[null,null,"9 8 0 5","- в т.ч. - леки автомобили",0,0,{"$nulls":4},""]
[null,null,"9 8 0 6","             - санитарни линейки",0,0,{"$nulls":4},""]
[null,null," 9 8 0 7","Брой ученици, финансирани по единни разходни стандарти",0,0,{"$nulls":4},""]
[null,null," 9 8 0 8","Средна годишна брутна заплата на делегирани бюджети",0,0,{"$nulls":4},""]
[null,null," 9 8 0 9","Щатни бройки на делегирани бюджети",0,0,{"$nulls":4},""]
[null,null," 9 8 1 0","Средногодишни щатни бройки на делегирани бюджети",0,0,{"$nulls":4},""]
[null,null,"9 8 1 3","Средногодишен приравнен брой учащи във ВУ, финансирани по норматив за издръжка на обучението",0,0,{"$nulls":4},""]
[null,null,"9 8 1 4","Брой леглодни в студентски общежития",0,0,{"$nulls":4},""]
[905,null,"9 8 1 5","Брой хранодни в студентски стол",0,0,{"$nulls":4},""]
[906,null,"9 8 1 7","Болнични легла",0,0,{"$nulls":4},""]
[907,null,"9 8 1 8","Обем радиопрограма /часове/",0,0,{"$nulls":4},""]
[910,null,"9 8 1 9","Обем телевизионна програма /часове/",0,0,{"$nulls":4},""]
[911,"МЯРКА","Код  ","Разходи в областта на електронното управление и за използваните информационни и комуникационни технологии","    П л а н","    О т ч е т ",{"$nulls":4},{"$f":"(IF($E1483<>0,$K$2,IF($F1483<>0,$K$2,\"\")))","v":""}]
[null,null,"9 8 5 0","Общо разходи в областта на ЕУ и за използваните ИКТ",{"$f":"E1484+E1485","v":0},{"$f":"F1484+F1485","v":0},{"$nulls":4},""]
[null,null,"9 8 5 1","Текущи разходи в областта на ЕУ и за използваните ИКТ",0,0,{"$nulls":4},""]
[null,null,"9 8 5 2","Капиталови разходи в областта на ЕУ и за използваните ИКТ",0,0,{"$nulls":4},""]
[null,"ЗАБЕЛЕЖКА:",{"$nulls":8},{"$f":"K1446","v":""}]
[null," За натурални показатели, не влючени в този отчет, специфични за конкретна дейност се представят отделни справки, допълнително определени от Министерство на финансите.",{"$nulls":8},{"$f":"K1446","v":""}]
[]
[{"$nulls":10},{"$f":"(IF($E1622<>0,$K$2,IF($F1622<>0,$K$2,IF($G1622<>0,$K$2,IF($H1622<>0,$K$2,IF($I1622<>0,$K$2,IF($J1622<>0,$K$2,\"\")))))))","v":1}]
[{"$nulls":10},{"$f":"(IF($E1622<>0,$K$2,IF($F1622<>0,$K$2,IF($G1622<>0,$K$2,IF($H1622<>0,$K$2,IF($I1622<>0,$K$2,IF($J1622<>0,$K$2,\"\")))))))","v":1}]
[null,{"$f":"$B$7","v":"ОТЧЕТНИ ДАННИ ПО ЕБК ЗА ИЗПЪЛНЕНИЕТО НА БЮДЖЕТА"},{"$nulls":8},{"$f":"(IF($E1622<>0,$K$2,IF($F1622<>0,$K$2,IF($G1622<>0,$K$2,IF($H1622<>0,$K$2,IF($I1622<>0,$K$2,IF($J1622<>0,$K$2,\"\")))))))","v":1}]
[{"$nulls":4},"за периода от ","до",null,"                 II.1. РАЗХОДИ ПО ДЕЙНОСТИ",null,null,{"$f":"(IF($E1622<>0,$K$2,IF($F1622<>0,$K$2,IF($G1622<>0,$K$2,IF($H1622<>0,$K$2,IF($I1622<>0,$K$2,IF($J1622<>0,$K$2,\"\")))))))","v":1}]
[null,{"$f":"$B$9","v":"РЕГИОНАЛНА ЗДРАВНА ИНСПЕКЦИЯ-БУРГАС"},null,null,{"$f":"$E$9","v":"2021-01-01"},{"$f":"$F$9","v":"2021-12-31"},{"$nulls":4},{"$f":"(IF($E1622<>0,$K$2,IF($F1622<>0,$K$2,IF($G1622<>0,$K$2,IF($H1622<>0,$K$2,IF($I1622<>0,$K$2,IF($J1622<>0,$K$2,\"\")))))))","v":1}]
[null,{"$f":"$B$10","v":"                                                            (наименование на разпоредителя с бюджет)"},{"$nulls":8},{"$f":"(IF($E1622<>0,$K$2,IF($F1622<>0,$K$2,IF($G1622<>0,$K$2,IF($H1622<>0,$K$2,IF($I1622<>0,$K$2,IF($J1622<>0,$K$2,\"\")))))))","v":1}]
[{"$nulls":10},{"$f":"(IF($E1622<>0,$K$2,IF($F1622<>0,$K$2,IF($G1622<>0,$K$2,IF($H1622<>0,$K$2,IF($I1622<>0,$K$2,IF($J1622<>0,$K$2,\"\")))))))","v":1}]
[null,{"$f":"$B$12","v":{"$error":"#N/A"}},null,null,"       код по ЕБК:",{"$f":"$F$12","v":"0"},{"$nulls":4},{"$f":"(IF($E1622<>0,$K$2,IF($F1622<>0,$K$2,IF($G1622<>0,$K$2,IF($H1622<>0,$K$2,IF($I1622<>0,$K$2,IF($J1622<>0,$K$2,\"\")))))))","v":1}]
[null,{"$f":"$B$13","v":"                                             (наименование на първостепенния разпоредител с бюджет)"},{"$nulls":8},{"$f":"(IF($E1622<>0,$K$2,IF($F1622<>0,$K$2,IF($G1622<>0,$K$2,IF($H1622<>0,$K$2,IF($I1622<>0,$K$2,IF($J1622<>0,$K$2,\"\")))))))","v":1}]
[{"$nulls":3},"ФИНАНСОВО-ПРАВНА ФОРМА",{"$f":"$E$15","v":0},{"$f":"$F$15","v":"БЮДЖЕТ"},{"$nulls":4},{"$f":"(IF($E1622<>0,$K$2,IF($F1622<>0,$K$2,IF($G1622<>0,$K$2,IF($H1622<>0,$K$2,IF($I1622<>0,$K$2,IF($J1622<>0,$K$2,\"\")))))))","v":1}]
[{"$nulls":9},"(в лева)",{"$f":"(IF($E1622<>0,$K$2,IF($F1622<>0,$K$2,IF($G1622<>0,$K$2,IF($H1622<>0,$K$2,IF($I1622<>0,$K$2,IF($J1622<>0,$K$2,\"\")))))))","v":1}]
[{"$nulls":3},"II.1. РАЗХОДИ ПО ДЕЙНОСТИ","Уточнен план","                                                                                                                              О Т Ч Е Т Н И   Д А Н Н И",{"$nulls":4},{"$f":"(IF($E1622<>0,$K$2,IF($F1622<>0,$K$2,IF($G1622<>0,$K$2,IF($H1622<>0,$K$2,IF($I1622<>0,$K$2,IF($J1622<>0,$K$2,\"\")))))))","v":1}]
[null,"§§","под-§§","НАИМЕНОВАНИЯ НА ПАРАГРАФИТЕ И ПОДПАРАГРАФИТЕ",{"$f":"$C$3","v":2021},"ОБЩО","левови\n сметки и СЕБРА ","валутни \nсметки ","операции в брой (в левове и валута)","операции приравнени на касов поток",{"$f":"(IF($E1622<>0,$K$2,IF($F1622<>0,$K$2,IF($G1622<>0,$K$2,IF($H1622<>0,$K$2,IF($I1622<>0,$K$2,IF($J1622<>0,$K$2,\"\")))))))","v":1}]
[{"$nulls":3}," 02 ¦","(1)","(2)","(3)","(4)","(5)","(6)",{"$f":"(IF($E1622<>0,$K$2,IF($F1622<>0,$K$2,IF($G1622<>0,$K$2,IF($H1622<>0,$K$2,IF($I1622<>0,$K$2,IF($J1622<>0,$K$2,\"\")))))))","v":1}]
[null,null,0,"ИЗБЕРЕТЕ ОПЕРАТИВНА ПРОГРАМА ",{"$nulls":6},{"$f":"(IF($E1622<>0,$K$2,IF($F1622<>0,$K$2,IF($G1622<>0,$K$2,IF($H1622<>0,$K$2,IF($I1622<>0,$K$2,IF($J1622<>0,$K$2,\"\")))))))","v":1}]
[null,null,{"$f":"VLOOKUP(D1505,EBK_DEIN2,2,FALSE)","v":4401},"<------          ДЕЙНОСТ    -  код  по  ЕБК",{"$nulls":6},{"$f":"(IF($E1622<>0,$K$2,IF($F1622<>0,$K$2,IF($G1622<>0,$K$2,IF($H1622<>0,$K$2,IF($I1622<>0,$K$2,IF($J1622<>0,$K$2,\"\")))))))","v":1}]
[null,null,{"$f":"+C1504","v":4401},"401 Управление, контрол и регулиране на дейности по здравеопазването",{"$nulls":6},{"$f":"(IF($E1622<>0,$K$2,IF($F1622<>0,$K$2,IF($G1622<>0,$K$2,IF($H1622<>0,$K$2,IF($I1622<>0,$K$2,IF($J1622<>0,$K$2,\"\")))))))","v":1}]
[{"$nulls":3},"(наименование на дейността)",{"$nulls":6},{"$f":"(IF($E1622<>0,$K$2,IF($F1622<>0,$K$2,IF($G1622<>0,$K$2,IF($H1622<>0,$K$2,IF($I1622<>0,$K$2,IF($J1622<>0,$K$2,\"\")))))))","v":1}]
[null,{"v":100,"d":"01-00"},"Заплати и възнаграждения за персонала, нает по трудови и служебни правоотношения",null,{"$f":"SUM(E1508:E1509)","v":{"v":2675845,"d":"2,675,845"}},{"v":2656411,"d":"2,656,411"},{"v":2350183,"d":"2,350,183"},0,{"v":-2334,"d":"-2,334"},{"v":308562,"d":"308,562"},{"$f":"(IF($E1507<>0,$K$2,IF($F1507<>0,$K$2,IF($G1507<>0,$K$2,IF($H1507<>0,$K$2,IF($I1507<>0,$K$2,IF($J1507<>0,$K$2,\"\")))))))","v":1}]
[null,null,{"v":101,"d":"01-01"},"заплати и възнаграждения на персонала нает по трудови правоотношения",{"v":569847,"d":"569,847"},{"$f":"G1508+H1508+I1508+J1508","v":{"v":569847,"d":"569,847"}},{"v":452474,"d":"452,474"},0,-148,{"v":117521,"d":"117,521"},{"$f":"(IF($E1508<>0,$K$2,IF($F1508<>0,$K$2,IF($G1508<>0,$K$2,IF($H1508<>0,$K$2,IF($I1508<>0,$K$2,IF($J1508<>0,$K$2,\"\")))))))","v":1}]
[null,null,{"v":102,"d":"01-02"},"заплати и възнаграждения на персонала нает по служебни правоотношения",{"v":2105998,"d":"2,105,998"},{"$f":"G1509+H1509+I1509+J1509","v":{"v":2086564,"d":"2,086,564"}},{"v":1897709,"d":"1,897,709"},0,{"v":-2186,"d":"-2,186"},{"v":191041,"d":"191,041"},1]
[null,{"v":200,"d":"02-00"},"Други възнаграждения и плащания за персонала",null,{"$f":"SUM(E1511:E1515)","v":{"v":131557,"d":"131,557"}},{"v":145390,"d":"145,390"},{"v":132920,"d":"132,920"},0,0,{"v":12470,"d":"12,470"},1]
[null,null,{"v":201,"d":"02-01"},"за нещатен персонал нает по трудови правоотношения ",0,{"$f":"G1511+H1511+I1511+J1511","v":0},0,0,0,0,""]
[null,null,{"v":202,"d":"02-02"},"за персонала по извънтрудови правоотношения",{"v":84870,"d":"84,870"},{"$f":"G1512+H1512+I1512+J1512","v":{"v":95166,"d":"95,166"}},{"v":82696,"d":"82,696"},0,0,{"v":12470,"d":"12,470"},1]
[null,null,{"v":205,"d":"02-05"},"изплатени суми от СБКО за облекло и други на персонала, с характер на възнаграждение",{"v":33509,"d":"33,509"},{"$f":"G1513+H1513+I1513+J1513","v":{"v":33509,"d":"33,509"}},{"v":33509,"d":"33,509"},0,0,0,1]
[null,null,{"v":208,"d":"02-08"},"обезщетения за персонала, с характер на възнаграждение",0,{"$f":"G1514+H1514+I1514+J1514","v":{"v":2002,"d":"2,002"}},{"v":2002,"d":"2,002"},0,0,0,1]
[null,null,{"v":209,"d":"02-09"},"другиплащания и възнаграждения",{"v":13178,"d":"13,178"},{"$f":"G1515+H1515+I1515+J1515","v":{"v":14713,"d":"14,713"}},{"v":14713,"d":"14,713"},0,0,0,1]
[null,{"v":500,"d":"05-00"},"Задължителни осигурителни вноски от работодатели",null,{"$f":"SUM(E1517:E1523)","v":{"v":755656,"d":"755,656"}},{"v":751633,"d":"751,633"},0,0,0,{"v":751633,"d":"751,633"},1]
[null,null,{"v":551,"d":"05-51"},"осигурителни вноски от работодатели за Държавното обществено осигуряване (ДОО)",{"v":469122,"d":"469,122"},{"$f":"G1517+H1517+I1517+J1517","v":{"v":465099,"d":"465,099"}},0,0,0,{"v":465099,"d":"465,099"},1]
[null,null,{"$f":"C1517+1","v":{"v":552,"d":"05-52"}},"осигурителни вноски от работодатели за Учителския пенсионен фонд (УПФ)",0,0,0,0,0,0,""]
[null,null,{"v":558,"d":"05-58"},"вноски по чл. 4б и 4в от КСО за сметка на осигурителя",null,{"$f":"G1519+H1519+I1519+J1519","v":0},0,0,0,0,""]
[null,null,{"v":560,"d":"05-60"},"здравно-осигурителни вноски от работодатели",{"v":184730,"d":"184,730"},{"v":184730,"d":"184,730"},0,0,0,{"v":184730,"d":"184,730"},1]
[null,null,{"v":580,"d":"05-80"},"вноски за допълнително задължително осигуряване от работодатели",{"v":101804,"d":"101,804"},{"v":101804,"d":"101,804"},0,0,0,{"v":101804,"d":"101,804"},1]
[null,null,{"v":588,"d":"05-88"},"коректив на вноски за ДЗПО за сумите по чл. 4б и 4в от КСО за сметка на осигурителя",null,{"$f":"G1522+H1522+I1522+J1522","v":0},0,0,0,0,""]
[null,null,{"v":590,"d":"05-90"},"задължителни вноски за чуждестранни пенсионни фондове и  схеми за сметка на осигурителя",0,0,0,0,0,0,""]
[5,{"v":800,"d":"08-00"},"Вноски за доброволно осигуряване ",null,null,0,{"$nulls":4},""]
[10,{"v":1000,"d":"10-00"},"Издръжка",null,{"$f":"SUM(E1526:E1542)","v":{"v":684353,"d":"684,353"}},{"v":707159,"d":"707,159"},{"v":698013,"d":"698,013"},0,{"v":9146,"d":"9,146"},0,1]
[15,null,{"v":1011,"d":"10-11"},"Храна",0,{"$f":"G1526+H1526+I1526+J1526","v":0},0,0,0,0,""]
[35,null,{"v":1012,"d":"10-12"},"Медикаменти",{"v":86380,"d":"86,380"},{"v":80672,"d":"80,672"},{"v":82930,"d":"82,930"},0,{"v":-2258,"d":"-2,258"},0,1]
[40,null,{"v":1013,"d":"10-13"},"Постелен инвентар и облекло",{"v":50780,"d":"50,780"},{"v":56425,"d":"56,425"},{"v":56557,"d":"56,557"},0,-132,0,1]
[45,null,{"v":1014,"d":"10-14"},"Учебни и научно-изследователски разходи и книги за библиотеките",0,229,229,0,0,0,1]
[50,null,{"v":1015,"d":"10-15"},"материали",{"v":86500,"d":"86,500"},{"v":82217,"d":"82,217"},{"v":76786,"d":"76,786"},0,{"v":5431,"d":"5,431"},0,1]
[55,null,{"v":1016,"d":"10-16"},"вода, горива и енергия",{"v":96699,"d":"96,699"},{"v":126034,"d":"126,034"},{"v":125042,"d":"125,042"},0,992,0,1]
[60,null,{"v":1020,"d":"10-20"},"разходи за външни услуги",{"v":287264,"d":"287,264"},{"v":333181,"d":"333,181"},{"v":330218,"d":"330,218"},0,{"v":2963,"d":"2,963"},0,1]
[65,null,{"v":1030,"d":"10-30"},"Текущ ремонт",{"v":42840,"d":"42,840"},{"v":12052,"d":"12,052"},{"v":12052,"d":"12,052"},0,0,0,1]
[70,null,{"v":1051,"d":"10-51"},"командировки в страната",{"v":16100,"d":"16,100"},{"v":4490,"d":"4,490"},{"v":3238,"d":"3,238"},0,{"v":1252,"d":"1,252"},0,1]
[75,null,{"v":1052,"d":"10-52"},"краткосрочни командировки в чужбина",0,0,0,0,0,0,""]
[80,null,{"v":1053,"d":"10-53"},"дългосрочни командировки в чужбина",0,0,0,0,0,0,""]
[80,null,{"v":1062,"d":"10-62"},"разходи за застраховки",{"v":15660,"d":"15,660"},{"v":10354,"d":"10,354"},{"v":9456,"d":"9,456"},0,898,0,1]
[85,null,{"v":1063,"d":"10-63"},"такса ангажимент по заеми",0,0,0,0,0,0,""]
[90,null,{"v":1069,"d":"10-69"},"други финансови услуги",0,0,0,0,0,0,""]
[90,null,{"v":1091,"d":"10-91"},"други разходи за СБКО",{"v":2130,"d":"2,130"},0,0,0,0,0,1]
[115,null,{"v":1092,"d":"10-92"},"разходи за договорни санкции и неустойки, съдебни обезщетения и разноски",0,{"v":1505,"d":"1,505"},{"v":1505,"d":"1,505"},0,0,0,1]
[125,null,{"v":1098,"d":"10-98"},"други разходи, некласифицирани в другите параграфи и подпараграфи",0,0,0,0,0,0,""]
[130,{"v":1900,"d":"19-00"},"Платени данъци, такси и административни санкции",null,{"$f":"SUM(E1544:E1546)","v":{"v":14198,"d":"14,198"}},{"v":14586,"d":"14,586"},{"v":13117,"d":"13,117"},0,{"v":1469,"d":"1,469"},0,1]
[135,null,{"v":1901,"d":"19-01"},"платени държавни данъци, такси, наказателни лихви и административни санкции",598,{"$f":"G1544+H1544+I1544+J1544","v":{"v":1469,"d":"1,469"}},0,0,{"v":1469,"d":"1,469"},0,1]
[140,null,{"v":1981,"d":"19-81"},"платени общински данъци, такси, наказателни лихви и административни санкции",{"v":13600,"d":"13,600"},{"$f":"G1545+H1545+I1545+J1545","v":{"v":13117,"d":"13,117"}},{"v":13117,"d":"13,117"},0,0,0,1]
[145,null,{"v":1991,"d":"19-91"},"платени данъци, такси, наказателни лихви и административни санкции в чужбина",0,{"$f":"G1546+H1546+I1546+J1546","v":0},0,0,0,0,""]
[150,{"v":2100,"d":"21-00"},"Разходи за лихви по емисии на държавни (общински) ценни книжа",null,{"$f":"SUM(E1548:E1552)","v":0},0,0,0,0,0,""]
[155,null,{"v":2110,"d":"21-10"},"лихви по държавни (общински) ценни книжа",0,{"$f":"G1548+H1548+I1548+J1548","v":0},0,0,0,0,""]
[160,null,{"v":2120,"d":"21-20"},"отстъпки по държавни (общински) ценни книжа",0,{"$f":"G1549+H1549+I1549+J1549","v":0},0,0,0,0,""]
[165,null,{"v":2125,"d":"21-25"},"лихви и отстъпки по целеви емисии на държавни ценни книжа",0,{"$f":"G1550+H1550+I1550+J1550","v":0},0,0,0,0,""]
[175,null,{"v":2140,"d":"21-40"},"лихви по държавни ценни книжа, емитирани за структурната реформа ",0,{"$f":"G1551+H1551+I1551+J1551","v":0},0,0,0,0,""]
[180,null,{"v":2190,"d":"21-90"},"премии над номинала от емисии на държавни (общински) ценни книжа (-)",0,{"$f":"G1552+H1552+I1552+J1552","v":0},0,0,0,0,""]
[185,{"v":2200,"d":"22-00"},"Разходи за лихви по заеми от страната",null,{"$f":"SUM(E1554:E1555)","v":0},0,0,0,0,0,""]
[190,null,{"v":2221,"d":"22-21"},"Разходи за лихви по заеми от банки в страната",0,{"$f":"G1554+H1554+I1554+J1554","v":0},0,0,0,0,""]
[200,null,{"v":2224,"d":"22-24"},"Разходи за лихви по други заеми от страната",0,0,0,0,0,0,""]
[200,{"v":2500,"d":"25-00"},"Разходи за лихви по заеми от други държави",null,null,0,{"$nulls":4},""]
[205,{"v":2600,"d":"26-00"},"Разходи за лихви по заеми от международни организации и институции",null,null,0,{"$nulls":4},""]
[210,{"v":2700,"d":"27-00"},"Разходи за лихви по заеми от банки и други финансови институции от чужбина",null,null,0,{"$nulls":4},""]
[215,{"v":2800,"d":"28-00"},"Разходи за лихви и отстъпки по облигации, емитирани и търгувани на международните капиталови пазари",null,null,0,{"$nulls":4},""]
[220,{"v":2900,"d":"29-00"},"Други разходи за лихви",null,{"$f":"SUM(E1561:E1568)","v":0},161,161,0,0,0,1]
[225,null,{"v":2910,"d":"29-10"},"Платени лихви по финансов лизинг и търговски кредит",null,{"$f":"G1561+H1561+I1561+J1561","v":0},{"$nulls":4},""]
[230,null,{"v":2920,"d":"29-20"},"Платени лихви по активирани гаранции по заеми от  банки в страната",0,{"$f":"G1562+H1562+I1562+J1562","v":0},0,0,0,0,""]
[245,null,{"v":2969,"d":"29-69"},"Платени лихви по активирани гаранции по заеми от международни организации и институции",0,0,0,0,0,0,""]
[220,null,{"v":2970,"d":"29-70"},"Платени лихви по активирани гаранции по заеми от банки и финансови институции от чужбина",null,0,{"$nulls":4},""]
[225,null,{"v":2989,"d":"29-89"},"Възстановени суми по платени лихви по активирани гаранции (-)",0,0,0,0,0,0,""]
[230,null,{"v":2990,"d":"29-90"},"Платени лихви по заеми, предоставени от централния бюджет и бюджетни организации",null,{"$f":"G1566+H1566+I1566+J1566","v":0},{"$nulls":4},""]
[235,null,{"v":2991,"d":"29-91"},"Други разходи за лихви към  местни лица",0,161,161,0,0,0,1]
[240,null,{"v":2992,"d":"29-92"},"Други разходи за лихви към чуждестранни лица",0,0,0,0,0,0,""]
[245,{"v":3300,"d":"33-00"},"Вноска в общия бюджет на Европейския съюз",null,{"$f":"SUM(E1570:E1574)","v":0},0,0,0,0,0,""]
[250,null,{"v":3301,"d":"33-01"},"ресурс на база брутен национален доход",0,{"$f":"G1570+H1570+I1570+J1570","v":0},0,0,0,0,""]
[255,null,{"v":3302,"d":"33-02"},"ресурс на база данък върху добавената стойност",0,0,0,0,0,0,""]
[265,null,{"v":3304,"d":"33-04"},"традиционни собствени ресурси - мита",0,0,0,0,0,0,""]
[270,null,{"v":3306,"d":"33-06"},"участие във финансирането на брутното намаление за Австрия, Дания, Германия, Нидерландия и Швеция",0,0,0,0,0,0,""]
[290,null,{"v":3307,"d":"33-07"},"ресурс на база нерециклираните отпадъци от опаковки от пластмаса",0,0,0,0,0,0,""]
[320,{"v":3900,"d":"39-00"},"Здравно-осигурителни плащания",null,null,0,{"$nulls":4},{"$f":"(IF($E1575<>0,$K$2,IF($F1575<>0,$K$2,IF($G1575<>0,$K$2,IF($H1575<>0,$K$2,IF($I1575<>0,$K$2,IF($J1575<>0,$K$2,\"\")))))))","v":""}]
[330,{"v":4000,"d":"40-00"},"Стипендии",null,0,0,0,0,0,0,""]
[350,{"v":4100,"d":"41-00"},"Пенсии",null,null,0,{"$nulls":4},""]
[355,{"v":4200,"d":"42-00"},"Текущи трансфери, обезщетения и помощи за домакинствата",null,{"$f":"SUM(E1579:E1584)","v":0},0,0,0,0,0,""]
[375,null,{"v":4201,"d":"42-01"},"обезщетения и помощи по социалното осигуряване",0,{"$f":"G1579+H1579+I1579+J1579","v":0},0,0,0,0,""]
[375,null,{"v":4202,"d":"42-02"},"обезщетения и помощи по социалното подпомагане",0,0,0,0,0,0,""]
[380,null,{"v":4214,"d":"42-14"},"обезщетения и помощи по решение на общинския съвет",0,0,0,0,0,0,""]
[385,null,{"v":4217,"d":"42-17"},"текущи трансфери за домакинства от средства на Европейския съюз",0,0,0,0,0,0,""]
[390,null,{"v":4218,"d":"42-18"},"текущи трансфери за домакинства по други международни програми и споразумения",0,0,0,0,0,0,""]
[390,null,{"v":4219,"d":"42-19"},"други текущи трансфери за домакинствата",0,0,0,0,0,0,""]
[395,{"v":4300,"d":"43-00"},"Субсидии и други текущи трансфери за нефинансови предприятия ",null,{"$f":"SUM(E1586:E1588)","v":0},0,0,0,0,0,""]
[397,null,{"v":4301,"d":"43-01"},"за текуща дейност",0,{"$f":"G1586+H1586+I1586+J1586","v":0},0,0,0,0,""]
[398,null,{"v":4302,"d":"43-02"},"за осъществяване на болнична помощ ",0,0,0,0,0,0,""]
[399,null,{"v":4309,"d":"43-09"},"други субсидии и плащания",0,0,0,0,0,0,""]
[400,{"v":4400,"d":"44-00"},"Субсидии и други текущи трансфери за финансови институции",null,null,0,{"$nulls":4},""]
[401,{"v":4500,"d":"45-00"},"Субсидии и други текущи трансфери за юридически лица с нестопанска цел",null,null,0,{"$nulls":4},""]
[404,{"v":4600,"d":"46-00"},"Разходи за членски внос и участие в нетърговски организации и дейности",null,0,0,0,0,0,0,""]
[404,{"v":4900,"d":"49-00"},"Предоставени текущи и капиталови трансфери за чужбина",null,{"$f":"+E1593+E1594","v":0},0,0,0,0,0,""]
[440,null,{"v":4901,"d":"49-01"},"текущи трансфери за чужбина",0,{"$f":"G1593+H1593+I1593+J1593","v":0},0,0,0,0,""]
[450,null,{"v":4902,"d":"49-02"},"капиталови трансфери за чужбина",0,{"$f":"G1594+H1594+I1594+J1594","v":0},0,0,0,0,""]
[495,{"v":5100,"d":"51-00"},"Основен ремонт на дълготрайни материални активи",null,0,{"$f":"G1595+H1595+I1595+J1595","v":0},0,{"$nulls":3},""]
[500,{"v":5200,"d":"52-00"},"Придобиване на дълготрайни материални активи",null,{"$f":"SUM(E1597:E1603)","v":{"v":244231,"d":"244,231"}},{"v":214631,"d":"214,631"},{"v":214631,"d":"214,631"},0,0,0,1]
[505,null,{"v":5201,"d":"52-01"},"придобиване на компютри и хардуер",0,{"$f":"G1597+H1597+I1597+J1597","v":0},0,0,0,0,""]
[510,null,{"v":5202,"d":"52-02"},"придобиване на сгради",0,0,0,0,0,0,""]
[515,null,{"v":5203,"d":"52-03"},"придобиване на друго оборудване, машини и съоръжения",{"v":209996,"d":"209,996"},{"v":180396,"d":"180,396"},{"v":180396,"d":"180,396"},0,0,0,1]
[520,null,{"v":5204,"d":"52-04"},"придобиване на транспортни средства",{"v":34235,"d":"34,235"},{"v":34235,"d":"34,235"},{"v":34235,"d":"34,235"},0,0,0,1]
[525,null,{"v":5205,"d":"52-05"},"придобиване на стопански инвентар",0,0,0,0,0,0,""]
[635,null,{"v":5206,"d":"52-06"},"изграждане на инфраструктурни обекти",0,0,0,0,0,0,""]
[640,null,{"v":5219,"d":"52-19"},"придобиване на други ДМА",0,0,0,0,0,0,""]
[645,{"v":5300,"d":"53-00"},"Придобиване на нематериални дълготрайни активи",null,{"$f":"SUM(E1605:E1606)","v":0},0,0,0,0,0,""]
[650,null,{"v":5301,"d":"53-01"},"придобиване на програмни продукти и лицензи за програмни продукти",0,{"$f":"G1605+H1605+I1605+J1605","v":0},0,0,0,0,""]
[655,null,{"v":5309,"d":"53-09"},"придобиване на други нематериални дълготрайни активи",0,{"$f":"G1606+H1606+I1606+J1606","v":0},0,0,0,0,""]
[665,{"v":5400,"d":"54-00"},"Придобиване на земя",null,null,{"$f":"G1607+H1607+I1607+J1607","v":0},{"$nulls":4},""]
[675,{"v":5500,"d":"55-00"},"Капиталови трансфери",null,{"$f":"SUM(E1609:E1612)","v":0},0,0,0,0,0,""]
[685,null,{"v":5501,"d":"55-01"},"капиталови трансфери за нефинансови предприятия",0,{"$f":"G1609+H1609+I1609+J1609","v":0},0,0,0,0,""]
[690,null,{"v":5502,"d":"55-02"},"капиталови трансфери за финансови институции",0,{"$f":"G1610+H1610+I1610+J1610","v":0},0,0,0,0,""]
[695,null,{"v":5503,"d":"55-03"},"капиталови трансфери за организации с нестопанска цел",0,{"$f":"G1611+H1611+I1611+J1611","v":0},0,0,0,0,""]
[700,null,{"v":5504,"d":"55-04"},"капиталови трансфери за домакинствата",0,{"$f":"G1612+H1612+I1612+J1612","v":0},0,0,0,0,""]
[710,{"v":5700,"d":"57-00"},"Прираст на държавния резерв и изкупуване на земеделска продукция (включва и § 40-71)",null,{"$f":"SUM(E1614:E1616)","v":0},0,0,0,0,0,""]
[715,null,{"v":5701,"d":"57-01"},"плащания за попълване на държавния резерв",0,{"$f":"G1614+H1614+I1614+J1614","v":0},0,0,0,0,""]
[720,null,{"v":5702,"d":"57-02"},"плащания за изкупуване на земеделска продукция",0,{"$f":"G1615+H1615+I1615+J1615","v":0},0,0,0,0,""]
[725,null,{"v":4071,"d":"40-71"},"постъпления от продажба на държавния резерв (-)",0,{"$f":"G1616+H1616+I1616+J1616","v":0},0,0,0,0,""]
[730,{"$nulls":9},""]
[735,{"v":98,"d":"00-98"},"Резерв за непредвидени и неотложни разходи",null,null,{"$f":"G1618+H1618+I1618+J1618","v":0},0,0,0,0,""]
[740,{"$nulls":9},""]
[745,{"$nulls":9},""]
[750,{"$nulls":9},""]
[755,null,"99-99",{"$f":"+B1622","v":{"v":0,"d":"II. ОБЩО РАЗХОДИ ЗА ДЕЙНОСТ 0000"}},{"$f":"SUM(E1507,E1510,E1516,E1524,E1525,E1543,E1547,E1553,E1556,E1557,E1558,E1559,E1560,E1569,E1575,E1576,E1577,E1578,E1585,E1589,E1590,E1591,E1592,E1595,E1596,E1604,E1607,E1608,E1613)+E1618","v":{"v":4505840,"d":"4,505,840"}},{"v":4489971,"d":"4,489,971"},{"v":3409025,"d":"3,409,025"},0,{"v":8281,"d":"8,281"},{"v":1072665,"d":"1,072,665"},1,{"$f":"LEFT(C1504,1)","v":"4"}]
[760,{"$nulls":9},{"$f":"K1622","v":1}]
[765,{"$nulls":9},{"$f":"K1622","v":1}]
[775,{"$nulls":9},{"$f":"(IF(SUM(K1636:K1657)<>0,$K$2,\"\"))","v":1}]
[780,{"$f":"$B$7","v":"ОТЧЕТНИ ДАННИ ПО ЕБК ЗА ИЗПЪЛНЕНИЕТО НА БЮДЖЕТА"},{"$nulls":8},{"$f":"(IF(SUM(K1636:K1657)<>0,$K$2,\"\"))","v":1}]
[785,{"$nulls":3},"за периода от ","до",{"$nulls":4},{"$f":"(IF(SUM(K1636:K1657)<>0,$K$2,\"\"))","v":1}]
[790,{"$f":"$B$9","v":"РЕГИОНАЛНА ЗДРАВНА ИНСПЕКЦИЯ-БУРГАС"},null,null,{"$f":"$E$9","v":"2021-01-01"},{"$f":"$F$9","v":"2021-12-31"},{"$nulls":4},{"$f":"(IF(SUM(K1636:K1657)<>0,$K$2,\"\"))","v":1}]
[795,{"$f":"$B$10","v":"                                                            (наименование на разпоредителя с бюджет)"},{"$nulls":8},{"$f":"(IF(SUM(K1636:K1657)<>0,$K$2,\"\"))","v":1}]
[805,{"$nulls":9},{"$f":"(IF(SUM(K1636:K1657)<>0,$K$2,\"\"))","v":1}]
[810,{"$f":"$B$12","v":{"$error":"#N/A"}},null,null,"       код по ЕБК:",{"$f":"$F$12","v":"0"},{"$nulls":4},{"$f":"(IF(SUM(K1636:K1657)<>0,$K$2,\"\"))","v":1}]
[815,{"$f":"$B$13","v":"                                             (наименование на първостепенния разпоредител с бюджет)"},{"$nulls":8},{"$f":"(IF(SUM(K1636:K1657)<>0,$K$2,\"\"))","v":1}]
[525,null,null,"               ФИНАНСОВО-ПРАВНА ФОРМА",{"$f":"$E$15","v":0},{"$f":"$F$15","v":"БЮДЖЕТ"},{"$nulls":4},{"$f":"(IF(SUM(K1636:K1657)<>0,$K$2,\"\"))","v":1}]
[820,null,null,"Натурални и други показатели за дейността",null,"(в лева)",{"$nulls":4},{"$f":"(IF(SUM(K1636:K1657)<>0,$K$2,\"\"))","v":1}]
[821,"МЯРКА","Код 9 8","  О б щ и   н а т у р а л н и   п о к а з а т е л и","    П л а н","    О т ч е т ",{"$nulls":4},{"$f":"(IF(SUM(K1636:K1657)<>0,$K$2,\"\"))","v":1}]
[822,null," 9 8 0 1","Щ а т н и   б р о й к и",{"$f":"E1637+E1638","v":130},{"$f":"F1637+F1638","v":123},{"$nulls":4},{"$f":"(IF($E1636<>0,$K$2,IF($F1636<>0,$K$2,\"\")))","v":1}]
[823,null," 9 8 1 1","в т.ч.: по трудови правоотношения",32,32,{"$nulls":4},1]
[825,null," 9 8 1 2","           по служебни правоотношения",98,91,{"$nulls":4},1]
[null,null," 9 8 0 2","Средногодишни щатни бройки",{"$f":"E1640+E1641","v":130},{"$f":"F1640+F1641","v":122},{"$nulls":4},1]
[null,null," 9 8 2 1","в т.ч.: по трудови правоотношения",32,32,{"$nulls":4},1]
[null,null," 9 8 2 2","         по служебни правоотношения",98,90,{"$nulls":4},1]
[null,null," 9 8 0 3","Средна годишна брутна заплата",{"v":20583,"d":"20,583"},{"v":21774,"d":"21,774"},{"$nulls":4},1]
[null,null," 9 8 3 1"," в т.ч.:   по трудови правоотношения",{"v":17808,"d":"17,808"},{"v":17808,"d":"17,808"},{"$nulls":4},1]
[null,null," 9 8 3 2","            по служебни правоотношения",{"v":21490,"d":"21,490"},{"v":23184,"d":"23,184"},{"$nulls":4},1]
[null,null," 9 8 0 4","Брой на моторни превозни средства",10,11,{"$nulls":4},1]
[null,null,"9 8 0 5","- в т.ч. - леки автомобили",9,10,{"$nulls":4},1]
[null,null,"9 8 0 6","             - санитарни линейки",1,1,{"$nulls":4},1]
[null,null," 9 8 0 7","Брой ученици, финансирани по единни разходни стандарти",0,0,{"$nulls":4},""]
[null,null," 9 8 0 8","Средна годишна брутна заплата на делегирани бюджети",0,0,{"$nulls":4},""]
[null,null," 9 8 0 9","Щатни бройки на делегирани бюджети",0,0,{"$nulls":4},""]
[null,null," 9 8 1 0","Средногодишни щатни бройки на делегирани бюджети",0,0,{"$nulls":4},""]
[null,null,"9 8 1 3","Средногодишен приравнен брой учащи във ВУ, финансирани по норматив за издръжка на обучението",0,0,{"$nulls":4},""]
[null,null,"9 8 1 4","Брой леглодни в студентски общежития",0,0,{"$nulls":4},""]
[905,null,"9 8 1 5","Брой хранодни в студентски стол",0,0,{"$nulls":4},""]
[906,null,"9 8 1 7","Болнични легла",0,0,{"$nulls":4},""]
[907,null,"9 8 1 8","Обем радиопрограма /часове/",0,0,{"$nulls":4},""]
[910,null,"9 8 1 9","Обем телевизионна програма /часове/",0,0,{"$nulls":4},""]
[911,"МЯРКА","Код  ","Разходи в областта на електронното управление и за използваните информационни и комуникационни технологии","    П л а н","    О т ч е т ",{"$nulls":4},{"$f":"(IF($E1659<>0,$K$2,IF($F1659<>0,$K$2,\"\")))","v":1}]
[null,null,"9 8 5 0","Общо разходи в областта на ЕУ и за използваните ИКТ",{"$f":"E1660+E1661","v":{"v":28498,"d":"28,498"}},{"$f":"F1660+F1661","v":{"v":28498,"d":"28,498"}},{"$nulls":4},1]
[null,null,"9 8 5 1","Текущи разходи в областта на ЕУ и за използваните ИКТ",{"v":28498,"d":"28,498"},{"v":28498,"d":"28,498"},{"$nulls":4},1]
[null,null,"9 8 5 2","Капиталови разходи в областта на ЕУ и за използваните ИКТ",0,0,{"$nulls":4},""]
[null,"ЗАБЕЛЕЖКА:",{"$nulls":8},{"$f":"K1622","v":1}]
[null," За натурални показатели, не влючени в този отчет, специфични за конкретна дейност се представят отделни справки, допълнително определени от Министерство на финансите.",{"$nulls":8},{"$f":"K1622","v":1}]
[]
[{"$nulls":10},{"$f":"(IF($E1798<>0,$K$2,IF($F1798<>0,$K$2,IF($G1798<>0,$K$2,IF($H1798<>0,$K$2,IF($I1798<>0,$K$2,IF($J1798<>0,$K$2,\"\")))))))","v":""}]
[{"$nulls":10},{"$f":"(IF($E1798<>0,$K$2,IF($F1798<>0,$K$2,IF($G1798<>0,$K$2,IF($H1798<>0,$K$2,IF($I1798<>0,$K$2,IF($J1798<>0,$K$2,\"\")))))))","v":""}]
[null,{"$f":"$B$7","v":"ОТЧЕТНИ ДАННИ ПО ЕБК ЗА ИЗПЪЛНЕНИЕТО НА БЮДЖЕТА"},{"$nulls":8},{"$f":"(IF($E1798<>0,$K$2,IF($F1798<>0,$K$2,IF($G1798<>0,$K$2,IF($H1798<>0,$K$2,IF($I1798<>0,$K$2,IF($J1798<>0,$K$2,\"\")))))))","v":""}]
[{"$nulls":4},"за периода от ","до",null,"                 II.1. РАЗХОДИ ПО ДЕЙНОСТИ",null,null,{"$f":"(IF($E1798<>0,$K$2,IF($F1798<>0,$K$2,IF($G1798<>0,$K$2,IF($H1798<>0,$K$2,IF($I1798<>0,$K$2,IF($J1798<>0,$K$2,\"\")))))))","v":""}]
[null,{"$f":"$B$9","v":"РЕГИОНАЛНА ЗДРАВНА ИНСПЕКЦИЯ-БУРГАС"},null,null,{"$f":"$E$9","v":"2021-01-01"},{"$f":"$F$9","v":"2021-12-31"},{"$nulls":4},{"$f":"(IF($E1798<>0,$K$2,IF($F1798<>0,$K$2,IF($G1798<>0,$K$2,IF($H1798<>0,$K$2,IF($I1798<>0,$K$2,IF($J1798<>0,$K$2,\"\")))))))","v":""}]
[null,{"$f":"$B$10","v":"                                                            (наименование на разпоредителя с бюджет)"},{"$nulls":8},{"$f":"(IF($E1798<>0,$K$2,IF($F1798<>0,$K$2,IF($G1798<>0,$K$2,IF($H1798<>0,$K$2,IF($I1798<>0,$K$2,IF($J1798<>0,$K$2,\"\")))))))","v":""}]
[{"$nulls":10},{"$f":"(IF($E1798<>0,$K$2,IF($F1798<>0,$K$2,IF($G1798<>0,$K$2,IF($H1798<>0,$K$2,IF($I1798<>0,$K$2,IF($J1798<>0,$K$2,\"\")))))))","v":""}]
[null,{"$f":"$B$12","v":{"$error":"#N/A"}},null,null,"       код по ЕБК:",{"$f":"$F$12","v":"0"},{"$nulls":4},{"$f":"(IF($E1798<>0,$K$2,IF($F1798<>0,$K$2,IF($G1798<>0,$K$2,IF($H1798<>0,$K$2,IF($I1798<>0,$K$2,IF($J1798<>0,$K$2,\"\")))))))","v":""}]
[null,{"$f":"$B$13","v":"                                             (наименование на първостепенния разпоредител с бюджет)"},{"$nulls":8},{"$f":"(IF($E1798<>0,$K$2,IF($F1798<>0,$K$2,IF($G1798<>0,$K$2,IF($H1798<>0,$K$2,IF($I1798<>0,$K$2,IF($J1798<>0,$K$2,\"\")))))))","v":""}]
[{"$nulls":3},"ФИНАНСОВО-ПРАВНА ФОРМА",{"$f":"$E$15","v":0},{"$f":"$F$15","v":"БЮДЖЕТ"},{"$nulls":4},{"$f":"(IF($E1798<>0,$K$2,IF($F1798<>0,$K$2,IF($G1798<>0,$K$2,IF($H1798<>0,$K$2,IF($I1798<>0,$K$2,IF($J1798<>0,$K$2,\"\")))))))","v":""}]
[{"$nulls":9},"(в лева)",{"$f":"(IF($E1798<>0,$K$2,IF($F1798<>0,$K$2,IF($G1798<>0,$K$2,IF($H1798<>0,$K$2,IF($I1798<>0,$K$2,IF($J1798<>0,$K$2,\"\")))))))","v":""}]
[{"$nulls":3},"II.1. РАЗХОДИ ПО ДЕЙНОСТИ","Уточнен план","                                                                                                                              О Т Ч Е Т Н И   Д А Н Н И",{"$nulls":4},{"$f":"(IF($E1798<>0,$K$2,IF($F1798<>0,$K$2,IF($G1798<>0,$K$2,IF($H1798<>0,$K$2,IF($I1798<>0,$K$2,IF($J1798<>0,$K$2,\"\")))))))","v":""}]
[null,"§§","под-§§","НАИМЕНОВАНИЯ НА ПАРАГРАФИТЕ И ПОДПАРАГРАФИТЕ",{"$f":"$C$3","v":2021},"ОБЩО","левови\n сметки и СЕБРА ","валутни \nсметки ","операции в брой (в левове и валута)","операции приравнени на касов поток",{"$f":"(IF($E1798<>0,$K$2,IF($F1798<>0,$K$2,IF($G1798<>0,$K$2,IF($H1798<>0,$K$2,IF($I1798<>0,$K$2,IF($J1798<>0,$K$2,\"\")))))))","v":""}]
[{"$nulls":3}," 02 ¦","(1)","(2)","(3)","(4)","(5)","(6)",{"$f":"(IF($E1798<>0,$K$2,IF($F1798<>0,$K$2,IF($G1798<>0,$K$2,IF($H1798<>0,$K$2,IF($I1798<>0,$K$2,IF($J1798<>0,$K$2,\"\")))))))","v":""}]
[null,null,0,"ИЗБЕРЕТЕ ОПЕРАТИВНА ПРОГРАМА ",{"$nulls":6},{"$f":"(IF($E1798<>0,$K$2,IF($F1798<>0,$K$2,IF($G1798<>0,$K$2,IF($H1798<>0,$K$2,IF($I1798<>0,$K$2,IF($J1798<>0,$K$2,\"\")))))))","v":""}]
[null,null,{"$f":"VLOOKUP(D1681,EBK_DEIN2,2,FALSE)","v":4415},"<------          ДЕЙНОСТ    -  код  по  ЕБК",{"$nulls":6},{"$f":"(IF($E1798<>0,$K$2,IF($F1798<>0,$K$2,IF($G1798<>0,$K$2,IF($H1798<>0,$K$2,IF($I1798<>0,$K$2,IF($J1798<>0,$K$2,\"\")))))))","v":""}]
[null,null,{"$f":"+C1680","v":4415},"415 Домове за медико-социални грижи ",{"$nulls":6},{"$f":"(IF($E1798<>0,$K$2,IF($F1798<>0,$K$2,IF($G1798<>0,$K$2,IF($H1798<>0,$K$2,IF($I1798<>0,$K$2,IF($J1798<>0,$K$2,\"\")))))))","v":""}]
[{"$nulls":3},"(наименование на дейността)",{"$nulls":6},{"$f":"(IF($E1798<>0,$K$2,IF($F1798<>0,$K$2,IF($G1798<>0,$K$2,IF($H1798<>0,$K$2,IF($I1798<>0,$K$2,IF($J1798<>0,$K$2,\"\")))))))","v":""}]
[null,{"v":100,"d":"01-00"},"Заплати и възнаграждения за персонала, нает по трудови и служебни правоотношения",null,{"$f":"SUM(E1684:E1685)","v":0},0,0,0,0,0,{"$f":"(IF($E1683<>0,$K$2,IF($F1683<>0,$K$2,IF($G1683<>0,$K$2,IF($H1683<>0,$K$2,IF($I1683<>0,$K$2,IF($J1683<>0,$K$2,\"\")))))))","v":""}]
[null,null,{"v":101,"d":"01-01"},"заплати и възнаграждения на персонала нает по трудови правоотношения",0,{"$f":"G1684+H1684+I1684+J1684","v":0},0,0,0,0,{"$f":"(IF($E1684<>0,$K$2,IF($F1684<>0,$K$2,IF($G1684<>0,$K$2,IF($H1684<>0,$K$2,IF($I1684<>0,$K$2,IF($J1684<>0,$K$2,\"\")))))))","v":""}]
[null,null,{"v":102,"d":"01-02"},"заплати и възнаграждения на персонала нает по служебни правоотношения",0,{"$f":"G1685+H1685+I1685+J1685","v":0},0,0,0,0,""]
[null,{"v":200,"d":"02-00"},"Други възнаграждения и плащания за персонала",null,{"$f":"SUM(E1687:E1691)","v":0},0,0,0,0,0,""]
[null,null,{"v":201,"d":"02-01"},"за нещатен персонал нает по трудови правоотношения ",0,{"$f":"G1687+H1687+I1687+J1687","v":0},0,0,0,0,""]
[null,null,{"v":202,"d":"02-02"},"за персонала по извънтрудови правоотношения",0,{"$f":"G1688+H1688+I1688+J1688","v":0},0,0,0,0,""]
[null,null,{"v":205,"d":"02-05"},"изплатени суми от СБКО за облекло и други на персонала, с характер на възнаграждение",0,{"$f":"G1689+H1689+I1689+J1689","v":0},0,0,0,0,""]
[null,null,{"v":208,"d":"02-08"},"обезщетения за персонала, с характер на възнаграждение",0,{"$f":"G1690+H1690+I1690+J1690","v":0},0,0,0,0,""]
[null,null,{"v":209,"d":"02-09"},"другиплащания и възнаграждения",0,{"$f":"G1691+H1691+I1691+J1691","v":0},0,0,0,0,""]
[null,{"v":500,"d":"05-00"},"Задължителни осигурителни вноски от работодатели",null,{"$f":"SUM(E1693:E1699)","v":0},0,0,0,0,0,""]
[null,null,{"v":551,"d":"05-51"},"осигурителни вноски от работодатели за Държавното обществено осигуряване (ДОО)",0,{"$f":"G1693+H1693+I1693+J1693","v":0},0,0,0,0,""]
[null,null,{"$f":"C1693+1","v":{"v":552,"d":"05-52"}},"осигурителни вноски от работодатели за Учителския пенсионен фонд (УПФ)",0,0,0,0,0,0,""]
[null,null,{"v":558,"d":"05-58"},"вноски по чл. 4б и 4в от КСО за сметка на осигурителя",null,{"$f":"G1695+H1695+I1695+J1695","v":0},0,0,0,0,""]
[null,null,{"v":560,"d":"05-60"},"здравно-осигурителни вноски от работодатели",0,0,0,0,0,0,""]
[null,null,{"v":580,"d":"05-80"},"вноски за допълнително задължително осигуряване от работодатели",0,0,0,0,0,0,""]
[null,null,{"v":588,"d":"05-88"},"коректив на вноски за ДЗПО за сумите по чл. 4б и 4в от КСО за сметка на осигурителя",null,{"$f":"G1698+H1698+I1698+J1698","v":0},0,0,0,0,""]
[null,null,{"v":590,"d":"05-90"},"задължителни вноски за чуждестранни пенсионни фондове и  схеми за сметка на осигурителя",0,0,0,0,0,0,""]
[5,{"v":800,"d":"08-00"},"Вноски за доброволно осигуряване ",null,null,0,{"$nulls":4},""]
[10,{"v":1000,"d":"10-00"},"Издръжка",null,{"$f":"SUM(E1702:E1718)","v":0},0,0,0,0,0,""]
[15,null,{"v":1011,"d":"10-11"},"Храна",0,{"$f":"G1702+H1702+I1702+J1702","v":0},0,0,0,0,""]
[35,null,{"v":1012,"d":"10-12"},"Медикаменти",0,0,0,0,0,0,""]
[40,null,{"v":1013,"d":"10-13"},"Постелен инвентар и облекло",0,0,0,0,0,0,""]
[45,null,{"v":1014,"d":"10-14"},"Учебни и научно-изследователски разходи и книги за библиотеките",0,0,0,0,0,0,""]
[50,null,{"v":1015,"d":"10-15"},"материали",0,0,0,0,0,0,""]
[55,null,{"v":1016,"d":"10-16"},"вода, горива и енергия",0,0,0,0,0,0,""]
[60,null,{"v":1020,"d":"10-20"},"разходи за външни услуги",0,0,0,0,0,0,""]
[65,null,{"v":1030,"d":"10-30"},"Текущ ремонт",0,0,0,0,0,0,""]
[70,null,{"v":1051,"d":"10-51"},"командировки в страната",0,0,0,0,0,0,""]
[75,null,{"v":1052,"d":"10-52"},"краткосрочни командировки в чужбина",0,0,0,0,0,0,""]
[80,null,{"v":1053,"d":"10-53"},"дългосрочни командировки в чужбина",0,0,0,0,0,0,""]
[80,null,{"v":1062,"d":"10-62"},"разходи за застраховки",0,0,0,0,0,0,""]
[85,null,{"v":1063,"d":"10-63"},"такса ангажимент по заеми",0,0,0,0,0,0,""]
[90,null,{"v":1069,"d":"10-69"},"други финансови услуги",0,0,0,0,0,0,""]
[90,null,{"v":1091,"d":"10-91"},"други разходи за СБКО",0,0,0,0,0,0,""]
[115,null,{"v":1092,"d":"10-92"},"разходи за договорни санкции и неустойки, съдебни обезщетения и разноски",0,0,0,0,0,0,""]
[125,null,{"v":1098,"d":"10-98"},"други разходи, некласифицирани в другите параграфи и подпараграфи",0,0,0,0,0,0,""]
[130,{"v":1900,"d":"19-00"},"Платени данъци, такси и административни санкции",null,{"$f":"SUM(E1720:E1722)","v":0},0,0,0,0,0,""]
[135,null,{"v":1901,"d":"19-01"},"платени държавни данъци, такси, наказателни лихви и административни санкции",0,{"$f":"G1720+H1720+I1720+J1720","v":0},0,0,0,0,""]
[140,null,{"v":1981,"d":"19-81"},"платени общински данъци, такси, наказателни лихви и административни санкции",0,{"$f":"G1721+H1721+I1721+J1721","v":0},0,0,0,0,""]
[145,null,{"v":1991,"d":"19-91"},"платени данъци, такси, наказателни лихви и административни санкции в чужбина",0,{"$f":"G1722+H1722+I1722+J1722","v":0},0,0,0,0,""]
[150,{"v":2100,"d":"21-00"},"Разходи за лихви по емисии на държавни (общински) ценни книжа",null,{"$f":"SUM(E1724:E1728)","v":0},0,0,0,0,0,""]
[155,null,{"v":2110,"d":"21-10"},"лихви по държавни (общински) ценни книжа",0,{"$f":"G1724+H1724+I1724+J1724","v":0},0,0,0,0,""]
[160,null,{"v":2120,"d":"21-20"},"отстъпки по държавни (общински) ценни книжа",0,{"$f":"G1725+H1725+I1725+J1725","v":0},0,0,0,0,""]
[165,null,{"v":2125,"d":"21-25"},"лихви и отстъпки по целеви емисии на държавни ценни книжа",0,{"$f":"G1726+H1726+I1726+J1726","v":0},0,0,0,0,""]
[175,null,{"v":2140,"d":"21-40"},"лихви по държавни ценни книжа, емитирани за структурната реформа ",0,{"$f":"G1727+H1727+I1727+J1727","v":0},0,0,0,0,""]
[180,null,{"v":2190,"d":"21-90"},"премии над номинала от емисии на държавни (общински) ценни книжа (-)",0,{"$f":"G1728+H1728+I1728+J1728","v":0},0,0,0,0,""]
[185,{"v":2200,"d":"22-00"},"Разходи за лихви по заеми от страната",null,{"$f":"SUM(E1730:E1731)","v":0},0,0,0,0,0,""]
[190,null,{"v":2221,"d":"22-21"},"Разходи за лихви по заеми от банки в страната",0,{"$f":"G1730+H1730+I1730+J1730","v":0},0,0,0,0,""]
[200,null,{"v":2224,"d":"22-24"},"Разходи за лихви по други заеми от страната",0,0,0,0,0,0,""]
[200,{"v":2500,"d":"25-00"},"Разходи за лихви по заеми от други държави",null,null,0,{"$nulls":4},""]
[205,{"v":2600,"d":"26-00"},"Разходи за лихви по заеми от международни организации и институции",null,null,0,{"$nulls":4},""]
[210,{"v":2700,"d":"27-00"},"Разходи за лихви по заеми от банки и други финансови институции от чужбина",null,null,0,{"$nulls":4},""]
[215,{"v":2800,"d":"28-00"},"Разходи за лихви и отстъпки по облигации, емитирани и търгувани на международните капиталови пазари",null,null,0,{"$nulls":4},""]
[220,{"v":2900,"d":"29-00"},"Други разходи за лихви",null,{"$f":"SUM(E1737:E1744)","v":0},0,0,0,0,0,""]
[225,null,{"v":2910,"d":"29-10"},"Платени лихви по финансов лизинг и търговски кредит",null,{"$f":"G1737+H1737+I1737+J1737","v":0},{"$nulls":4},""]
[230,null,{"v":2920,"d":"29-20"},"Платени лихви по активирани гаранции по заеми от  банки в страната",0,{"$f":"G1738+H1738+I1738+J1738","v":0},0,0,0,0,""]
[245,null,{"v":2969,"d":"29-69"},"Платени лихви по активирани гаранции по заеми от международни организации и институции",0,0,0,0,0,0,""]
[220,null,{"v":2970,"d":"29-70"},"Платени лихви по активирани гаранции по заеми от банки и финансови институции от чужбина",null,0,{"$nulls":4},""]
[225,null,{"v":2989,"d":"29-89"},"Възстановени суми по платени лихви по активирани гаранции (-)",0,0,0,0,0,0,""]
[230,null,{"v":2990,"d":"29-90"},"Платени лихви по заеми, предоставени от централния бюджет и бюджетни организации",null,{"$f":"G1742+H1742+I1742+J1742","v":0},{"$nulls":4},""]
[235,null,{"v":2991,"d":"29-91"},"Други разходи за лихви към  местни лица",0,0,0,0,0,0,""]
[240,null,{"v":2992,"d":"29-92"},"Други разходи за лихви към чуждестранни лица",0,0,0,0,0,0,""]
[245,{"v":3300,"d":"33-00"},"Вноска в общия бюджет на Европейския съюз",null,{"$f":"SUM(E1746:E1750)","v":0},0,0,0,0,0,""]
[250,null,{"v":3301,"d":"33-01"},"ресурс на база брутен национален доход",0,{"$f":"G1746+H1746+I1746+J1746","v":0},0,0,0,0,""]
[255,null,{"v":3302,"d":"33-02"},"ресурс на база данък върху добавената стойност",0,0,0,0,0,0,""]
[265,null,{"v":3304,"d":"33-04"},"традиционни собствени ресурси - мита",0,0,0,0,0,0,""]
[270,null,{"v":3306,"d":"33-06"},"участие във финансирането на брутното намаление за Австрия, Дания, Германия, Нидерландия и Швеция",0,0,0,0,0,0,""]
[290,null,{"v":3307,"d":"33-07"},"ресурс на база нерециклираните отпадъци от опаковки от пластмаса",0,0,0,0,0,0,""]
[320,{"v":3900,"d":"39-00"},"Здравно-осигурителни плащания",null,null,0,{"$nulls":4},{"$f":"(IF($E1751<>0,$K$2,IF($F1751<>0,$K$2,IF($G1751<>0,$K$2,IF($H1751<>0,$K$2,IF($I1751<>0,$K$2,IF($J1751<>0,$K$2,\"\")))))))","v":""}]
[330,{"v":4000,"d":"40-00"},"Стипендии",null,0,0,0,0,0,0,""]
[350,{"v":4100,"d":"41-00"},"Пенсии",null,null,0,{"$nulls":4},""]
[355,{"v":4200,"d":"42-00"},"Текущи трансфери, обезщетения и помощи за домакинствата",null,{"$f":"SUM(E1755:E1760)","v":0},0,0,0,0,0,""]
[375,null,{"v":4201,"d":"42-01"},"обезщетения и помощи по социалното осигуряване",0,{"$f":"G1755+H1755+I1755+J1755","v":0},0,0,0,0,""]
[375,null,{"v":4202,"d":"42-02"},"обезщетения и помощи по социалното подпомагане",0,0,0,0,0,0,""]
[380,null,{"v":4214,"d":"42-14"},"обезщетения и помощи по решение на общинския съвет",0,0,0,0,0,0,""]
[385,null,{"v":4217,"d":"42-17"},"текущи трансфери за домакинства от средства на Европейския съюз",0,0,0,0,0,0,""]
[390,null,{"v":4218,"d":"42-18"},"текущи трансфери за домакинства по други международни програми и споразумения",0,0,0,0,0,0,""]
[390,null,{"v":4219,"d":"42-19"},"други текущи трансфери за домакинствата",0,0,0,0,0,0,""]
[395,{"v":4300,"d":"43-00"},"Субсидии и други текущи трансфери за нефинансови предприятия ",null,{"$f":"SUM(E1762:E1764)","v":0},0,0,0,0,0,""]
[397,null,{"v":4301,"d":"43-01"},"за текуща дейност",0,{"$f":"G1762+H1762+I1762+J1762","v":0},0,0,0,0,""]
[398,null,{"v":4302,"d":"43-02"},"за осъществяване на болнична помощ ",0,0,0,0,0,0,""]
[399,null,{"v":4309,"d":"43-09"},"други субсидии и плащания",0,0,0,0,0,0,""]
[400,{"v":4400,"d":"44-00"},"Субсидии и други текущи трансфери за финансови институции",null,null,0,{"$nulls":4},""]
[401,{"v":4500,"d":"45-00"},"Субсидии и други текущи трансфери за юридически лица с нестопанска цел",null,null,0,{"$nulls":4},""]
[404,{"v":4600,"d":"46-00"},"Разходи за членски внос и участие в нетърговски организации и дейности",null,null,0,{"$nulls":4},""]
[404,{"v":4900,"d":"49-00"},"Предоставени текущи и капиталови трансфери за чужбина",null,{"$f":"+E1769+E1770","v":0},0,0,0,0,0,""]
[440,null,{"v":4901,"d":"49-01"},"текущи трансфери за чужбина",0,{"$f":"G1769+H1769+I1769+J1769","v":0},0,0,0,0,""]
[450,null,{"v":4902,"d":"49-02"},"капиталови трансфери за чужбина",0,{"$f":"G1770+H1770+I1770+J1770","v":0},0,0,0,0,""]
[495,{"v":5100,"d":"51-00"},"Основен ремонт на дълготрайни материални активи",null,0,{"$f":"G1771+H1771+I1771+J1771","v":0},0,{"$nulls":3},""]
[500,{"v":5200,"d":"52-00"},"Придобиване на дълготрайни материални активи",null,{"$f":"SUM(E1773:E1779)","v":0},0,0,0,0,0,""]
[505,null,{"v":5201,"d":"52-01"},"придобиване на компютри и хардуер",0,{"$f":"G1773+H1773+I1773+J1773","v":0},0,0,0,0,""]
[510,null,{"v":5202,"d":"52-02"},"придобиване на сгради",0,0,0,0,0,0,""]
[515,null,{"v":5203,"d":"52-03"},"придобиване на друго оборудване, машини и съоръжения",0,0,0,0,0,0,""]
[520,null,{"v":5204,"d":"52-04"},"придобиване на транспортни средства",0,0,0,0,0,0,""]
[525,null,{"v":5205,"d":"52-05"},"придобиване на стопански инвентар",0,0,0,0,0,0,""]
[635,null,{"v":5206,"d":"52-06"},"изграждане на инфраструктурни обекти",0,0,0,0,0,0,""]
[640,null,{"v":5219,"d":"52-19"},"придобиване на други ДМА",0,0,0,0,0,0,""]
[645,{"v":5300,"d":"53-00"},"Придобиване на нематериални дълготрайни активи",null,{"$f":"SUM(E1781:E1782)","v":0},0,0,0,0,0,""]
[650,null,{"v":5301,"d":"53-01"},"придобиване на програмни продукти и лицензи за програмни продукти",0,{"$f":"G1781+H1781+I1781+J1781","v":0},0,0,0,0,""]
[655,null,{"v":5309,"d":"53-09"},"придобиване на други нематериални дълготрайни активи",0,{"$f":"G1782+H1782+I1782+J1782","v":0},0,0,0,0,""]
[665,{"v":5400,"d":"54-00"},"Придобиване на земя",null,null,{"$f":"G1783+H1783+I1783+J1783","v":0},{"$nulls":4},""]
[675,{"v":5500,"d":"55-00"},"Капиталови трансфери",null,{"$f":"SUM(E1785:E1788)","v":0},0,0,0,0,0,""]
[685,null,{"v":5501,"d":"55-01"},"капиталови трансфери за нефинансови предприятия",0,{"$f":"G1785+H1785+I1785+J1785","v":0},0,0,0,0,""]
[690,null,{"v":5502,"d":"55-02"},"капиталови трансфери за финансови институции",0,{"$f":"G1786+H1786+I1786+J1786","v":0},0,0,0,0,""]
[695,null,{"v":5503,"d":"55-03"},"капиталови трансфери за организации с нестопанска цел",0,{"$f":"G1787+H1787+I1787+J1787","v":0},0,0,0,0,""]
[700,null,{"v":5504,"d":"55-04"},"капиталови трансфери за домакинствата",0,{"$f":"G1788+H1788+I1788+J1788","v":0},0,0,0,0,""]
[710,{"v":5700,"d":"57-00"},"Прираст на държавния резерв и изкупуване на земеделска продукция (включва и § 40-71)",null,{"$f":"SUM(E1790:E1792)","v":0},0,0,0,0,0,""]
[715,null,{"v":5701,"d":"57-01"},"плащания за попълване на държавния резерв",0,{"$f":"G1790+H1790+I1790+J1790","v":0},0,0,0,0,""]
[720,null,{"v":5702,"d":"57-02"},"плащания за изкупуване на земеделска продукция",0,{"$f":"G1791+H1791+I1791+J1791","v":0},0,0,0,0,""]
[725,null,{"v":4071,"d":"40-71"},"постъпления от продажба на държавния резерв (-)",0,{"$f":"G1792+H1792+I1792+J1792","v":0},0,0,0,0,""]
[730,{"$nulls":9},""]
[735,{"v":98,"d":"00-98"},"Резерв за непредвидени и неотложни разходи",null,null,{"$f":"G1794+H1794+I1794+J1794","v":0},0,0,0,0,""]
[740,{"$nulls":9},""]
[745,{"$nulls":9},""]
[750,{"$nulls":9},""]
[755,null,"99-99",{"$f":"+B1798","v":{"v":0,"d":"II. ОБЩО РАЗХОДИ ЗА ДЕЙНОСТ 0000"}},{"$f":"SUM(E1683,E1686,E1692,E1700,E1701,E1719,E1723,E1729,E1732,E1733,E1734,E1735,E1736,E1745,E1751,E1752,E1753,E1754,E1761,E1765,E1766,E1767,E1768,E1771,E1772,E1780,E1783,E1784,E1789)+E1794","v":0},0,0,0,0,0,"",{"$f":"LEFT(C1680,1)","v":"4"}]
[760,{"$nulls":9},{"$f":"K1798","v":""}]
[765,{"$nulls":9},{"$f":"K1798","v":""}]
[775,{"$nulls":9},{"$f":"(IF(SUM(K1812:K1833)<>0,$K$2,\"\"))","v":""}]
[780,{"$f":"$B$7","v":"ОТЧЕТНИ ДАННИ ПО ЕБК ЗА ИЗПЪЛНЕНИЕТО НА БЮДЖЕТА"},{"$nulls":8},{"$f":"(IF(SUM(K1812:K1833)<>0,$K$2,\"\"))","v":""}]
[785,{"$nulls":3},"за периода от ","до",{"$nulls":4},{"$f":"(IF(SUM(K1812:K1833)<>0,$K$2,\"\"))","v":""}]
[790,{"$f":"$B$9","v":"РЕГИОНАЛНА ЗДРАВНА ИНСПЕКЦИЯ-БУРГАС"},null,null,{"$f":"$E$9","v":"2021-01-01"},{"$f":"$F$9","v":"2021-12-31"},{"$nulls":4},{"$f":"(IF(SUM(K1812:K1833)<>0,$K$2,\"\"))","v":""}]
[795,{"$f":"$B$10","v":"                                                            (наименование на разпоредителя с бюджет)"},{"$nulls":8},{"$f":"(IF(SUM(K1812:K1833)<>0,$K$2,\"\"))","v":""}]
[805,{"$nulls":9},{"$f":"(IF(SUM(K1812:K1833)<>0,$K$2,\"\"))","v":""}]
[810,{"$f":"$B$12","v":{"$error":"#N/A"}},null,null,"       код по ЕБК:",{"$f":"$F$12","v":"0"},{"$nulls":4},{"$f":"(IF(SUM(K1812:K1833)<>0,$K$2,\"\"))","v":""}]
[815,{"$f":"$B$13","v":"                                             (наименование на първостепенния разпоредител с бюджет)"},{"$nulls":8},{"$f":"(IF(SUM(K1812:K1833)<>0,$K$2,\"\"))","v":""}]
[525,null,null,"               ФИНАНСОВО-ПРАВНА ФОРМА",{"$f":"$E$15","v":0},{"$f":"$F$15","v":"БЮДЖЕТ"},{"$nulls":4},{"$f":"(IF(SUM(K1812:K1833)<>0,$K$2,\"\"))","v":""}]
[820,null,null,"Натурални и други показатели за дейността",null,"(в лева)",{"$nulls":4},{"$f":"(IF(SUM(K1812:K1833)<>0,$K$2,\"\"))","v":""}]
[821,"МЯРКА","Код 9 8","  О б щ и   н а т у р а л н и   п о к а з а т е л и","    П л а н","    О т ч е т ",{"$nulls":4},{"$f":"(IF(SUM(K1812:K1833)<>0,$K$2,\"\"))","v":""}]
[822,null," 9 8 0 1","Щ а т н и   б р о й к и",{"$f":"E1813+E1814","v":0},{"$f":"F1813+F1814","v":0},{"$nulls":4},{"$f":"(IF($E1812<>0,$K$2,IF($F1812<>0,$K$2,\"\")))","v":""}]
[823,null," 9 8 1 1","в т.ч.: по трудови правоотношения",0,0,{"$nulls":4},""]
[825,null," 9 8 1 2","           по служебни правоотношения",0,0,{"$nulls":4},""]
[null,null," 9 8 0 2","Средногодишни щатни бройки",{"$f":"E1816+E1817","v":0},{"$f":"F1816+F1817","v":0},{"$nulls":4},""]
[null,null," 9 8 2 1","в т.ч.: по трудови правоотношения",0,0,{"$nulls":4},""]
[null,null," 9 8 2 2","         по служебни правоотношения",0,0,{"$nulls":4},""]
[null,null," 9 8 0 3","Средна годишна брутна заплата",0,0,{"$nulls":4},""]
[null,null," 9 8 3 1"," в т.ч.:   по трудови правоотношения",0,0,{"$nulls":4},""]
[null,null," 9 8 3 2","            по служебни правоотношения",0,0,{"$nulls":4},""]
[null,null," 9 8 0 4","Брой на моторни превозни средства",0,0,{"$nulls":4},""]
[null,null,"9 8 0 5","- в т.ч. - леки автомобили",0,0,{"$nulls":4},""]
[null,null,"9 8 0 6","             - санитарни линейки",0,0,{"$nulls":4},""]
[null,null," 9 8 0 7","Брой ученици, финансирани по единни разходни стандарти",0,0,{"$nulls":4},""]
[null,null," 9 8 0 8","Средна годишна брутна заплата на делегирани бюджети",0,0,{"$nulls":4},""]
[null,null," 9 8 0 9","Щатни бройки на делегирани бюджети",0,0,{"$nulls":4},""]
[null,null," 9 8 1 0","Средногодишни щатни бройки на делегирани бюджети",0,0,{"$nulls":4},""]
[null,null,"9 8 1 3","Средногодишен приравнен брой учащи във ВУ, финансирани по норматив за издръжка на обучението",0,0,{"$nulls":4},""]
[null,null,"9 8 1 4","Брой леглодни в студентски общежития",0,0,{"$nulls":4},""]
[905,null,"9 8 1 5","Брой хранодни в студентски стол",0,0,{"$nulls":4},""]
[906,null,"9 8 1 7","Болнични легла",0,0,{"$nulls":4},""]
[907,null,"9 8 1 8","Обем радиопрограма /часове/",0,0,{"$nulls":4},""]
[910,null,"9 8 1 9","Обем телевизионна програма /часове/",0,0,{"$nulls":4},""]
[911,"МЯРКА","Код  ","Разходи в областта на електронното управление и за използваните информационни и комуникационни технологии","    П л а н","    О т ч е т ",{"$nulls":4},{"$f":"(IF($E1835<>0,$K$2,IF($F1835<>0,$K$2,\"\")))","v":""}]
[null,null,"9 8 5 0","Общо разходи в областта на ЕУ и за използваните ИКТ",{"$f":"E1836+E1837","v":0},{"$f":"F1836+F1837","v":0},{"$nulls":4},""]
[null,null,"9 8 5 1","Текущи разходи в областта на ЕУ и за използваните ИКТ",0,0,{"$nulls":4},""]
[null,null,"9 8 5 2","Капиталови разходи в областта на ЕУ и за използваните ИКТ",0,0,{"$nulls":4},""]
[null,"ЗАБЕЛЕЖКА:",{"$nulls":8},{"$f":"K1798","v":""}]
[null," За натурални показатели, не влючени в този отчет, специфични за конкретна дейност се представят отделни справки, допълнително определени от Министерство на финансите.",{"$nulls":8},{"$f":"K1798","v":""}]
[]
[{"$nulls":10},{"$f":"(IF($E1974<>0,$K$2,IF($F1974<>0,$K$2,IF($G1974<>0,$K$2,IF($H1974<>0,$K$2,IF($I1974<>0,$K$2,IF($J1974<>0,$K$2,\"\")))))))","v":""}]
[{"$nulls":10},{"$f":"(IF($E1974<>0,$K$2,IF($F1974<>0,$K$2,IF($G1974<>0,$K$2,IF($H1974<>0,$K$2,IF($I1974<>0,$K$2,IF($J1974<>0,$K$2,\"\")))))))","v":""}]
[null,{"$f":"$B$7","v":"ОТЧЕТНИ ДАННИ ПО ЕБК ЗА ИЗПЪЛНЕНИЕТО НА БЮДЖЕТА"},{"$nulls":8},{"$f":"(IF($E1974<>0,$K$2,IF($F1974<>0,$K$2,IF($G1974<>0,$K$2,IF($H1974<>0,$K$2,IF($I1974<>0,$K$2,IF($J1974<>0,$K$2,\"\")))))))","v":""}]
[{"$nulls":4},"за периода от ","до",null,"                 II.1. РАЗХОДИ ПО ДЕЙНОСТИ",null,null,{"$f":"(IF($E1974<>0,$K$2,IF($F1974<>0,$K$2,IF($G1974<>0,$K$2,IF($H1974<>0,$K$2,IF($I1974<>0,$K$2,IF($J1974<>0,$K$2,\"\")))))))","v":""}]
[null,{"$f":"$B$9","v":"РЕГИОНАЛНА ЗДРАВНА ИНСПЕКЦИЯ-БУРГАС"},null,null,{"$f":"$E$9","v":"2021-01-01"},{"$f":"$F$9","v":"2021-12-31"},{"$nulls":4},{"$f":"(IF($E1974<>0,$K$2,IF($F1974<>0,$K$2,IF($G1974<>0,$K$2,IF($H1974<>0,$K$2,IF($I1974<>0,$K$2,IF($J1974<>0,$K$2,\"\")))))))","v":""}]
[null,{"$f":"$B$10","v":"                                                            (наименование на разпоредителя с бюджет)"},{"$nulls":8},{"$f":"(IF($E1974<>0,$K$2,IF($F1974<>0,$K$2,IF($G1974<>0,$K$2,IF($H1974<>0,$K$2,IF($I1974<>0,$K$2,IF($J1974<>0,$K$2,\"\")))))))","v":""}]
[{"$nulls":10},{"$f":"(IF($E1974<>0,$K$2,IF($F1974<>0,$K$2,IF($G1974<>0,$K$2,IF($H1974<>0,$K$2,IF($I1974<>0,$K$2,IF($J1974<>0,$K$2,\"\")))))))","v":""}]
[null,{"$f":"$B$12","v":{"$error":"#N/A"}},null,null,"       код по ЕБК:",{"$f":"$F$12","v":"0"},{"$nulls":4},{"$f":"(IF($E1974<>0,$K$2,IF($F1974<>0,$K$2,IF($G1974<>0,$K$2,IF($H1974<>0,$K$2,IF($I1974<>0,$K$2,IF($J1974<>0,$K$2,\"\")))))))","v":""}]
[null,{"$f":"$B$13","v":"                                             (наименование на първостепенния разпоредител с бюджет)"},{"$nulls":8},{"$f":"(IF($E1974<>0,$K$2,IF($F1974<>0,$K$2,IF($G1974<>0,$K$2,IF($H1974<>0,$K$2,IF($I1974<>0,$K$2,IF($J1974<>0,$K$2,\"\")))))))","v":""}]
[{"$nulls":3},"ФИНАНСОВО-ПРАВНА ФОРМА",{"$f":"$E$15","v":0},{"$f":"$F$15","v":"БЮДЖЕТ"},{"$nulls":4},{"$f":"(IF($E1974<>0,$K$2,IF($F1974<>0,$K$2,IF($G1974<>0,$K$2,IF($H1974<>0,$K$2,IF($I1974<>0,$K$2,IF($J1974<>0,$K$2,\"\")))))))","v":""}]
[{"$nulls":9},"(в лева)",{"$f":"(IF($E1974<>0,$K$2,IF($F1974<>0,$K$2,IF($G1974<>0,$K$2,IF($H1974<>0,$K$2,IF($I1974<>0,$K$2,IF($J1974<>0,$K$2,\"\")))))))","v":""}]
[{"$nulls":3},"II.1. РАЗХОДИ ПО ДЕЙНОСТИ","Уточнен план","                                                                                                                              О Т Ч Е Т Н И   Д А Н Н И",{"$nulls":4},{"$f":"(IF($E1974<>0,$K$2,IF($F1974<>0,$K$2,IF($G1974<>0,$K$2,IF($H1974<>0,$K$2,IF($I1974<>0,$K$2,IF($J1974<>0,$K$2,\"\")))))))","v":""}]
[null,"§§","под-§§","НАИМЕНОВАНИЯ НА ПАРАГРАФИТЕ И ПОДПАРАГРАФИТЕ",{"$f":"$C$3","v":2021},"ОБЩО","левови\n сметки и СЕБРА ","валутни \nсметки ","операции в брой (в левове и валута)","операции приравнени на касов поток",{"$f":"(IF($E1974<>0,$K$2,IF($F1974<>0,$K$2,IF($G1974<>0,$K$2,IF($H1974<>0,$K$2,IF($I1974<>0,$K$2,IF($J1974<>0,$K$2,\"\")))))))","v":""}]
[{"$nulls":3}," 02 ¦","(1)","(2)","(3)","(4)","(5)","(6)",{"$f":"(IF($E1974<>0,$K$2,IF($F1974<>0,$K$2,IF($G1974<>0,$K$2,IF($H1974<>0,$K$2,IF($I1974<>0,$K$2,IF($J1974<>0,$K$2,\"\")))))))","v":""}]
[null,null,0,"ИЗБЕРЕТЕ ОПЕРАТИВНА ПРОГРАМА ",{"$nulls":6},{"$f":"(IF($E1974<>0,$K$2,IF($F1974<>0,$K$2,IF($G1974<>0,$K$2,IF($H1974<>0,$K$2,IF($I1974<>0,$K$2,IF($J1974<>0,$K$2,\"\")))))))","v":""}]
[null,null,{"$f":"VLOOKUP(D1857,EBK_DEIN2,2,FALSE)","v":4418},"<------          ДЕЙНОСТ    -  код  по  ЕБК",{"$nulls":6},{"$f":"(IF($E1974<>0,$K$2,IF($F1974<>0,$K$2,IF($G1974<>0,$K$2,IF($H1974<>0,$K$2,IF($I1974<>0,$K$2,IF($J1974<>0,$K$2,\"\")))))))","v":""}]
[null,null,{"$f":"+C1856","v":4418},"418 Психиатрични болници",{"$nulls":6},{"$f":"(IF($E1974<>0,$K$2,IF($F1974<>0,$K$2,IF($G1974<>0,$K$2,IF($H1974<>0,$K$2,IF($I1974<>0,$K$2,IF($J1974<>0,$K$2,\"\")))))))","v":""}]
[{"$nulls":3},"(наименование на дейността)",{"$nulls":6},{"$f":"(IF($E1974<>0,$K$2,IF($F1974<>0,$K$2,IF($G1974<>0,$K$2,IF($H1974<>0,$K$2,IF($I1974<>0,$K$2,IF($J1974<>0,$K$2,\"\")))))))","v":""}]
[null,{"v":100,"d":"01-00"},"Заплати и възнаграждения за персонала, нает по трудови и служебни правоотношения",null,{"$f":"SUM(E1860:E1861)","v":0},0,0,0,0,0,{"$f":"(IF($E1859<>0,$K$2,IF($F1859<>0,$K$2,IF($G1859<>0,$K$2,IF($H1859<>0,$K$2,IF($I1859<>0,$K$2,IF($J1859<>0,$K$2,\"\")))))))","v":""}]
[null,null,{"v":101,"d":"01-01"},"заплати и възнаграждения на персонала нает по трудови правоотношения",0,{"$f":"G1860+H1860+I1860+J1860","v":0},0,0,0,0,{"$f":"(IF($E1860<>0,$K$2,IF($F1860<>0,$K$2,IF($G1860<>0,$K$2,IF($H1860<>0,$K$2,IF($I1860<>0,$K$2,IF($J1860<>0,$K$2,\"\")))))))","v":""}]
[null,null,{"v":102,"d":"01-02"},"заплати и възнаграждения на персонала нает по служебни правоотношения",0,{"$f":"G1861+H1861+I1861+J1861","v":0},0,0,0,0,""]
[null,{"v":200,"d":"02-00"},"Други възнаграждения и плащания за персонала",null,{"$f":"SUM(E1863:E1867)","v":0},0,0,0,0,0,""]
[null,null,{"v":201,"d":"02-01"},"за нещатен персонал нает по трудови правоотношения ",0,{"$f":"G1863+H1863+I1863+J1863","v":0},0,0,0,0,""]
[null,null,{"v":202,"d":"02-02"},"за персонала по извънтрудови правоотношения",0,{"$f":"G1864+H1864+I1864+J1864","v":0},0,0,0,0,""]
[null,null,{"v":205,"d":"02-05"},"изплатени суми от СБКО за облекло и други на персонала, с характер на възнаграждение",0,{"$f":"G1865+H1865+I1865+J1865","v":0},0,0,0,0,""]
[null,null,{"v":208,"d":"02-08"},"обезщетения за персонала, с характер на възнаграждение",0,{"$f":"G1866+H1866+I1866+J1866","v":0},0,0,0,0,""]
[null,null,{"v":209,"d":"02-09"},"другиплащания и възнаграждения",0,{"$f":"G1867+H1867+I1867+J1867","v":0},0,0,0,0,""]
[null,{"v":500,"d":"05-00"},"Задължителни осигурителни вноски от работодатели",null,{"$f":"SUM(E1869:E1875)","v":0},0,0,0,0,0,""]
[null,null,{"v":551,"d":"05-51"},"осигурителни вноски от работодатели за Държавното обществено осигуряване (ДОО)",0,{"$f":"G1869+H1869+I1869+J1869","v":0},0,0,0,0,""]
[null,null,{"$f":"C1869+1","v":{"v":552,"d":"05-52"}},"осигурителни вноски от работодатели за Учителския пенсионен фонд (УПФ)",0,0,0,0,0,0,""]
[null,null,{"v":558,"d":"05-58"},"вноски по чл. 4б и 4в от КСО за сметка на осигурителя",null,{"$f":"G1871+H1871+I1871+J1871","v":0},0,0,0,0,""]
[null,null,{"v":560,"d":"05-60"},"здравно-осигурителни вноски от работодатели",0,0,0,0,0,0,""]
[null,null,{"v":580,"d":"05-80"},"вноски за допълнително задължително осигуряване от работодатели",0,0,0,0,0,0,""]
[null,null,{"v":588,"d":"05-88"},"коректив на вноски за ДЗПО за сумите по чл. 4б и 4в от КСО за сметка на осигурителя",null,{"$f":"G1874+H1874+I1874+J1874","v":0},0,0,0,0,""]
[null,null,{"v":590,"d":"05-90"},"задължителни вноски за чуждестранни пенсионни фондове и  схеми за сметка на осигурителя",0,0,0,0,0,0,""]
[5,{"v":800,"d":"08-00"},"Вноски за доброволно осигуряване ",null,null,0,{"$nulls":4},""]
[10,{"v":1000,"d":"10-00"},"Издръжка",null,{"$f":"SUM(E1878:E1894)","v":0},0,0,0,0,0,""]
[15,null,{"v":1011,"d":"10-11"},"Храна",0,{"$f":"G1878+H1878+I1878+J1878","v":0},0,0,0,0,""]
[35,null,{"v":1012,"d":"10-12"},"Медикаменти",0,0,0,0,0,0,""]
[40,null,{"v":1013,"d":"10-13"},"Постелен инвентар и облекло",0,0,0,0,0,0,""]
[45,null,{"v":1014,"d":"10-14"},"Учебни и научно-изследователски разходи и книги за библиотеките",0,0,0,0,0,0,""]
[50,null,{"v":1015,"d":"10-15"},"материали",0,0,0,0,0,0,""]
[55,null,{"v":1016,"d":"10-16"},"вода, горива и енергия",0,0,0,0,0,0,""]
[60,null,{"v":1020,"d":"10-20"},"разходи за външни услуги",0,0,0,0,0,0,""]
[65,null,{"v":1030,"d":"10-30"},"Текущ ремонт",0,0,0,0,0,0,""]
[70,null,{"v":1051,"d":"10-51"},"командировки в страната",0,0,0,0,0,0,""]
[75,null,{"v":1052,"d":"10-52"},"краткосрочни командировки в чужбина",0,0,0,0,0,0,""]
[80,null,{"v":1053,"d":"10-53"},"дългосрочни командировки в чужбина",0,0,0,0,0,0,""]
[80,null,{"v":1062,"d":"10-62"},"разходи за застраховки",0,0,0,0,0,0,""]
[85,null,{"v":1063,"d":"10-63"},"такса ангажимент по заеми",0,0,0,0,0,0,""]
[90,null,{"v":1069,"d":"10-69"},"други финансови услуги",0,0,0,0,0,0,""]
[90,null,{"v":1091,"d":"10-91"},"други разходи за СБКО",0,0,0,0,0,0,""]
[115,null,{"v":1092,"d":"10-92"},"разходи за договорни санкции и неустойки, съдебни обезщетения и разноски",0,0,0,0,0,0,""]
[125,null,{"v":1098,"d":"10-98"},"други разходи, некласифицирани в другите параграфи и подпараграфи",0,0,0,0,0,0,""]
[130,{"v":1900,"d":"19-00"},"Платени данъци, такси и административни санкции",null,{"$f":"SUM(E1896:E1898)","v":0},0,0,0,0,0,""]
[135,null,{"v":1901,"d":"19-01"},"платени държавни данъци, такси, наказателни лихви и административни санкции",0,{"$f":"G1896+H1896+I1896+J1896","v":0},0,0,0,0,""]
[140,null,{"v":1981,"d":"19-81"},"платени общински данъци, такси, наказателни лихви и административни санкции",0,{"$f":"G1897+H1897+I1897+J1897","v":0},0,0,0,0,""]
[145,null,{"v":1991,"d":"19-91"},"платени данъци, такси, наказателни лихви и административни санкции в чужбина",0,{"$f":"G1898+H1898+I1898+J1898","v":0},0,0,0,0,""]
[150,{"v":2100,"d":"21-00"},"Разходи за лихви по емисии на държавни (общински) ценни книжа",null,{"$f":"SUM(E1900:E1904)","v":0},0,0,0,0,0,""]
[155,null,{"v":2110,"d":"21-10"},"лихви по държавни (общински) ценни книжа",0,{"$f":"G1900+H1900+I1900+J1900","v":0},0,0,0,0,""]
[160,null,{"v":2120,"d":"21-20"},"отстъпки по държавни (общински) ценни книжа",0,{"$f":"G1901+H1901+I1901+J1901","v":0},0,0,0,0,""]
[165,null,{"v":2125,"d":"21-25"},"лихви и отстъпки по целеви емисии на държавни ценни книжа",0,{"$f":"G1902+H1902+I1902+J1902","v":0},0,0,0,0,""]
[175,null,{"v":2140,"d":"21-40"},"лихви по държавни ценни книжа, емитирани за структурната реформа ",0,{"$f":"G1903+H1903+I1903+J1903","v":0},0,0,0,0,""]
[180,null,{"v":2190,"d":"21-90"},"премии над номинала от емисии на държавни (общински) ценни книжа (-)",0,{"$f":"G1904+H1904+I1904+J1904","v":0},0,0,0,0,""]
[185,{"v":2200,"d":"22-00"},"Разходи за лихви по заеми от страната",null,{"$f":"SUM(E1906:E1907)","v":0},0,0,0,0,0,""]
[190,null,{"v":2221,"d":"22-21"},"Разходи за лихви по заеми от банки в страната",0,{"$f":"G1906+H1906+I1906+J1906","v":0},0,0,0,0,""]
[200,null,{"v":2224,"d":"22-24"},"Разходи за лихви по други заеми от страната",0,0,0,0,0,0,""]
[200,{"v":2500,"d":"25-00"},"Разходи за лихви по заеми от други държави",null,null,0,{"$nulls":4},""]
[205,{"v":2600,"d":"26-00"},"Разходи за лихви по заеми от международни организации и институции",null,null,0,{"$nulls":4},""]
[210,{"v":2700,"d":"27-00"},"Разходи за лихви по заеми от банки и други финансови институции от чужбина",null,null,0,{"$nulls":4},""]
[215,{"v":2800,"d":"28-00"},"Разходи за лихви и отстъпки по облигации, емитирани и търгувани на международните капиталови пазари",null,null,0,{"$nulls":4},""]
[220,{"v":2900,"d":"29-00"},"Други разходи за лихви",null,{"$f":"SUM(E1913:E1920)","v":0},0,0,0,0,0,""]
[225,null,{"v":2910,"d":"29-10"},"Платени лихви по финансов лизинг и търговски кредит",null,{"$f":"G1913+H1913+I1913+J1913","v":0},{"$nulls":4},""]
[230,null,{"v":2920,"d":"29-20"},"Платени лихви по активирани гаранции по заеми от  банки в страната",0,{"$f":"G1914+H1914+I1914+J1914","v":0},0,0,0,0,""]
[245,null,{"v":2969,"d":"29-69"},"Платени лихви по активирани гаранции по заеми от международни организации и институции",0,0,0,0,0,0,""]
[220,null,{"v":2970,"d":"29-70"},"Платени лихви по активирани гаранции по заеми от банки и финансови институции от чужбина",null,0,{"$nulls":4},""]
[225,null,{"v":2989,"d":"29-89"},"Възстановени суми по платени лихви по активирани гаранции (-)",0,0,0,0,0,0,""]
[230,null,{"v":2990,"d":"29-90"},"Платени лихви по заеми, предоставени от централния бюджет и бюджетни организации",null,{"$f":"G1918+H1918+I1918+J1918","v":0},{"$nulls":4},""]
[235,null,{"v":2991,"d":"29-91"},"Други разходи за лихви към  местни лица",0,0,0,0,0,0,""]
[240,null,{"v":2992,"d":"29-92"},"Други разходи за лихви към чуждестранни лица",0,0,0,0,0,0,""]
[245,{"v":3300,"d":"33-00"},"Вноска в общия бюджет на Европейския съюз",null,{"$f":"SUM(E1922:E1926)","v":0},0,0,0,0,0,""]
[250,null,{"v":3301,"d":"33-01"},"ресурс на база брутен национален доход",0,{"$f":"G1922+H1922+I1922+J1922","v":0},0,0,0,0,""]
[255,null,{"v":3302,"d":"33-02"},"ресурс на база данък върху добавената стойност",0,0,0,0,0,0,""]
[265,null,{"v":3304,"d":"33-04"},"традиционни собствени ресурси - мита",0,0,0,0,0,0,""]
[270,null,{"v":3306,"d":"33-06"},"участие във финансирането на брутното намаление за Австрия, Дания, Германия, Нидерландия и Швеция",0,0,0,0,0,0,""]
[290,null,{"v":3307,"d":"33-07"},"ресурс на база нерециклираните отпадъци от опаковки от пластмаса",0,0,0,0,0,0,""]
[320,{"v":3900,"d":"39-00"},"Здравно-осигурителни плащания",null,null,0,{"$nulls":4},{"$f":"(IF($E1927<>0,$K$2,IF($F1927<>0,$K$2,IF($G1927<>0,$K$2,IF($H1927<>0,$K$2,IF($I1927<>0,$K$2,IF($J1927<>0,$K$2,\"\")))))))","v":""}]
[330,{"v":4000,"d":"40-00"},"Стипендии",null,0,0,0,0,0,0,""]
[350,{"v":4100,"d":"41-00"},"Пенсии",null,null,0,{"$nulls":4},""]
[355,{"v":4200,"d":"42-00"},"Текущи трансфери, обезщетения и помощи за домакинствата",null,{"$f":"SUM(E1931:E1936)","v":0},0,0,0,0,0,""]
[375,null,{"v":4201,"d":"42-01"},"обезщетения и помощи по социалното осигуряване",0,{"$f":"G1931+H1931+I1931+J1931","v":0},0,0,0,0,""]
[375,null,{"v":4202,"d":"42-02"},"обезщетения и помощи по социалното подпомагане",0,0,0,0,0,0,""]
[380,null,{"v":4214,"d":"42-14"},"обезщетения и помощи по решение на общинския съвет",0,0,0,0,0,0,""]
[385,null,{"v":4217,"d":"42-17"},"текущи трансфери за домакинства от средства на Европейския съюз",0,0,0,0,0,0,""]
[390,null,{"v":4218,"d":"42-18"},"текущи трансфери за домакинства по други международни програми и споразумения",0,0,0,0,0,0,""]
[390,null,{"v":4219,"d":"42-19"},"други текущи трансфери за домакинствата",0,0,0,0,0,0,""]
[395,{"v":4300,"d":"43-00"},"Субсидии и други текущи трансфери за нефинансови предприятия ",null,{"$f":"SUM(E1938:E1940)","v":0},0,0,0,0,0,""]
[397,null,{"v":4301,"d":"43-01"},"за текуща дейност",0,{"$f":"G1938+H1938+I1938+J1938","v":0},0,0,0,0,""]
[398,null,{"v":4302,"d":"43-02"},"за осъществяване на болнична помощ ",0,0,0,0,0,0,""]
[399,null,{"v":4309,"d":"43-09"},"други субсидии и плащания",0,0,0,0,0,0,""]
[400,{"v":4400,"d":"44-00"},"Субсидии и други текущи трансфери за финансови институции",null,null,0,{"$nulls":4},""]
[401,{"v":4500,"d":"45-00"},"Субсидии и други текущи трансфери за юридически лица с нестопанска цел",null,null,0,{"$nulls":4},""]
[404,{"v":4600,"d":"46-00"},"Разходи за членски внос и участие в нетърговски организации и дейности",null,null,0,{"$nulls":4},""]
[404,{"v":4900,"d":"49-00"},"Предоставени текущи и капиталови трансфери за чужбина",null,{"$f":"+E1945+E1946","v":0},0,0,0,0,0,""]
[440,null,{"v":4901,"d":"49-01"},"текущи трансфери за чужбина",0,{"$f":"G1945+H1945+I1945+J1945","v":0},0,0,0,0,""]
[450,null,{"v":4902,"d":"49-02"},"капиталови трансфери за чужбина",0,{"$f":"G1946+H1946+I1946+J1946","v":0},0,0,0,0,""]
[495,{"v":5100,"d":"51-00"},"Основен ремонт на дълготрайни материални активи",null,0,{"$f":"G1947+H1947+I1947+J1947","v":0},0,0,0,0,""]
[500,{"v":5200,"d":"52-00"},"Придобиване на дълготрайни материални активи",null,{"$f":"SUM(E1949:E1955)","v":0},0,0,0,0,0,""]
[505,null,{"v":5201,"d":"52-01"},"придобиване на компютри и хардуер",0,{"$f":"G1949+H1949+I1949+J1949","v":0},0,0,0,0,""]
[510,null,{"v":5202,"d":"52-02"},"придобиване на сгради",0,0,0,0,0,0,""]
[515,null,{"v":5203,"d":"52-03"},"придобиване на друго оборудване, машини и съоръжения",0,0,0,0,0,0,""]
[520,null,{"v":5204,"d":"52-04"},"придобиване на транспортни средства",0,0,0,0,0,0,""]
[525,null,{"v":5205,"d":"52-05"},"придобиване на стопански инвентар",0,0,0,0,0,0,""]
[635,null,{"v":5206,"d":"52-06"},"изграждане на инфраструктурни обекти",0,0,0,0,0,0,""]
[640,null,{"v":5219,"d":"52-19"},"придобиване на други ДМА",0,0,0,0,0,0,""]
[645,{"v":5300,"d":"53-00"},"Придобиване на нематериални дълготрайни активи",null,{"$f":"SUM(E1957:E1958)","v":0},0,0,0,0,0,""]
[650,null,{"v":5301,"d":"53-01"},"придобиване на програмни продукти и лицензи за програмни продукти",0,{"$f":"G1957+H1957+I1957+J1957","v":0},0,0,0,0,""]
[655,null,{"v":5309,"d":"53-09"},"придобиване на други нематериални дълготрайни активи",0,{"$f":"G1958+H1958+I1958+J1958","v":0},0,0,0,0,""]
[665,{"v":5400,"d":"54-00"},"Придобиване на земя",null,null,{"$f":"G1959+H1959+I1959+J1959","v":0},{"$nulls":4},""]
[675,{"v":5500,"d":"55-00"},"Капиталови трансфери",null,{"$f":"SUM(E1961:E1964)","v":0},0,0,0,0,0,""]
[685,null,{"v":5501,"d":"55-01"},"капиталови трансфери за нефинансови предприятия",0,{"$f":"G1961+H1961+I1961+J1961","v":0},0,0,0,0,""]
[690,null,{"v":5502,"d":"55-02"},"капиталови трансфери за финансови институции",0,{"$f":"G1962+H1962+I1962+J1962","v":0},0,0,0,0,""]
[695,null,{"v":5503,"d":"55-03"},"капиталови трансфери за организации с нестопанска цел",0,{"$f":"G1963+H1963+I1963+J1963","v":0},0,0,0,0,""]
[700,null,{"v":5504,"d":"55-04"},"капиталови трансфери за домакинствата",0,{"$f":"G1964+H1964+I1964+J1964","v":0},0,0,0,0,""]
[710,{"v":5700,"d":"57-00"},"Прираст на държавния резерв и изкупуване на земеделска продукция (включва и § 40-71)",null,{"$f":"SUM(E1966:E1968)","v":0},0,0,0,0,0,""]
[715,null,{"v":5701,"d":"57-01"},"плащания за попълване на държавния резерв",0,{"$f":"G1966+H1966+I1966+J1966","v":0},0,0,0,0,""]
[720,null,{"v":5702,"d":"57-02"},"плащания за изкупуване на земеделска продукция",0,{"$f":"G1967+H1967+I1967+J1967","v":0},0,0,0,0,""]
[725,null,{"v":4071,"d":"40-71"},"постъпления от продажба на държавния резерв (-)",0,{"$f":"G1968+H1968+I1968+J1968","v":0},0,0,0,0,""]
[730,{"$nulls":9},""]
[735,{"v":98,"d":"00-98"},"Резерв за непредвидени и неотложни разходи",null,null,{"$f":"G1970+H1970+I1970+J1970","v":0},0,0,0,0,""]
[740,{"$nulls":9},""]
[745,{"$nulls":9},""]
[750,{"$nulls":9},""]
[755,null,"99-99",{"$f":"+B1974","v":{"v":0,"d":"II. ОБЩО РАЗХОДИ ЗА ДЕЙНОСТ 0000"}},{"$f":"SUM(E1859,E1862,E1868,E1876,E1877,E1895,E1899,E1905,E1908,E1909,E1910,E1911,E1912,E1921,E1927,E1928,E1929,E1930,E1937,E1941,E1942,E1943,E1944,E1947,E1948,E1956,E1959,E1960,E1965)+E1970","v":0},0,0,0,0,0,"",{"$f":"LEFT(C1856,1)","v":"4"}]
[760,{"$nulls":9},{"$f":"K1974","v":""}]
[765,{"$nulls":9},{"$f":"K1974","v":""}]
[775,{"$nulls":9},{"$f":"(IF(SUM(K1988:K2009)<>0,$K$2,\"\"))","v":""}]
[780,{"$f":"$B$7","v":"ОТЧЕТНИ ДАННИ ПО ЕБК ЗА ИЗПЪЛНЕНИЕТО НА БЮДЖЕТА"},{"$nulls":8},{"$f":"(IF(SUM(K1988:K2009)<>0,$K$2,\"\"))","v":""}]
[785,{"$nulls":3},"за периода от ","до",{"$nulls":4},{"$f":"(IF(SUM(K1988:K2009)<>0,$K$2,\"\"))","v":""}]
[790,{"$f":"$B$9","v":"РЕГИОНАЛНА ЗДРАВНА ИНСПЕКЦИЯ-БУРГАС"},null,null,{"$f":"$E$9","v":"2021-01-01"},{"$f":"$F$9","v":"2021-12-31"},{"$nulls":4},{"$f":"(IF(SUM(K1988:K2009)<>0,$K$2,\"\"))","v":""}]
[795,{"$f":"$B$10","v":"                                                            (наименование на разпоредителя с бюджет)"},{"$nulls":8},{"$f":"(IF(SUM(K1988:K2009)<>0,$K$2,\"\"))","v":""}]
[805,{"$nulls":9},{"$f":"(IF(SUM(K1988:K2009)<>0,$K$2,\"\"))","v":""}]
[810,{"$f":"$B$12","v":{"$error":"#N/A"}},null,null,"       код по ЕБК:",{"$f":"$F$12","v":"0"},{"$nulls":4},{"$f":"(IF(SUM(K1988:K2009)<>0,$K$2,\"\"))","v":""}]
[815,{"$f":"$B$13","v":"                                             (наименование на първостепенния разпоредител с бюджет)"},{"$nulls":8},{"$f":"(IF(SUM(K1988:K2009)<>0,$K$2,\"\"))","v":""}]
[525,null,null,"               ФИНАНСОВО-ПРАВНА ФОРМА",{"$f":"$E$15","v":0},{"$f":"$F$15","v":"БЮДЖЕТ"},{"$nulls":4},{"$f":"(IF(SUM(K1988:K2009)<>0,$K$2,\"\"))","v":""}]
[820,null,null,"Натурални и други показатели за дейността",null,"(в лева)",{"$nulls":4},{"$f":"(IF(SUM(K1988:K2009)<>0,$K$2,\"\"))","v":""}]
[821,"МЯРКА","Код 9 8","  О б щ и   н а т у р а л н и   п о к а з а т е л и","    П л а н","    О т ч е т ",{"$nulls":4},{"$f":"(IF(SUM(K1988:K2009)<>0,$K$2,\"\"))","v":""}]
[822,null," 9 8 0 1","Щ а т н и   б р о й к и",{"$f":"E1989+E1990","v":0},{"$f":"F1989+F1990","v":0},{"$nulls":4},{"$f":"(IF($E1988<>0,$K$2,IF($F1988<>0,$K$2,\"\")))","v":""}]
[823,null," 9 8 1 1","в т.ч.: по трудови правоотношения",0,0,{"$nulls":4},""]
[825,null," 9 8 1 2","           по служебни правоотношения",0,0,{"$nulls":4},""]
[null,null," 9 8 0 2","Средногодишни щатни бройки",{"$f":"E1992+E1993","v":0},{"$f":"F1992+F1993","v":0},{"$nulls":4},""]
[null,null," 9 8 2 1","в т.ч.: по трудови правоотношения",0,0,{"$nulls":4},""]
[null,null," 9 8 2 2","         по служебни правоотношения",0,0,{"$nulls":4},""]
[null,null," 9 8 0 3","Средна годишна брутна заплата",0,0,{"$nulls":4},""]
[null,null," 9 8 3 1"," в т.ч.:   по трудови правоотношения",0,0,{"$nulls":4},""]
[null,null," 9 8 3 2","            по служебни правоотношения",0,0,{"$nulls":4},""]
[null,null," 9 8 0 4","Брой на моторни превозни средства",0,0,{"$nulls":4},""]
[null,null,"9 8 0 5","- в т.ч. - леки автомобили",0,0,{"$nulls":4},""]
[null,null,"9 8 0 6","             - санитарни линейки",0,0,{"$nulls":4},""]
[null,null," 9 8 0 7","Брой ученици, финансирани по единни разходни стандарти",0,0,{"$nulls":4},""]
[null,null," 9 8 0 8","Средна годишна брутна заплата на делегирани бюджети",0,0,{"$nulls":4},""]
[null,null," 9 8 0 9","Щатни бройки на делегирани бюджети",0,0,{"$nulls":4},""]
[null,null," 9 8 1 0","Средногодишни щатни бройки на делегирани бюджети",0,0,{"$nulls":4},""]
[null,null,"9 8 1 3","Средногодишен приравнен брой учащи във ВУ, финансирани по норматив за издръжка на обучението",0,0,{"$nulls":4},""]
[null,null,"9 8 1 4","Брой леглодни в студентски общежития",0,0,{"$nulls":4},""]
[905,null,"9 8 1 5","Брой хранодни в студентски стол",0,0,{"$nulls":4},""]
[906,null,"9 8 1 7","Болнични легла",0,0,{"$nulls":4},""]
[907,null,"9 8 1 8","Обем радиопрограма /часове/",0,0,{"$nulls":4},""]
[910,null,"9 8 1 9","Обем телевизионна програма /часове/",0,0,{"$nulls":4},""]
[911,"МЯРКА","Код  ","Разходи в областта на електронното управление и за използваните информационни и комуникационни технологии","    П л а н","    О т ч е т ",{"$nulls":4},{"$f":"(IF($E2011<>0,$K$2,IF($F2011<>0,$K$2,\"\")))","v":""}]
[null,null,"9 8 5 0","Общо разходи в областта на ЕУ и за използваните ИКТ",{"$f":"E2012+E2013","v":0},{"$f":"F2012+F2013","v":0},{"$nulls":4},""]
[null,null,"9 8 5 1","Текущи разходи в областта на ЕУ и за използваните ИКТ",0,0,{"$nulls":4},""]
[null,null,"9 8 5 2","Капиталови разходи в областта на ЕУ и за използваните ИКТ",0,0,{"$nulls":4},""]
[null,"ЗАБЕЛЕЖКА:",{"$nulls":8},{"$f":"K1974","v":""}]
[null," За натурални показатели, не влючени в този отчет, специфични за конкретна дейност се представят отделни справки, допълнително определени от Министерство на финансите.",{"$nulls":8},{"$f":"K1974","v":""}]
[]
[{"$nulls":10},{"$f":"(IF($E2150<>0,$K$2,IF($F2150<>0,$K$2,IF($G2150<>0,$K$2,IF($H2150<>0,$K$2,IF($I2150<>0,$K$2,IF($J2150<>0,$K$2,\"\")))))))","v":""}]
[{"$nulls":10},{"$f":"(IF($E2150<>0,$K$2,IF($F2150<>0,$K$2,IF($G2150<>0,$K$2,IF($H2150<>0,$K$2,IF($I2150<>0,$K$2,IF($J2150<>0,$K$2,\"\")))))))","v":""}]
[null,{"$f":"$B$7","v":"ОТЧЕТНИ ДАННИ ПО ЕБК ЗА ИЗПЪЛНЕНИЕТО НА БЮДЖЕТА"},{"$nulls":8},{"$f":"(IF($E2150<>0,$K$2,IF($F2150<>0,$K$2,IF($G2150<>0,$K$2,IF($H2150<>0,$K$2,IF($I2150<>0,$K$2,IF($J2150<>0,$K$2,\"\")))))))","v":""}]
[{"$nulls":4},"за периода от ","до",null,"                 II.1. РАЗХОДИ ПО ДЕЙНОСТИ",null,null,{"$f":"(IF($E2150<>0,$K$2,IF($F2150<>0,$K$2,IF($G2150<>0,$K$2,IF($H2150<>0,$K$2,IF($I2150<>0,$K$2,IF($J2150<>0,$K$2,\"\")))))))","v":""}]
[null,{"$f":"$B$9","v":"РЕГИОНАЛНА ЗДРАВНА ИНСПЕКЦИЯ-БУРГАС"},null,null,{"$f":"$E$9","v":"2021-01-01"},{"$f":"$F$9","v":"2021-12-31"},{"$nulls":4},{"$f":"(IF($E2150<>0,$K$2,IF($F2150<>0,$K$2,IF($G2150<>0,$K$2,IF($H2150<>0,$K$2,IF($I2150<>0,$K$2,IF($J2150<>0,$K$2,\"\")))))))","v":""}]
[null,{"$f":"$B$10","v":"                                                            (наименование на разпоредителя с бюджет)"},{"$nulls":8},{"$f":"(IF($E2150<>0,$K$2,IF($F2150<>0,$K$2,IF($G2150<>0,$K$2,IF($H2150<>0,$K$2,IF($I2150<>0,$K$2,IF($J2150<>0,$K$2,\"\")))))))","v":""}]
[{"$nulls":10},{"$f":"(IF($E2150<>0,$K$2,IF($F2150<>0,$K$2,IF($G2150<>0,$K$2,IF($H2150<>0,$K$2,IF($I2150<>0,$K$2,IF($J2150<>0,$K$2,\"\")))))))","v":""}]
[null,{"$f":"$B$12","v":{"$error":"#N/A"}},null,null,"       код по ЕБК:",{"$f":"$F$12","v":"0"},{"$nulls":4},{"$f":"(IF($E2150<>0,$K$2,IF($F2150<>0,$K$2,IF($G2150<>0,$K$2,IF($H2150<>0,$K$2,IF($I2150<>0,$K$2,IF($J2150<>0,$K$2,\"\")))))))","v":""}]
[null,{"$f":"$B$13","v":"                                             (наименование на първостепенния разпоредител с бюджет)"},{"$nulls":8},{"$f":"(IF($E2150<>0,$K$2,IF($F2150<>0,$K$2,IF($G2150<>0,$K$2,IF($H2150<>0,$K$2,IF($I2150<>0,$K$2,IF($J2150<>0,$K$2,\"\")))))))","v":""}]
[{"$nulls":3},"ФИНАНСОВО-ПРАВНА ФОРМА",{"$f":"$E$15","v":0},{"$f":"$F$15","v":"БЮДЖЕТ"},{"$nulls":4},{"$f":"(IF($E2150<>0,$K$2,IF($F2150<>0,$K$2,IF($G2150<>0,$K$2,IF($H2150<>0,$K$2,IF($I2150<>0,$K$2,IF($J2150<>0,$K$2,\"\")))))))","v":""}]
[{"$nulls":9},"(в лева)",{"$f":"(IF($E2150<>0,$K$2,IF($F2150<>0,$K$2,IF($G2150<>0,$K$2,IF($H2150<>0,$K$2,IF($I2150<>0,$K$2,IF($J2150<>0,$K$2,\"\")))))))","v":""}]
[{"$nulls":3},"II.1. РАЗХОДИ ПО ДЕЙНОСТИ","Уточнен план","                                                                                                                              О Т Ч Е Т Н И   Д А Н Н И",{"$nulls":4},{"$f":"(IF($E2150<>0,$K$2,IF($F2150<>0,$K$2,IF($G2150<>0,$K$2,IF($H2150<>0,$K$2,IF($I2150<>0,$K$2,IF($J2150<>0,$K$2,\"\")))))))","v":""}]
[null,"§§","под-§§","НАИМЕНОВАНИЯ НА ПАРАГРАФИТЕ И ПОДПАРАГРАФИТЕ",{"$f":"$C$3","v":2021},"ОБЩО","левови\n сметки и СЕБРА ","валутни \nсметки ","операции в брой (в левове и валута)","операции приравнени на касов поток",{"$f":"(IF($E2150<>0,$K$2,IF($F2150<>0,$K$2,IF($G2150<>0,$K$2,IF($H2150<>0,$K$2,IF($I2150<>0,$K$2,IF($J2150<>0,$K$2,\"\")))))))","v":""}]
[{"$nulls":3}," 02 ¦","(1)","(2)","(3)","(4)","(5)","(6)",{"$f":"(IF($E2150<>0,$K$2,IF($F2150<>0,$K$2,IF($G2150<>0,$K$2,IF($H2150<>0,$K$2,IF($I2150<>0,$K$2,IF($J2150<>0,$K$2,\"\")))))))","v":""}]
[null,null,0,"ИЗБЕРЕТЕ ОПЕРАТИВНА ПРОГРАМА ",{"$nulls":6},{"$f":"(IF($E2150<>0,$K$2,IF($F2150<>0,$K$2,IF($G2150<>0,$K$2,IF($H2150<>0,$K$2,IF($I2150<>0,$K$2,IF($J2150<>0,$K$2,\"\")))))))","v":""}]
[null,null,{"$f":"VLOOKUP(D2033,EBK_DEIN2,2,FALSE)","v":4429},"<------          ДЕЙНОСТ    -  код  по  ЕБК",{"$nulls":6},{"$f":"(IF($E2150<>0,$K$2,IF($F2150<>0,$K$2,IF($G2150<>0,$K$2,IF($H2150<>0,$K$2,IF($I2150<>0,$K$2,IF($J2150<>0,$K$2,\"\")))))))","v":""}]
[null,null,{"$f":"+C2032","v":4429},"429 Центрове за спешна медицинска помощ",{"$nulls":6},{"$f":"(IF($E2150<>0,$K$2,IF($F2150<>0,$K$2,IF($G2150<>0,$K$2,IF($H2150<>0,$K$2,IF($I2150<>0,$K$2,IF($J2150<>0,$K$2,\"\")))))))","v":""}]
[{"$nulls":3},"(наименование на дейността)",{"$nulls":6},{"$f":"(IF($E2150<>0,$K$2,IF($F2150<>0,$K$2,IF($G2150<>0,$K$2,IF($H2150<>0,$K$2,IF($I2150<>0,$K$2,IF($J2150<>0,$K$2,\"\")))))))","v":""}]
[null,{"v":100,"d":"01-00"},"Заплати и възнаграждения за персонала, нает по трудови и служебни правоотношения",null,{"$f":"SUM(E2036:E2037)","v":0},0,0,0,0,0,{"$f":"(IF($E2035<>0,$K$2,IF($F2035<>0,$K$2,IF($G2035<>0,$K$2,IF($H2035<>0,$K$2,IF($I2035<>0,$K$2,IF($J2035<>0,$K$2,\"\")))))))","v":""}]
[null,null,{"v":101,"d":"01-01"},"заплати и възнаграждения на персонала нает по трудови правоотношения",0,{"$f":"G2036+H2036+I2036+J2036","v":0},0,0,0,0,{"$f":"(IF($E2036<>0,$K$2,IF($F2036<>0,$K$2,IF($G2036<>0,$K$2,IF($H2036<>0,$K$2,IF($I2036<>0,$K$2,IF($J2036<>0,$K$2,\"\")))))))","v":""}]
[null,null,{"v":102,"d":"01-02"},"заплати и възнаграждения на персонала нает по служебни правоотношения",0,{"$f":"G2037+H2037+I2037+J2037","v":0},0,0,0,0,""]
[null,{"v":200,"d":"02-00"},"Други възнаграждения и плащания за персонала",null,{"$f":"SUM(E2039:E2043)","v":0},0,0,0,0,0,""]
[null,null,{"v":201,"d":"02-01"},"за нещатен персонал нает по трудови правоотношения ",0,{"$f":"G2039+H2039+I2039+J2039","v":0},0,0,0,0,""]
[null,null,{"v":202,"d":"02-02"},"за персонала по извънтрудови правоотношения",0,{"$f":"G2040+H2040+I2040+J2040","v":0},0,0,0,0,""]
[null,null,{"v":205,"d":"02-05"},"изплатени суми от СБКО за облекло и други на персонала, с характер на възнаграждение",0,{"$f":"G2041+H2041+I2041+J2041","v":0},0,0,0,0,""]
[null,null,{"v":208,"d":"02-08"},"обезщетения за персонала, с характер на възнаграждение",0,{"$f":"G2042+H2042+I2042+J2042","v":0},0,0,0,0,""]
[null,null,{"v":209,"d":"02-09"},"другиплащания и възнаграждения",0,{"$f":"G2043+H2043+I2043+J2043","v":0},0,0,0,0,""]
[null,{"v":500,"d":"05-00"},"Задължителни осигурителни вноски от работодатели",null,{"$f":"SUM(E2045:E2051)","v":0},0,0,0,0,0,""]
[null,null,{"v":551,"d":"05-51"},"осигурителни вноски от работодатели за Държавното обществено осигуряване (ДОО)",0,{"$f":"G2045+H2045+I2045+J2045","v":0},0,0,0,0,""]
[null,null,{"$f":"C2045+1","v":{"v":552,"d":"05-52"}},"осигурителни вноски от работодатели за Учителския пенсионен фонд (УПФ)",0,0,0,0,0,0,""]
[null,null,{"v":558,"d":"05-58"},"вноски по чл. 4б и 4в от КСО за сметка на осигурителя",null,{"$f":"G2047+H2047+I2047+J2047","v":0},0,0,0,0,""]
[null,null,{"v":560,"d":"05-60"},"здравно-осигурителни вноски от работодатели",0,0,0,0,0,0,""]
[null,null,{"v":580,"d":"05-80"},"вноски за допълнително задължително осигуряване от работодатели",0,0,0,0,0,0,""]
[null,null,{"v":588,"d":"05-88"},"коректив на вноски за ДЗПО за сумите по чл. 4б и 4в от КСО за сметка на осигурителя",null,{"$f":"G2050+H2050+I2050+J2050","v":0},0,0,0,0,""]
[null,null,{"v":590,"d":"05-90"},"задължителни вноски за чуждестранни пенсионни фондове и  схеми за сметка на осигурителя",0,0,0,0,0,0,""]
[5,{"v":800,"d":"08-00"},"Вноски за доброволно осигуряване ",null,null,0,{"$nulls":4},""]
[10,{"v":1000,"d":"10-00"},"Издръжка",null,{"$f":"SUM(E2054:E2070)","v":0},0,0,0,0,0,""]
[15,null,{"v":1011,"d":"10-11"},"Храна",0,{"$f":"G2054+H2054+I2054+J2054","v":0},0,0,0,0,""]
[35,null,{"v":1012,"d":"10-12"},"Медикаменти",0,0,0,0,0,0,""]
[40,null,{"v":1013,"d":"10-13"},"Постелен инвентар и облекло",0,0,0,0,0,0,""]
[45,null,{"v":1014,"d":"10-14"},"Учебни и научно-изследователски разходи и книги за библиотеките",0,0,0,0,0,0,""]
[50,null,{"v":1015,"d":"10-15"},"материали",0,0,0,0,0,0,""]
[55,null,{"v":1016,"d":"10-16"},"вода, горива и енергия",0,0,0,0,0,0,""]
[60,null,{"v":1020,"d":"10-20"},"разходи за външни услуги",0,0,0,0,0,0,""]
[65,null,{"v":1030,"d":"10-30"},"Текущ ремонт",0,0,0,0,0,0,""]
[70,null,{"v":1051,"d":"10-51"},"командировки в страната",0,0,0,0,0,0,""]
[75,null,{"v":1052,"d":"10-52"},"краткосрочни командировки в чужбина",0,0,0,0,0,0,""]
[80,null,{"v":1053,"d":"10-53"},"дългосрочни командировки в чужбина",0,0,0,0,0,0,""]
[80,null,{"v":1062,"d":"10-62"},"разходи за застраховки",0,0,0,0,0,0,""]
[85,null,{"v":1063,"d":"10-63"},"такса ангажимент по заеми",0,0,0,0,0,0,""]
[90,null,{"v":1069,"d":"10-69"},"други финансови услуги",0,0,0,0,0,0,""]
[90,null,{"v":1091,"d":"10-91"},"други разходи за СБКО",0,0,0,0,0,0,""]
[115,null,{"v":1092,"d":"10-92"},"разходи за договорни санкции и неустойки, съдебни обезщетения и разноски",0,0,0,0,0,0,""]
[125,null,{"v":1098,"d":"10-98"},"други разходи, некласифицирани в другите параграфи и подпараграфи",0,0,0,0,0,0,""]
[130,{"v":1900,"d":"19-00"},"Платени данъци, такси и административни санкции",null,{"$f":"SUM(E2072:E2074)","v":0},0,0,0,0,0,""]
[135,null,{"v":1901,"d":"19-01"},"платени държавни данъци, такси, наказателни лихви и административни санкции",0,{"$f":"G2072+H2072+I2072+J2072","v":0},0,0,0,0,""]
[140,null,{"v":1981,"d":"19-81"},"платени общински данъци, такси, наказателни лихви и административни санкции",0,{"$f":"G2073+H2073+I2073+J2073","v":0},0,0,0,0,""]
[145,null,{"v":1991,"d":"19-91"},"платени данъци, такси, наказателни лихви и административни санкции в чужбина",0,{"$f":"G2074+H2074+I2074+J2074","v":0},0,0,0,0,""]
[150,{"v":2100,"d":"21-00"},"Разходи за лихви по емисии на държавни (общински) ценни книжа",null,{"$f":"SUM(E2076:E2080)","v":0},0,0,0,0,0,""]
[155,null,{"v":2110,"d":"21-10"},"лихви по държавни (общински) ценни книжа",0,{"$f":"G2076+H2076+I2076+J2076","v":0},0,0,0,0,""]
[160,null,{"v":2120,"d":"21-20"},"отстъпки по държавни (общински) ценни книжа",0,{"$f":"G2077+H2077+I2077+J2077","v":0},0,0,0,0,""]
[165,null,{"v":2125,"d":"21-25"},"лихви и отстъпки по целеви емисии на държавни ценни книжа",0,{"$f":"G2078+H2078+I2078+J2078","v":0},0,0,0,0,""]
[175,null,{"v":2140,"d":"21-40"},"лихви по държавни ценни книжа, емитирани за структурната реформа ",0,{"$f":"G2079+H2079+I2079+J2079","v":0},0,0,0,0,""]
[180,null,{"v":2190,"d":"21-90"},"премии над номинала от емисии на държавни (общински) ценни книжа (-)",0,{"$f":"G2080+H2080+I2080+J2080","v":0},0,0,0,0,""]
[185,{"v":2200,"d":"22-00"},"Разходи за лихви по заеми от страната",null,{"$f":"SUM(E2082:E2083)","v":0},0,0,0,0,0,""]
[190,null,{"v":2221,"d":"22-21"},"Разходи за лихви по заеми от банки в страната",0,{"$f":"G2082+H2082+I2082+J2082","v":0},0,0,0,0,""]
[200,null,{"v":2224,"d":"22-24"},"Разходи за лихви по други заеми от страната",0,0,0,0,0,0,""]
[200,{"v":2500,"d":"25-00"},"Разходи за лихви по заеми от други държави",null,null,0,{"$nulls":4},""]
[205,{"v":2600,"d":"26-00"},"Разходи за лихви по заеми от международни организации и институции",null,null,0,{"$nulls":4},""]
[210,{"v":2700,"d":"27-00"},"Разходи за лихви по заеми от банки и други финансови институции от чужбина",null,null,0,{"$nulls":4},""]
[215,{"v":2800,"d":"28-00"},"Разходи за лихви и отстъпки по облигации, емитирани и търгувани на международните капиталови пазари",null,null,0,{"$nulls":4},""]
[220,{"v":2900,"d":"29-00"},"Други разходи за лихви",null,{"$f":"SUM(E2089:E2096)","v":0},0,0,0,0,0,""]
[225,null,{"v":2910,"d":"29-10"},"Платени лихви по финансов лизинг и търговски кредит",null,{"$f":"G2089+H2089+I2089+J2089","v":0},{"$nulls":4},""]
[230,null,{"v":2920,"d":"29-20"},"Платени лихви по активирани гаранции по заеми от  банки в страната",0,{"$f":"G2090+H2090+I2090+J2090","v":0},0,0,0,0,""]
[245,null,{"v":2969,"d":"29-69"},"Платени лихви по активирани гаранции по заеми от международни организации и институции",0,0,0,0,0,0,""]
[220,null,{"v":2970,"d":"29-70"},"Платени лихви по активирани гаранции по заеми от банки и финансови институции от чужбина",null,0,{"$nulls":4},""]
[225,null,{"v":2989,"d":"29-89"},"Възстановени суми по платени лихви по активирани гаранции (-)",0,0,0,0,0,0,""]
[230,null,{"v":2990,"d":"29-90"},"Платени лихви по заеми, предоставени от централния бюджет и бюджетни организации",null,{"$f":"G2094+H2094+I2094+J2094","v":0},{"$nulls":4},""]
[235,null,{"v":2991,"d":"29-91"},"Други разходи за лихви към  местни лица",0,0,0,0,0,0,""]
[240,null,{"v":2992,"d":"29-92"},"Други разходи за лихви към чуждестранни лица",0,0,0,0,0,0,""]
[245,{"v":3300,"d":"33-00"},"Вноска в общия бюджет на Европейския съюз",null,{"$f":"SUM(E2098:E2102)","v":0},0,0,0,0,0,""]
[250,null,{"v":3301,"d":"33-01"},"ресурс на база брутен национален доход",0,{"$f":"G2098+H2098+I2098+J2098","v":0},0,0,0,0,""]
[255,null,{"v":3302,"d":"33-02"},"ресурс на база данък върху добавената стойност",0,0,0,0,0,0,""]
[265,null,{"v":3304,"d":"33-04"},"традиционни собствени ресурси - мита",0,0,0,0,0,0,""]
[270,null,{"v":3306,"d":"33-06"},"участие във финансирането на брутното намаление за Австрия, Дания, Германия, Нидерландия и Швеция",0,0,0,0,0,0,""]
[290,null,{"v":3307,"d":"33-07"},"ресурс на база нерециклираните отпадъци от опаковки от пластмаса",0,0,0,0,0,0,""]
[320,{"v":3900,"d":"39-00"},"Здравно-осигурителни плащания",null,null,0,{"$nulls":4},{"$f":"(IF($E2103<>0,$K$2,IF($F2103<>0,$K$2,IF($G2103<>0,$K$2,IF($H2103<>0,$K$2,IF($I2103<>0,$K$2,IF($J2103<>0,$K$2,\"\")))))))","v":""}]
[330,{"v":4000,"d":"40-00"},"Стипендии",null,0,0,0,0,0,0,""]
[350,{"v":4100,"d":"41-00"},"Пенсии",null,null,0,{"$nulls":4},""]
[355,{"v":4200,"d":"42-00"},"Текущи трансфери, обезщетения и помощи за домакинствата",null,{"$f":"SUM(E2107:E2112)","v":0},0,0,0,0,0,""]
[375,null,{"v":4201,"d":"42-01"},"обезщетения и помощи по социалното осигуряване",0,{"$f":"G2107+H2107+I2107+J2107","v":0},0,0,0,0,""]
[375,null,{"v":4202,"d":"42-02"},"обезщетения и помощи по социалното подпомагане",0,0,0,0,0,0,""]
[380,null,{"v":4214,"d":"42-14"},"обезщетения и помощи по решение на общинския съвет",0,0,0,0,0,0,""]
[385,null,{"v":4217,"d":"42-17"},"текущи трансфери за домакинства от средства на Европейския съюз",0,0,0,0,0,0,""]
[390,null,{"v":4218,"d":"42-18"},"текущи трансфери за домакинства по други международни програми и споразумения",0,0,0,0,0,0,""]
[390,null,{"v":4219,"d":"42-19"},"други текущи трансфери за домакинствата",0,0,0,0,0,0,""]
[395,{"v":4300,"d":"43-00"},"Субсидии и други текущи трансфери за нефинансови предприятия ",null,{"$f":"SUM(E2114:E2116)","v":0},0,0,0,0,0,""]
[397,null,{"v":4301,"d":"43-01"},"за текуща дейност",0,{"$f":"G2114+H2114+I2114+J2114","v":0},0,0,0,0,""]
[398,null,{"v":4302,"d":"43-02"},"за осъществяване на болнична помощ ",0,0,0,0,0,0,""]
[399,null,{"v":4309,"d":"43-09"},"други субсидии и плащания",0,0,0,0,0,0,""]
[400,{"v":4400,"d":"44-00"},"Субсидии и други текущи трансфери за финансови институции",null,null,0,{"$nulls":4},""]
[401,{"v":4500,"d":"45-00"},"Субсидии и други текущи трансфери за юридически лица с нестопанска цел",null,null,0,{"$nulls":4},""]
[404,{"v":4600,"d":"46-00"},"Разходи за членски внос и участие в нетърговски организации и дейности",null,null,0,{"$nulls":4},""]
[404,{"v":4900,"d":"49-00"},"Предоставени текущи и капиталови трансфери за чужбина",null,{"$f":"+E2121+E2122","v":0},0,0,0,0,0,""]
[440,null,{"v":4901,"d":"49-01"},"текущи трансфери за чужбина",0,{"$f":"G2121+H2121+I2121+J2121","v":0},0,0,0,0,""]
[450,null,{"v":4902,"d":"49-02"},"капиталови трансфери за чужбина",0,{"$f":"G2122+H2122+I2122+J2122","v":0},0,0,0,0,""]
[495,{"v":5100,"d":"51-00"},"Основен ремонт на дълготрайни материални активи",null,0,{"$f":"G2123+H2123+I2123+J2123","v":0},0,0,0,0,""]
[500,{"v":5200,"d":"52-00"},"Придобиване на дълготрайни материални активи",null,{"$f":"SUM(E2125:E2131)","v":0},0,0,0,0,0,""]
[505,null,{"v":5201,"d":"52-01"},"придобиване на компютри и хардуер",0,{"$f":"G2125+H2125+I2125+J2125","v":0},0,0,0,0,""]
[510,null,{"v":5202,"d":"52-02"},"придобиване на сгради",0,0,0,0,0,0,""]
[515,null,{"v":5203,"d":"52-03"},"придобиване на друго оборудване, машини и съоръжения",0,0,0,0,0,0,""]
[520,null,{"v":5204,"d":"52-04"},"придобиване на транспортни средства",0,0,0,0,0,0,""]
[525,null,{"v":5205,"d":"52-05"},"придобиване на стопански инвентар",0,0,0,0,0,0,""]
[635,null,{"v":5206,"d":"52-06"},"изграждане на инфраструктурни обекти",0,0,0,0,0,0,""]
[640,null,{"v":5219,"d":"52-19"},"придобиване на други ДМА",0,0,0,0,0,0,""]
[645,{"v":5300,"d":"53-00"},"Придобиване на нематериални дълготрайни активи",null,{"$f":"SUM(E2133:E2134)","v":0},0,0,0,0,0,""]
[650,null,{"v":5301,"d":"53-01"},"придобиване на програмни продукти и лицензи за програмни продукти",0,{"$f":"G2133+H2133+I2133+J2133","v":0},0,0,0,0,""]
[655,null,{"v":5309,"d":"53-09"},"придобиване на други нематериални дълготрайни активи",0,{"$f":"G2134+H2134+I2134+J2134","v":0},0,0,0,0,""]
[665,{"v":5400,"d":"54-00"},"Придобиване на земя",null,null,{"$f":"G2135+H2135+I2135+J2135","v":0},{"$nulls":4},""]
[675,{"v":5500,"d":"55-00"},"Капиталови трансфери",null,{"$f":"SUM(E2137:E2140)","v":0},0,0,0,0,0,""]
[685,null,{"v":5501,"d":"55-01"},"капиталови трансфери за нефинансови предприятия",0,{"$f":"G2137+H2137+I2137+J2137","v":0},0,0,0,0,""]
[690,null,{"v":5502,"d":"55-02"},"капиталови трансфери за финансови институции",0,{"$f":"G2138+H2138+I2138+J2138","v":0},0,0,0,0,""]
[695,null,{"v":5503,"d":"55-03"},"капиталови трансфери за организации с нестопанска цел",0,{"$f":"G2139+H2139+I2139+J2139","v":0},0,0,0,0,""]
[700,null,{"v":5504,"d":"55-04"},"капиталови трансфери за домакинствата",0,{"$f":"G2140+H2140+I2140+J2140","v":0},0,0,0,0,""]
[710,{"v":5700,"d":"57-00"},"Прираст на държавния резерв и изкупуване на земеделска продукция (включва и § 40-71)",null,{"$f":"SUM(E2142:E2144)","v":0},0,0,0,0,0,""]
[715,null,{"v":5701,"d":"57-01"},"плащания за попълване на държавния резерв",0,{"$f":"G2142+H2142+I2142+J2142","v":0},0,0,0,0,""]
[720,null,{"v":5702,"d":"57-02"},"плащания за изкупуване на земеделска продукция",0,{"$f":"G2143+H2143+I2143+J2143","v":0},0,0,0,0,""]
[725,null,{"v":4071,"d":"40-71"},"постъпления от продажба на държавния резерв (-)",0,{"$f":"G2144+H2144+I2144+J2144","v":0},0,0,0,0,""]
[730,{"$nulls":9},""]
[735,{"v":98,"d":"00-98"},"Резерв за непредвидени и неотложни разходи",null,null,{"$f":"G2146+H2146+I2146+J2146","v":0},0,0,0,0,""]
[740,{"$nulls":9},""]
[745,{"$nulls":9},""]
[750,{"$nulls":9},""]
[755,null,"99-99",{"$f":"+B2150","v":{"v":0,"d":"II. ОБЩО РАЗХОДИ ЗА ДЕЙНОСТ 0000"}},{"$f":"SUM(E2035,E2038,E2044,E2052,E2053,E2071,E2075,E2081,E2084,E2085,E2086,E2087,E2088,E2097,E2103,E2104,E2105,E2106,E2113,E2117,E2118,E2119,E2120,E2123,E2124,E2132,E2135,E2136,E2141)+E2146","v":0},0,0,0,0,0,"",{"$f":"LEFT(C2032,1)","v":"4"}]
[760,{"$nulls":9},{"$f":"K2150","v":""}]
[765,{"$nulls":9},{"$f":"K2150","v":""}]
[775,{"$nulls":9},{"$f":"(IF(SUM(K2164:K2185)<>0,$K$2,\"\"))","v":""}]
[780,{"$f":"$B$7","v":"ОТЧЕТНИ ДАННИ ПО ЕБК ЗА ИЗПЪЛНЕНИЕТО НА БЮДЖЕТА"},{"$nulls":8},{"$f":"(IF(SUM(K2164:K2185)<>0,$K$2,\"\"))","v":""}]
[785,{"$nulls":3},"за периода от ","до",{"$nulls":4},{"$f":"(IF(SUM(K2164:K2185)<>0,$K$2,\"\"))","v":""}]
[790,{"$f":"$B$9","v":"РЕГИОНАЛНА ЗДРАВНА ИНСПЕКЦИЯ-БУРГАС"},null,null,{"$f":"$E$9","v":"2021-01-01"},{"$f":"$F$9","v":"2021-12-31"},{"$nulls":4},{"$f":"(IF(SUM(K2164:K2185)<>0,$K$2,\"\"))","v":""}]
[795,{"$f":"$B$10","v":"                                                            (наименование на разпоредителя с бюджет)"},{"$nulls":8},{"$f":"(IF(SUM(K2164:K2185)<>0,$K$2,\"\"))","v":""}]
[805,{"$nulls":9},{"$f":"(IF(SUM(K2164:K2185)<>0,$K$2,\"\"))","v":""}]
[810,{"$f":"$B$12","v":{"$error":"#N/A"}},null,null,"       код по ЕБК:",{"$f":"$F$12","v":"0"},{"$nulls":4},{"$f":"(IF(SUM(K2164:K2185)<>0,$K$2,\"\"))","v":""}]
[815,{"$f":"$B$13","v":"                                             (наименование на първостепенния разпоредител с бюджет)"},{"$nulls":8},{"$f":"(IF(SUM(K2164:K2185)<>0,$K$2,\"\"))","v":""}]
[525,null,null,"               ФИНАНСОВО-ПРАВНА ФОРМА",{"$f":"$E$15","v":0},{"$f":"$F$15","v":"БЮДЖЕТ"},{"$nulls":4},{"$f":"(IF(SUM(K2164:K2185)<>0,$K$2,\"\"))","v":""}]
[820,null,null,"Натурални и други показатели за дейността",null,"(в лева)",{"$nulls":4},{"$f":"(IF(SUM(K2164:K2185)<>0,$K$2,\"\"))","v":""}]
[821,"МЯРКА","Код 9 8","  О б щ и   н а т у р а л н и   п о к а з а т е л и","    П л а н","    О т ч е т ",{"$nulls":4},{"$f":"(IF(SUM(K2164:K2185)<>0,$K$2,\"\"))","v":""}]
[822,null," 9 8 0 1","Щ а т н и   б р о й к и",{"$f":"E2165+E2166","v":0},{"$f":"F2165+F2166","v":0},{"$nulls":4},{"$f":"(IF($E2164<>0,$K$2,IF($F2164<>0,$K$2,\"\")))","v":""}]
[823,null," 9 8 1 1","в т.ч.: по трудови правоотношения",0,0,{"$nulls":4},""]
[825,null," 9 8 1 2","           по служебни правоотношения",0,0,{"$nulls":4},""]
[null,null," 9 8 0 2","Средногодишни щатни бройки",{"$f":"E2168+E2169","v":0},{"$f":"F2168+F2169","v":0},{"$nulls":4},""]
[null,null," 9 8 2 1","в т.ч.: по трудови правоотношения",0,0,{"$nulls":4},""]
[null,null," 9 8 2 2","         по служебни правоотношения",0,0,{"$nulls":4},""]
[null,null," 9 8 0 3","Средна годишна брутна заплата",0,0,{"$nulls":4},""]
[null,null," 9 8 3 1"," в т.ч.:   по трудови правоотношения",0,0,{"$nulls":4},""]
[null,null," 9 8 3 2","            по служебни правоотношения",0,0,{"$nulls":4},""]
[null,null," 9 8 0 4","Брой на моторни превозни средства",0,0,{"$nulls":4},""]
[null,null,"9 8 0 5","- в т.ч. - леки автомобили",0,0,{"$nulls":4},""]
[null,null,"9 8 0 6","             - санитарни линейки",0,0,{"$nulls":4},""]
[null,null," 9 8 0 7","Брой ученици, финансирани по единни разходни стандарти",0,0,{"$nulls":4},""]
[null,null," 9 8 0 8","Средна годишна брутна заплата на делегирани бюджети",0,0,{"$nulls":4},""]
[null,null," 9 8 0 9","Щатни бройки на делегирани бюджети",0,0,{"$nulls":4},""]
[null,null," 9 8 1 0","Средногодишни щатни бройки на делегирани бюджети",0,0,{"$nulls":4},""]
[null,null,"9 8 1 3","Средногодишен приравнен брой учащи във ВУ, финансирани по норматив за издръжка на обучението",0,0,{"$nulls":4},""]
[null,null,"9 8 1 4","Брой леглодни в студентски общежития",0,0,{"$nulls":4},""]
[905,null,"9 8 1 5","Брой хранодни в студентски стол",0,0,{"$nulls":4},""]
[906,null,"9 8 1 7","Болнични легла",0,0,{"$nulls":4},""]
[907,null,"9 8 1 8","Обем радиопрограма /часове/",0,0,{"$nulls":4},""]
[910,null,"9 8 1 9","Обем телевизионна програма /часове/",0,0,{"$nulls":4},""]
[911,"МЯРКА","Код  ","Разходи в областта на електронното управление и за използваните информационни и комуникационни технологии","    П л а н","    О т ч е т ",{"$nulls":4},{"$f":"(IF($E2187<>0,$K$2,IF($F2187<>0,$K$2,\"\")))","v":""}]
[null,null,"9 8 5 0","Общо разходи в областта на ЕУ и за използваните ИКТ",{"$f":"E2188+E2189","v":0},{"$f":"F2188+F2189","v":0},{"$nulls":4},""]
[null,null,"9 8 5 1","Текущи разходи в областта на ЕУ и за използваните ИКТ",0,0,{"$nulls":4},""]
[null,null,"9 8 5 2","Капиталови разходи в областта на ЕУ и за използваните ИКТ",0,0,{"$nulls":4},""]
[null,"ЗАБЕЛЕЖКА:",{"$nulls":8},{"$f":"K2150","v":""}]
[null," За натурални показатели, не влючени в този отчет, специфични за конкретна дейност се представят отделни справки, допълнително определени от Министерство на финансите.",{"$nulls":8},{"$f":"K2150","v":""}]
[]
[{"$nulls":10},{"$f":"(IF($E2326<>0,$K$2,IF($F2326<>0,$K$2,IF($G2326<>0,$K$2,IF($H2326<>0,$K$2,IF($I2326<>0,$K$2,IF($J2326<>0,$K$2,\"\")))))))","v":""}]
[{"$nulls":10},{"$f":"(IF($E2326<>0,$K$2,IF($F2326<>0,$K$2,IF($G2326<>0,$K$2,IF($H2326<>0,$K$2,IF($I2326<>0,$K$2,IF($J2326<>0,$K$2,\"\")))))))","v":""}]
[null,{"$f":"$B$7","v":"ОТЧЕТНИ ДАННИ ПО ЕБК ЗА ИЗПЪЛНЕНИЕТО НА БЮДЖЕТА"},{"$nulls":8},{"$f":"(IF($E2326<>0,$K$2,IF($F2326<>0,$K$2,IF($G2326<>0,$K$2,IF($H2326<>0,$K$2,IF($I2326<>0,$K$2,IF($J2326<>0,$K$2,\"\")))))))","v":""}]
[{"$nulls":4},"за периода от ","до",null,"                 II.1. РАЗХОДИ ПО ДЕЙНОСТИ",null,null,{"$f":"(IF($E2326<>0,$K$2,IF($F2326<>0,$K$2,IF($G2326<>0,$K$2,IF($H2326<>0,$K$2,IF($I2326<>0,$K$2,IF($J2326<>0,$K$2,\"\")))))))","v":""}]
[null,{"$f":"$B$9","v":"РЕГИОНАЛНА ЗДРАВНА ИНСПЕКЦИЯ-БУРГАС"},null,null,{"$f":"$E$9","v":"2021-01-01"},{"$f":"$F$9","v":"2021-12-31"},{"$nulls":4},{"$f":"(IF($E2326<>0,$K$2,IF($F2326<>0,$K$2,IF($G2326<>0,$K$2,IF($H2326<>0,$K$2,IF($I2326<>0,$K$2,IF($J2326<>0,$K$2,\"\")))))))","v":""}]
[null,{"$f":"$B$10","v":"                                                            (наименование на разпоредителя с бюджет)"},{"$nulls":8},{"$f":"(IF($E2326<>0,$K$2,IF($F2326<>0,$K$2,IF($G2326<>0,$K$2,IF($H2326<>0,$K$2,IF($I2326<>0,$K$2,IF($J2326<>0,$K$2,\"\")))))))","v":""}]
[{"$nulls":10},{"$f":"(IF($E2326<>0,$K$2,IF($F2326<>0,$K$2,IF($G2326<>0,$K$2,IF($H2326<>0,$K$2,IF($I2326<>0,$K$2,IF($J2326<>0,$K$2,\"\")))))))","v":""}]
[null,{"$f":"$B$12","v":{"$error":"#N/A"}},null,null,"       код по ЕБК:",{"$f":"$F$12","v":"0"},{"$nulls":4},{"$f":"(IF($E2326<>0,$K$2,IF($F2326<>0,$K$2,IF($G2326<>0,$K$2,IF($H2326<>0,$K$2,IF($I2326<>0,$K$2,IF($J2326<>0,$K$2,\"\")))))))","v":""}]
[null,{"$f":"$B$13","v":"                                             (наименование на първостепенния разпоредител с бюджет)"},{"$nulls":8},{"$f":"(IF($E2326<>0,$K$2,IF($F2326<>0,$K$2,IF($G2326<>0,$K$2,IF($H2326<>0,$K$2,IF($I2326<>0,$K$2,IF($J2326<>0,$K$2,\"\")))))))","v":""}]
[{"$nulls":3},"ФИНАНСОВО-ПРАВНА ФОРМА",{"$f":"$E$15","v":0},{"$f":"$F$15","v":"БЮДЖЕТ"},{"$nulls":4},{"$f":"(IF($E2326<>0,$K$2,IF($F2326<>0,$K$2,IF($G2326<>0,$K$2,IF($H2326<>0,$K$2,IF($I2326<>0,$K$2,IF($J2326<>0,$K$2,\"\")))))))","v":""}]
[{"$nulls":9},"(в лева)",{"$f":"(IF($E2326<>0,$K$2,IF($F2326<>0,$K$2,IF($G2326<>0,$K$2,IF($H2326<>0,$K$2,IF($I2326<>0,$K$2,IF($J2326<>0,$K$2,\"\")))))))","v":""}]
[{"$nulls":3},"II.1. РАЗХОДИ ПО ДЕЙНОСТИ","Уточнен план","                                                                                                                              О Т Ч Е Т Н И   Д А Н Н И",{"$nulls":4},{"$f":"(IF($E2326<>0,$K$2,IF($F2326<>0,$K$2,IF($G2326<>0,$K$2,IF($H2326<>0,$K$2,IF($I2326<>0,$K$2,IF($J2326<>0,$K$2,\"\")))))))","v":""}]
[null,"§§","под-§§","НАИМЕНОВАНИЯ НА ПАРАГРАФИТЕ И ПОДПАРАГРАФИТЕ",{"$f":"$C$3","v":2021},"ОБЩО","левови\n сметки и СЕБРА ","валутни \nсметки ","операции в брой (в левове и валута)","операции приравнени на касов поток",{"$f":"(IF($E2326<>0,$K$2,IF($F2326<>0,$K$2,IF($G2326<>0,$K$2,IF($H2326<>0,$K$2,IF($I2326<>0,$K$2,IF($J2326<>0,$K$2,\"\")))))))","v":""}]
[{"$nulls":3}," 02 ¦","(1)","(2)","(3)","(4)","(5)","(6)",{"$f":"(IF($E2326<>0,$K$2,IF($F2326<>0,$K$2,IF($G2326<>0,$K$2,IF($H2326<>0,$K$2,IF($I2326<>0,$K$2,IF($J2326<>0,$K$2,\"\")))))))","v":""}]
[null,null,0,"ИЗБЕРЕТЕ ОПЕРАТИВНА ПРОГРАМА ",{"$nulls":6},{"$f":"(IF($E2326<>0,$K$2,IF($F2326<>0,$K$2,IF($G2326<>0,$K$2,IF($H2326<>0,$K$2,IF($I2326<>0,$K$2,IF($J2326<>0,$K$2,\"\")))))))","v":""}]
[null,null,{"$f":"VLOOKUP(D2209,EBK_DEIN2,2,FALSE)","v":4436},"<------          ДЕЙНОСТ    -  код  по  ЕБК",{"$nulls":6},{"$f":"(IF($E2326<>0,$K$2,IF($F2326<>0,$K$2,IF($G2326<>0,$K$2,IF($H2326<>0,$K$2,IF($I2326<>0,$K$2,IF($J2326<>0,$K$2,\"\")))))))","v":""}]
[null,null,{"$f":"+C2208","v":4436},"436 Национални центрове",{"$nulls":6},{"$f":"(IF($E2326<>0,$K$2,IF($F2326<>0,$K$2,IF($G2326<>0,$K$2,IF($H2326<>0,$K$2,IF($I2326<>0,$K$2,IF($J2326<>0,$K$2,\"\")))))))","v":""}]
[{"$nulls":3},"(наименование на дейността)",{"$nulls":6},{"$f":"(IF($E2326<>0,$K$2,IF($F2326<>0,$K$2,IF($G2326<>0,$K$2,IF($H2326<>0,$K$2,IF($I2326<>0,$K$2,IF($J2326<>0,$K$2,\"\")))))))","v":""}]
[null,{"v":100,"d":"01-00"},"Заплати и възнаграждения за персонала, нает по трудови и служебни правоотношения",null,{"$f":"SUM(E2212:E2213)","v":0},0,0,0,0,0,{"$f":"(IF($E2211<>0,$K$2,IF($F2211<>0,$K$2,IF($G2211<>0,$K$2,IF($H2211<>0,$K$2,IF($I2211<>0,$K$2,IF($J2211<>0,$K$2,\"\")))))))","v":""}]
[null,null,{"v":101,"d":"01-01"},"заплати и възнаграждения на персонала нает по трудови правоотношения",0,{"$f":"G2212+H2212+I2212+J2212","v":0},0,0,0,0,{"$f":"(IF($E2212<>0,$K$2,IF($F2212<>0,$K$2,IF($G2212<>0,$K$2,IF($H2212<>0,$K$2,IF($I2212<>0,$K$2,IF($J2212<>0,$K$2,\"\")))))))","v":""}]
[null,null,{"v":102,"d":"01-02"},"заплати и възнаграждения на персонала нает по служебни правоотношения",0,{"$f":"G2213+H2213+I2213+J2213","v":0},0,0,0,0,""]
[null,{"v":200,"d":"02-00"},"Други възнаграждения и плащания за персонала",null,{"$f":"SUM(E2215:E2219)","v":0},0,0,0,0,0,""]
[null,null,{"v":201,"d":"02-01"},"за нещатен персонал нает по трудови правоотношения ",0,{"$f":"G2215+H2215+I2215+J2215","v":0},0,0,0,0,""]
[null,null,{"v":202,"d":"02-02"},"за персонала по извънтрудови правоотношения",0,{"$f":"G2216+H2216+I2216+J2216","v":0},0,0,0,0,""]
[null,null,{"v":205,"d":"02-05"},"изплатени суми от СБКО за облекло и други на персонала, с характер на възнаграждение",0,{"$f":"G2217+H2217+I2217+J2217","v":0},0,0,0,0,""]
[null,null,{"v":208,"d":"02-08"},"обезщетения за персонала, с характер на възнаграждение",0,{"$f":"G2218+H2218+I2218+J2218","v":0},0,0,0,0,""]
[null,null,{"v":209,"d":"02-09"},"другиплащания и възнаграждения",0,{"$f":"G2219+H2219+I2219+J2219","v":0},0,0,0,0,""]
[null,{"v":500,"d":"05-00"},"Задължителни осигурителни вноски от работодатели",null,{"$f":"SUM(E2221:E2227)","v":0},0,0,0,0,0,""]
[null,null,{"v":551,"d":"05-51"},"осигурителни вноски от работодатели за Държавното обществено осигуряване (ДОО)",0,{"$f":"G2221+H2221+I2221+J2221","v":0},0,0,0,0,""]
[null,null,{"$f":"C2221+1","v":{"v":552,"d":"05-52"}},"осигурителни вноски от работодатели за Учителския пенсионен фонд (УПФ)",0,0,0,0,0,0,""]
[null,null,{"v":558,"d":"05-58"},"вноски по чл. 4б и 4в от КСО за сметка на осигурителя",null,{"$f":"G2223+H2223+I2223+J2223","v":0},0,0,0,0,""]
[null,null,{"v":560,"d":"05-60"},"здравно-осигурителни вноски от работодатели",0,0,0,0,0,0,""]
[null,null,{"v":580,"d":"05-80"},"вноски за допълнително задължително осигуряване от работодатели",0,0,0,0,0,0,""]
[null,null,{"v":588,"d":"05-88"},"коректив на вноски за ДЗПО за сумите по чл. 4б и 4в от КСО за сметка на осигурителя",null,{"$f":"G2226+H2226+I2226+J2226","v":0},0,0,0,0,""]
[null,null,{"v":590,"d":"05-90"},"задължителни вноски за чуждестранни пенсионни фондове и  схеми за сметка на осигурителя",0,0,0,0,0,0,""]
[5,{"v":800,"d":"08-00"},"Вноски за доброволно осигуряване ",null,null,0,{"$nulls":4},""]
[10,{"v":1000,"d":"10-00"},"Издръжка",null,{"$f":"SUM(E2230:E2246)","v":0},0,0,0,0,0,""]
[15,null,{"v":1011,"d":"10-11"},"Храна",0,{"$f":"G2230+H2230+I2230+J2230","v":0},0,0,0,0,""]
[35,null,{"v":1012,"d":"10-12"},"Медикаменти",0,0,0,0,0,0,""]
[40,null,{"v":1013,"d":"10-13"},"Постелен инвентар и облекло",0,0,0,0,0,0,""]
[45,null,{"v":1014,"d":"10-14"},"Учебни и научно-изследователски разходи и книги за библиотеките",0,0,0,0,0,0,""]
[50,null,{"v":1015,"d":"10-15"},"материали",0,0,0,0,0,0,""]
[55,null,{"v":1016,"d":"10-16"},"вода, горива и енергия",0,0,0,0,0,0,""]
[60,null,{"v":1020,"d":"10-20"},"разходи за външни услуги",0,0,0,0,0,0,""]
[65,null,{"v":1030,"d":"10-30"},"Текущ ремонт",0,0,0,0,0,0,""]
[70,null,{"v":1051,"d":"10-51"},"командировки в страната",0,0,0,0,0,0,""]
[75,null,{"v":1052,"d":"10-52"},"краткосрочни командировки в чужбина",0,0,0,0,0,0,""]
[80,null,{"v":1053,"d":"10-53"},"дългосрочни командировки в чужбина",0,0,0,0,0,0,""]
[80,null,{"v":1062,"d":"10-62"},"разходи за застраховки",0,0,0,0,0,0,""]
[85,null,{"v":1063,"d":"10-63"},"такса ангажимент по заеми",0,0,0,0,0,0,""]
[90,null,{"v":1069,"d":"10-69"},"други финансови услуги",0,0,0,0,0,0,""]
[90,null,{"v":1091,"d":"10-91"},"други разходи за СБКО",0,0,0,0,0,0,""]
[115,null,{"v":1092,"d":"10-92"},"разходи за договорни санкции и неустойки, съдебни обезщетения и разноски",0,0,0,0,0,0,""]
[125,null,{"v":1098,"d":"10-98"},"други разходи, некласифицирани в другите параграфи и подпараграфи",0,0,0,0,0,0,""]
[130,{"v":1900,"d":"19-00"},"Платени данъци, такси и административни санкции",null,{"$f":"SUM(E2248:E2250)","v":0},0,0,0,0,0,""]
[135,null,{"v":1901,"d":"19-01"},"платени държавни данъци, такси, наказателни лихви и административни санкции",0,{"$f":"G2248+H2248+I2248+J2248","v":0},0,0,0,0,""]
[140,null,{"v":1981,"d":"19-81"},"платени общински данъци, такси, наказателни лихви и административни санкции",0,{"$f":"G2249+H2249+I2249+J2249","v":0},0,0,0,0,""]
[145,null,{"v":1991,"d":"19-91"},"платени данъци, такси, наказателни лихви и административни санкции в чужбина",0,{"$f":"G2250+H2250+I2250+J2250","v":0},0,0,0,0,""]
[150,{"v":2100,"d":"21-00"},"Разходи за лихви по емисии на държавни (общински) ценни книжа",null,{"$f":"SUM(E2252:E2256)","v":0},0,0,0,0,0,""]
[155,null,{"v":2110,"d":"21-10"},"лихви по държавни (общински) ценни книжа",0,{"$f":"G2252+H2252+I2252+J2252","v":0},0,0,0,0,""]
[160,null,{"v":2120,"d":"21-20"},"отстъпки по държавни (общински) ценни книжа",0,{"$f":"G2253+H2253+I2253+J2253","v":0},0,0,0,0,""]
[165,null,{"v":2125,"d":"21-25"},"лихви и отстъпки по целеви емисии на държавни ценни книжа",0,{"$f":"G2254+H2254+I2254+J2254","v":0},0,0,0,0,""]
[175,null,{"v":2140,"d":"21-40"},"лихви по държавни ценни книжа, емитирани за структурната реформа ",0,{"$f":"G2255+H2255+I2255+J2255","v":0},0,0,0,0,""]
[180,null,{"v":2190,"d":"21-90"},"премии над номинала от емисии на държавни (общински) ценни книжа (-)",0,{"$f":"G2256+H2256+I2256+J2256","v":0},0,0,0,0,""]
[185,{"v":2200,"d":"22-00"},"Разходи за лихви по заеми от страната",null,{"$f":"SUM(E2258:E2259)","v":0},0,0,0,0,0,""]
[190,null,{"v":2221,"d":"22-21"},"Разходи за лихви по заеми от банки в страната",0,{"$f":"G2258+H2258+I2258+J2258","v":0},0,0,0,0,""]
[200,null,{"v":2224,"d":"22-24"},"Разходи за лихви по други заеми от страната",0,0,0,0,0,0,""]
[200,{"v":2500,"d":"25-00"},"Разходи за лихви по заеми от други държави",null,null,0,{"$nulls":4},""]
[205,{"v":2600,"d":"26-00"},"Разходи за лихви по заеми от международни организации и институции",null,null,0,{"$nulls":4},""]
[210,{"v":2700,"d":"27-00"},"Разходи за лихви по заеми от банки и други финансови институции от чужбина",null,null,0,{"$nulls":4},""]
[215,{"v":2800,"d":"28-00"},"Разходи за лихви и отстъпки по облигации, емитирани и търгувани на международните капиталови пазари",null,null,0,{"$nulls":4},""]
[220,{"v":2900,"d":"29-00"},"Други разходи за лихви",null,{"$f":"SUM(E2265:E2272)","v":0},0,0,0,0,0,""]
[225,null,{"v":2910,"d":"29-10"},"Платени лихви по финансов лизинг и търговски кредит",null,{"$f":"G2265+H2265+I2265+J2265","v":0},{"$nulls":4},""]
[230,null,{"v":2920,"d":"29-20"},"Платени лихви по активирани гаранции по заеми от  банки в страната",0,{"$f":"G2266+H2266+I2266+J2266","v":0},0,0,0,0,""]
[245,null,{"v":2969,"d":"29-69"},"Платени лихви по активирани гаранции по заеми от международни организации и институции",0,0,0,0,0,0,""]
[220,null,{"v":2970,"d":"29-70"},"Платени лихви по активирани гаранции по заеми от банки и финансови институции от чужбина",null,0,{"$nulls":4},""]
[225,null,{"v":2989,"d":"29-89"},"Възстановени суми по платени лихви по активирани гаранции (-)",0,0,0,0,0,0,""]
[230,null,{"v":2990,"d":"29-90"},"Платени лихви по заеми, предоставени от централния бюджет и бюджетни организации",null,{"$f":"G2270+H2270+I2270+J2270","v":0},{"$nulls":4},""]
[235,null,{"v":2991,"d":"29-91"},"Други разходи за лихви към  местни лица",0,0,0,0,0,0,""]
[240,null,{"v":2992,"d":"29-92"},"Други разходи за лихви към чуждестранни лица",0,0,0,0,0,0,""]
[245,{"v":3300,"d":"33-00"},"Вноска в общия бюджет на Европейския съюз",null,{"$f":"SUM(E2274:E2278)","v":0},0,0,0,0,0,""]
[250,null,{"v":3301,"d":"33-01"},"ресурс на база брутен национален доход",0,{"$f":"G2274+H2274+I2274+J2274","v":0},0,0,0,0,""]
[255,null,{"v":3302,"d":"33-02"},"ресурс на база данък върху добавената стойност",0,0,0,0,0,0,""]
[265,null,{"v":3304,"d":"33-04"},"традиционни собствени ресурси - мита",0,0,0,0,0,0,""]
[270,null,{"v":3306,"d":"33-06"},"участие във финансирането на брутното намаление за Австрия, Дания, Германия, Нидерландия и Швеция",0,0,0,0,0,0,""]
[290,null,{"v":3307,"d":"33-07"},"ресурс на база нерециклираните отпадъци от опаковки от пластмаса",0,0,0,0,0,0,""]
[320,{"v":3900,"d":"39-00"},"Здравно-осигурителни плащания",null,null,0,{"$nulls":4},{"$f":"(IF($E2279<>0,$K$2,IF($F2279<>0,$K$2,IF($G2279<>0,$K$2,IF($H2279<>0,$K$2,IF($I2279<>0,$K$2,IF($J2279<>0,$K$2,\"\")))))))","v":""}]
[330,{"v":4000,"d":"40-00"},"Стипендии",null,0,0,0,0,0,0,""]
[350,{"v":4100,"d":"41-00"},"Пенсии",null,null,0,{"$nulls":4},""]
[355,{"v":4200,"d":"42-00"},"Текущи трансфери, обезщетения и помощи за домакинствата",null,{"$f":"SUM(E2283:E2288)","v":0},0,0,0,0,0,""]
[375,null,{"v":4201,"d":"42-01"},"обезщетения и помощи по социалното осигуряване",0,{"$f":"G2283+H2283+I2283+J2283","v":0},0,0,0,0,""]
[375,null,{"v":4202,"d":"42-02"},"обезщетения и помощи по социалното подпомагане",0,0,0,0,0,0,""]
[380,null,{"v":4214,"d":"42-14"},"обезщетения и помощи по решение на общинския съвет",0,0,0,0,0,0,""]
[385,null,{"v":4217,"d":"42-17"},"текущи трансфери за домакинства от средства на Европейския съюз",0,0,0,0,0,0,""]
[390,null,{"v":4218,"d":"42-18"},"текущи трансфери за домакинства по други международни програми и споразумения",0,0,0,0,0,0,""]
[390,null,{"v":4219,"d":"42-19"},"други текущи трансфери за домакинствата",0,0,0,0,0,0,""]
[395,{"v":4300,"d":"43-00"},"Субсидии и други текущи трансфери за нефинансови предприятия ",null,{"$f":"SUM(E2290:E2292)","v":0},0,0,0,0,0,""]
[397,null,{"v":4301,"d":"43-01"},"за текуща дейност",0,{"$f":"G2290+H2290+I2290+J2290","v":0},0,0,0,0,""]
[398,null,{"v":4302,"d":"43-02"},"за осъществяване на болнична помощ ",0,0,0,0,0,0,""]
[399,null,{"v":4309,"d":"43-09"},"други субсидии и плащания",0,0,0,0,0,0,""]
[400,{"v":4400,"d":"44-00"},"Субсидии и други текущи трансфери за финансови институции",null,null,0,{"$nulls":4},""]
[401,{"v":4500,"d":"45-00"},"Субсидии и други текущи трансфери за юридически лица с нестопанска цел",null,null,0,{"$nulls":4},""]
[404,{"v":4600,"d":"46-00"},"Разходи за членски внос и участие в нетърговски организации и дейности",null,0,0,0,0,0,0,""]
[404,{"v":4900,"d":"49-00"},"Предоставени текущи и капиталови трансфери за чужбина",null,{"$f":"+E2297+E2298","v":0},0,0,0,0,0,""]
[440,null,{"v":4901,"d":"49-01"},"текущи трансфери за чужбина",0,{"$f":"G2297+H2297+I2297+J2297","v":0},0,0,0,0,""]
[450,null,{"v":4902,"d":"49-02"},"капиталови трансфери за чужбина",0,{"$f":"G2298+H2298+I2298+J2298","v":0},0,0,0,0,""]
[495,{"v":5100,"d":"51-00"},"Основен ремонт на дълготрайни материални активи",null,0,{"$f":"G2299+H2299+I2299+J2299","v":0},0,{"$nulls":3},""]
[500,{"v":5200,"d":"52-00"},"Придобиване на дълготрайни материални активи",null,{"$f":"SUM(E2301:E2307)","v":0},0,0,0,0,0,""]
[505,null,{"v":5201,"d":"52-01"},"придобиване на компютри и хардуер",0,{"$f":"G2301+H2301+I2301+J2301","v":0},0,0,0,0,""]
[510,null,{"v":5202,"d":"52-02"},"придобиване на сгради",0,0,0,0,0,0,""]
[515,null,{"v":5203,"d":"52-03"},"придобиване на друго оборудване, машини и съоръжения",0,0,0,0,0,0,""]
[520,null,{"v":5204,"d":"52-04"},"придобиване на транспортни средства",0,0,0,0,0,0,""]
[525,null,{"v":5205,"d":"52-05"},"придобиване на стопански инвентар",0,0,0,0,0,0,""]
[635,null,{"v":5206,"d":"52-06"},"изграждане на инфраструктурни обекти",0,0,0,0,0,0,""]
[640,null,{"v":5219,"d":"52-19"},"придобиване на други ДМА",0,0,0,0,0,0,""]
[645,{"v":5300,"d":"53-00"},"Придобиване на нематериални дълготрайни активи",null,{"$f":"SUM(E2309:E2310)","v":0},0,0,0,0,0,""]
[650,null,{"v":5301,"d":"53-01"},"придобиване на програмни продукти и лицензи за програмни продукти",0,{"$f":"G2309+H2309+I2309+J2309","v":0},0,0,0,0,""]
[655,null,{"v":5309,"d":"53-09"},"придобиване на други нематериални дълготрайни активи",0,{"$f":"G2310+H2310+I2310+J2310","v":0},0,0,0,0,""]
[665,{"v":5400,"d":"54-00"},"Придобиване на земя",null,null,{"$f":"G2311+H2311+I2311+J2311","v":0},{"$nulls":4},""]
[675,{"v":5500,"d":"55-00"},"Капиталови трансфери",null,{"$f":"SUM(E2313:E2316)","v":0},0,0,0,0,0,""]
[685,null,{"v":5501,"d":"55-01"},"капиталови трансфери за нефинансови предприятия",0,{"$f":"G2313+H2313+I2313+J2313","v":0},0,0,0,0,""]
[690,null,{"v":5502,"d":"55-02"},"капиталови трансфери за финансови институции",0,{"$f":"G2314+H2314+I2314+J2314","v":0},0,0,0,0,""]
[695,null,{"v":5503,"d":"55-03"},"капиталови трансфери за организации с нестопанска цел",0,{"$f":"G2315+H2315+I2315+J2315","v":0},0,0,0,0,""]
[700,null,{"v":5504,"d":"55-04"},"капиталови трансфери за домакинствата",0,{"$f":"G2316+H2316+I2316+J2316","v":0},0,0,0,0,""]
[710,{"v":5700,"d":"57-00"},"Прираст на държавния резерв и изкупуване на земеделска продукция (включва и § 40-71)",null,{"$f":"SUM(E2318:E2320)","v":0},0,0,0,0,0,""]
[715,null,{"v":5701,"d":"57-01"},"плащания за попълване на държавния резерв",0,{"$f":"G2318+H2318+I2318+J2318","v":0},0,0,0,0,""]
[720,null,{"v":5702,"d":"57-02"},"плащания за изкупуване на земеделска продукция",0,{"$f":"G2319+H2319+I2319+J2319","v":0},0,0,0,0,""]
[725,null,{"v":4071,"d":"40-71"},"постъпления от продажба на държавния резерв (-)",0,{"$f":"G2320+H2320+I2320+J2320","v":0},0,0,0,0,""]
[730,{"$nulls":9},""]
[735,{"v":98,"d":"00-98"},"Резерв за непредвидени и неотложни разходи",null,null,{"$f":"G2322+H2322+I2322+J2322","v":0},0,0,0,0,""]
[740,{"$nulls":9},""]
[745,{"$nulls":9},""]
[750,{"$nulls":9},""]
[755,null,"99-99",{"$f":"+B2326","v":{"v":0,"d":"II. ОБЩО РАЗХОДИ ЗА ДЕЙНОСТ 0000"}},{"$f":"SUM(E2211,E2214,E2220,E2228,E2229,E2247,E2251,E2257,E2260,E2261,E2262,E2263,E2264,E2273,E2279,E2280,E2281,E2282,E2289,E2293,E2294,E2295,E2296,E2299,E2300,E2308,E2311,E2312,E2317)+E2322","v":0},0,0,0,0,0,"",{"$f":"LEFT(C2208,1)","v":"4"}]
[760,{"$nulls":9},{"$f":"K2326","v":""}]
[765,{"$nulls":9},{"$f":"K2326","v":""}]
[775,{"$nulls":9},{"$f":"(IF(SUM(K2340:K2361)<>0,$K$2,\"\"))","v":""}]
[780,{"$f":"$B$7","v":"ОТЧЕТНИ ДАННИ ПО ЕБК ЗА ИЗПЪЛНЕНИЕТО НА БЮДЖЕТА"},{"$nulls":8},{"$f":"(IF(SUM(K2340:K2361)<>0,$K$2,\"\"))","v":""}]
[785,{"$nulls":3},"за периода от ","до",{"$nulls":4},{"$f":"(IF(SUM(K2340:K2361)<>0,$K$2,\"\"))","v":""}]
[790,{"$f":"$B$9","v":"РЕГИОНАЛНА ЗДРАВНА ИНСПЕКЦИЯ-БУРГАС"},null,null,{"$f":"$E$9","v":"2021-01-01"},{"$f":"$F$9","v":"2021-12-31"},{"$nulls":4},{"$f":"(IF(SUM(K2340:K2361)<>0,$K$2,\"\"))","v":""}]
[795,{"$f":"$B$10","v":"                                                            (наименование на разпоредителя с бюджет)"},{"$nulls":8},{"$f":"(IF(SUM(K2340:K2361)<>0,$K$2,\"\"))","v":""}]
[805,{"$nulls":9},{"$f":"(IF(SUM(K2340:K2361)<>0,$K$2,\"\"))","v":""}]
[810,{"$f":"$B$12","v":{"$error":"#N/A"}},null,null,"       код по ЕБК:",{"$f":"$F$12","v":"0"},{"$nulls":4},{"$f":"(IF(SUM(K2340:K2361)<>0,$K$2,\"\"))","v":""}]
[815,{"$f":"$B$13","v":"                                             (наименование на първостепенния разпоредител с бюджет)"},{"$nulls":8},{"$f":"(IF(SUM(K2340:K2361)<>0,$K$2,\"\"))","v":""}]
[525,null,null,"               ФИНАНСОВО-ПРАВНА ФОРМА",{"$f":"$E$15","v":0},{"$f":"$F$15","v":"БЮДЖЕТ"},{"$nulls":4},{"$f":"(IF(SUM(K2340:K2361)<>0,$K$2,\"\"))","v":""}]
[820,null,null,"Натурални и други показатели за дейността",null,"(в лева)",{"$nulls":4},{"$f":"(IF(SUM(K2340:K2361)<>0,$K$2,\"\"))","v":""}]
[821,"МЯРКА","Код 9 8","  О б щ и   н а т у р а л н и   п о к а з а т е л и","    П л а н","    О т ч е т ",{"$nulls":4},{"$f":"(IF(SUM(K2340:K2361)<>0,$K$2,\"\"))","v":""}]
[822,null," 9 8 0 1","Щ а т н и   б р о й к и",{"$f":"E2341+E2342","v":0},{"$f":"F2341+F2342","v":0},{"$nulls":4},{"$f":"(IF($E2340<>0,$K$2,IF($F2340<>0,$K$2,\"\")))","v":""}]
[823,null," 9 8 1 1","в т.ч.: по трудови правоотношения",0,0,{"$nulls":4},""]
[825,null," 9 8 1 2","           по служебни правоотношения",0,0,{"$nulls":4},""]
[null,null," 9 8 0 2","Средногодишни щатни бройки",{"$f":"E2344+E2345","v":0},{"$f":"F2344+F2345","v":0},{"$nulls":4},""]
[null,null," 9 8 2 1","в т.ч.: по трудови правоотношения",0,0,{"$nulls":4},""]
[null,null," 9 8 2 2","         по служебни правоотношения",0,0,{"$nulls":4},""]
[null,null," 9 8 0 3","Средна годишна брутна заплата",0,0,{"$nulls":4},""]
[null,null," 9 8 3 1"," в т.ч.:   по трудови правоотношения",0,0,{"$nulls":4},""]
[null,null," 9 8 3 2","            по служебни правоотношения",0,0,{"$nulls":4},""]
[null,null," 9 8 0 4","Брой на моторни превозни средства",0,0,{"$nulls":4},""]
[null,null,"9 8 0 5","- в т.ч. - леки автомобили",0,0,{"$nulls":4},""]
[null,null,"9 8 0 6","             - санитарни линейки",0,0,{"$nulls":4},""]
[null,null," 9 8 0 7","Брой ученици, финансирани по единни разходни стандарти",0,0,{"$nulls":4},""]
[null,null," 9 8 0 8","Средна годишна брутна заплата на делегирани бюджети",0,0,{"$nulls":4},""]
[null,null," 9 8 0 9","Щатни бройки на делегирани бюджети",0,0,{"$nulls":4},""]
[null,null," 9 8 1 0","Средногодишни щатни бройки на делегирани бюджети",0,0,{"$nulls":4},""]
[null,null,"9 8 1 3","Средногодишен приравнен брой учащи във ВУ, финансирани по норматив за издръжка на обучението",0,0,{"$nulls":4},""]
[null,null,"9 8 1 4","Брой леглодни в студентски общежития",0,0,{"$nulls":4},""]
[905,null,"9 8 1 5","Брой хранодни в студентски стол",0,0,{"$nulls":4},""]
[906,null,"9 8 1 7","Болнични легла",0,0,{"$nulls":4},""]
[907,null,"9 8 1 8","Обем радиопрограма /часове/",0,0,{"$nulls":4},""]
[910,null,"9 8 1 9","Обем телевизионна програма /часове/",0,0,{"$nulls":4},""]
[911,"МЯРКА","Код  ","Разходи в областта на електронното управление и за използваните информационни и комуникационни технологии","    П л а н","    О т ч е т ",{"$nulls":4},{"$f":"(IF($E2363<>0,$K$2,IF($F2363<>0,$K$2,\"\")))","v":""}]
[null,null,"9 8 5 0","Общо разходи в областта на ЕУ и за използваните ИКТ",{"$f":"E2364+E2365","v":0},{"$f":"F2364+F2365","v":0},{"$nulls":4},""]
[null,null,"9 8 5 1","Текущи разходи в областта на ЕУ и за използваните ИКТ",0,0,{"$nulls":4},""]
[null,null,"9 8 5 2","Капиталови разходи в областта на ЕУ и за използваните ИКТ",0,0,{"$nulls":4},""]
[null,"ЗАБЕЛЕЖКА:",{"$nulls":8},{"$f":"K2326","v":""}]
[null," За натурални показатели, не влючени в този отчет, специфични за конкретна дейност се представят отделни справки, допълнително определени от Министерство на финансите.",{"$nulls":8},{"$f":"K2326","v":""}]
[]
[{"$nulls":10},{"$f":"(IF($E2502<>0,$K$2,IF($F2502<>0,$K$2,IF($G2502<>0,$K$2,IF($H2502<>0,$K$2,IF($I2502<>0,$K$2,IF($J2502<>0,$K$2,\"\")))))))","v":""}]
[{"$nulls":10},{"$f":"(IF($E2502<>0,$K$2,IF($F2502<>0,$K$2,IF($G2502<>0,$K$2,IF($H2502<>0,$K$2,IF($I2502<>0,$K$2,IF($J2502<>0,$K$2,\"\")))))))","v":""}]
[null,{"$f":"$B$7","v":"ОТЧЕТНИ ДАННИ ПО ЕБК ЗА ИЗПЪЛНЕНИЕТО НА БЮДЖЕТА"},{"$nulls":8},{"$f":"(IF($E2502<>0,$K$2,IF($F2502<>0,$K$2,IF($G2502<>0,$K$2,IF($H2502<>0,$K$2,IF($I2502<>0,$K$2,IF($J2502<>0,$K$2,\"\")))))))","v":""}]
[{"$nulls":4},"за периода от ","до",null,"                 II.1. РАЗХОДИ ПО ДЕЙНОСТИ",null,null,{"$f":"(IF($E2502<>0,$K$2,IF($F2502<>0,$K$2,IF($G2502<>0,$K$2,IF($H2502<>0,$K$2,IF($I2502<>0,$K$2,IF($J2502<>0,$K$2,\"\")))))))","v":""}]
[null,{"$f":"$B$9","v":"РЕГИОНАЛНА ЗДРАВНА ИНСПЕКЦИЯ-БУРГАС"},null,null,{"$f":"$E$9","v":"2021-01-01"},{"$f":"$F$9","v":"2021-12-31"},{"$nulls":4},{"$f":"(IF($E2502<>0,$K$2,IF($F2502<>0,$K$2,IF($G2502<>0,$K$2,IF($H2502<>0,$K$2,IF($I2502<>0,$K$2,IF($J2502<>0,$K$2,\"\")))))))","v":""}]
[null,{"$f":"$B$10","v":"                                                            (наименование на разпоредителя с бюджет)"},{"$nulls":8},{"$f":"(IF($E2502<>0,$K$2,IF($F2502<>0,$K$2,IF($G2502<>0,$K$2,IF($H2502<>0,$K$2,IF($I2502<>0,$K$2,IF($J2502<>0,$K$2,\"\")))))))","v":""}]
[{"$nulls":10},{"$f":"(IF($E2502<>0,$K$2,IF($F2502<>0,$K$2,IF($G2502<>0,$K$2,IF($H2502<>0,$K$2,IF($I2502<>0,$K$2,IF($J2502<>0,$K$2,\"\")))))))","v":""}]
[null,{"$f":"$B$12","v":{"$error":"#N/A"}},null,null,"       код по ЕБК:",{"$f":"$F$12","v":"0"},{"$nulls":4},{"$f":"(IF($E2502<>0,$K$2,IF($F2502<>0,$K$2,IF($G2502<>0,$K$2,IF($H2502<>0,$K$2,IF($I2502<>0,$K$2,IF($J2502<>0,$K$2,\"\")))))))","v":""}]
[null,{"$f":"$B$13","v":"                                             (наименование на първостепенния разпоредител с бюджет)"},{"$nulls":8},{"$f":"(IF($E2502<>0,$K$2,IF($F2502<>0,$K$2,IF($G2502<>0,$K$2,IF($H2502<>0,$K$2,IF($I2502<>0,$K$2,IF($J2502<>0,$K$2,\"\")))))))","v":""}]
[{"$nulls":3},"ФИНАНСОВО-ПРАВНА ФОРМА",{"$f":"$E$15","v":0},{"$f":"$F$15","v":"БЮДЖЕТ"},{"$nulls":4},{"$f":"(IF($E2502<>0,$K$2,IF($F2502<>0,$K$2,IF($G2502<>0,$K$2,IF($H2502<>0,$K$2,IF($I2502<>0,$K$2,IF($J2502<>0,$K$2,\"\")))))))","v":""}]
[{"$nulls":9},"(в лева)",{"$f":"(IF($E2502<>0,$K$2,IF($F2502<>0,$K$2,IF($G2502<>0,$K$2,IF($H2502<>0,$K$2,IF($I2502<>0,$K$2,IF($J2502<>0,$K$2,\"\")))))))","v":""}]
[{"$nulls":3},"II.1. РАЗХОДИ ПО ДЕЙНОСТИ","Уточнен план","                                                                                                                              О Т Ч Е Т Н И   Д А Н Н И",{"$nulls":4},{"$f":"(IF($E2502<>0,$K$2,IF($F2502<>0,$K$2,IF($G2502<>0,$K$2,IF($H2502<>0,$K$2,IF($I2502<>0,$K$2,IF($J2502<>0,$K$2,\"\")))))))","v":""}]
[null,"§§","под-§§","НАИМЕНОВАНИЯ НА ПАРАГРАФИТЕ И ПОДПАРАГРАФИТЕ",{"$f":"$C$3","v":2021},"ОБЩО","левови\n сметки и СЕБРА ","валутни \nсметки ","операции в брой (в левове и валута)","операции приравнени на касов поток",{"$f":"(IF($E2502<>0,$K$2,IF($F2502<>0,$K$2,IF($G2502<>0,$K$2,IF($H2502<>0,$K$2,IF($I2502<>0,$K$2,IF($J2502<>0,$K$2,\"\")))))))","v":""}]
[{"$nulls":3}," 02 ¦","(1)","(2)","(3)","(4)","(5)","(6)",{"$f":"(IF($E2502<>0,$K$2,IF($F2502<>0,$K$2,IF($G2502<>0,$K$2,IF($H2502<>0,$K$2,IF($I2502<>0,$K$2,IF($J2502<>0,$K$2,\"\")))))))","v":""}]
[null,null,0,"ИЗБЕРЕТЕ ОПЕРАТИВНА ПРОГРАМА ",{"$nulls":6},{"$f":"(IF($E2502<>0,$K$2,IF($F2502<>0,$K$2,IF($G2502<>0,$K$2,IF($H2502<>0,$K$2,IF($I2502<>0,$K$2,IF($J2502<>0,$K$2,\"\")))))))","v":""}]
[null,null,{"$f":"VLOOKUP(D2385,EBK_DEIN2,2,FALSE)","v":4450},"<------          ДЕЙНОСТ    -  код  по  ЕБК",{"$nulls":6},{"$f":"(IF($E2502<>0,$K$2,IF($F2502<>0,$K$2,IF($G2502<>0,$K$2,IF($H2502<>0,$K$2,IF($I2502<>0,$K$2,IF($J2502<>0,$K$2,\"\")))))))","v":""}]
[null,null,{"$f":"+C2384","v":4450},"450 Преобразувани лечебни заведения",{"$nulls":6},{"$f":"(IF($E2502<>0,$K$2,IF($F2502<>0,$K$2,IF($G2502<>0,$K$2,IF($H2502<>0,$K$2,IF($I2502<>0,$K$2,IF($J2502<>0,$K$2,\"\")))))))","v":""}]
[{"$nulls":3},"(наименование на дейността)",{"$nulls":6},{"$f":"(IF($E2502<>0,$K$2,IF($F2502<>0,$K$2,IF($G2502<>0,$K$2,IF($H2502<>0,$K$2,IF($I2502<>0,$K$2,IF($J2502<>0,$K$2,\"\")))))))","v":""}]
[null,{"v":100,"d":"01-00"},"Заплати и възнаграждения за персонала, нает по трудови и служебни правоотношения",null,{"$f":"SUM(E2388:E2389)","v":0},0,0,0,0,0,{"$f":"(IF($E2387<>0,$K$2,IF($F2387<>0,$K$2,IF($G2387<>0,$K$2,IF($H2387<>0,$K$2,IF($I2387<>0,$K$2,IF($J2387<>0,$K$2,\"\")))))))","v":""}]
[null,null,{"v":101,"d":"01-01"},"заплати и възнаграждения на персонала нает по трудови правоотношения",0,{"$f":"G2388+H2388+I2388+J2388","v":0},0,0,0,0,{"$f":"(IF($E2388<>0,$K$2,IF($F2388<>0,$K$2,IF($G2388<>0,$K$2,IF($H2388<>0,$K$2,IF($I2388<>0,$K$2,IF($J2388<>0,$K$2,\"\")))))))","v":""}]
[null,null,{"v":102,"d":"01-02"},"заплати и възнаграждения на персонала нает по служебни правоотношения",0,{"$f":"G2389+H2389+I2389+J2389","v":0},0,0,0,0,""]
[null,{"v":200,"d":"02-00"},"Други възнаграждения и плащания за персонала",null,{"$f":"SUM(E2391:E2395)","v":0},0,0,0,0,0,""]
[null,null,{"v":201,"d":"02-01"},"за нещатен персонал нает по трудови правоотношения ",0,{"$f":"G2391+H2391+I2391+J2391","v":0},0,0,0,0,""]
[null,null,{"v":202,"d":"02-02"},"за персонала по извънтрудови правоотношения",0,{"$f":"G2392+H2392+I2392+J2392","v":0},0,0,0,0,""]
[null,null,{"v":205,"d":"02-05"},"изплатени суми от СБКО за облекло и други на персонала, с характер на възнаграждение",0,{"$f":"G2393+H2393+I2393+J2393","v":0},0,0,0,0,""]
[null,null,{"v":208,"d":"02-08"},"обезщетения за персонала, с характер на възнаграждение",0,{"$f":"G2394+H2394+I2394+J2394","v":0},0,0,0,0,""]
[null,null,{"v":209,"d":"02-09"},"другиплащания и възнаграждения",0,{"$f":"G2395+H2395+I2395+J2395","v":0},0,0,0,0,""]
[null,{"v":500,"d":"05-00"},"Задължителни осигурителни вноски от работодатели",null,{"$f":"SUM(E2397:E2403)","v":0},0,0,0,0,0,""]
[null,null,{"v":551,"d":"05-51"},"осигурителни вноски от работодатели за Държавното обществено осигуряване (ДОО)",0,{"$f":"G2397+H2397+I2397+J2397","v":0},0,0,0,0,""]
[null,null,{"$f":"C2397+1","v":{"v":552,"d":"05-52"}},"осигурителни вноски от работодатели за Учителския пенсионен фонд (УПФ)",0,0,0,0,0,0,""]
[null,null,{"v":558,"d":"05-58"},"вноски по чл. 4б и 4в от КСО за сметка на осигурителя",null,{"$f":"G2399+H2399+I2399+J2399","v":0},0,0,0,0,""]
[null,null,{"v":560,"d":"05-60"},"здравно-осигурителни вноски от работодатели",0,0,0,0,0,0,""]
[null,null,{"v":580,"d":"05-80"},"вноски за допълнително задължително осигуряване от работодатели",0,0,0,0,0,0,""]
[null,null,{"v":588,"d":"05-88"},"коректив на вноски за ДЗПО за сумите по чл. 4б и 4в от КСО за сметка на осигурителя",null,{"$f":"G2402+H2402+I2402+J2402","v":0},0,0,0,0,""]
[null,null,{"v":590,"d":"05-90"},"задължителни вноски за чуждестранни пенсионни фондове и  схеми за сметка на осигурителя",0,0,0,0,0,0,""]
[5,{"v":800,"d":"08-00"},"Вноски за доброволно осигуряване ",null,null,0,{"$nulls":4},""]
[10,{"v":1000,"d":"10-00"},"Издръжка",null,{"$f":"SUM(E2406:E2422)","v":0},0,0,0,0,0,""]
[15,null,{"v":1011,"d":"10-11"},"Храна",0,{"$f":"G2406+H2406+I2406+J2406","v":0},0,0,0,0,""]
[35,null,{"v":1012,"d":"10-12"},"Медикаменти",0,0,0,0,0,0,""]
[40,null,{"v":1013,"d":"10-13"},"Постелен инвентар и облекло",0,0,0,0,0,0,""]
[45,null,{"v":1014,"d":"10-14"},"Учебни и научно-изследователски разходи и книги за библиотеките",0,0,0,0,0,0,""]
[50,null,{"v":1015,"d":"10-15"},"материали",0,0,0,0,0,0,""]
[55,null,{"v":1016,"d":"10-16"},"вода, горива и енергия",0,0,0,0,0,0,""]
[60,null,{"v":1020,"d":"10-20"},"разходи за външни услуги",0,0,0,0,0,0,""]
[65,null,{"v":1030,"d":"10-30"},"Текущ ремонт",0,0,0,0,0,0,""]
[70,null,{"v":1051,"d":"10-51"},"командировки в страната",0,0,0,0,0,0,""]
[75,null,{"v":1052,"d":"10-52"},"краткосрочни командировки в чужбина",0,0,0,0,0,0,""]
[80,null,{"v":1053,"d":"10-53"},"дългосрочни командировки в чужбина",0,0,0,0,0,0,""]
[80,null,{"v":1062,"d":"10-62"},"разходи за застраховки",0,0,0,0,0,0,""]
[85,null,{"v":1063,"d":"10-63"},"такса ангажимент по заеми",0,0,0,0,0,0,""]
[90,null,{"v":1069,"d":"10-69"},"други финансови услуги",0,0,0,0,0,0,""]
[90,null,{"v":1091,"d":"10-91"},"други разходи за СБКО",0,0,0,0,0,0,""]
[115,null,{"v":1092,"d":"10-92"},"разходи за договорни санкции и неустойки, съдебни обезщетения и разноски",0,0,0,0,0,0,""]
[125,null,{"v":1098,"d":"10-98"},"други разходи, некласифицирани в другите параграфи и подпараграфи",0,0,0,0,0,0,""]
[130,{"v":1900,"d":"19-00"},"Платени данъци, такси и административни санкции",null,{"$f":"SUM(E2424:E2426)","v":0},0,0,0,0,0,""]
[135,null,{"v":1901,"d":"19-01"},"платени държавни данъци, такси, наказателни лихви и административни санкции",0,{"$f":"G2424+H2424+I2424+J2424","v":0},0,0,0,0,""]
[140,null,{"v":1981,"d":"19-81"},"платени общински данъци, такси, наказателни лихви и административни санкции",0,{"$f":"G2425+H2425+I2425+J2425","v":0},0,0,0,0,""]
[145,null,{"v":1991,"d":"19-91"},"платени данъци, такси, наказателни лихви и административни санкции в чужбина",0,{"$f":"G2426+H2426+I2426+J2426","v":0},0,0,0,0,""]
[150,{"v":2100,"d":"21-00"},"Разходи за лихви по емисии на държавни (общински) ценни книжа",null,{"$f":"SUM(E2428:E2432)","v":0},0,0,0,0,0,""]
[155,null,{"v":2110,"d":"21-10"},"лихви по държавни (общински) ценни книжа",0,{"$f":"G2428+H2428+I2428+J2428","v":0},0,0,0,0,""]
[160,null,{"v":2120,"d":"21-20"},"отстъпки по държавни (общински) ценни книжа",0,{"$f":"G2429+H2429+I2429+J2429","v":0},0,0,0,0,""]
[165,null,{"v":2125,"d":"21-25"},"лихви и отстъпки по целеви емисии на държавни ценни книжа",0,{"$f":"G2430+H2430+I2430+J2430","v":0},0,0,0,0,""]
[175,null,{"v":2140,"d":"21-40"},"лихви по държавни ценни книжа, емитирани за структурната реформа ",0,{"$f":"G2431+H2431+I2431+J2431","v":0},0,0,0,0,""]
[180,null,{"v":2190,"d":"21-90"},"премии над номинала от емисии на държавни (общински) ценни книжа (-)",0,{"$f":"G2432+H2432+I2432+J2432","v":0},0,0,0,0,""]
[185,{"v":2200,"d":"22-00"},"Разходи за лихви по заеми от страната",null,{"$f":"SUM(E2434:E2435)","v":0},0,0,0,0,0,""]
[190,null,{"v":2221,"d":"22-21"},"Разходи за лихви по заеми от банки в страната",0,{"$f":"G2434+H2434+I2434+J2434","v":0},0,0,0,0,""]
[200,null,{"v":2224,"d":"22-24"},"Разходи за лихви по други заеми от страната",0,0,0,0,0,0,""]
[200,{"v":2500,"d":"25-00"},"Разходи за лихви по заеми от други държави",null,null,0,{"$nulls":4},""]
[205,{"v":2600,"d":"26-00"},"Разходи за лихви по заеми от международни организации и институции",null,null,0,{"$nulls":4},""]
[210,{"v":2700,"d":"27-00"},"Разходи за лихви по заеми от банки и други финансови институции от чужбина",null,null,0,{"$nulls":4},""]
[215,{"v":2800,"d":"28-00"},"Разходи за лихви и отстъпки по облигации, емитирани и търгувани на международните капиталови пазари",null,null,0,{"$nulls":4},""]
[220,{"v":2900,"d":"29-00"},"Други разходи за лихви",null,{"$f":"SUM(E2441:E2448)","v":0},0,0,0,0,0,""]
[225,null,{"v":2910,"d":"29-10"},"Платени лихви по финансов лизинг и търговски кредит",null,{"$f":"G2441+H2441+I2441+J2441","v":0},{"$nulls":4},""]
[230,null,{"v":2920,"d":"29-20"},"Платени лихви по активирани гаранции по заеми от  банки в страната",0,{"$f":"G2442+H2442+I2442+J2442","v":0},0,0,0,0,""]
[245,null,{"v":2969,"d":"29-69"},"Платени лихви по активирани гаранции по заеми от международни организации и институции",0,0,0,0,0,0,""]
[220,null,{"v":2970,"d":"29-70"},"Платени лихви по активирани гаранции по заеми от банки и финансови институции от чужбина",null,0,{"$nulls":4},""]
[225,null,{"v":2989,"d":"29-89"},"Възстановени суми по платени лихви по активирани гаранции (-)",0,0,0,0,0,0,""]
[230,null,{"v":2990,"d":"29-90"},"Платени лихви по заеми, предоставени от централния бюджет и бюджетни организации",null,{"$f":"G2446+H2446+I2446+J2446","v":0},{"$nulls":4},""]
[235,null,{"v":2991,"d":"29-91"},"Други разходи за лихви към  местни лица",0,0,0,0,0,0,""]
[240,null,{"v":2992,"d":"29-92"},"Други разходи за лихви към чуждестранни лица",0,0,0,0,0,0,""]
[245,{"v":3300,"d":"33-00"},"Вноска в общия бюджет на Европейския съюз",null,{"$f":"SUM(E2450:E2454)","v":0},0,0,0,0,0,""]
[250,null,{"v":3301,"d":"33-01"},"ресурс на база брутен национален доход",0,{"$f":"G2450+H2450+I2450+J2450","v":0},0,0,0,0,""]
[255,null,{"v":3302,"d":"33-02"},"ресурс на база данък върху добавената стойност",0,0,0,0,0,0,""]
[265,null,{"v":3304,"d":"33-04"},"традиционни собствени ресурси - мита",0,0,0,0,0,0,""]
[270,null,{"v":3306,"d":"33-06"},"участие във финансирането на брутното намаление за Австрия, Дания, Германия, Нидерландия и Швеция",0,0,0,0,0,0,""]
[290,null,{"v":3307,"d":"33-07"},"ресурс на база нерециклираните отпадъци от опаковки от пластмаса",0,0,0,0,0,0,""]
[320,{"v":3900,"d":"39-00"},"Здравно-осигурителни плащания",null,null,0,{"$nulls":4},{"$f":"(IF($E2455<>0,$K$2,IF($F2455<>0,$K$2,IF($G2455<>0,$K$2,IF($H2455<>0,$K$2,IF($I2455<>0,$K$2,IF($J2455<>0,$K$2,\"\")))))))","v":""}]
[330,{"v":4000,"d":"40-00"},"Стипендии",null,0,0,0,0,0,0,""]
[350,{"v":4100,"d":"41-00"},"Пенсии",null,null,0,{"$nulls":4},""]
[355,{"v":4200,"d":"42-00"},"Текущи трансфери, обезщетения и помощи за домакинствата",null,{"$f":"SUM(E2459:E2464)","v":0},0,0,0,0,0,""]
[375,null,{"v":4201,"d":"42-01"},"обезщетения и помощи по социалното осигуряване",0,{"$f":"G2459+H2459+I2459+J2459","v":0},0,0,0,0,""]
[375,null,{"v":4202,"d":"42-02"},"обезщетения и помощи по социалното подпомагане",0,0,0,0,0,0,""]
[380,null,{"v":4214,"d":"42-14"},"обезщетения и помощи по решение на общинския съвет",0,0,0,0,0,0,""]
[385,null,{"v":4217,"d":"42-17"},"текущи трансфери за домакинства от средства на Европейския съюз",0,0,0,0,0,0,""]
[390,null,{"v":4218,"d":"42-18"},"текущи трансфери за домакинства по други международни програми и споразумения",0,0,0,0,0,0,""]
[390,null,{"v":4219,"d":"42-19"},"други текущи трансфери за домакинствата",0,0,0,0,0,0,""]
[395,{"v":4300,"d":"43-00"},"Субсидии и други текущи трансфери за нефинансови предприятия ",null,{"$f":"SUM(E2466:E2468)","v":0},0,0,0,0,0,""]
[397,null,{"v":4301,"d":"43-01"},"за текуща дейност",0,{"$f":"G2466+H2466+I2466+J2466","v":0},0,0,0,0,""]
[398,null,{"v":4302,"d":"43-02"},"за осъществяване на болнична помощ ",0,0,0,0,0,0,""]
[399,null,{"v":4309,"d":"43-09"},"други субсидии и плащания",0,0,0,0,0,0,""]
[400,{"v":4400,"d":"44-00"},"Субсидии и други текущи трансфери за финансови институции",null,null,0,{"$nulls":4},""]
[401,{"v":4500,"d":"45-00"},"Субсидии и други текущи трансфери за юридически лица с нестопанска цел",null,null,0,{"$nulls":4},""]
[404,{"v":4600,"d":"46-00"},"Разходи за членски внос и участие в нетърговски организации и дейности",null,null,0,{"$nulls":4},""]
[404,{"v":4900,"d":"49-00"},"Предоставени текущи и капиталови трансфери за чужбина",null,{"$f":"+E2473+E2474","v":0},0,0,0,0,0,""]
[440,null,{"v":4901,"d":"49-01"},"текущи трансфери за чужбина",0,{"$f":"G2473+H2473+I2473+J2473","v":0},0,0,0,0,""]
[450,null,{"v":4902,"d":"49-02"},"капиталови трансфери за чужбина",0,{"$f":"G2474+H2474+I2474+J2474","v":0},0,0,0,0,""]
[495,{"v":5100,"d":"51-00"},"Основен ремонт на дълготрайни материални активи",null,null,{"$f":"G2475+H2475+I2475+J2475","v":0},{"$nulls":4},""]
[500,{"v":5200,"d":"52-00"},"Придобиване на дълготрайни материални активи",null,{"$f":"SUM(E2477:E2483)","v":0},0,0,0,0,0,""]
[505,null,{"v":5201,"d":"52-01"},"придобиване на компютри и хардуер",0,{"$f":"G2477+H2477+I2477+J2477","v":0},0,0,0,0,""]
[510,null,{"v":5202,"d":"52-02"},"придобиване на сгради",0,0,0,0,0,0,""]
[515,null,{"v":5203,"d":"52-03"},"придобиване на друго оборудване, машини и съоръжения",0,0,0,0,0,0,""]
[520,null,{"v":5204,"d":"52-04"},"придобиване на транспортни средства",0,0,0,0,0,0,""]
[525,null,{"v":5205,"d":"52-05"},"придобиване на стопански инвентар",0,0,0,0,0,0,""]
[635,null,{"v":5206,"d":"52-06"},"изграждане на инфраструктурни обекти",0,0,0,0,0,0,""]
[640,null,{"v":5219,"d":"52-19"},"придобиване на други ДМА",0,0,0,0,0,0,""]
[645,{"v":5300,"d":"53-00"},"Придобиване на нематериални дълготрайни активи",null,{"$f":"SUM(E2485:E2486)","v":0},0,0,0,0,0,""]
[650,null,{"v":5301,"d":"53-01"},"придобиване на програмни продукти и лицензи за програмни продукти",0,{"$f":"G2485+H2485+I2485+J2485","v":0},0,0,0,0,""]
[655,null,{"v":5309,"d":"53-09"},"придобиване на други нематериални дълготрайни активи",0,{"$f":"G2486+H2486+I2486+J2486","v":0},0,0,0,0,""]
[665,{"v":5400,"d":"54-00"},"Придобиване на земя",null,null,{"$f":"G2487+H2487+I2487+J2487","v":0},{"$nulls":4},""]
[675,{"v":5500,"d":"55-00"},"Капиталови трансфери",null,{"$f":"SUM(E2489:E2492)","v":0},0,0,0,0,0,""]
[685,null,{"v":5501,"d":"55-01"},"капиталови трансфери за нефинансови предприятия",0,{"$f":"G2489+H2489+I2489+J2489","v":0},0,0,0,0,""]
[690,null,{"v":5502,"d":"55-02"},"капиталови трансфери за финансови институции",0,{"$f":"G2490+H2490+I2490+J2490","v":0},0,0,0,0,""]
[695,null,{"v":5503,"d":"55-03"},"капиталови трансфери за организации с нестопанска цел",0,{"$f":"G2491+H2491+I2491+J2491","v":0},0,0,0,0,""]
[700,null,{"v":5504,"d":"55-04"},"капиталови трансфери за домакинствата",0,{"$f":"G2492+H2492+I2492+J2492","v":0},0,0,0,0,""]
[710,{"v":5700,"d":"57-00"},"Прираст на държавния резерв и изкупуване на земеделска продукция (включва и § 40-71)",null,{"$f":"SUM(E2494:E2496)","v":0},0,0,0,0,0,""]
[715,null,{"v":5701,"d":"57-01"},"плащания за попълване на държавния резерв",0,{"$f":"G2494+H2494+I2494+J2494","v":0},0,0,0,0,""]
[720,null,{"v":5702,"d":"57-02"},"плащания за изкупуване на земеделска продукция",0,{"$f":"G2495+H2495+I2495+J2495","v":0},0,0,0,0,""]
[725,null,{"v":4071,"d":"40-71"},"постъпления от продажба на държавния резерв (-)",0,{"$f":"G2496+H2496+I2496+J2496","v":0},0,0,0,0,""]
[730,{"$nulls":9},""]
[735,{"v":98,"d":"00-98"},"Резерв за непредвидени и неотложни разходи",null,null,{"$f":"G2498+H2498+I2498+J2498","v":0},0,0,0,0,""]
[740,{"$nulls":9},""]
[745,{"$nulls":9},""]
[750,{"$nulls":9},""]
[755,null,"99-99",{"$f":"+B2502","v":{"v":0,"d":"II. ОБЩО РАЗХОДИ ЗА ДЕЙНОСТ 0000"}},{"$f":"SUM(E2387,E2390,E2396,E2404,E2405,E2423,E2427,E2433,E2436,E2437,E2438,E2439,E2440,E2449,E2455,E2456,E2457,E2458,E2465,E2469,E2470,E2471,E2472,E2475,E2476,E2484,E2487,E2488,E2493)+E2498","v":0},0,0,0,0,0,"",{"$f":"LEFT(C2384,1)","v":"4"}]
[760,{"$nulls":9},{"$f":"K2502","v":""}]
[765,{"$nulls":9},{"$f":"K2502","v":""}]
[775,{"$nulls":9},{"$f":"(IF(SUM(K2516:K2537)<>0,$K$2,\"\"))","v":""}]
[780,{"$f":"$B$7","v":"ОТЧЕТНИ ДАННИ ПО ЕБК ЗА ИЗПЪЛНЕНИЕТО НА БЮДЖЕТА"},{"$nulls":8},{"$f":"(IF(SUM(K2516:K2537)<>0,$K$2,\"\"))","v":""}]
[785,{"$nulls":3},"за периода от ","до",{"$nulls":4},{"$f":"(IF(SUM(K2516:K2537)<>0,$K$2,\"\"))","v":""}]
[790,{"$f":"$B$9","v":"РЕГИОНАЛНА ЗДРАВНА ИНСПЕКЦИЯ-БУРГАС"},null,null,{"$f":"$E$9","v":"2021-01-01"},{"$f":"$F$9","v":"2021-12-31"},{"$nulls":4},{"$f":"(IF(SUM(K2516:K2537)<>0,$K$2,\"\"))","v":""}]
[795,{"$f":"$B$10","v":"                                                            (наименование на разпоредителя с бюджет)"},{"$nulls":8},{"$f":"(IF(SUM(K2516:K2537)<>0,$K$2,\"\"))","v":""}]
[805,{"$nulls":9},{"$f":"(IF(SUM(K2516:K2537)<>0,$K$2,\"\"))","v":""}]
[810,{"$f":"$B$12","v":{"$error":"#N/A"}},null,null,"       код по ЕБК:",{"$f":"$F$12","v":"0"},{"$nulls":4},{"$f":"(IF(SUM(K2516:K2537)<>0,$K$2,\"\"))","v":""}]
[815,{"$f":"$B$13","v":"                                             (наименование на първостепенния разпоредител с бюджет)"},{"$nulls":8},{"$f":"(IF(SUM(K2516:K2537)<>0,$K$2,\"\"))","v":""}]
[525,null,null,"               ФИНАНСОВО-ПРАВНА ФОРМА",{"$f":"$E$15","v":0},{"$f":"$F$15","v":"БЮДЖЕТ"},{"$nulls":4},{"$f":"(IF(SUM(K2516:K2537)<>0,$K$2,\"\"))","v":""}]
[820,null,null,"Натурални и други показатели за дейността",null,"(в лева)",{"$nulls":4},{"$f":"(IF(SUM(K2516:K2537)<>0,$K$2,\"\"))","v":""}]
[821,"МЯРКА","Код 9 8","  О б щ и   н а т у р а л н и   п о к а з а т е л и","    П л а н","    О т ч е т ",{"$nulls":4},{"$f":"(IF(SUM(K2516:K2537)<>0,$K$2,\"\"))","v":""}]
[822,null," 9 8 0 1","Щ а т н и   б р о й к и",{"$f":"E2517+E2518","v":0},{"$f":"F2517+F2518","v":0},{"$nulls":4},{"$f":"(IF($E2516<>0,$K$2,IF($F2516<>0,$K$2,\"\")))","v":""}]
[823,null," 9 8 1 1","в т.ч.: по трудови правоотношения",0,0,{"$nulls":4},""]
[825,null," 9 8 1 2","           по служебни правоотношения",0,0,{"$nulls":4},""]
[null,null," 9 8 0 2","Средногодишни щатни бройки",{"$f":"E2520+E2521","v":0},{"$f":"F2520+F2521","v":0},{"$nulls":4},""]
[null,null," 9 8 2 1","в т.ч.: по трудови правоотношения",0,0,{"$nulls":4},""]
[null,null," 9 8 2 2","         по служебни правоотношения",0,0,{"$nulls":4},""]
[null,null," 9 8 0 3","Средна годишна брутна заплата",0,0,{"$nulls":4},""]
[null,null," 9 8 3 1"," в т.ч.:   по трудови правоотношения",0,0,{"$nulls":4},""]
[null,null," 9 8 3 2","            по служебни правоотношения",0,0,{"$nulls":4},""]
[null,null," 9 8 0 4","Брой на моторни превозни средства",0,0,{"$nulls":4},""]
[null,null,"9 8 0 5","- в т.ч. - леки автомобили",0,0,{"$nulls":4},""]
[null,null,"9 8 0 6","             - санитарни линейки",0,0,{"$nulls":4},""]
[null,null," 9 8 0 7","Брой ученици, финансирани по единни разходни стандарти",0,0,{"$nulls":4},""]
[null,null," 9 8 0 8","Средна годишна брутна заплата на делегирани бюджети",0,0,{"$nulls":4},""]
[null,null," 9 8 0 9","Щатни бройки на делегирани бюджети",0,0,{"$nulls":4},""]
[null,null," 9 8 1 0","Средногодишни щатни бройки на делегирани бюджети",0,0,{"$nulls":4},""]
[null,null,"9 8 1 3","Средногодишен приравнен брой учащи във ВУ, финансирани по норматив за издръжка на обучението",0,0,{"$nulls":4},""]
[null,null,"9 8 1 4","Брой леглодни в студентски общежития",0,0,{"$nulls":4},""]
[905,null,"9 8 1 5","Брой хранодни в студентски стол",0,0,{"$nulls":4},""]
[906,null,"9 8 1 7","Болнични легла",0,0,{"$nulls":4},""]
[907,null,"9 8 1 8","Обем радиопрограма /часове/",0,0,{"$nulls":4},""]
[910,null,"9 8 1 9","Обем телевизионна програма /часове/",0,0,{"$nulls":4},""]
[911,"МЯРКА","Код  ","Разходи в областта на електронното управление и за използваните информационни и комуникационни технологии","    П л а н","    О т ч е т ",{"$nulls":4},{"$f":"(IF($E2539<>0,$K$2,IF($F2539<>0,$K$2,\"\")))","v":""}]
[null,null,"9 8 5 0","Общо разходи в областта на ЕУ и за използваните ИКТ",{"$f":"E2540+E2541","v":0},{"$f":"F2540+F2541","v":0},{"$nulls":4},""]
[null,null,"9 8 5 1","Текущи разходи в областта на ЕУ и за използваните ИКТ",0,0,{"$nulls":4},""]
[null,null,"9 8 5 2","Капиталови разходи в областта на ЕУ и за използваните ИКТ",0,0,{"$nulls":4},""]
[null,"ЗАБЕЛЕЖКА:",{"$nulls":8},{"$f":"K2502","v":""}]
[null," За натурални показатели, не влючени в този отчет, специфични за конкретна дейност се представят отделни справки, допълнително определени от Министерство на финансите.",{"$nulls":8},{"$f":"K2502","v":""}]
[]
[{"$nulls":10},{"$f":"(IF($E2678<>0,$K$2,IF($F2678<>0,$K$2,IF($G2678<>0,$K$2,IF($H2678<>0,$K$2,IF($I2678<>0,$K$2,IF($J2678<>0,$K$2,\"\")))))))","v":1}]
[{"$nulls":10},{"$f":"(IF($E2678<>0,$K$2,IF($F2678<>0,$K$2,IF($G2678<>0,$K$2,IF($H2678<>0,$K$2,IF($I2678<>0,$K$2,IF($J2678<>0,$K$2,\"\")))))))","v":1}]
[null,{"$f":"$B$7","v":"ОТЧЕТНИ ДАННИ ПО ЕБК ЗА ИЗПЪЛНЕНИЕТО НА БЮДЖЕТА"},{"$nulls":8},{"$f":"(IF($E2678<>0,$K$2,IF($F2678<>0,$K$2,IF($G2678<>0,$K$2,IF($H2678<>0,$K$2,IF($I2678<>0,$K$2,IF($J2678<>0,$K$2,\"\")))))))","v":1}]
[{"$nulls":4},"за периода от ","до",null,"                 II.1. РАЗХОДИ ПО ДЕЙНОСТИ",null,null,{"$f":"(IF($E2678<>0,$K$2,IF($F2678<>0,$K$2,IF($G2678<>0,$K$2,IF($H2678<>0,$K$2,IF($I2678<>0,$K$2,IF($J2678<>0,$K$2,\"\")))))))","v":1}]
[null,{"$f":"$B$9","v":"РЕГИОНАЛНА ЗДРАВНА ИНСПЕКЦИЯ-БУРГАС"},null,null,{"$f":"$E$9","v":"2021-01-01"},{"$f":"$F$9","v":"2021-12-31"},{"$nulls":4},{"$f":"(IF($E2678<>0,$K$2,IF($F2678<>0,$K$2,IF($G2678<>0,$K$2,IF($H2678<>0,$K$2,IF($I2678<>0,$K$2,IF($J2678<>0,$K$2,\"\")))))))","v":1}]
[null,{"$f":"$B$10","v":"                                                            (наименование на разпоредителя с бюджет)"},{"$nulls":8},{"$f":"(IF($E2678<>0,$K$2,IF($F2678<>0,$K$2,IF($G2678<>0,$K$2,IF($H2678<>0,$K$2,IF($I2678<>0,$K$2,IF($J2678<>0,$K$2,\"\")))))))","v":1}]
[{"$nulls":10},{"$f":"(IF($E2678<>0,$K$2,IF($F2678<>0,$K$2,IF($G2678<>0,$K$2,IF($H2678<>0,$K$2,IF($I2678<>0,$K$2,IF($J2678<>0,$K$2,\"\")))))))","v":1}]
[null,{"$f":"$B$12","v":{"$error":"#N/A"}},null,null,"       код по ЕБК:",{"$f":"$F$12","v":"0"},{"$nulls":4},{"$f":"(IF($E2678<>0,$K$2,IF($F2678<>0,$K$2,IF($G2678<>0,$K$2,IF($H2678<>0,$K$2,IF($I2678<>0,$K$2,IF($J2678<>0,$K$2,\"\")))))))","v":1}]
[null,{"$f":"$B$13","v":"                                             (наименование на първостепенния разпоредител с бюджет)"},{"$nulls":8},{"$f":"(IF($E2678<>0,$K$2,IF($F2678<>0,$K$2,IF($G2678<>0,$K$2,IF($H2678<>0,$K$2,IF($I2678<>0,$K$2,IF($J2678<>0,$K$2,\"\")))))))","v":1}]
[{"$nulls":3},"ФИНАНСОВО-ПРАВНА ФОРМА",{"$f":"$E$15","v":0},{"$f":"$F$15","v":"БЮДЖЕТ"},{"$nulls":4},{"$f":"(IF($E2678<>0,$K$2,IF($F2678<>0,$K$2,IF($G2678<>0,$K$2,IF($H2678<>0,$K$2,IF($I2678<>0,$K$2,IF($J2678<>0,$K$2,\"\")))))))","v":1}]
[{"$nulls":9},"(в лева)",{"$f":"(IF($E2678<>0,$K$2,IF($F2678<>0,$K$2,IF($G2678<>0,$K$2,IF($H2678<>0,$K$2,IF($I2678<>0,$K$2,IF($J2678<>0,$K$2,\"\")))))))","v":1}]
[{"$nulls":3},"II.1. РАЗХОДИ ПО ДЕЙНОСТИ","Уточнен план","                                                                                                                              О Т Ч Е Т Н И   Д А Н Н И",{"$nulls":4},{"$f":"(IF($E2678<>0,$K$2,IF($F2678<>0,$K$2,IF($G2678<>0,$K$2,IF($H2678<>0,$K$2,IF($I2678<>0,$K$2,IF($J2678<>0,$K$2,\"\")))))))","v":1}]
[null,"§§","под-§§","НАИМЕНОВАНИЯ НА ПАРАГРАФИТЕ И ПОДПАРАГРАФИТЕ",{"$f":"$C$3","v":2021},"ОБЩО","левови\n сметки и СЕБРА ","валутни \nсметки ","операции в брой (в левове и валута)","операции приравнени на касов поток",{"$f":"(IF($E2678<>0,$K$2,IF($F2678<>0,$K$2,IF($G2678<>0,$K$2,IF($H2678<>0,$K$2,IF($I2678<>0,$K$2,IF($J2678<>0,$K$2,\"\")))))))","v":1}]
[{"$nulls":3}," 02 ¦","(1)","(2)","(3)","(4)","(5)","(6)",{"$f":"(IF($E2678<>0,$K$2,IF($F2678<>0,$K$2,IF($G2678<>0,$K$2,IF($H2678<>0,$K$2,IF($I2678<>0,$K$2,IF($J2678<>0,$K$2,\"\")))))))","v":1}]
[null,null,0,"ИЗБЕРЕТЕ ОПЕРАТИВНА ПРОГРАМА ",{"$nulls":6},{"$f":"(IF($E2678<>0,$K$2,IF($F2678<>0,$K$2,IF($G2678<>0,$K$2,IF($H2678<>0,$K$2,IF($I2678<>0,$K$2,IF($J2678<>0,$K$2,\"\")))))))","v":1}]
[null,null,{"$f":"VLOOKUP(D2561,EBK_DEIN2,2,FALSE)","v":4467},"<------          ДЕЙНОСТ    -  код  по  ЕБК",{"$nulls":6},{"$f":"(IF($E2678<>0,$K$2,IF($F2678<>0,$K$2,IF($G2678<>0,$K$2,IF($H2678<>0,$K$2,IF($I2678<>0,$K$2,IF($J2678<>0,$K$2,\"\")))))))","v":1}]
[null,null,{"$f":"+C2560","v":4467},"467 Национални програми",{"$nulls":6},{"$f":"(IF($E2678<>0,$K$2,IF($F2678<>0,$K$2,IF($G2678<>0,$K$2,IF($H2678<>0,$K$2,IF($I2678<>0,$K$2,IF($J2678<>0,$K$2,\"\")))))))","v":1}]
[{"$nulls":3},"(наименование на дейността)",{"$nulls":6},{"$f":"(IF($E2678<>0,$K$2,IF($F2678<>0,$K$2,IF($G2678<>0,$K$2,IF($H2678<>0,$K$2,IF($I2678<>0,$K$2,IF($J2678<>0,$K$2,\"\")))))))","v":1}]
[null,{"v":100,"d":"01-00"},"Заплати и възнаграждения за персонала, нает по трудови и служебни правоотношения",null,{"$f":"SUM(E2564:E2565)","v":0},0,0,0,0,0,{"$f":"(IF($E2563<>0,$K$2,IF($F2563<>0,$K$2,IF($G2563<>0,$K$2,IF($H2563<>0,$K$2,IF($I2563<>0,$K$2,IF($J2563<>0,$K$2,\"\")))))))","v":""}]
[null,null,{"v":101,"d":"01-01"},"заплати и възнаграждения на персонала нает по трудови правоотношения",0,{"$f":"G2564+H2564+I2564+J2564","v":0},0,0,0,0,{"$f":"(IF($E2564<>0,$K$2,IF($F2564<>0,$K$2,IF($G2564<>0,$K$2,IF($H2564<>0,$K$2,IF($I2564<>0,$K$2,IF($J2564<>0,$K$2,\"\")))))))","v":""}]
[null,null,{"v":102,"d":"01-02"},"заплати и възнаграждения на персонала нает по служебни правоотношения",0,{"$f":"G2565+H2565+I2565+J2565","v":0},0,0,0,0,""]
[null,{"v":200,"d":"02-00"},"Други възнаграждения и плащания за персонала",null,{"$f":"SUM(E2567:E2571)","v":0},0,0,0,0,0,""]
[null,null,{"v":201,"d":"02-01"},"за нещатен персонал нает по трудови правоотношения ",0,{"$f":"G2567+H2567+I2567+J2567","v":0},0,0,0,0,""]
[null,null,{"v":202,"d":"02-02"},"за персонала по извънтрудови правоотношения",0,{"$f":"G2568+H2568+I2568+J2568","v":0},0,0,0,0,""]
[null,null,{"v":205,"d":"02-05"},"изплатени суми от СБКО за облекло и други на персонала, с характер на възнаграждение",0,{"$f":"G2569+H2569+I2569+J2569","v":0},0,0,0,0,""]
[null,null,{"v":208,"d":"02-08"},"обезщетения за персонала, с характер на възнаграждение",0,{"$f":"G2570+H2570+I2570+J2570","v":0},0,0,0,0,""]
[null,null,{"v":209,"d":"02-09"},"другиплащания и възнаграждения",0,{"$f":"G2571+H2571+I2571+J2571","v":0},0,0,0,0,""]
[null,{"v":500,"d":"05-00"},"Задължителни осигурителни вноски от работодатели",null,{"$f":"SUM(E2573:E2579)","v":0},0,0,0,0,0,""]
[null,null,{"v":551,"d":"05-51"},"осигурителни вноски от работодатели за Държавното обществено осигуряване (ДОО)",0,{"$f":"G2573+H2573+I2573+J2573","v":0},0,0,0,0,""]
[null,null,{"$f":"C2573+1","v":{"v":552,"d":"05-52"}},"осигурителни вноски от работодатели за Учителския пенсионен фонд (УПФ)",0,0,0,0,0,0,""]
[null,null,{"v":558,"d":"05-58"},"вноски по чл. 4б и 4в от КСО за сметка на осигурителя",null,{"$f":"G2575+H2575+I2575+J2575","v":0},0,0,0,0,""]
[null,null,{"v":560,"d":"05-60"},"здравно-осигурителни вноски от работодатели",0,0,0,0,0,0,""]
[null,null,{"v":580,"d":"05-80"},"вноски за допълнително задължително осигуряване от работодатели",0,0,0,0,0,0,""]
[null,null,{"v":588,"d":"05-88"},"коректив на вноски за ДЗПО за сумите по чл. 4б и 4в от КСО за сметка на осигурителя",null,{"$f":"G2578+H2578+I2578+J2578","v":0},0,0,0,0,""]
[null,null,{"v":590,"d":"05-90"},"задължителни вноски за чуждестранни пенсионни фондове и  схеми за сметка на осигурителя",0,0,0,0,0,0,""]
[5,{"v":800,"d":"08-00"},"Вноски за доброволно осигуряване ",null,null,0,{"$nulls":4},""]
[10,{"v":1000,"d":"10-00"},"Издръжка",null,{"$f":"SUM(E2582:E2598)","v":{"v":16012,"d":"16,012"}},{"v":16005,"d":"16,005"},{"v":16005,"d":"16,005"},0,0,0,1]
[15,null,{"v":1011,"d":"10-11"},"Храна",0,{"$f":"G2582+H2582+I2582+J2582","v":0},0,0,0,0,""]
[35,null,{"v":1012,"d":"10-12"},"Медикаменти",0,0,0,0,0,0,""]
[40,null,{"v":1013,"d":"10-13"},"Постелен инвентар и облекло",0,0,0,0,0,0,""]
[45,null,{"v":1014,"d":"10-14"},"Учебни и научно-изследователски разходи и книги за библиотеките",0,0,0,0,0,0,""]
[50,null,{"v":1015,"d":"10-15"},"материали",{"v":9270,"d":"9,270"},{"v":13885,"d":"13,885"},{"v":13885,"d":"13,885"},0,0,0,1]
[55,null,{"v":1016,"d":"10-16"},"вода, горива и енергия",0,0,0,0,0,0,""]
[60,null,{"v":1020,"d":"10-20"},"разходи за външни услуги",{"v":6742,"d":"6,742"},{"v":2120,"d":"2,120"},{"v":2120,"d":"2,120"},0,0,0,1]
[65,null,{"v":1030,"d":"10-30"},"Текущ ремонт",0,0,0,0,0,0,""]
[70,null,{"v":1051,"d":"10-51"},"командировки в страната",0,0,0,0,0,0,""]
[75,null,{"v":1052,"d":"10-52"},"краткосрочни командировки в чужбина",0,0,0,0,0,0,""]
[80,null,{"v":1053,"d":"10-53"},"дългосрочни командировки в чужбина",0,0,0,0,0,0,""]
[80,null,{"v":1062,"d":"10-62"},"разходи за застраховки",0,0,0,0,0,0,""]
[85,null,{"v":1063,"d":"10-63"},"такса ангажимент по заеми",0,0,0,0,0,0,""]
[90,null,{"v":1069,"d":"10-69"},"други финансови услуги",0,0,0,0,0,0,""]
[90,null,{"v":1091,"d":"10-91"},"други разходи за СБКО",0,0,0,0,0,0,""]
[115,null,{"v":1092,"d":"10-92"},"разходи за договорни санкции и неустойки, съдебни обезщетения и разноски",0,0,0,0,0,0,""]
[125,null,{"v":1098,"d":"10-98"},"други разходи, некласифицирани в другите параграфи и подпараграфи",0,0,0,0,0,0,""]
[130,{"v":1900,"d":"19-00"},"Платени данъци, такси и административни санкции",null,{"$f":"SUM(E2600:E2602)","v":0},0,0,0,0,0,""]
[135,null,{"v":1901,"d":"19-01"},"платени държавни данъци, такси, наказателни лихви и административни санкции",0,{"$f":"G2600+H2600+I2600+J2600","v":0},0,0,0,0,""]
[140,null,{"v":1981,"d":"19-81"},"платени общински данъци, такси, наказателни лихви и административни санкции",0,{"$f":"G2601+H2601+I2601+J2601","v":0},0,0,0,0,""]
[145,null,{"v":1991,"d":"19-91"},"платени данъци, такси, наказателни лихви и административни санкции в чужбина",0,{"$f":"G2602+H2602+I2602+J2602","v":0},0,0,0,0,""]
[150,{"v":2100,"d":"21-00"},"Разходи за лихви по емисии на държавни (общински) ценни книжа",null,{"$f":"SUM(E2604:E2608)","v":0},0,0,0,0,0,""]
[155,null,{"v":2110,"d":"21-10"},"лихви по държавни (общински) ценни книжа",0,{"$f":"G2604+H2604+I2604+J2604","v":0},0,0,0,0,""]
[160,null,{"v":2120,"d":"21-20"},"отстъпки по държавни (общински) ценни книжа",0,{"$f":"G2605+H2605+I2605+J2605","v":0},0,0,0,0,""]
[165,null,{"v":2125,"d":"21-25"},"лихви и отстъпки по целеви емисии на държавни ценни книжа",0,{"$f":"G2606+H2606+I2606+J2606","v":0},0,0,0,0,""]
[175,null,{"v":2140,"d":"21-40"},"лихви по държавни ценни книжа, емитирани за структурната реформа ",0,{"$f":"G2607+H2607+I2607+J2607","v":0},0,0,0,0,""]
[180,null,{"v":2190,"d":"21-90"},"премии над номинала от емисии на държавни (общински) ценни книжа (-)",0,{"$f":"G2608+H2608+I2608+J2608","v":0},0,0,0,0,""]
[185,{"v":2200,"d":"22-00"},"Разходи за лихви по заеми от страната",null,{"$f":"SUM(E2610:E2611)","v":0},0,0,0,0,0,""]
[190,null,{"v":2221,"d":"22-21"},"Разходи за лихви по заеми от банки в страната",0,{"$f":"G2610+H2610+I2610+J2610","v":0},0,0,0,0,""]
[200,null,{"v":2224,"d":"22-24"},"Разходи за лихви по други заеми от страната",0,0,0,0,0,0,""]
[200,{"v":2500,"d":"25-00"},"Разходи за лихви по заеми от други държави",null,null,0,{"$nulls":4},""]
[205,{"v":2600,"d":"26-00"},"Разходи за лихви по заеми от международни организации и институции",null,null,0,{"$nulls":4},""]
[210,{"v":2700,"d":"27-00"},"Разходи за лихви по заеми от банки и други финансови институции от чужбина",null,null,0,{"$nulls":4},""]
[215,{"v":2800,"d":"28-00"},"Разходи за лихви и отстъпки по облигации, емитирани и търгувани на международните капиталови пазари",null,null,0,{"$nulls":4},""]
[220,{"v":2900,"d":"29-00"},"Други разходи за лихви",null,{"$f":"SUM(E2617:E2624)","v":0},0,0,0,0,0,""]
[225,null,{"v":2910,"d":"29-10"},"Платени лихви по финансов лизинг и търговски кредит",null,{"$f":"G2617+H2617+I2617+J2617","v":0},{"$nulls":4},""]
[230,null,{"v":2920,"d":"29-20"},"Платени лихви по активирани гаранции по заеми от  банки в страната",0,{"$f":"G2618+H2618+I2618+J2618","v":0},0,0,0,0,""]
[245,null,{"v":2969,"d":"29-69"},"Платени лихви по активирани гаранции по заеми от международни организации и институции",0,0,0,0,0,0,""]
[220,null,{"v":2970,"d":"29-70"},"Платени лихви по активирани гаранции по заеми от банки и финансови институции от чужбина",null,0,{"$nulls":4},""]
[225,null,{"v":2989,"d":"29-89"},"Възстановени суми по платени лихви по активирани гаранции (-)",0,0,0,0,0,0,""]
[230,null,{"v":2990,"d":"29-90"},"Платени лихви по заеми, предоставени от централния бюджет и бюджетни организации",null,{"$f":"G2622+H2622+I2622+J2622","v":0},{"$nulls":4},""]
[235,null,{"v":2991,"d":"29-91"},"Други разходи за лихви към  местни лица",0,0,0,0,0,0,""]
[240,null,{"v":2992,"d":"29-92"},"Други разходи за лихви към чуждестранни лица",0,0,0,0,0,0,""]
[245,{"v":3300,"d":"33-00"},"Вноска в общия бюджет на Европейския съюз",null,{"$f":"SUM(E2626:E2630)","v":0},0,0,0,0,0,""]
[250,null,{"v":3301,"d":"33-01"},"ресурс на база брутен национален доход",0,{"$f":"G2626+H2626+I2626+J2626","v":0},0,0,0,0,""]
[255,null,{"v":3302,"d":"33-02"},"ресурс на база данък върху добавената стойност",0,0,0,0,0,0,""]
[265,null,{"v":3304,"d":"33-04"},"традиционни собствени ресурси - мита",0,0,0,0,0,0,""]
[270,null,{"v":3306,"d":"33-06"},"участие във финансирането на брутното намаление за Австрия, Дания, Германия, Нидерландия и Швеция",0,0,0,0,0,0,""]
[290,null,{"v":3307,"d":"33-07"},"ресурс на база нерециклираните отпадъци от опаковки от пластмаса",0,0,0,0,0,0,""]
[320,{"v":3900,"d":"39-00"},"Здравно-осигурителни плащания",null,null,0,{"$nulls":4},{"$f":"(IF($E2631<>0,$K$2,IF($F2631<>0,$K$2,IF($G2631<>0,$K$2,IF($H2631<>0,$K$2,IF($I2631<>0,$K$2,IF($J2631<>0,$K$2,\"\")))))))","v":""}]
[330,{"v":4000,"d":"40-00"},"Стипендии",null,0,0,0,0,0,0,""]
[350,{"v":4100,"d":"41-00"},"Пенсии",null,null,0,{"$nulls":4},""]
[355,{"v":4200,"d":"42-00"},"Текущи трансфери, обезщетения и помощи за домакинствата",null,{"$f":"SUM(E2635:E2640)","v":0},0,0,0,0,0,""]
[375,null,{"v":4201,"d":"42-01"},"обезщетения и помощи по социалното осигуряване",0,{"$f":"G2635+H2635+I2635+J2635","v":0},0,0,0,0,""]
[375,null,{"v":4202,"d":"42-02"},"обезщетения и помощи по социалното подпомагане",0,0,0,0,0,0,""]
[380,null,{"v":4214,"d":"42-14"},"обезщетения и помощи по решение на общинския съвет",0,0,0,0,0,0,""]
[385,null,{"v":4217,"d":"42-17"},"текущи трансфери за домакинства от средства на Европейския съюз",0,0,0,0,0,0,""]
[390,null,{"v":4218,"d":"42-18"},"текущи трансфери за домакинства по други международни програми и споразумения",0,0,0,0,0,0,""]
[390,null,{"v":4219,"d":"42-19"},"други текущи трансфери за домакинствата",0,0,0,0,0,0,""]
[395,{"v":4300,"d":"43-00"},"Субсидии и други текущи трансфери за нефинансови предприятия ",null,{"$f":"SUM(E2642:E2644)","v":0},0,0,0,0,0,""]
[397,null,{"v":4301,"d":"43-01"},"за текуща дейност",0,{"$f":"G2642+H2642+I2642+J2642","v":0},0,0,0,0,""]
[398,null,{"v":4302,"d":"43-02"},"за осъществяване на болнична помощ ",0,0,0,0,0,0,""]
[399,null,{"v":4309,"d":"43-09"},"други субсидии и плащания",0,0,0,0,0,0,""]
[400,{"v":4400,"d":"44-00"},"Субсидии и други текущи трансфери за финансови институции",null,null,0,{"$nulls":4},""]
[401,{"v":4500,"d":"45-00"},"Субсидии и други текущи трансфери за юридически лица с нестопанска цел",null,null,0,0,0,0,0,""]
[404,{"v":4600,"d":"46-00"},"Разходи за членски внос и участие в нетърговски организации и дейности",null,null,0,{"$nulls":4},""]
[404,{"v":4900,"d":"49-00"},"Предоставени текущи и капиталови трансфери за чужбина",null,{"$f":"+E2649+E2650","v":0},0,0,0,0,0,""]
[440,null,{"v":4901,"d":"49-01"},"текущи трансфери за чужбина",0,{"$f":"G2649+H2649+I2649+J2649","v":0},0,0,0,0,""]
[450,null,{"v":4902,"d":"49-02"},"капиталови трансфери за чужбина",0,{"$f":"G2650+H2650+I2650+J2650","v":0},0,0,0,0,""]
[495,{"v":5100,"d":"51-00"},"Основен ремонт на дълготрайни материални активи",null,null,{"$f":"G2651+H2651+I2651+J2651","v":0},{"$nulls":4},""]
[500,{"v":5200,"d":"52-00"},"Придобиване на дълготрайни материални активи",null,{"$f":"SUM(E2653:E2659)","v":0},0,0,0,0,0,""]
[505,null,{"v":5201,"d":"52-01"},"придобиване на компютри и хардуер",0,{"$f":"G2653+H2653+I2653+J2653","v":0},0,0,0,0,""]
[510,null,{"v":5202,"d":"52-02"},"придобиване на сгради",0,0,0,0,0,0,""]
[515,null,{"v":5203,"d":"52-03"},"придобиване на друго оборудване, машини и съоръжения",0,0,0,0,0,0,""]
[520,null,{"v":5204,"d":"52-04"},"придобиване на транспортни средства",0,0,0,0,0,0,""]
[525,null,{"v":5205,"d":"52-05"},"придобиване на стопански инвентар",0,0,0,0,0,0,""]
[635,null,{"v":5206,"d":"52-06"},"изграждане на инфраструктурни обекти",0,0,0,0,0,0,""]
[640,null,{"v":5219,"d":"52-19"},"придобиване на други ДМА",0,0,0,0,0,0,""]
[645,{"v":5300,"d":"53-00"},"Придобиване на нематериални дълготрайни активи",null,{"$f":"SUM(E2661:E2662)","v":0},0,0,0,0,0,""]
[650,null,{"v":5301,"d":"53-01"},"придобиване на програмни продукти и лицензи за програмни продукти",0,{"$f":"G2661+H2661+I2661+J2661","v":0},0,0,0,0,""]
[655,null,{"v":5309,"d":"53-09"},"придобиване на други нематериални дълготрайни активи",0,{"$f":"G2662+H2662+I2662+J2662","v":0},0,0,0,0,""]
[665,{"v":5400,"d":"54-00"},"Придобиване на земя",null,null,{"$f":"G2663+H2663+I2663+J2663","v":0},{"$nulls":4},""]
[675,{"v":5500,"d":"55-00"},"Капиталови трансфери",null,{"$f":"SUM(E2665:E2668)","v":0},0,0,0,0,0,""]
[685,null,{"v":5501,"d":"55-01"},"капиталови трансфери за нефинансови предприятия",0,{"$f":"G2665+H2665+I2665+J2665","v":0},0,0,0,0,""]
[690,null,{"v":5502,"d":"55-02"},"капиталови трансфери за финансови институции",0,{"$f":"G2666+H2666+I2666+J2666","v":0},0,0,0,0,""]
[695,null,{"v":5503,"d":"55-03"},"капиталови трансфери за организации с нестопанска цел",0,{"$f":"G2667+H2667+I2667+J2667","v":0},0,0,0,0,""]
[700,null,{"v":5504,"d":"55-04"},"капиталови трансфери за домакинствата",0,{"$f":"G2668+H2668+I2668+J2668","v":0},0,0,0,0,""]
[710,{"v":5700,"d":"57-00"},"Прираст на държавния резерв и изкупуване на земеделска продукция (включва и § 40-71)",null,{"$f":"SUM(E2670:E2672)","v":0},0,0,0,0,0,""]
[715,null,{"v":5701,"d":"57-01"},"плащания за попълване на държавния резерв",0,{"$f":"G2670+H2670+I2670+J2670","v":0},0,0,0,0,""]
[720,null,{"v":5702,"d":"57-02"},"плащания за изкупуване на земеделска продукция",0,{"$f":"G2671+H2671+I2671+J2671","v":0},0,0,0,0,""]
[725,null,{"v":4071,"d":"40-71"},"постъпления от продажба на държавния резерв (-)",0,{"$f":"G2672+H2672+I2672+J2672","v":0},0,0,0,0,""]
[730,{"$nulls":9},""]
[735,{"v":98,"d":"00-98"},"Резерв за непредвидени и неотложни разходи",null,null,{"$f":"G2674+H2674+I2674+J2674","v":0},0,0,0,0,""]
[740,{"$nulls":9},""]
[745,{"$nulls":9},""]
[750,{"$nulls":9},""]
[755,null,"99-99",{"$f":"+B2678","v":{"v":0,"d":"II. ОБЩО РАЗХОДИ ЗА ДЕЙНОСТ 0000"}},{"$f":"SUM(E2563,E2566,E2572,E2580,E2581,E2599,E2603,E2609,E2612,E2613,E2614,E2615,E2616,E2625,E2631,E2632,E2633,E2634,E2641,E2645,E2646,E2647,E2648,E2651,E2652,E2660,E2663,E2664,E2669)+E2674","v":{"v":16012,"d":"16,012"}},{"v":16005,"d":"16,005"},{"v":16005,"d":"16,005"},0,0,0,1,{"$f":"LEFT(C2560,1)","v":"4"}]
[760,{"$nulls":9},{"$f":"K2678","v":1}]
[765,{"$nulls":9},{"$f":"K2678","v":1}]
[775,{"$nulls":9},{"$f":"(IF(SUM(K2692:K2713)<>0,$K$2,\"\"))","v":""}]
[780,{"$f":"$B$7","v":"ОТЧЕТНИ ДАННИ ПО ЕБК ЗА ИЗПЪЛНЕНИЕТО НА БЮДЖЕТА"},{"$nulls":8},{"$f":"(IF(SUM(K2692:K2713)<>0,$K$2,\"\"))","v":""}]
[785,{"$nulls":3},"за периода от ","до",{"$nulls":4},{"$f":"(IF(SUM(K2692:K2713)<>0,$K$2,\"\"))","v":""}]
[790,{"$f":"$B$9","v":"РЕГИОНАЛНА ЗДРАВНА ИНСПЕКЦИЯ-БУРГАС"},null,null,{"$f":"$E$9","v":"2021-01-01"},{"$f":"$F$9","v":"2021-12-31"},{"$nulls":4},{"$f":"(IF(SUM(K2692:K2713)<>0,$K$2,\"\"))","v":""}]
[795,{"$f":"$B$10","v":"                                                            (наименование на разпоредителя с бюджет)"},{"$nulls":8},{"$f":"(IF(SUM(K2692:K2713)<>0,$K$2,\"\"))","v":""}]
[805,{"$nulls":9},{"$f":"(IF(SUM(K2692:K2713)<>0,$K$2,\"\"))","v":""}]
[810,{"$f":"$B$12","v":{"$error":"#N/A"}},null,null,"       код по ЕБК:",{"$f":"$F$12","v":"0"},{"$nulls":4},{"$f":"(IF(SUM(K2692:K2713)<>0,$K$2,\"\"))","v":""}]
[815,{"$f":"$B$13","v":"                                             (наименование на първостепенния разпоредител с бюджет)"},{"$nulls":8},{"$f":"(IF(SUM(K2692:K2713)<>0,$K$2,\"\"))","v":""}]
[525,null,null,"               ФИНАНСОВО-ПРАВНА ФОРМА",{"$f":"$E$15","v":0},{"$f":"$F$15","v":"БЮДЖЕТ"},{"$nulls":4},{"$f":"(IF(SUM(K2692:K2713)<>0,$K$2,\"\"))","v":""}]
[820,null,null,"Натурални и други показатели за дейността",null,"(в лева)",{"$nulls":4},{"$f":"(IF(SUM(K2692:K2713)<>0,$K$2,\"\"))","v":""}]
[821,"МЯРКА","Код 9 8","  О б щ и   н а т у р а л н и   п о к а з а т е л и","    П л а н","    О т ч е т ",{"$nulls":4},{"$f":"(IF(SUM(K2692:K2713)<>0,$K$2,\"\"))","v":""}]
[822,null," 9 8 0 1","Щ а т н и   б р о й к и",{"$f":"E2693+E2694","v":0},{"$f":"F2693+F2694","v":0},{"$nulls":4},{"$f":"(IF($E2692<>0,$K$2,IF($F2692<>0,$K$2,\"\")))","v":""}]
[823,null," 9 8 1 1","в т.ч.: по трудови правоотношения",0,0,{"$nulls":4},""]
[825,null," 9 8 1 2","           по служебни правоотношения",0,0,{"$nulls":4},""]
[null,null," 9 8 0 2","Средногодишни щатни бройки",{"$f":"E2696+E2697","v":0},{"$f":"F2696+F2697","v":0},{"$nulls":4},""]
[null,null," 9 8 2 1","в т.ч.: по трудови правоотношения",0,0,{"$nulls":4},""]
[null,null," 9 8 2 2","         по служебни правоотношения",0,0,{"$nulls":4},""]
[null,null," 9 8 0 3","Средна годишна брутна заплата",0,0,{"$nulls":4},""]
[null,null," 9 8 3 1"," в т.ч.:   по трудови правоотношения",0,0,{"$nulls":4},""]
[null,null," 9 8 3 2","            по служебни правоотношения",0,0,{"$nulls":4},""]
[null,null," 9 8 0 4","Брой на моторни превозни средства",0,0,{"$nulls":4},""]
[null,null,"9 8 0 5","- в т.ч. - леки автомобили",0,0,{"$nulls":4},""]
[null,null,"9 8 0 6","             - санитарни линейки",0,0,{"$nulls":4},""]
[null,null," 9 8 0 7","Брой ученици, финансирани по единни разходни стандарти",0,0,{"$nulls":4},""]
[null,null," 9 8 0 8","Средна годишна брутна заплата на делегирани бюджети",0,0,{"$nulls":4},""]
[null,null," 9 8 0 9","Щатни бройки на делегирани бюджети",0,0,{"$nulls":4},""]
[null,null," 9 8 1 0","Средногодишни щатни бройки на делегирани бюджети",0,0,{"$nulls":4},""]
[null,null,"9 8 1 3","Средногодишен приравнен брой учащи във ВУ, финансирани по норматив за издръжка на обучението",0,0,{"$nulls":4},""]
[null,null,"9 8 1 4","Брой леглодни в студентски общежития",0,0,{"$nulls":4},""]
[905,null,"9 8 1 5","Брой хранодни в студентски стол",0,0,{"$nulls":4},""]
[906,null,"9 8 1 7","Болнични легла",0,0,{"$nulls":4},""]
[907,null,"9 8 1 8","Обем радиопрограма /часове/",0,0,{"$nulls":4},""]
[910,null,"9 8 1 9","Обем телевизионна програма /часове/",0,0,{"$nulls":4},""]
[911,"МЯРКА","Код  ","Разходи в областта на електронното управление и за използваните информационни и комуникационни технологии","    П л а н","    О т ч е т ",{"$nulls":4},{"$f":"(IF($E2715<>0,$K$2,IF($F2715<>0,$K$2,\"\")))","v":""}]
[null,null,"9 8 5 0","Общо разходи в областта на ЕУ и за използваните ИКТ",{"$f":"E2716+E2717","v":0},{"$f":"F2716+F2717","v":0},{"$nulls":4},""]
[null,null,"9 8 5 1","Текущи разходи в областта на ЕУ и за използваните ИКТ",0,0,{"$nulls":4},""]
[null,null,"9 8 5 2","Капиталови разходи в областта на ЕУ и за използваните ИКТ",0,0,{"$nulls":4},""]
[null,"ЗАБЕЛЕЖКА:",{"$nulls":8},{"$f":"K2678","v":1}]
[null," За натурални показатели, не влючени в този отчет, специфични за конкретна дейност се представят отделни справки, допълнително определени от Министерство на финансите.",{"$nulls":8},{"$f":"K2678","v":1}]
[]
[{"$nulls":10},{"$f":"(IF($E2854<>0,$K$2,IF($F2854<>0,$K$2,IF($G2854<>0,$K$2,IF($H2854<>0,$K$2,IF($I2854<>0,$K$2,IF($J2854<>0,$K$2,\"\")))))))","v":""}]
[{"$nulls":10},{"$f":"(IF($E2854<>0,$K$2,IF($F2854<>0,$K$2,IF($G2854<>0,$K$2,IF($H2854<>0,$K$2,IF($I2854<>0,$K$2,IF($J2854<>0,$K$2,\"\")))))))","v":""}]
[null,{"$f":"$B$7","v":"ОТЧЕТНИ ДАННИ ПО ЕБК ЗА ИЗПЪЛНЕНИЕТО НА БЮДЖЕТА"},{"$nulls":8},{"$f":"(IF($E2854<>0,$K$2,IF($F2854<>0,$K$2,IF($G2854<>0,$K$2,IF($H2854<>0,$K$2,IF($I2854<>0,$K$2,IF($J2854<>0,$K$2,\"\")))))))","v":""}]
[{"$nulls":4},"за периода от ","до",null,"                 II.1. РАЗХОДИ ПО ДЕЙНОСТИ",null,null,{"$f":"(IF($E2854<>0,$K$2,IF($F2854<>0,$K$2,IF($G2854<>0,$K$2,IF($H2854<>0,$K$2,IF($I2854<>0,$K$2,IF($J2854<>0,$K$2,\"\")))))))","v":""}]
[null,{"$f":"$B$9","v":"РЕГИОНАЛНА ЗДРАВНА ИНСПЕКЦИЯ-БУРГАС"},null,null,{"$f":"$E$9","v":"2021-01-01"},{"$f":"$F$9","v":"2021-12-31"},{"$nulls":4},{"$f":"(IF($E2854<>0,$K$2,IF($F2854<>0,$K$2,IF($G2854<>0,$K$2,IF($H2854<>0,$K$2,IF($I2854<>0,$K$2,IF($J2854<>0,$K$2,\"\")))))))","v":""}]
[null,{"$f":"$B$10","v":"                                                            (наименование на разпоредителя с бюджет)"},{"$nulls":8},{"$f":"(IF($E2854<>0,$K$2,IF($F2854<>0,$K$2,IF($G2854<>0,$K$2,IF($H2854<>0,$K$2,IF($I2854<>0,$K$2,IF($J2854<>0,$K$2,\"\")))))))","v":""}]
[{"$nulls":10},{"$f":"(IF($E2854<>0,$K$2,IF($F2854<>0,$K$2,IF($G2854<>0,$K$2,IF($H2854<>0,$K$2,IF($I2854<>0,$K$2,IF($J2854<>0,$K$2,\"\")))))))","v":""}]
[null,{"$f":"$B$12","v":{"$error":"#N/A"}},null,null,"       код по ЕБК:",{"$f":"$F$12","v":"0"},{"$nulls":4},{"$f":"(IF($E2854<>0,$K$2,IF($F2854<>0,$K$2,IF($G2854<>0,$K$2,IF($H2854<>0,$K$2,IF($I2854<>0,$K$2,IF($J2854<>0,$K$2,\"\")))))))","v":""}]
[null,{"$f":"$B$13","v":"                                             (наименование на първостепенния разпоредител с бюджет)"},{"$nulls":8},{"$f":"(IF($E2854<>0,$K$2,IF($F2854<>0,$K$2,IF($G2854<>0,$K$2,IF($H2854<>0,$K$2,IF($I2854<>0,$K$2,IF($J2854<>0,$K$2,\"\")))))))","v":""}]
[{"$nulls":3},"ФИНАНСОВО-ПРАВНА ФОРМА",{"$f":"$E$15","v":0},{"$f":"$F$15","v":"БЮДЖЕТ"},{"$nulls":4},{"$f":"(IF($E2854<>0,$K$2,IF($F2854<>0,$K$2,IF($G2854<>0,$K$2,IF($H2854<>0,$K$2,IF($I2854<>0,$K$2,IF($J2854<>0,$K$2,\"\")))))))","v":""}]
[{"$nulls":9},"(в лева)",{"$f":"(IF($E2854<>0,$K$2,IF($F2854<>0,$K$2,IF($G2854<>0,$K$2,IF($H2854<>0,$K$2,IF($I2854<>0,$K$2,IF($J2854<>0,$K$2,\"\")))))))","v":""}]
[{"$nulls":3},"II.1. РАЗХОДИ ПО ДЕЙНОСТИ","Уточнен план","                                                                                                                              О Т Ч Е Т Н И   Д А Н Н И",{"$nulls":4},{"$f":"(IF($E2854<>0,$K$2,IF($F2854<>0,$K$2,IF($G2854<>0,$K$2,IF($H2854<>0,$K$2,IF($I2854<>0,$K$2,IF($J2854<>0,$K$2,\"\")))))))","v":""}]
[null,"§§","под-§§","НАИМЕНОВАНИЯ НА ПАРАГРАФИТЕ И ПОДПАРАГРАФИТЕ",{"$f":"$C$3","v":2021},"ОБЩО","левови\n сметки и СЕБРА ","валутни \nсметки ","операции в брой (в левове и валута)","операции приравнени на касов поток",{"$f":"(IF($E2854<>0,$K$2,IF($F2854<>0,$K$2,IF($G2854<>0,$K$2,IF($H2854<>0,$K$2,IF($I2854<>0,$K$2,IF($J2854<>0,$K$2,\"\")))))))","v":""}]
[{"$nulls":3}," 02 ¦","(1)","(2)","(3)","(4)","(5)","(6)",{"$f":"(IF($E2854<>0,$K$2,IF($F2854<>0,$K$2,IF($G2854<>0,$K$2,IF($H2854<>0,$K$2,IF($I2854<>0,$K$2,IF($J2854<>0,$K$2,\"\")))))))","v":""}]
[null,null,0,"ИЗБЕРЕТЕ ОПЕРАТИВНА ПРОГРАМА ",{"$nulls":6},{"$f":"(IF($E2854<>0,$K$2,IF($F2854<>0,$K$2,IF($G2854<>0,$K$2,IF($H2854<>0,$K$2,IF($I2854<>0,$K$2,IF($J2854<>0,$K$2,\"\")))))))","v":""}]
[null,null,{"$f":"VLOOKUP(D2737,EBK_DEIN2,2,FALSE)","v":4468},"<------          ДЕЙНОСТ    -  код  по  ЕБК",{"$nulls":6},{"$f":"(IF($E2854<>0,$K$2,IF($F2854<>0,$K$2,IF($G2854<>0,$K$2,IF($H2854<>0,$K$2,IF($I2854<>0,$K$2,IF($J2854<>0,$K$2,\"\")))))))","v":""}]
[null,null,{"$f":"+C2736","v":4468},"468 Международни програми и споразумения, дарения и помощи от чужбина",{"$nulls":6},{"$f":"(IF($E2854<>0,$K$2,IF($F2854<>0,$K$2,IF($G2854<>0,$K$2,IF($H2854<>0,$K$2,IF($I2854<>0,$K$2,IF($J2854<>0,$K$2,\"\")))))))","v":""}]
[{"$nulls":3},"(наименование на дейността)",{"$nulls":6},{"$f":"(IF($E2854<>0,$K$2,IF($F2854<>0,$K$2,IF($G2854<>0,$K$2,IF($H2854<>0,$K$2,IF($I2854<>0,$K$2,IF($J2854<>0,$K$2,\"\")))))))","v":""}]
[null,{"v":100,"d":"01-00"},"Заплати и възнаграждения за персонала, нает по трудови и служебни правоотношения",null,{"$f":"SUM(E2740:E2741)","v":0},0,0,0,0,0,{"$f":"(IF($E2739<>0,$K$2,IF($F2739<>0,$K$2,IF($G2739<>0,$K$2,IF($H2739<>0,$K$2,IF($I2739<>0,$K$2,IF($J2739<>0,$K$2,\"\")))))))","v":""}]
[null,null,{"v":101,"d":"01-01"},"заплати и възнаграждения на персонала нает по трудови правоотношения",0,{"$f":"G2740+H2740+I2740+J2740","v":0},0,0,0,0,{"$f":"(IF($E2740<>0,$K$2,IF($F2740<>0,$K$2,IF($G2740<>0,$K$2,IF($H2740<>0,$K$2,IF($I2740<>0,$K$2,IF($J2740<>0,$K$2,\"\")))))))","v":""}]
[null,null,{"v":102,"d":"01-02"},"заплати и възнаграждения на персонала нает по служебни правоотношения",0,{"$f":"G2741+H2741+I2741+J2741","v":0},0,0,0,0,""]
[null,{"v":200,"d":"02-00"},"Други възнаграждения и плащания за персонала",null,{"$f":"SUM(E2743:E2747)","v":0},0,0,0,0,0,""]
[null,null,{"v":201,"d":"02-01"},"за нещатен персонал нает по трудови правоотношения ",0,{"$f":"G2743+H2743+I2743+J2743","v":0},0,0,0,0,""]
[null,null,{"v":202,"d":"02-02"},"за персонала по извънтрудови правоотношения",0,{"$f":"G2744+H2744+I2744+J2744","v":0},0,0,0,0,""]
[null,null,{"v":205,"d":"02-05"},"изплатени суми от СБКО за облекло и други на персонала, с характер на възнаграждение",0,{"$f":"G2745+H2745+I2745+J2745","v":0},0,0,0,0,""]
[null,null,{"v":208,"d":"02-08"},"обезщетения за персонала, с характер на възнаграждение",0,{"$f":"G2746+H2746+I2746+J2746","v":0},0,0,0,0,""]
[null,null,{"v":209,"d":"02-09"},"другиплащания и възнаграждения",0,{"$f":"G2747+H2747+I2747+J2747","v":0},0,0,0,0,""]
[null,{"v":500,"d":"05-00"},"Задължителни осигурителни вноски от работодатели",null,{"$f":"SUM(E2749:E2755)","v":0},0,0,0,0,0,""]
[null,null,{"v":551,"d":"05-51"},"осигурителни вноски от работодатели за Държавното обществено осигуряване (ДОО)",0,{"$f":"G2749+H2749+I2749+J2749","v":0},0,0,0,0,""]
[null,null,{"$f":"C2749+1","v":{"v":552,"d":"05-52"}},"осигурителни вноски от работодатели за Учителския пенсионен фонд (УПФ)",0,0,0,0,0,0,""]
[null,null,{"v":558,"d":"05-58"},"вноски по чл. 4б и 4в от КСО за сметка на осигурителя",null,{"$f":"G2751+H2751+I2751+J2751","v":0},0,0,0,0,""]
[null,null,{"v":560,"d":"05-60"},"здравно-осигурителни вноски от работодатели",0,0,0,0,0,0,""]
[null,null,{"v":580,"d":"05-80"},"вноски за допълнително задължително осигуряване от работодатели",0,0,0,0,0,0,""]
[null,null,{"v":588,"d":"05-88"},"коректив на вноски за ДЗПО за сумите по чл. 4б и 4в от КСО за сметка на осигурителя",null,{"$f":"G2754+H2754+I2754+J2754","v":0},0,0,0,0,""]
[null,null,{"v":590,"d":"05-90"},"задължителни вноски за чуждестранни пенсионни фондове и  схеми за сметка на осигурителя",0,0,0,0,0,0,""]
[5,{"v":800,"d":"08-00"},"Вноски за доброволно осигуряване ",null,null,0,{"$nulls":4},""]
[10,{"v":1000,"d":"10-00"},"Издръжка",null,{"$f":"SUM(E2758:E2774)","v":0},0,0,0,0,0,""]
[15,null,{"v":1011,"d":"10-11"},"Храна",0,{"$f":"G2758+H2758+I2758+J2758","v":0},0,0,0,0,""]
[35,null,{"v":1012,"d":"10-12"},"Медикаменти",0,0,0,0,0,0,""]
[40,null,{"v":1013,"d":"10-13"},"Постелен инвентар и облекло",0,0,0,0,0,0,""]
[45,null,{"v":1014,"d":"10-14"},"Учебни и научно-изследователски разходи и книги за библиотеките",0,0,0,0,0,0,""]
[50,null,{"v":1015,"d":"10-15"},"материали",0,0,0,0,0,0,""]
[55,null,{"v":1016,"d":"10-16"},"вода, горива и енергия",0,0,0,0,0,0,""]
[60,null,{"v":1020,"d":"10-20"},"разходи за външни услуги",0,0,0,0,0,0,""]
[65,null,{"v":1030,"d":"10-30"},"Текущ ремонт",0,0,0,0,0,0,""]
[70,null,{"v":1051,"d":"10-51"},"командировки в страната",0,0,0,0,0,0,""]
[75,null,{"v":1052,"d":"10-52"},"краткосрочни командировки в чужбина",0,0,0,0,0,0,""]
[80,null,{"v":1053,"d":"10-53"},"дългосрочни командировки в чужбина",0,0,0,0,0,0,""]
[80,null,{"v":1062,"d":"10-62"},"разходи за застраховки",0,0,0,0,0,0,""]
[85,null,{"v":1063,"d":"10-63"},"такса ангажимент по заеми",0,0,0,0,0,0,""]
[90,null,{"v":1069,"d":"10-69"},"други финансови услуги",0,0,0,0,0,0,""]
[90,null,{"v":1091,"d":"10-91"},"други разходи за СБКО",0,0,0,0,0,0,""]
[115,null,{"v":1092,"d":"10-92"},"разходи за договорни санкции и неустойки, съдебни обезщетения и разноски",0,0,0,0,0,0,""]
[125,null,{"v":1098,"d":"10-98"},"други разходи, некласифицирани в другите параграфи и подпараграфи",0,0,0,0,0,0,""]
[130,{"v":1900,"d":"19-00"},"Платени данъци, такси и административни санкции",null,{"$f":"SUM(E2776:E2778)","v":0},0,0,0,0,0,""]
[135,null,{"v":1901,"d":"19-01"},"платени държавни данъци, такси, наказателни лихви и административни санкции",0,{"$f":"G2776+H2776+I2776+J2776","v":0},0,0,0,0,""]
[140,null,{"v":1981,"d":"19-81"},"платени общински данъци, такси, наказателни лихви и административни санкции",0,{"$f":"G2777+H2777+I2777+J2777","v":0},0,0,0,0,""]
[145,null,{"v":1991,"d":"19-91"},"платени данъци, такси, наказателни лихви и административни санкции в чужбина",0,{"$f":"G2778+H2778+I2778+J2778","v":0},0,0,0,0,""]
[150,{"v":2100,"d":"21-00"},"Разходи за лихви по емисии на държавни (общински) ценни книжа",null,{"$f":"SUM(E2780:E2784)","v":0},0,0,0,0,0,""]
[155,null,{"v":2110,"d":"21-10"},"лихви по държавни (общински) ценни книжа",0,{"$f":"G2780+H2780+I2780+J2780","v":0},0,0,0,0,""]
[160,null,{"v":2120,"d":"21-20"},"отстъпки по държавни (общински) ценни книжа",0,{"$f":"G2781+H2781+I2781+J2781","v":0},0,0,0,0,""]
[165,null,{"v":2125,"d":"21-25"},"лихви и отстъпки по целеви емисии на държавни ценни книжа",0,{"$f":"G2782+H2782+I2782+J2782","v":0},0,0,0,0,""]
[175,null,{"v":2140,"d":"21-40"},"лихви по държавни ценни книжа, емитирани за структурната реформа ",0,{"$f":"G2783+H2783+I2783+J2783","v":0},0,0,0,0,""]
[180,null,{"v":2190,"d":"21-90"},"премии над номинала от емисии на държавни (общински) ценни книжа (-)",0,{"$f":"G2784+H2784+I2784+J2784","v":0},0,0,0,0,""]
[185,{"v":2200,"d":"22-00"},"Разходи за лихви по заеми от страната",null,{"$f":"SUM(E2786:E2787)","v":0},0,0,0,0,0,""]
[190,null,{"v":2221,"d":"22-21"},"Разходи за лихви по заеми от банки в страната",0,{"$f":"G2786+H2786+I2786+J2786","v":0},0,0,0,0,""]
[200,null,{"v":2224,"d":"22-24"},"Разходи за лихви по други заеми от страната",0,0,0,0,0,0,""]
[200,{"v":2500,"d":"25-00"},"Разходи за лихви по заеми от други държави",null,null,0,{"$nulls":4},""]
[205,{"v":2600,"d":"26-00"},"Разходи за лихви по заеми от международни организации и институции",null,null,0,{"$nulls":4},""]
[210,{"v":2700,"d":"27-00"},"Разходи за лихви по заеми от банки и други финансови институции от чужбина",null,null,0,{"$nulls":4},""]
[215,{"v":2800,"d":"28-00"},"Разходи за лихви и отстъпки по облигации, емитирани и търгувани на международните капиталови пазари",null,null,0,{"$nulls":4},""]
[220,{"v":2900,"d":"29-00"},"Други разходи за лихви",null,{"$f":"SUM(E2793:E2800)","v":0},0,0,0,0,0,""]
[225,null,{"v":2910,"d":"29-10"},"Платени лихви по финансов лизинг и търговски кредит",null,{"$f":"G2793+H2793+I2793+J2793","v":0},{"$nulls":4},""]
[230,null,{"v":2920,"d":"29-20"},"Платени лихви по активирани гаранции по заеми от  банки в страната",0,{"$f":"G2794+H2794+I2794+J2794","v":0},0,0,0,0,""]
[245,null,{"v":2969,"d":"29-69"},"Платени лихви по активирани гаранции по заеми от международни организации и институции",0,0,0,0,0,0,""]
[220,null,{"v":2970,"d":"29-70"},"Платени лихви по активирани гаранции по заеми от банки и финансови институции от чужбина",null,0,{"$nulls":4},""]
[225,null,{"v":2989,"d":"29-89"},"Възстановени суми по платени лихви по активирани гаранции (-)",0,0,0,0,0,0,""]
[230,null,{"v":2990,"d":"29-90"},"Платени лихви по заеми, предоставени от централния бюджет и бюджетни организации",null,{"$f":"G2798+H2798+I2798+J2798","v":0},{"$nulls":4},""]
[235,null,{"v":2991,"d":"29-91"},"Други разходи за лихви към  местни лица",0,0,0,0,0,0,""]
[240,null,{"v":2992,"d":"29-92"},"Други разходи за лихви към чуждестранни лица",0,0,0,0,0,0,""]
[245,{"v":3300,"d":"33-00"},"Вноска в общия бюджет на Европейския съюз",null,{"$f":"SUM(E2802:E2806)","v":0},0,0,0,0,0,""]
[250,null,{"v":3301,"d":"33-01"},"ресурс на база брутен национален доход",0,{"$f":"G2802+H2802+I2802+J2802","v":0},0,0,0,0,""]
[255,null,{"v":3302,"d":"33-02"},"ресурс на база данък върху добавената стойност",0,0,0,0,0,0,""]
[265,null,{"v":3304,"d":"33-04"},"традиционни собствени ресурси - мита",0,0,0,0,0,0,""]
[270,null,{"v":3306,"d":"33-06"},"участие във финансирането на брутното намаление за Австрия, Дания, Германия, Нидерландия и Швеция",0,0,0,0,0,0,""]
[290,null,{"v":3307,"d":"33-07"},"ресурс на база нерециклираните отпадъци от опаковки от пластмаса",0,0,0,0,0,0,""]
[320,{"v":3900,"d":"39-00"},"Здравно-осигурителни плащания",null,null,0,{"$nulls":4},{"$f":"(IF($E2807<>0,$K$2,IF($F2807<>0,$K$2,IF($G2807<>0,$K$2,IF($H2807<>0,$K$2,IF($I2807<>0,$K$2,IF($J2807<>0,$K$2,\"\")))))))","v":""}]
[330,{"v":4000,"d":"40-00"},"Стипендии",null,0,0,0,0,0,0,""]
[350,{"v":4100,"d":"41-00"},"Пенсии",null,null,0,{"$nulls":4},""]
[355,{"v":4200,"d":"42-00"},"Текущи трансфери, обезщетения и помощи за домакинствата",null,{"$f":"SUM(E2811:E2816)","v":0},0,0,0,0,0,""]
[375,null,{"v":4201,"d":"42-01"},"обезщетения и помощи по социалното осигуряване",0,{"$f":"G2811+H2811+I2811+J2811","v":0},0,0,0,0,""]
[375,null,{"v":4202,"d":"42-02"},"обезщетения и помощи по социалното подпомагане",0,0,0,0,0,0,""]
[380,null,{"v":4214,"d":"42-14"},"обезщетения и помощи по решение на общинския съвет",0,0,0,0,0,0,""]
[385,null,{"v":4217,"d":"42-17"},"текущи трансфери за домакинства от средства на Европейския съюз",0,0,0,0,0,0,""]
[390,null,{"v":4218,"d":"42-18"},"текущи трансфери за домакинства по други международни програми и споразумения",0,0,0,0,0,0,""]
[390,null,{"v":4219,"d":"42-19"},"други текущи трансфери за домакинствата",0,0,0,0,0,0,""]
[395,{"v":4300,"d":"43-00"},"Субсидии и други текущи трансфери за нефинансови предприятия ",null,{"$f":"SUM(E2818:E2820)","v":0},0,0,0,0,0,""]
[397,null,{"v":4301,"d":"43-01"},"за текуща дейност",0,{"$f":"G2818+H2818+I2818+J2818","v":0},0,0,0,0,""]
[398,null,{"v":4302,"d":"43-02"},"за осъществяване на болнична помощ ",0,0,0,0,0,0,""]
[399,null,{"v":4309,"d":"43-09"},"други субсидии и плащания",0,0,0,0,0,0,""]
[400,{"v":4400,"d":"44-00"},"Субсидии и други текущи трансфери за финансови институции",null,null,0,{"$nulls":4},""]
[401,{"v":4500,"d":"45-00"},"Субсидии и други текущи трансфери за юридически лица с нестопанска цел",null,0,0,0,0,0,null,""]
[404,{"v":4600,"d":"46-00"},"Разходи за членски внос и участие в нетърговски организации и дейности",null,null,0,0,0,0,0,""]
[404,{"v":4900,"d":"49-00"},"Предоставени текущи и капиталови трансфери за чужбина",null,{"$f":"+E2825+E2826","v":0},0,0,0,0,0,""]
[440,null,{"v":4901,"d":"49-01"},"текущи трансфери за чужбина",0,{"$f":"G2825+H2825+I2825+J2825","v":0},0,0,0,0,""]
[450,null,{"v":4902,"d":"49-02"},"капиталови трансфери за чужбина",0,{"$f":"G2826+H2826+I2826+J2826","v":0},0,0,0,0,""]
[495,{"v":5100,"d":"51-00"},"Основен ремонт на дълготрайни материални активи",null,null,{"$f":"G2827+H2827+I2827+J2827","v":0},{"$nulls":4},""]
[500,{"v":5200,"d":"52-00"},"Придобиване на дълготрайни материални активи",null,{"$f":"SUM(E2829:E2835)","v":0},0,0,0,0,0,""]
[505,null,{"v":5201,"d":"52-01"},"придобиване на компютри и хардуер",0,{"$f":"G2829+H2829+I2829+J2829","v":0},0,0,0,0,""]
[510,null,{"v":5202,"d":"52-02"},"придобиване на сгради",0,0,0,0,0,0,""]
[515,null,{"v":5203,"d":"52-03"},"придобиване на друго оборудване, машини и съоръжения",0,0,0,0,0,0,""]
[520,null,{"v":5204,"d":"52-04"},"придобиване на транспортни средства",0,0,0,0,0,0,""]
[525,null,{"v":5205,"d":"52-05"},"придобиване на стопански инвентар",0,0,0,0,0,0,""]
[635,null,{"v":5206,"d":"52-06"},"изграждане на инфраструктурни обекти",0,0,0,0,0,0,""]
[640,null,{"v":5219,"d":"52-19"},"придобиване на други ДМА",0,0,0,0,0,0,""]
[645,{"v":5300,"d":"53-00"},"Придобиване на нематериални дълготрайни активи",null,{"$f":"SUM(E2837:E2838)","v":0},0,0,0,0,0,""]
[650,null,{"v":5301,"d":"53-01"},"придобиване на програмни продукти и лицензи за програмни продукти",0,{"$f":"G2837+H2837+I2837+J2837","v":0},0,0,0,0,""]
[655,null,{"v":5309,"d":"53-09"},"придобиване на други нематериални дълготрайни активи",0,{"$f":"G2838+H2838+I2838+J2838","v":0},0,0,0,0,""]
[665,{"v":5400,"d":"54-00"},"Придобиване на земя",null,null,{"$f":"G2839+H2839+I2839+J2839","v":0},{"$nulls":4},""]
[675,{"v":5500,"d":"55-00"},"Капиталови трансфери",null,{"$f":"SUM(E2841:E2844)","v":0},0,0,0,0,0,""]
[685,null,{"v":5501,"d":"55-01"},"капиталови трансфери за нефинансови предприятия",0,{"$f":"G2841+H2841+I2841+J2841","v":0},0,0,0,0,""]
[690,null,{"v":5502,"d":"55-02"},"капиталови трансфери за финансови институции",0,{"$f":"G2842+H2842+I2842+J2842","v":0},0,0,0,0,""]
[695,null,{"v":5503,"d":"55-03"},"капиталови трансфери за организации с нестопанска цел",0,{"$f":"G2843+H2843+I2843+J2843","v":0},0,0,0,0,""]
[700,null,{"v":5504,"d":"55-04"},"капиталови трансфери за домакинствата",0,{"$f":"G2844+H2844+I2844+J2844","v":0},0,0,0,0,""]
[710,{"v":5700,"d":"57-00"},"Прираст на държавния резерв и изкупуване на земеделска продукция (включва и § 40-71)",null,{"$f":"SUM(E2846:E2848)","v":0},0,0,0,0,0,""]
[715,null,{"v":5701,"d":"57-01"},"плащания за попълване на държавния резерв",0,{"$f":"G2846+H2846+I2846+J2846","v":0},0,0,0,0,""]
[720,null,{"v":5702,"d":"57-02"},"плащания за изкупуване на земеделска продукция",0,{"$f":"G2847+H2847+I2847+J2847","v":0},0,0,0,0,""]
[725,null,{"v":4071,"d":"40-71"},"постъпления от продажба на държавния резерв (-)",0,{"$f":"G2848+H2848+I2848+J2848","v":0},0,0,0,0,""]
[730,{"$nulls":9},""]
[735,{"v":98,"d":"00-98"},"Резерв за непредвидени и неотложни разходи",null,null,{"$f":"G2850+H2850+I2850+J2850","v":0},0,0,0,0,""]
[740,{"$nulls":9},""]
[745,{"$nulls":9},""]
[750,{"$nulls":9},""]
[755,null,"99-99",{"$f":"+B2854","v":{"v":0,"d":"II. ОБЩО РАЗХОДИ ЗА ДЕЙНОСТ 0000"}},{"$f":"SUM(E2739,E2742,E2748,E2756,E2757,E2775,E2779,E2785,E2788,E2789,E2790,E2791,E2792,E2801,E2807,E2808,E2809,E2810,E2817,E2821,E2822,E2823,E2824,E2827,E2828,E2836,E2839,E2840,E2845)+E2850","v":0},0,0,0,0,0,"",{"$f":"LEFT(C2736,1)","v":"4"}]
[760,{"$nulls":9},{"$f":"K2854","v":""}]
[765,{"$nulls":9},{"$f":"K2854","v":""}]
[775,{"$nulls":9},{"$f":"(IF(SUM(K2868:K2889)<>0,$K$2,\"\"))","v":""}]
[780,{"$f":"$B$7","v":"ОТЧЕТНИ ДАННИ ПО ЕБК ЗА ИЗПЪЛНЕНИЕТО НА БЮДЖЕТА"},{"$nulls":8},{"$f":"(IF(SUM(K2868:K2889)<>0,$K$2,\"\"))","v":""}]
[785,{"$nulls":3},"за периода от ","до",{"$nulls":4},{"$f":"(IF(SUM(K2868:K2889)<>0,$K$2,\"\"))","v":""}]
[790,{"$f":"$B$9","v":"РЕГИОНАЛНА ЗДРАВНА ИНСПЕКЦИЯ-БУРГАС"},null,null,{"$f":"$E$9","v":"2021-01-01"},{"$f":"$F$9","v":"2021-12-31"},{"$nulls":4},{"$f":"(IF(SUM(K2868:K2889)<>0,$K$2,\"\"))","v":""}]
[795,{"$f":"$B$10","v":"                                                            (наименование на разпоредителя с бюджет)"},{"$nulls":8},{"$f":"(IF(SUM(K2868:K2889)<>0,$K$2,\"\"))","v":""}]
[805,{"$nulls":9},{"$f":"(IF(SUM(K2868:K2889)<>0,$K$2,\"\"))","v":""}]
[810,{"$f":"$B$12","v":{"$error":"#N/A"}},null,null,"       код по ЕБК:",{"$f":"$F$12","v":"0"},{"$nulls":4},{"$f":"(IF(SUM(K2868:K2889)<>0,$K$2,\"\"))","v":""}]
[815,{"$f":"$B$13","v":"                                             (наименование на първостепенния разпоредител с бюджет)"},{"$nulls":8},{"$f":"(IF(SUM(K2868:K2889)<>0,$K$2,\"\"))","v":""}]
[525,null,null,"               ФИНАНСОВО-ПРАВНА ФОРМА",{"$f":"$E$15","v":0},{"$f":"$F$15","v":"БЮДЖЕТ"},{"$nulls":4},{"$f":"(IF(SUM(K2868:K2889)<>0,$K$2,\"\"))","v":""}]
[820,null,null,"Натурални и други показатели за дейността",null,"(в лева)",{"$nulls":4},{"$f":"(IF(SUM(K2868:K2889)<>0,$K$2,\"\"))","v":""}]
[821,"МЯРКА","Код 9 8","  О б щ и   н а т у р а л н и   п о к а з а т е л и","    П л а н","    О т ч е т ",{"$nulls":4},{"$f":"(IF(SUM(K2868:K2889)<>0,$K$2,\"\"))","v":""}]
[822,null," 9 8 0 1","Щ а т н и   б р о й к и",{"$f":"E2869+E2870","v":0},{"$f":"F2869+F2870","v":0},{"$nulls":4},{"$f":"(IF($E2868<>0,$K$2,IF($F2868<>0,$K$2,\"\")))","v":""}]
[823,null," 9 8 1 1","в т.ч.: по трудови правоотношения",0,0,{"$nulls":4},""]
[825,null," 9 8 1 2","           по служебни правоотношения",0,0,{"$nulls":4},""]
[null,null," 9 8 0 2","Средногодишни щатни бройки",{"$f":"E2872+E2873","v":0},{"$f":"F2872+F2873","v":0},{"$nulls":4},""]
[null,null," 9 8 2 1","в т.ч.: по трудови правоотношения",0,0,{"$nulls":4},""]
[null,null," 9 8 2 2","         по служебни правоотношения",0,0,{"$nulls":4},""]
[null,null," 9 8 0 3","Средна годишна брутна заплата",0,0,{"$nulls":4},""]
[null,null," 9 8 3 1"," в т.ч.:   по трудови правоотношения",0,0,{"$nulls":4},""]
[null,null," 9 8 3 2","            по служебни правоотношения",0,0,{"$nulls":4},""]
[null,null," 9 8 0 4","Брой на моторни превозни средства",0,0,{"$nulls":4},""]
[null,null,"9 8 0 5","- в т.ч. - леки автомобили",0,0,{"$nulls":4},""]
[null,null,"9 8 0 6","             - санитарни линейки",0,0,{"$nulls":4},""]
[null,null," 9 8 0 7","Брой ученици, финансирани по единни разходни стандарти",0,0,{"$nulls":4},""]
[null,null," 9 8 0 8","Средна годишна брутна заплата на делегирани бюджети",0,0,{"$nulls":4},""]
[null,null," 9 8 0 9","Щатни бройки на делегирани бюджети",0,0,{"$nulls":4},""]
[null,null," 9 8 1 0","Средногодишни щатни бройки на делегирани бюджети",0,0,{"$nulls":4},""]
[null,null,"9 8 1 3","Средногодишен приравнен брой учащи във ВУ, финансирани по норматив за издръжка на обучението",0,0,{"$nulls":4},""]
[null,null,"9 8 1 4","Брой леглодни в студентски общежития",0,0,{"$nulls":4},""]
[905,null,"9 8 1 5","Брой хранодни в студентски стол",0,0,{"$nulls":4},""]
[906,null,"9 8 1 7","Болнични легла",0,0,{"$nulls":4},""]
[907,null,"9 8 1 8","Обем радиопрограма /часове/",0,0,{"$nulls":4},""]
[910,null,"9 8 1 9","Обем телевизионна програма /часове/",0,0,{"$nulls":4},""]
[911,"МЯРКА","Код  ","Разходи в областта на електронното управление и за използваните информационни и комуникационни технологии","    П л а н","    О т ч е т ",{"$nulls":4},{"$f":"(IF($E2891<>0,$K$2,IF($F2891<>0,$K$2,\"\")))","v":""}]
[null,null,"9 8 5 0","Общо разходи в областта на ЕУ и за използваните ИКТ",{"$f":"E2892+E2893","v":0},{"$f":"F2892+F2893","v":0},{"$nulls":4},""]
[null,null,"9 8 5 1","Текущи разходи в областта на ЕУ и за използваните ИКТ",0,0,{"$nulls":4},""]
[null,null,"9 8 5 2","Капиталови разходи в областта на ЕУ и за използваните ИКТ",0,0,{"$nulls":4},""]
[null,"ЗАБЕЛЕЖКА:",{"$nulls":8},{"$f":"K2854","v":""}]
[null," За натурални показатели, не влючени в този отчет, специфични за конкретна дейност се представят отделни справки, допълнително определени от Министерство на финансите.",{"$nulls":8},{"$f":"K2854","v":""}]
[]
[{"$nulls":10},{"$f":"(IF($E3030<>0,$K$2,IF($F3030<>0,$K$2,IF($G3030<>0,$K$2,IF($H3030<>0,$K$2,IF($I3030<>0,$K$2,IF($J3030<>0,$K$2,\"\")))))))","v":""}]
[{"$nulls":10},{"$f":"(IF($E3030<>0,$K$2,IF($F3030<>0,$K$2,IF($G3030<>0,$K$2,IF($H3030<>0,$K$2,IF($I3030<>0,$K$2,IF($J3030<>0,$K$2,\"\")))))))","v":""}]
[null,{"$f":"$B$7","v":"ОТЧЕТНИ ДАННИ ПО ЕБК ЗА ИЗПЪЛНЕНИЕТО НА БЮДЖЕТА"},{"$nulls":8},{"$f":"(IF($E3030<>0,$K$2,IF($F3030<>0,$K$2,IF($G3030<>0,$K$2,IF($H3030<>0,$K$2,IF($I3030<>0,$K$2,IF($J3030<>0,$K$2,\"\")))))))","v":""}]
[{"$nulls":4},"за периода от ","до",null,"                 II.1. РАЗХОДИ ПО ДЕЙНОСТИ",null,null,{"$f":"(IF($E3030<>0,$K$2,IF($F3030<>0,$K$2,IF($G3030<>0,$K$2,IF($H3030<>0,$K$2,IF($I3030<>0,$K$2,IF($J3030<>0,$K$2,\"\")))))))","v":""}]
[null,{"$f":"$B$9","v":"РЕГИОНАЛНА ЗДРАВНА ИНСПЕКЦИЯ-БУРГАС"},null,null,{"$f":"$E$9","v":"2021-01-01"},{"$f":"$F$9","v":"2021-12-31"},{"$nulls":4},{"$f":"(IF($E3030<>0,$K$2,IF($F3030<>0,$K$2,IF($G3030<>0,$K$2,IF($H3030<>0,$K$2,IF($I3030<>0,$K$2,IF($J3030<>0,$K$2,\"\")))))))","v":""}]
[null,{"$f":"$B$10","v":"                                                            (наименование на разпоредителя с бюджет)"},{"$nulls":8},{"$f":"(IF($E3030<>0,$K$2,IF($F3030<>0,$K$2,IF($G3030<>0,$K$2,IF($H3030<>0,$K$2,IF($I3030<>0,$K$2,IF($J3030<>0,$K$2,\"\")))))))","v":""}]
[{"$nulls":10},{"$f":"(IF($E3030<>0,$K$2,IF($F3030<>0,$K$2,IF($G3030<>0,$K$2,IF($H3030<>0,$K$2,IF($I3030<>0,$K$2,IF($J3030<>0,$K$2,\"\")))))))","v":""}]
[null,{"$f":"$B$12","v":{"$error":"#N/A"}},null,null,"       код по ЕБК:",{"$f":"$F$12","v":"0"},{"$nulls":4},{"$f":"(IF($E3030<>0,$K$2,IF($F3030<>0,$K$2,IF($G3030<>0,$K$2,IF($H3030<>0,$K$2,IF($I3030<>0,$K$2,IF($J3030<>0,$K$2,\"\")))))))","v":""}]
[null,{"$f":"$B$13","v":"                                             (наименование на първостепенния разпоредител с бюджет)"},{"$nulls":8},{"$f":"(IF($E3030<>0,$K$2,IF($F3030<>0,$K$2,IF($G3030<>0,$K$2,IF($H3030<>0,$K$2,IF($I3030<>0,$K$2,IF($J3030<>0,$K$2,\"\")))))))","v":""}]
[{"$nulls":3},"ФИНАНСОВО-ПРАВНА ФОРМА",{"$f":"$E$15","v":0},{"$f":"$F$15","v":"БЮДЖЕТ"},{"$nulls":4},{"$f":"(IF($E3030<>0,$K$2,IF($F3030<>0,$K$2,IF($G3030<>0,$K$2,IF($H3030<>0,$K$2,IF($I3030<>0,$K$2,IF($J3030<>0,$K$2,\"\")))))))","v":""}]
[{"$nulls":9},"(в лева)",{"$f":"(IF($E3030<>0,$K$2,IF($F3030<>0,$K$2,IF($G3030<>0,$K$2,IF($H3030<>0,$K$2,IF($I3030<>0,$K$2,IF($J3030<>0,$K$2,\"\")))))))","v":""}]
[{"$nulls":3},"II.1. РАЗХОДИ ПО ДЕЙНОСТИ","Уточнен план","                                                                                                                              О Т Ч Е Т Н И   Д А Н Н И",{"$nulls":4},{"$f":"(IF($E3030<>0,$K$2,IF($F3030<>0,$K$2,IF($G3030<>0,$K$2,IF($H3030<>0,$K$2,IF($I3030<>0,$K$2,IF($J3030<>0,$K$2,\"\")))))))","v":""}]
[null,"§§","под-§§","НАИМЕНОВАНИЯ НА ПАРАГРАФИТЕ И ПОДПАРАГРАФИТЕ",{"$f":"$C$3","v":2021},"ОБЩО","левови\n сметки и СЕБРА ","валутни \nсметки ","операции в брой (в левове и валута)","операции приравнени на касов поток",{"$f":"(IF($E3030<>0,$K$2,IF($F3030<>0,$K$2,IF($G3030<>0,$K$2,IF($H3030<>0,$K$2,IF($I3030<>0,$K$2,IF($J3030<>0,$K$2,\"\")))))))","v":""}]
[{"$nulls":3}," 02 ¦","(1)","(2)","(3)","(4)","(5)","(6)",{"$f":"(IF($E3030<>0,$K$2,IF($F3030<>0,$K$2,IF($G3030<>0,$K$2,IF($H3030<>0,$K$2,IF($I3030<>0,$K$2,IF($J3030<>0,$K$2,\"\")))))))","v":""}]
[null,null,0,"ИЗБЕРЕТЕ ОПЕРАТИВНА ПРОГРАМА ",{"$nulls":6},{"$f":"(IF($E3030<>0,$K$2,IF($F3030<>0,$K$2,IF($G3030<>0,$K$2,IF($H3030<>0,$K$2,IF($I3030<>0,$K$2,IF($J3030<>0,$K$2,\"\")))))))","v":""}]
[null,null,{"$f":"VLOOKUP(D2913,EBK_DEIN2,2,FALSE)","v":4469},"<------          ДЕЙНОСТ    -  код  по  ЕБК",{"$nulls":6},{"$f":"(IF($E3030<>0,$K$2,IF($F3030<>0,$K$2,IF($G3030<>0,$K$2,IF($H3030<>0,$K$2,IF($I3030<>0,$K$2,IF($J3030<>0,$K$2,\"\")))))))","v":""}]
[null,null,{"$f":"+C2912","v":4469},"469 Други дейности по здравеопазването",{"$nulls":6},{"$f":"(IF($E3030<>0,$K$2,IF($F3030<>0,$K$2,IF($G3030<>0,$K$2,IF($H3030<>0,$K$2,IF($I3030<>0,$K$2,IF($J3030<>0,$K$2,\"\")))))))","v":""}]
[{"$nulls":3},"(наименование на дейността)",{"$nulls":6},{"$f":"(IF($E3030<>0,$K$2,IF($F3030<>0,$K$2,IF($G3030<>0,$K$2,IF($H3030<>0,$K$2,IF($I3030<>0,$K$2,IF($J3030<>0,$K$2,\"\")))))))","v":""}]
[null,{"v":100,"d":"01-00"},"Заплати и възнаграждения за персонала, нает по трудови и служебни правоотношения",null,{"$f":"SUM(E2916:E2917)","v":0},0,0,0,0,0,{"$f":"(IF($E2915<>0,$K$2,IF($F2915<>0,$K$2,IF($G2915<>0,$K$2,IF($H2915<>0,$K$2,IF($I2915<>0,$K$2,IF($J2915<>0,$K$2,\"\")))))))","v":""}]
[null,null,{"v":101,"d":"01-01"},"заплати и възнаграждения на персонала нает по трудови правоотношения",0,{"$f":"G2916+H2916+I2916+J2916","v":0},0,0,0,0,{"$f":"(IF($E2916<>0,$K$2,IF($F2916<>0,$K$2,IF($G2916<>0,$K$2,IF($H2916<>0,$K$2,IF($I2916<>0,$K$2,IF($J2916<>0,$K$2,\"\")))))))","v":""}]
[null,null,{"v":102,"d":"01-02"},"заплати и възнаграждения на персонала нает по служебни правоотношения",0,{"$f":"G2917+H2917+I2917+J2917","v":0},0,0,0,0,""]
[null,{"v":200,"d":"02-00"},"Други възнаграждения и плащания за персонала",null,{"$f":"SUM(E2919:E2923)","v":0},0,0,0,0,0,""]
[null,null,{"v":201,"d":"02-01"},"за нещатен персонал нает по трудови правоотношения ",0,{"$f":"G2919+H2919+I2919+J2919","v":0},0,0,0,0,""]
[null,null,{"v":202,"d":"02-02"},"за персонала по извънтрудови правоотношения",0,{"$f":"G2920+H2920+I2920+J2920","v":0},0,0,0,0,""]
[null,null,{"v":205,"d":"02-05"},"изплатени суми от СБКО за облекло и други на персонала, с характер на възнаграждение",0,{"$f":"G2921+H2921+I2921+J2921","v":0},0,0,0,0,""]
[null,null,{"v":208,"d":"02-08"},"обезщетения за персонала, с характер на възнаграждение",0,{"$f":"G2922+H2922+I2922+J2922","v":0},0,0,0,0,""]
[null,null,{"v":209,"d":"02-09"},"другиплащания и възнаграждения",0,{"$f":"G2923+H2923+I2923+J2923","v":0},0,0,0,0,""]
[null,{"v":500,"d":"05-00"},"Задължителни осигурителни вноски от работодатели",null,{"$f":"SUM(E2925:E2931)","v":0},0,0,0,0,0,""]
[null,null,{"v":551,"d":"05-51"},"осигурителни вноски от работодатели за Държавното обществено осигуряване (ДОО)",0,{"$f":"G2925+H2925+I2925+J2925","v":0},0,0,0,0,""]
[null,null,{"$f":"C2925+1","v":{"v":552,"d":"05-52"}},"осигурителни вноски от работодатели за Учителския пенсионен фонд (УПФ)",0,0,0,0,0,0,""]
[null,null,{"v":558,"d":"05-58"},"вноски по чл. 4б и 4в от КСО за сметка на осигурителя",null,{"$f":"G2927+H2927+I2927+J2927","v":0},0,0,0,0,""]
[null,null,{"v":560,"d":"05-60"},"здравно-осигурителни вноски от работодатели",0,0,0,0,0,0,""]
[null,null,{"v":580,"d":"05-80"},"вноски за допълнително задължително осигуряване от работодатели",0,0,0,0,0,0,""]
[null,null,{"v":588,"d":"05-88"},"коректив на вноски за ДЗПО за сумите по чл. 4б и 4в от КСО за сметка на осигурителя",null,{"$f":"G2930+H2930+I2930+J2930","v":0},0,0,0,0,""]
[null,null,{"v":590,"d":"05-90"},"задължителни вноски за чуждестранни пенсионни фондове и  схеми за сметка на осигурителя",0,0,0,0,0,0,""]
[5,{"v":800,"d":"08-00"},"Вноски за доброволно осигуряване ",null,null,0,{"$nulls":4},""]
[10,{"v":1000,"d":"10-00"},"Издръжка",null,{"$f":"SUM(E2934:E2950)","v":0},0,0,0,0,0,""]
[15,null,{"v":1011,"d":"10-11"},"Храна",0,{"$f":"G2934+H2934+I2934+J2934","v":0},0,0,0,0,""]
[35,null,{"v":1012,"d":"10-12"},"Медикаменти",0,0,0,0,0,0,""]
[40,null,{"v":1013,"d":"10-13"},"Постелен инвентар и облекло",0,0,0,0,0,0,""]
[45,null,{"v":1014,"d":"10-14"},"Учебни и научно-изследователски разходи и книги за библиотеките",0,0,0,0,0,0,""]
[50,null,{"v":1015,"d":"10-15"},"материали",0,0,0,0,0,0,""]
[55,null,{"v":1016,"d":"10-16"},"вода, горива и енергия",0,0,0,0,0,0,""]
[60,null,{"v":1020,"d":"10-20"},"разходи за външни услуги",0,0,0,0,0,0,""]
[65,null,{"v":1030,"d":"10-30"},"Текущ ремонт",0,0,0,0,0,0,""]
[70,null,{"v":1051,"d":"10-51"},"командировки в страната",0,0,0,0,0,0,""]
[75,null,{"v":1052,"d":"10-52"},"краткосрочни командировки в чужбина",0,0,0,0,0,0,""]
[80,null,{"v":1053,"d":"10-53"},"дългосрочни командировки в чужбина",0,0,0,0,0,0,""]
[80,null,{"v":1062,"d":"10-62"},"разходи за застраховки",0,0,0,0,0,0,""]
[85,null,{"v":1063,"d":"10-63"},"такса ангажимент по заеми",0,0,0,0,0,0,""]
[90,null,{"v":1069,"d":"10-69"},"други финансови услуги",0,0,0,0,0,0,""]
[90,null,{"v":1091,"d":"10-91"},"други разходи за СБКО",0,0,0,0,0,0,""]
[115,null,{"v":1092,"d":"10-92"},"разходи за договорни санкции и неустойки, съдебни обезщетения и разноски",0,0,0,0,0,0,""]
[125,null,{"v":1098,"d":"10-98"},"други разходи, некласифицирани в другите параграфи и подпараграфи",0,0,0,0,0,0,""]
[130,{"v":1900,"d":"19-00"},"Платени данъци, такси и административни санкции",null,{"$f":"SUM(E2952:E2954)","v":0},0,0,0,0,0,""]
[135,null,{"v":1901,"d":"19-01"},"платени държавни данъци, такси, наказателни лихви и административни санкции",0,{"$f":"G2952+H2952+I2952+J2952","v":0},0,0,0,0,""]
[140,null,{"v":1981,"d":"19-81"},"платени общински данъци, такси, наказателни лихви и административни санкции",0,{"$f":"G2953+H2953+I2953+J2953","v":0},0,0,0,0,""]
[145,null,{"v":1991,"d":"19-91"},"платени данъци, такси, наказателни лихви и административни санкции в чужбина",0,{"$f":"G2954+H2954+I2954+J2954","v":0},0,0,0,0,""]
[150,{"v":2100,"d":"21-00"},"Разходи за лихви по емисии на държавни (общински) ценни книжа",null,{"$f":"SUM(E2956:E2960)","v":0},0,0,0,0,0,""]
[155,null,{"v":2110,"d":"21-10"},"лихви по държавни (общински) ценни книжа",0,{"$f":"G2956+H2956+I2956+J2956","v":0},0,0,0,0,""]
[160,null,{"v":2120,"d":"21-20"},"отстъпки по държавни (общински) ценни книжа",0,{"$f":"G2957+H2957+I2957+J2957","v":0},0,0,0,0,""]
[165,null,{"v":2125,"d":"21-25"},"лихви и отстъпки по целеви емисии на държавни ценни книжа",0,{"$f":"G2958+H2958+I2958+J2958","v":0},0,0,0,0,""]
[175,null,{"v":2140,"d":"21-40"},"лихви по държавни ценни книжа, емитирани за структурната реформа ",0,{"$f":"G2959+H2959+I2959+J2959","v":0},0,0,0,0,""]
[180,null,{"v":2190,"d":"21-90"},"премии над номинала от емисии на държавни (общински) ценни книжа (-)",0,{"$f":"G2960+H2960+I2960+J2960","v":0},0,0,0,0,""]
[185,{"v":2200,"d":"22-00"},"Разходи за лихви по заеми от страната",null,{"$f":"SUM(E2962:E2963)","v":0},0,0,0,0,0,""]
[190,null,{"v":2221,"d":"22-21"},"Разходи за лихви по заеми от банки в страната",0,{"$f":"G2962+H2962+I2962+J2962","v":0},0,0,0,0,""]
[200,null,{"v":2224,"d":"22-24"},"Разходи за лихви по други заеми от страната",0,0,0,0,0,0,""]
[200,{"v":2500,"d":"25-00"},"Разходи за лихви по заеми от други държави",null,null,0,{"$nulls":4},""]
[205,{"v":2600,"d":"26-00"},"Разходи за лихви по заеми от международни организации и институции",null,null,0,{"$nulls":4},""]
[210,{"v":2700,"d":"27-00"},"Разходи за лихви по заеми от банки и други финансови институции от чужбина",null,null,0,{"$nulls":4},""]
[215,{"v":2800,"d":"28-00"},"Разходи за лихви и отстъпки по облигации, емитирани и търгувани на международните капиталови пазари",null,null,0,{"$nulls":4},""]
[220,{"v":2900,"d":"29-00"},"Други разходи за лихви",null,{"$f":"SUM(E2969:E2976)","v":0},0,0,0,0,0,""]
[225,null,{"v":2910,"d":"29-10"},"Платени лихви по финансов лизинг и търговски кредит",null,{"$f":"G2969+H2969+I2969+J2969","v":0},{"$nulls":4},""]
[230,null,{"v":2920,"d":"29-20"},"Платени лихви по активирани гаранции по заеми от  банки в страната",0,{"$f":"G2970+H2970+I2970+J2970","v":0},0,0,0,0,""]
[245,null,{"v":2969,"d":"29-69"},"Платени лихви по активирани гаранции по заеми от международни организации и институции",0,0,0,0,0,0,""]
[220,null,{"v":2970,"d":"29-70"},"Платени лихви по активирани гаранции по заеми от банки и финансови институции от чужбина",null,0,{"$nulls":4},""]
[225,null,{"v":2989,"d":"29-89"},"Възстановени суми по платени лихви по активирани гаранции (-)",0,0,0,0,0,0,""]
[230,null,{"v":2990,"d":"29-90"},"Платени лихви по заеми, предоставени от централния бюджет и бюджетни организации",null,{"$f":"G2974+H2974+I2974+J2974","v":0},{"$nulls":4},""]
[235,null,{"v":2991,"d":"29-91"},"Други разходи за лихви към  местни лица",0,0,0,0,0,0,""]
[240,null,{"v":2992,"d":"29-92"},"Други разходи за лихви към чуждестранни лица",0,0,0,0,0,0,""]
[245,{"v":3300,"d":"33-00"},"Вноска в общия бюджет на Европейския съюз",null,{"$f":"SUM(E2978:E2982)","v":0},0,0,0,0,0,""]
[250,null,{"v":3301,"d":"33-01"},"ресурс на база брутен национален доход",0,{"$f":"G2978+H2978+I2978+J2978","v":0},0,0,0,0,""]
[255,null,{"v":3302,"d":"33-02"},"ресурс на база данък върху добавената стойност",0,0,0,0,0,0,""]
[265,null,{"v":3304,"d":"33-04"},"традиционни собствени ресурси - мита",0,0,0,0,0,0,""]
[270,null,{"v":3306,"d":"33-06"},"участие във финансирането на брутното намаление за Австрия, Дания, Германия, Нидерландия и Швеция",0,0,0,0,0,0,""]
[290,null,{"v":3307,"d":"33-07"},"ресурс на база нерециклираните отпадъци от опаковки от пластмаса",0,0,0,0,0,0,""]
[320,{"v":3900,"d":"39-00"},"Здравно-осигурителни плащания",null,null,0,{"$nulls":4},{"$f":"(IF($E2983<>0,$K$2,IF($F2983<>0,$K$2,IF($G2983<>0,$K$2,IF($H2983<>0,$K$2,IF($I2983<>0,$K$2,IF($J2983<>0,$K$2,\"\")))))))","v":""}]
[330,{"v":4000,"d":"40-00"},"Стипендии",null,0,0,0,0,0,0,""]
[350,{"v":4100,"d":"41-00"},"Пенсии",null,null,0,{"$nulls":4},""]
[355,{"v":4200,"d":"42-00"},"Текущи трансфери, обезщетения и помощи за домакинствата",null,{"$f":"SUM(E2987:E2992)","v":0},0,0,0,0,0,""]
[375,null,{"v":4201,"d":"42-01"},"обезщетения и помощи по социалното осигуряване",0,{"$f":"G2987+H2987+I2987+J2987","v":0},0,0,0,0,""]
[375,null,{"v":4202,"d":"42-02"},"обезщетения и помощи по социалното подпомагане",0,0,0,0,0,0,""]
[380,null,{"v":4214,"d":"42-14"},"обезщетения и помощи по решение на общинския съвет",0,0,0,0,0,0,""]
[385,null,{"v":4217,"d":"42-17"},"текущи трансфери за домакинства от средства на Европейския съюз",0,0,0,0,0,0,""]
[390,null,{"v":4218,"d":"42-18"},"текущи трансфери за домакинства по други международни програми и споразумения",0,0,0,0,0,0,""]
[390,null,{"v":4219,"d":"42-19"},"други текущи трансфери за домакинствата",0,0,0,0,0,0,""]
[395,{"v":4300,"d":"43-00"},"Субсидии и други текущи трансфери за нефинансови предприятия ",null,{"$f":"SUM(E2994:E2996)","v":0},0,0,0,0,0,""]
[397,null,{"v":4301,"d":"43-01"},"за текуща дейност",0,{"$f":"G2994+H2994+I2994+J2994","v":0},0,0,0,0,""]
[398,null,{"v":4302,"d":"43-02"},"за осъществяване на болнична помощ ",0,0,0,0,0,0,""]
[399,null,{"v":4309,"d":"43-09"},"други субсидии и плащания",0,0,0,0,0,0,""]
[400,{"v":4400,"d":"44-00"},"Субсидии и други текущи трансфери за финансови институции",null,null,0,{"$nulls":4},""]
[401,{"v":4500,"d":"45-00"},"Субсидии и други текущи трансфери за юридически лица с нестопанска цел",null,null,0,0,null,0,0,""]
[404,{"v":4600,"d":"46-00"},"Разходи за членски внос и участие в нетърговски организации и дейности",null,0,0,0,0,0,null,""]
[404,{"v":4900,"d":"49-00"},"Предоставени текущи и капиталови трансфери за чужбина",null,{"$f":"+E3001+E3002","v":0},0,0,0,0,0,""]
[440,null,{"v":4901,"d":"49-01"},"текущи трансфери за чужбина",0,{"$f":"G3001+H3001+I3001+J3001","v":0},0,0,0,0,""]
[450,null,{"v":4902,"d":"49-02"},"капиталови трансфери за чужбина",0,{"$f":"G3002+H3002+I3002+J3002","v":0},0,0,0,0,""]
[495,{"v":5100,"d":"51-00"},"Основен ремонт на дълготрайни материални активи",null,null,{"$f":"G3003+H3003+I3003+J3003","v":0},0,0,0,0,""]
[500,{"v":5200,"d":"52-00"},"Придобиване на дълготрайни материални активи",null,{"$f":"SUM(E3005:E3011)","v":0},0,0,0,0,0,""]
[505,null,{"v":5201,"d":"52-01"},"придобиване на компютри и хардуер",0,{"$f":"G3005+H3005+I3005+J3005","v":0},0,0,0,0,""]
[510,null,{"v":5202,"d":"52-02"},"придобиване на сгради",0,0,0,0,0,0,""]
[515,null,{"v":5203,"d":"52-03"},"придобиване на друго оборудване, машини и съоръжения",0,0,0,0,0,0,""]
[520,null,{"v":5204,"d":"52-04"},"придобиване на транспортни средства",0,0,0,0,0,0,""]
[525,null,{"v":5205,"d":"52-05"},"придобиване на стопански инвентар",0,0,0,0,0,0,""]
[635,null,{"v":5206,"d":"52-06"},"изграждане на инфраструктурни обекти",0,0,0,0,0,0,""]
[640,null,{"v":5219,"d":"52-19"},"придобиване на други ДМА",0,0,0,0,0,0,""]
[645,{"v":5300,"d":"53-00"},"Придобиване на нематериални дълготрайни активи",null,{"$f":"SUM(E3013:E3014)","v":0},0,0,0,0,0,""]
[650,null,{"v":5301,"d":"53-01"},"придобиване на програмни продукти и лицензи за програмни продукти",0,{"$f":"G3013+H3013+I3013+J3013","v":0},0,0,0,0,""]
[655,null,{"v":5309,"d":"53-09"},"придобиване на други нематериални дълготрайни активи",0,{"$f":"G3014+H3014+I3014+J3014","v":0},0,0,0,0,""]
[665,{"v":5400,"d":"54-00"},"Придобиване на земя",null,null,{"$f":"G3015+H3015+I3015+J3015","v":0},{"$nulls":4},""]
[675,{"v":5500,"d":"55-00"},"Капиталови трансфери",null,{"$f":"SUM(E3017:E3020)","v":0},0,0,0,0,0,""]
[685,null,{"v":5501,"d":"55-01"},"капиталови трансфери за нефинансови предприятия",0,{"$f":"G3017+H3017+I3017+J3017","v":0},0,0,0,0,""]
[690,null,{"v":5502,"d":"55-02"},"капиталови трансфери за финансови институции",0,{"$f":"G3018+H3018+I3018+J3018","v":0},0,0,0,0,""]
[695,null,{"v":5503,"d":"55-03"},"капиталови трансфери за организации с нестопанска цел",0,{"$f":"G3019+H3019+I3019+J3019","v":0},0,0,0,0,""]
[700,null,{"v":5504,"d":"55-04"},"капиталови трансфери за домакинствата",0,{"$f":"G3020+H3020+I3020+J3020","v":0},0,0,0,0,""]
[710,{"v":5700,"d":"57-00"},"Прираст на държавния резерв и изкупуване на земеделска продукция (включва и § 40-71)",null,{"$f":"SUM(E3022:E3024)","v":0},0,0,0,0,0,""]
[715,null,{"v":5701,"d":"57-01"},"плащания за попълване на държавния резерв",0,{"$f":"G3022+H3022+I3022+J3022","v":0},0,0,0,0,""]
[720,null,{"v":5702,"d":"57-02"},"плащания за изкупуване на земеделска продукция",0,{"$f":"G3023+H3023+I3023+J3023","v":0},0,0,0,0,""]
[725,null,{"v":4071,"d":"40-71"},"постъпления от продажба на държавния резерв (-)",0,{"$f":"G3024+H3024+I3024+J3024","v":0},0,0,0,0,""]
[730,{"$nulls":9},""]
[735,{"v":98,"d":"00-98"},"Резерв за непредвидени и неотложни разходи",null,null,{"$f":"G3026+H3026+I3026+J3026","v":0},0,0,0,0,""]
[740,{"$nulls":9},""]
[745,{"$nulls":9},""]
[750,{"$nulls":9},""]
[755,null,"99-99",{"$f":"+B3030","v":{"v":0,"d":"II. ОБЩО РАЗХОДИ ЗА ДЕЙНОСТ 0000"}},{"$f":"SUM(E2915,E2918,E2924,E2932,E2933,E2951,E2955,E2961,E2964,E2965,E2966,E2967,E2968,E2977,E2983,E2984,E2985,E2986,E2993,E2997,E2998,E2999,E3000,E3003,E3004,E3012,E3015,E3016,E3021)+E3026","v":0},0,0,0,0,0,"",{"$f":"LEFT(C2912,1)","v":"4"}]
[760,{"$nulls":9},{"$f":"K3030","v":""}]
[765,{"$nulls":9},{"$f":"K3030","v":""}]
[775,{"$nulls":9},{"$f":"(IF(SUM(K3044:K3065)<>0,$K$2,\"\"))","v":""}]
[780,{"$f":"$B$7","v":"ОТЧЕТНИ ДАННИ ПО ЕБК ЗА ИЗПЪЛНЕНИЕТО НА БЮДЖЕТА"},{"$nulls":8},{"$f":"(IF(SUM(K3044:K3065)<>0,$K$2,\"\"))","v":""}]
[785,{"$nulls":3},"за периода от ","до",{"$nulls":4},{"$f":"(IF(SUM(K3044:K3065)<>0,$K$2,\"\"))","v":""}]
[790,{"$f":"$B$9","v":"РЕГИОНАЛНА ЗДРАВНА ИНСПЕКЦИЯ-БУРГАС"},null,null,{"$f":"$E$9","v":"2021-01-01"},{"$f":"$F$9","v":"2021-12-31"},{"$nulls":4},{"$f":"(IF(SUM(K3044:K3065)<>0,$K$2,\"\"))","v":""}]
[795,{"$f":"$B$10","v":"                                                            (наименование на разпоредителя с бюджет)"},{"$nulls":8},{"$f":"(IF(SUM(K3044:K3065)<>0,$K$2,\"\"))","v":""}]
[805,{"$nulls":9},{"$f":"(IF(SUM(K3044:K3065)<>0,$K$2,\"\"))","v":""}]
[810,{"$f":"$B$12","v":{"$error":"#N/A"}},null,null,"       код по ЕБК:",{"$f":"$F$12","v":"0"},{"$nulls":4},{"$f":"(IF(SUM(K3044:K3065)<>0,$K$2,\"\"))","v":""}]
[815,{"$f":"$B$13","v":"                                             (наименование на първостепенния разпоредител с бюджет)"},{"$nulls":8},{"$f":"(IF(SUM(K3044:K3065)<>0,$K$2,\"\"))","v":""}]
[525,null,null,"               ФИНАНСОВО-ПРАВНА ФОРМА",{"$f":"$E$15","v":0},{"$f":"$F$15","v":"БЮДЖЕТ"},{"$nulls":4},{"$f":"(IF(SUM(K3044:K3065)<>0,$K$2,\"\"))","v":""}]
[820,null,null,"Натурални и други показатели за дейността",null,"(в лева)",{"$nulls":4},{"$f":"(IF(SUM(K3044:K3065)<>0,$K$2,\"\"))","v":""}]
[821,"МЯРКА","Код 9 8","  О б щ и   н а т у р а л н и   п о к а з а т е л и","    П л а н","    О т ч е т ",{"$nulls":4},{"$f":"(IF(SUM(K3044:K3065)<>0,$K$2,\"\"))","v":""}]
[822,null," 9 8 0 1","Щ а т н и   б р о й к и",{"$f":"E3045+E3046","v":0},{"$f":"F3045+F3046","v":0},{"$nulls":4},{"$f":"(IF($E3044<>0,$K$2,IF($F3044<>0,$K$2,\"\")))","v":""}]
[823,null," 9 8 1 1","в т.ч.: по трудови правоотношения",0,0,{"$nulls":4},""]
[825,null," 9 8 1 2","           по служебни правоотношения",0,0,{"$nulls":4},""]
[null,null," 9 8 0 2","Средногодишни щатни бройки",{"$f":"E3048+E3049","v":0},{"$f":"F3048+F3049","v":0},{"$nulls":4},""]
[null,null," 9 8 2 1","в т.ч.: по трудови правоотношения",0,0,{"$nulls":4},""]
[null,null," 9 8 2 2","         по служебни правоотношения",0,0,{"$nulls":4},""]
[null,null," 9 8 0 3","Средна годишна брутна заплата",0,0,{"$nulls":4},""]
[null,null," 9 8 3 1"," в т.ч.:   по трудови правоотношения",0,0,{"$nulls":4},""]
[null,null," 9 8 3 2","            по служебни правоотношения",0,0,{"$nulls":4},""]
[null,null," 9 8 0 4","Брой на моторни превозни средства",0,0,{"$nulls":4},""]
[null,null,"9 8 0 5","- в т.ч. - леки автомобили",0,0,{"$nulls":4},""]
[null,null,"9 8 0 6","             - санитарни линейки",0,0,{"$nulls":4},""]
[null,null," 9 8 0 7","Брой ученици, финансирани по единни разходни стандарти",0,0,{"$nulls":4},""]
[null,null," 9 8 0 8","Средна годишна брутна заплата на делегирани бюджети",0,0,{"$nulls":4},""]
[null,null," 9 8 0 9","Щатни бройки на делегирани бюджети",0,0,{"$nulls":4},""]
[null,null," 9 8 1 0","Средногодишни щатни бройки на делегирани бюджети",0,0,{"$nulls":4},""]
[null,null,"9 8 1 3","Средногодишен приравнен брой учащи във ВУ, финансирани по норматив за издръжка на обучението",0,0,{"$nulls":4},""]
[null,null,"9 8 1 4","Брой леглодни в студентски общежития",0,0,{"$nulls":4},""]
[905,null,"9 8 1 5","Брой хранодни в студентски стол",0,0,{"$nulls":4},""]
[906,null,"9 8 1 7","Болнични легла",0,0,{"$nulls":4},""]
[907,null,"9 8 1 8","Обем радиопрограма /часове/",0,0,{"$nulls":4},""]
[910,null,"9 8 1 9","Обем телевизионна програма /часове/",0,0,{"$nulls":4},""]
[911,"МЯРКА","Код  ","Разходи в областта на електронното управление и за използваните информационни и комуникационни технологии","    П л а н","    О т ч е т ",{"$nulls":4},{"$f":"(IF($E3067<>0,$K$2,IF($F3067<>0,$K$2,\"\")))","v":""}]
[null,null,"9 8 5 0","Общо разходи в областта на ЕУ и за използваните ИКТ",{"$f":"E3068+E3069","v":0},{"$f":"F3068+F3069","v":0},{"$nulls":4},""]
[null,null,"9 8 5 1","Текущи разходи в областта на ЕУ и за използваните ИКТ",0,0,{"$nulls":4},""]
[null,null,"9 8 5 2","Капиталови разходи в областта на ЕУ и за използваните ИКТ",0,0,{"$nulls":4},""]
[null,"ЗАБЕЛЕЖКА:",{"$nulls":8},{"$f":"K3030","v":""}]
[null," За натурални показатели, не влючени в този отчет, специфични за конкретна дейност се представят отделни справки, допълнително определени от Министерство на финансите.",{"$nulls":8},{"$f":"K3030","v":""}]
[]
[{"$nulls":10},{"$f":"(IF($E3206<>0,$K$2,IF($F3206<>0,$K$2,IF($G3206<>0,$K$2,IF($H3206<>0,$K$2,IF($I3206<>0,$K$2,IF($J3206<>0,$K$2,\"\")))))))","v":""}]
[{"$nulls":10},{"$f":"(IF($E3206<>0,$K$2,IF($F3206<>0,$K$2,IF($G3206<>0,$K$2,IF($H3206<>0,$K$2,IF($I3206<>0,$K$2,IF($J3206<>0,$K$2,\"\")))))))","v":""}]
[null,{"$f":"$B$7","v":"ОТЧЕТНИ ДАННИ ПО ЕБК ЗА ИЗПЪЛНЕНИЕТО НА БЮДЖЕТА"},{"$nulls":8},{"$f":"(IF($E3206<>0,$K$2,IF($F3206<>0,$K$2,IF($G3206<>0,$K$2,IF($H3206<>0,$K$2,IF($I3206<>0,$K$2,IF($J3206<>0,$K$2,\"\")))))))","v":""}]
[{"$nulls":4},"за периода от ","до",null,"                 II.1. РАЗХОДИ ПО ДЕЙНОСТИ",null,null,{"$f":"(IF($E3206<>0,$K$2,IF($F3206<>0,$K$2,IF($G3206<>0,$K$2,IF($H3206<>0,$K$2,IF($I3206<>0,$K$2,IF($J3206<>0,$K$2,\"\")))))))","v":""}]
[null,{"$f":"$B$9","v":"РЕГИОНАЛНА ЗДРАВНА ИНСПЕКЦИЯ-БУРГАС"},null,null,{"$f":"$E$9","v":"2021-01-01"},{"$f":"$F$9","v":"2021-12-31"},{"$nulls":4},{"$f":"(IF($E3206<>0,$K$2,IF($F3206<>0,$K$2,IF($G3206<>0,$K$2,IF($H3206<>0,$K$2,IF($I3206<>0,$K$2,IF($J3206<>0,$K$2,\"\")))))))","v":""}]
[null,{"$f":"$B$10","v":"                                                            (наименование на разпоредителя с бюджет)"},{"$nulls":8},{"$f":"(IF($E3206<>0,$K$2,IF($F3206<>0,$K$2,IF($G3206<>0,$K$2,IF($H3206<>0,$K$2,IF($I3206<>0,$K$2,IF($J3206<>0,$K$2,\"\")))))))","v":""}]
[{"$nulls":10},{"$f":"(IF($E3206<>0,$K$2,IF($F3206<>0,$K$2,IF($G3206<>0,$K$2,IF($H3206<>0,$K$2,IF($I3206<>0,$K$2,IF($J3206<>0,$K$2,\"\")))))))","v":""}]
[null,{"$f":"$B$12","v":{"$error":"#N/A"}},null,null,"       код по ЕБК:",{"$f":"$F$12","v":"0"},{"$nulls":4},{"$f":"(IF($E3206<>0,$K$2,IF($F3206<>0,$K$2,IF($G3206<>0,$K$2,IF($H3206<>0,$K$2,IF($I3206<>0,$K$2,IF($J3206<>0,$K$2,\"\")))))))","v":""}]
[null,{"$f":"$B$13","v":"                                             (наименование на първостепенния разпоредител с бюджет)"},{"$nulls":8},{"$f":"(IF($E3206<>0,$K$2,IF($F3206<>0,$K$2,IF($G3206<>0,$K$2,IF($H3206<>0,$K$2,IF($I3206<>0,$K$2,IF($J3206<>0,$K$2,\"\")))))))","v":""}]
[{"$nulls":3},"ФИНАНСОВО-ПРАВНА ФОРМА",{"$f":"$E$15","v":0},{"$f":"$F$15","v":"БЮДЖЕТ"},{"$nulls":4},{"$f":"(IF($E3206<>0,$K$2,IF($F3206<>0,$K$2,IF($G3206<>0,$K$2,IF($H3206<>0,$K$2,IF($I3206<>0,$K$2,IF($J3206<>0,$K$2,\"\")))))))","v":""}]
[{"$nulls":9},"(в лева)",{"$f":"(IF($E3206<>0,$K$2,IF($F3206<>0,$K$2,IF($G3206<>0,$K$2,IF($H3206<>0,$K$2,IF($I3206<>0,$K$2,IF($J3206<>0,$K$2,\"\")))))))","v":""}]
[{"$nulls":3},"II.1. РАЗХОДИ ПО ДЕЙНОСТИ","Уточнен план","                                                                                                                              О Т Ч Е Т Н И   Д А Н Н И",{"$nulls":4},{"$f":"(IF($E3206<>0,$K$2,IF($F3206<>0,$K$2,IF($G3206<>0,$K$2,IF($H3206<>0,$K$2,IF($I3206<>0,$K$2,IF($J3206<>0,$K$2,\"\")))))))","v":""}]
[null,"§§","под-§§","НАИМЕНОВАНИЯ НА ПАРАГРАФИТЕ И ПОДПАРАГРАФИТЕ",{"$f":"$C$3","v":2021},"ОБЩО","левови\n сметки и СЕБРА ","валутни \nсметки ","операции в брой (в левове и валута)","операции приравнени на касов поток",{"$f":"(IF($E3206<>0,$K$2,IF($F3206<>0,$K$2,IF($G3206<>0,$K$2,IF($H3206<>0,$K$2,IF($I3206<>0,$K$2,IF($J3206<>0,$K$2,\"\")))))))","v":""}]
[{"$nulls":3}," 02 ¦","(1)","(2)","(3)","(4)","(5)","(6)",{"$f":"(IF($E3206<>0,$K$2,IF($F3206<>0,$K$2,IF($G3206<>0,$K$2,IF($H3206<>0,$K$2,IF($I3206<>0,$K$2,IF($J3206<>0,$K$2,\"\")))))))","v":""}]
[null,null,0,"ИЗБЕРЕТЕ ОПЕРАТИВНА ПРОГРАМА ",{"$nulls":6},{"$f":"(IF($E3206<>0,$K$2,IF($F3206<>0,$K$2,IF($G3206<>0,$K$2,IF($H3206<>0,$K$2,IF($I3206<>0,$K$2,IF($J3206<>0,$K$2,\"\")))))))","v":""}]
[null,null,{"$f":"VLOOKUP(D3089,EBK_DEIN2,2,FALSE)","v":9910},"<------          ДЕЙНОСТ    -  код  по  ЕБК",{"$nulls":6},{"$f":"(IF($E3206<>0,$K$2,IF($F3206<>0,$K$2,IF($G3206<>0,$K$2,IF($H3206<>0,$K$2,IF($I3206<>0,$K$2,IF($J3206<>0,$K$2,\"\")))))))","v":""}]
[null,null,{"$f":"+C3088","v":9910},"910 Разходи за лихви",{"$nulls":6},{"$f":"(IF($E3206<>0,$K$2,IF($F3206<>0,$K$2,IF($G3206<>0,$K$2,IF($H3206<>0,$K$2,IF($I3206<>0,$K$2,IF($J3206<>0,$K$2,\"\")))))))","v":""}]
[{"$nulls":3},"(наименование на дейността)",{"$nulls":6},{"$f":"(IF($E3206<>0,$K$2,IF($F3206<>0,$K$2,IF($G3206<>0,$K$2,IF($H3206<>0,$K$2,IF($I3206<>0,$K$2,IF($J3206<>0,$K$2,\"\")))))))","v":""}]
[null,{"v":100,"d":"01-00"},"Заплати и възнаграждения за персонала, нает по трудови и служебни правоотношения",null,{"$f":"SUM(E3092:E3093)","v":0},0,0,0,0,0,{"$f":"(IF($E3091<>0,$K$2,IF($F3091<>0,$K$2,IF($G3091<>0,$K$2,IF($H3091<>0,$K$2,IF($I3091<>0,$K$2,IF($J3091<>0,$K$2,\"\")))))))","v":""}]
[null,null,{"v":101,"d":"01-01"},"заплати и възнаграждения на персонала нает по трудови правоотношения",null,{"$f":"G3092+H3092+I3092+J3092","v":0},{"$nulls":4},{"$f":"(IF($E3092<>0,$K$2,IF($F3092<>0,$K$2,IF($G3092<>0,$K$2,IF($H3092<>0,$K$2,IF($I3092<>0,$K$2,IF($J3092<>0,$K$2,\"\")))))))","v":""}]
[null,null,{"v":102,"d":"01-02"},"заплати и възнаграждения на персонала нает по служебни правоотношения",null,{"$f":"G3093+H3093+I3093+J3093","v":0},{"$nulls":4},""]
[null,{"v":200,"d":"02-00"},"Други възнаграждения и плащания за персонала",null,{"$f":"SUM(E3095:E3099)","v":0},0,0,0,0,0,""]
[null,null,{"v":201,"d":"02-01"},"за нещатен персонал нает по трудови правоотношения ",null,{"$f":"G3095+H3095+I3095+J3095","v":0},{"$nulls":4},""]
[null,null,{"v":202,"d":"02-02"},"за персонала по извънтрудови правоотношения",null,{"$f":"G3096+H3096+I3096+J3096","v":0},{"$nulls":4},""]
[null,null,{"v":205,"d":"02-05"},"изплатени суми от СБКО за облекло и други на персонала, с характер на възнаграждение",null,{"$f":"G3097+H3097+I3097+J3097","v":0},{"$nulls":4},""]
[null,null,{"v":208,"d":"02-08"},"обезщетения за персонала, с характер на възнаграждение",null,{"$f":"G3098+H3098+I3098+J3098","v":0},{"$nulls":4},""]
[null,null,{"v":209,"d":"02-09"},"другиплащания и възнаграждения",null,{"$f":"G3099+H3099+I3099+J3099","v":0},{"$nulls":4},""]
[null,{"v":500,"d":"05-00"},"Задължителни осигурителни вноски от работодатели",null,{"$f":"SUM(E3101:E3107)","v":0},0,0,0,0,0,""]
[null,null,{"v":551,"d":"05-51"},"осигурителни вноски от работодатели за Държавното обществено осигуряване (ДОО)",null,{"$f":"G3101+H3101+I3101+J3101","v":0},0,0,0,null,""]
[null,null,{"$f":"C3101+1","v":{"v":552,"d":"05-52"}},"осигурителни вноски от работодатели за Учителския пенсионен фонд (УПФ)",null,0,0,0,0,null,""]
[null,null,{"v":558,"d":"05-58"},"вноски по чл. 4б и 4в от КСО за сметка на осигурителя",null,{"$f":"G3103+H3103+I3103+J3103","v":0},0,0,0,0,""]
[null,null,{"v":560,"d":"05-60"},"здравно-осигурителни вноски от работодатели",null,0,0,0,0,null,""]
[null,null,{"v":580,"d":"05-80"},"вноски за допълнително задължително осигуряване от работодатели",null,0,0,0,0,null,""]
[null,null,{"v":588,"d":"05-88"},"коректив на вноски за ДЗПО за сумите по чл. 4б и 4в от КСО за сметка на осигурителя",null,{"$f":"G3106+H3106+I3106+J3106","v":0},0,0,0,0,""]
[null,null,{"v":590,"d":"05-90"},"задължителни вноски за чуждестранни пенсионни фондове и  схеми за сметка на осигурителя",null,0,{"$nulls":4},""]
[5,{"v":800,"d":"08-00"},"Вноски за доброволно осигуряване ",null,null,0,{"$nulls":4},""]
[10,{"v":1000,"d":"10-00"},"Издръжка",null,{"$f":"SUM(E3110:E3126)","v":0},0,0,0,0,0,""]
[15,null,{"v":1011,"d":"10-11"},"Храна",null,{"$f":"G3110+H3110+I3110+J3110","v":0},{"$nulls":4},""]
[35,null,{"v":1012,"d":"10-12"},"Медикаменти",null,0,{"$nulls":4},""]
[40,null,{"v":1013,"d":"10-13"},"Постелен инвентар и облекло",null,0,{"$nulls":4},""]
[45,null,{"v":1014,"d":"10-14"},"Учебни и научно-изследователски разходи и книги за библиотеките",null,0,{"$nulls":4},""]
[50,null,{"v":1015,"d":"10-15"},"материали",null,0,{"$nulls":4},""]
[55,null,{"v":1016,"d":"10-16"},"вода, горива и енергия",null,0,{"$nulls":4},""]
[60,null,{"v":1020,"d":"10-20"},"разходи за външни услуги",null,0,{"$nulls":4},""]
[65,null,{"v":1030,"d":"10-30"},"Текущ ремонт",null,0,{"$nulls":4},""]
[70,null,{"v":1051,"d":"10-51"},"командировки в страната",null,0,{"$nulls":4},""]
[75,null,{"v":1052,"d":"10-52"},"краткосрочни командировки в чужбина",null,0,{"$nulls":4},""]
[80,null,{"v":1053,"d":"10-53"},"дългосрочни командировки в чужбина",null,0,{"$nulls":4},""]
[80,null,{"v":1062,"d":"10-62"},"разходи за застраховки",null,0,{"$nulls":4},""]
[85,null,{"v":1063,"d":"10-63"},"такса ангажимент по заеми",null,0,{"$nulls":4},""]
[90,null,{"v":1069,"d":"10-69"},"други финансови услуги",null,0,{"$nulls":4},""]
[90,null,{"v":1091,"d":"10-91"},"други разходи за СБКО",null,0,{"$nulls":4},""]
[115,null,{"v":1092,"d":"10-92"},"разходи за договорни санкции и неустойки, съдебни обезщетения и разноски",null,0,{"$nulls":4},""]
[125,null,{"v":1098,"d":"10-98"},"други разходи, некласифицирани в другите параграфи и подпараграфи",null,0,{"$nulls":4},""]
[130,{"v":1900,"d":"19-00"},"Платени данъци, такси и административни санкции",null,{"$f":"SUM(E3128:E3130)","v":0},0,0,0,0,0,""]
[135,null,{"v":1901,"d":"19-01"},"платени държавни данъци, такси, наказателни лихви и административни санкции",null,{"$f":"G3128+H3128+I3128+J3128","v":0},{"$nulls":4},""]
[140,null,{"v":1981,"d":"19-81"},"платени общински данъци, такси, наказателни лихви и административни санкции",null,{"$f":"G3129+H3129+I3129+J3129","v":0},{"$nulls":4},""]
[145,null,{"v":1991,"d":"19-91"},"платени данъци, такси, наказателни лихви и административни санкции в чужбина",null,{"$f":"G3130+H3130+I3130+J3130","v":0},{"$nulls":4},""]
[150,{"v":2100,"d":"21-00"},"Разходи за лихви по емисии на държавни (общински) ценни книжа",null,{"$f":"SUM(E3132:E3136)","v":0},0,0,0,0,0,""]
[155,null,{"v":2110,"d":"21-10"},"лихви по държавни (общински) ценни книжа",null,{"$f":"G3132+H3132+I3132+J3132","v":0},{"$nulls":4},""]
[160,null,{"v":2120,"d":"21-20"},"отстъпки по държавни (общински) ценни книжа",null,{"$f":"G3133+H3133+I3133+J3133","v":0},{"$nulls":4},""]
[165,null,{"v":2125,"d":"21-25"},"лихви и отстъпки по целеви емисии на държавни ценни книжа",null,{"$f":"G3134+H3134+I3134+J3134","v":0},null,null,0,null,""]
[175,null,{"v":2140,"d":"21-40"},"лихви по държавни ценни книжа, емитирани за структурната реформа ",null,{"$f":"G3135+H3135+I3135+J3135","v":0},null,null,0,null,""]
[180,null,{"v":2190,"d":"21-90"},"премии над номинала от емисии на държавни (общински) ценни книжа (-)",null,{"$f":"G3136+H3136+I3136+J3136","v":0},null,null,0,null,""]
[185,{"v":2200,"d":"22-00"},"Разходи за лихви по заеми от страната",null,{"$f":"SUM(E3138:E3139)","v":0},0,0,0,0,0,""]
[190,null,{"v":2221,"d":"22-21"},"Разходи за лихви по заеми от банки в страната",null,{"$f":"G3138+H3138+I3138+J3138","v":0},{"$nulls":4},""]
[200,null,{"v":2224,"d":"22-24"},"Разходи за лихви по други заеми от страната",null,0,{"$nulls":4},""]
[200,{"v":2500,"d":"25-00"},"Разходи за лихви по заеми от други държави",null,null,0,{"$nulls":4},""]
[205,{"v":2600,"d":"26-00"},"Разходи за лихви по заеми от международни организации и институции",null,null,0,{"$nulls":4},""]
[210,{"v":2700,"d":"27-00"},"Разходи за лихви по заеми от банки и други финансови институции от чужбина",null,null,0,0,{"$nulls":3},""]
[215,{"v":2800,"d":"28-00"},"Разходи за лихви и отстъпки по облигации, емитирани и търгувани на международните капиталови пазари",null,null,0,{"$nulls":4},""]
[220,{"v":2900,"d":"29-00"},"Други разходи за лихви",null,{"$f":"SUM(E3145:E3152)","v":0},0,0,0,0,0,""]
[225,null,{"v":2910,"d":"29-10"},"Платени лихви по финансов лизинг и търговски кредит",null,{"$f":"G3145+H3145+I3145+J3145","v":0},{"$nulls":4},""]
[230,null,{"v":2920,"d":"29-20"},"Платени лихви по активирани гаранции по заеми от  банки в страната",null,{"$f":"G3146+H3146+I3146+J3146","v":0},{"$nulls":4},""]
[245,null,{"v":2969,"d":"29-69"},"Платени лихви по активирани гаранции по заеми от международни организации и институции",null,0,{"$nulls":4},""]
[220,null,{"v":2970,"d":"29-70"},"Платени лихви по активирани гаранции по заеми от банки и финансови институции от чужбина",null,0,{"$nulls":4},""]
[225,null,{"v":2989,"d":"29-89"},"Възстановени суми по платени лихви по активирани гаранции (-)",null,0,{"$nulls":4},""]
[230,null,{"v":2990,"d":"29-90"},"Платени лихви по заеми, предоставени от централния бюджет и бюджетни организации",null,{"$f":"G3150+H3150+I3150+J3150","v":0},{"$nulls":4},""]
[235,null,{"v":2991,"d":"29-91"},"Други разходи за лихви към  местни лица",null,0,{"$nulls":4},""]
[240,null,{"v":2992,"d":"29-92"},"Други разходи за лихви към чуждестранни лица",null,0,{"$nulls":4},""]
[245,{"v":3300,"d":"33-00"},"Вноска в общия бюджет на Европейския съюз",null,{"$f":"SUM(E3154:E3158)","v":0},0,0,0,0,0,""]
[250,null,{"v":3301,"d":"33-01"},"ресурс на база брутен национален доход",null,{"$f":"G3154+H3154+I3154+J3154","v":0},null,null,0,0,""]
[255,null,{"v":3302,"d":"33-02"},"ресурс на база данък върху добавената стойност",null,0,null,null,0,0,""]
[265,null,{"v":3304,"d":"33-04"},"традиционни собствени ресурси - мита",null,0,null,null,0,0,""]
[270,null,{"v":3306,"d":"33-06"},"участие във финансирането на брутното намаление за Австрия, Дания, Германия, Нидерландия и Швеция",null,0,null,null,0,0,""]
[290,null,{"v":3307,"d":"33-07"},"ресурс на база нерециклираните отпадъци от опаковки от пластмаса",null,0,null,null,0,0,""]
[320,{"v":3900,"d":"39-00"},"Здравно-осигурителни плащания",null,null,0,{"$nulls":4},{"$f":"(IF($E3159<>0,$K$2,IF($F3159<>0,$K$2,IF($G3159<>0,$K$2,IF($H3159<>0,$K$2,IF($I3159<>0,$K$2,IF($J3159<>0,$K$2,\"\")))))))","v":""}]
[330,{"v":4000,"d":"40-00"},"Стипендии",null,null,0,{"$nulls":4},""]
[350,{"v":4100,"d":"41-00"},"Пенсии",null,null,0,{"$nulls":4},""]
[355,{"v":4200,"d":"42-00"},"Текущи трансфери, обезщетения и помощи за домакинствата",null,{"$f":"SUM(E3163:E3168)","v":0},0,0,0,0,0,""]
[375,null,{"v":4201,"d":"42-01"},"обезщетения и помощи по социалното осигуряване",null,{"$f":"G3163+H3163+I3163+J3163","v":0},{"$nulls":4},""]
[375,null,{"v":4202,"d":"42-02"},"обезщетения и помощи по социалното подпомагане",null,0,{"$nulls":4},""]
[380,null,{"v":4214,"d":"42-14"},"обезщетения и помощи по решение на общинския съвет",null,0,{"$nulls":4},""]
[385,null,{"v":4217,"d":"42-17"},"текущи трансфери за домакинства от средства на Европейския съюз",null,0,{"$nulls":4},""]
[390,null,{"v":4218,"d":"42-18"},"текущи трансфери за домакинства по други международни програми и споразумения",null,0,{"$nulls":4},""]
[390,null,{"v":4219,"d":"42-19"},"други текущи трансфери за домакинствата",null,0,{"$nulls":4},""]
[395,{"v":4300,"d":"43-00"},"Субсидии и други текущи трансфери за нефинансови предприятия ",null,{"$f":"SUM(E3170:E3172)","v":0},0,0,0,0,0,""]
[397,null,{"v":4301,"d":"43-01"},"за текуща дейност",null,{"$f":"G3170+H3170+I3170+J3170","v":0},{"$nulls":4},""]
[398,null,{"v":4302,"d":"43-02"},"за осъществяване на болнична помощ ",null,0,{"$nulls":4},""]
[399,null,{"v":4309,"d":"43-09"},"други субсидии и плащания",null,0,{"$nulls":4},""]
[400,{"v":4400,"d":"44-00"},"Субсидии и други текущи трансфери за финансови институции",null,null,0,{"$nulls":4},""]
[401,{"v":4500,"d":"45-00"},"Субсидии и други текущи трансфери за юридически лица с нестопанска цел",null,null,0,{"$nulls":4},""]
[404,{"v":4600,"d":"46-00"},"Разходи за членски внос и участие в нетърговски организации и дейности",null,null,0,{"$nulls":4},""]
[404,{"v":4900,"d":"49-00"},"Предоставени текущи и капиталови трансфери за чужбина",null,{"$f":"+E3177+E3178","v":0},0,0,0,0,0,""]
[440,null,{"v":4901,"d":"49-01"},"текущи трансфери за чужбина",null,{"$f":"G3177+H3177+I3177+J3177","v":0},{"$nulls":4},""]
[450,null,{"v":4902,"d":"49-02"},"капиталови трансфери за чужбина",null,{"$f":"G3178+H3178+I3178+J3178","v":0},{"$nulls":4},""]
[495,{"v":5100,"d":"51-00"},"Основен ремонт на дълготрайни материални активи",null,null,{"$f":"G3179+H3179+I3179+J3179","v":0},{"$nulls":4},""]
[500,{"v":5200,"d":"52-00"},"Придобиване на дълготрайни материални активи",null,{"$f":"SUM(E3181:E3187)","v":0},0,0,0,0,0,""]
[505,null,{"v":5201,"d":"52-01"},"придобиване на компютри и хардуер",null,{"$f":"G3181+H3181+I3181+J3181","v":0},{"$nulls":4},""]
[510,null,{"v":5202,"d":"52-02"},"придобиване на сгради",null,0,{"$nulls":4},""]
[515,null,{"v":5203,"d":"52-03"},"придобиване на друго оборудване, машини и съоръжения",null,0,{"$nulls":4},""]
[520,null,{"v":5204,"d":"52-04"},"придобиване на транспортни средства",null,0,{"$nulls":4},""]
[525,null,{"v":5205,"d":"52-05"},"придобиване на стопански инвентар",null,0,{"$nulls":4},""]
[635,null,{"v":5206,"d":"52-06"},"изграждане на инфраструктурни обекти",null,0,{"$nulls":4},""]
[640,null,{"v":5219,"d":"52-19"},"придобиване на други ДМА",null,0,{"$nulls":4},""]
[645,{"v":5300,"d":"53-00"},"Придобиване на нематериални дълготрайни активи",null,{"$f":"SUM(E3189:E3190)","v":0},0,0,0,0,0,""]
[650,null,{"v":5301,"d":"53-01"},"придобиване на програмни продукти и лицензи за програмни продукти",null,{"$f":"G3189+H3189+I3189+J3189","v":0},{"$nulls":4},""]
[655,null,{"v":5309,"d":"53-09"},"придобиване на други нематериални дълготрайни активи",null,{"$f":"G3190+H3190+I3190+J3190","v":0},{"$nulls":4},""]
[665,{"v":5400,"d":"54-00"},"Придобиване на земя",null,null,{"$f":"G3191+H3191+I3191+J3191","v":0},{"$nulls":4},""]
[675,{"v":5500,"d":"55-00"},"Капиталови трансфери",null,{"$f":"SUM(E3193:E3196)","v":0},0,0,0,0,0,""]
[685,null,{"v":5501,"d":"55-01"},"капиталови трансфери за нефинансови предприятия",null,{"$f":"G3193+H3193+I3193+J3193","v":0},{"$nulls":4},""]
[690,null,{"v":5502,"d":"55-02"},"капиталови трансфери за финансови институции",null,{"$f":"G3194+H3194+I3194+J3194","v":0},{"$nulls":4},""]
[695,null,{"v":5503,"d":"55-03"},"капиталови трансфери за организации с нестопанска цел",null,{"$f":"G3195+H3195+I3195+J3195","v":0},{"$nulls":4},""]
[700,null,{"v":5504,"d":"55-04"},"капиталови трансфери за домакинствата",null,{"$f":"G3196+H3196+I3196+J3196","v":0},{"$nulls":4},""]
[710,{"v":5700,"d":"57-00"},"Прираст на държавния резерв и изкупуване на земеделска продукция (включва и § 40-71)",null,{"$f":"SUM(E3198:E3200)","v":0},0,0,0,0,0,""]
[715,null,{"v":5701,"d":"57-01"},"плащания за попълване на държавния резерв",null,{"$f":"G3198+H3198+I3198+J3198","v":0},{"$nulls":4},""]
[720,null,{"v":5702,"d":"57-02"},"плащания за изкупуване на земеделска продукция",null,{"$f":"G3199+H3199+I3199+J3199","v":0},{"$nulls":4},""]
[725,null,{"v":4071,"d":"40-71"},"постъпления от продажба на държавния резерв (-)",null,{"$f":"G3200+H3200+I3200+J3200","v":0},{"$nulls":4},""]
[730,{"$nulls":9},""]
[735,{"v":98,"d":"00-98"},"Резерв за непредвидени и неотложни разходи",null,null,{"$f":"G3202+H3202+I3202+J3202","v":0},0,0,0,0,""]
[740,{"$nulls":9},""]
[745,{"$nulls":9},""]
[750,{"$nulls":9},""]
[755,null,"99-99",{"$f":"+B3206","v":{"v":0,"d":"II. ОБЩО РАЗХОДИ ЗА ДЕЙНОСТ 0000"}},{"$f":"SUM(E3091,E3094,E3100,E3108,E3109,E3127,E3131,E3137,E3140,E3141,E3142,E3143,E3144,E3153,E3159,E3160,E3161,E3162,E3169,E3173,E3174,E3175,E3176,E3179,E3180,E3188,E3191,E3192,E3197)+E3202","v":0},0,0,0,0,0,"",{"$f":"LEFT(C3088,1)","v":"9"}]
[760,{"$nulls":9},{"$f":"K3206","v":""}]
[765,{"$nulls":9},{"$f":"K3206","v":""}]
[775,{"$nulls":9},{"$f":"(IF(SUM(K3220:K3241)<>0,$K$2,\"\"))","v":""}]
[780,{"$f":"$B$7","v":"ОТЧЕТНИ ДАННИ ПО ЕБК ЗА ИЗПЪЛНЕНИЕТО НА БЮДЖЕТА"},{"$nulls":8},{"$f":"(IF(SUM(K3220:K3241)<>0,$K$2,\"\"))","v":""}]
[785,{"$nulls":3},"за периода от ","до",{"$nulls":4},{"$f":"(IF(SUM(K3220:K3241)<>0,$K$2,\"\"))","v":""}]
[790,{"$f":"$B$9","v":"РЕГИОНАЛНА ЗДРАВНА ИНСПЕКЦИЯ-БУРГАС"},null,null,{"$f":"$E$9","v":"2021-01-01"},{"$f":"$F$9","v":"2021-12-31"},{"$nulls":4},{"$f":"(IF(SUM(K3220:K3241)<>0,$K$2,\"\"))","v":""}]
[795,{"$f":"$B$10","v":"                                                            (наименование на разпоредителя с бюджет)"},{"$nulls":8},{"$f":"(IF(SUM(K3220:K3241)<>0,$K$2,\"\"))","v":""}]
[805,{"$nulls":9},{"$f":"(IF(SUM(K3220:K3241)<>0,$K$2,\"\"))","v":""}]
[810,{"$f":"$B$12","v":{"$error":"#N/A"}},null,null,"       код по ЕБК:",{"$f":"$F$12","v":"0"},{"$nulls":4},{"$f":"(IF(SUM(K3220:K3241)<>0,$K$2,\"\"))","v":""}]
[815,{"$f":"$B$13","v":"                                             (наименование на първостепенния разпоредител с бюджет)"},{"$nulls":8},{"$f":"(IF(SUM(K3220:K3241)<>0,$K$2,\"\"))","v":""}]
[525,null,null,"               ФИНАНСОВО-ПРАВНА ФОРМА",{"$f":"$E$15","v":0},{"$f":"$F$15","v":"БЮДЖЕТ"},{"$nulls":4},{"$f":"(IF(SUM(K3220:K3241)<>0,$K$2,\"\"))","v":""}]
[820,null,null,"Натурални и други показатели за дейността",null,"(в лева)",{"$nulls":4},{"$f":"(IF(SUM(K3220:K3241)<>0,$K$2,\"\"))","v":""}]
[821,"МЯРКА","Код 9 8","  О б щ и   н а т у р а л н и   п о к а з а т е л и","    П л а н","    О т ч е т ",{"$nulls":4},{"$f":"(IF(SUM(K3220:K3241)<>0,$K$2,\"\"))","v":""}]
[822,null," 9 8 0 1","Щ а т н и   б р о й к и",{"$f":"E3221+E3222","v":0},{"$f":"F3221+F3222","v":0},{"$nulls":4},{"$f":"(IF($E3220<>0,$K$2,IF($F3220<>0,$K$2,\"\")))","v":""}]
[823,null," 9 8 1 1","в т.ч.: по трудови правоотношения",{"$nulls":6},""]
[825,null," 9 8 1 2","           по служебни правоотношения",{"$nulls":6},""]
[null,null," 9 8 0 2","Средногодишни щатни бройки",{"$f":"E3224+E3225","v":0},{"$f":"F3224+F3225","v":0},{"$nulls":4},""]
[null,null," 9 8 2 1","в т.ч.: по трудови правоотношения",{"$nulls":6},""]
[null,null," 9 8 2 2","         по служебни правоотношения",{"$nulls":6},""]
[null,null," 9 8 0 3","Средна годишна брутна заплата",{"$nulls":6},""]
[null,null," 9 8 3 1"," в т.ч.:   по трудови правоотношения",{"$nulls":6},""]
[null,null," 9 8 3 2","            по служебни правоотношения",{"$nulls":6},""]
[null,null," 9 8 0 4","Брой на моторни превозни средства",{"$nulls":6},""]
[null,null,"9 8 0 5","- в т.ч. - леки автомобили",{"$nulls":6},""]
[null,null,"9 8 0 6","             - санитарни линейки",{"$nulls":6},""]
[null,null," 9 8 0 7","Брой ученици, финансирани по единни разходни стандарти",{"$nulls":6},""]
[null,null," 9 8 0 8","Средна годишна брутна заплата на делегирани бюджети",{"$nulls":6},""]
[null,null," 9 8 0 9","Щатни бройки на делегирани бюджети",{"$nulls":6},""]
[null,null," 9 8 1 0","Средногодишни щатни бройки на делегирани бюджети",{"$nulls":6},""]
[null,null,"9 8 1 3","Средногодишен приравнен брой учащи във ВУ, финансирани по норматив за издръжка на обучението",{"$nulls":6},""]
[null,null,"9 8 1 4","Брой леглодни в студентски общежития",{"$nulls":6},""]
[905,null,"9 8 1 5","Брой хранодни в студентски стол",{"$nulls":6},""]
[906,null,"9 8 1 7","Болнични легла",{"$nulls":6},""]
[907,null,"9 8 1 8","Обем радиопрограма /часове/",{"$nulls":6},""]
[910,null,"9 8 1 9","Обем телевизионна програма /часове/",{"$nulls":6},""]
[911,"МЯРКА","Код  ","Разходи в областта на електронното управление и за използваните информационни и комуникационни технологии","    П л а н","    О т ч е т ",{"$nulls":4},{"$f":"(IF($E3243<>0,$K$2,IF($F3243<>0,$K$2,\"\")))","v":""}]
[null,null,"9 8 5 0","Общо разходи в областта на ЕУ и за използваните ИКТ",{"$f":"E3244+E3245","v":0},{"$f":"F3244+F3245","v":0},{"$nulls":4},""]
[null,null,"9 8 5 1","Текущи разходи в областта на ЕУ и за използваните ИКТ",{"$nulls":6},""]
[null,null,"9 8 5 2","Капиталови разходи в областта на ЕУ и за използваните ИКТ",{"$nulls":6},""]
[null,"ЗАБЕЛЕЖКА:",{"$nulls":8},{"$f":"K3206","v":""}]
[null," За натурални показатели, не влючени в този отчет, специфични за конкретна дейност се представят отделни справки, допълнително определени от Министерство на финансите.",{"$nulls":8},{"$f":"K3206","v":""}]
[]
[{"$nulls":10},{"$f":"(IF($E3382<>0,$K$2,IF($F3382<>0,$K$2,IF($G3382<>0,$K$2,IF($H3382<>0,$K$2,IF($I3382<>0,$K$2,IF($J3382<>0,$K$2,\"\")))))))","v":""}]
[{"$nulls":10},{"$f":"(IF($E3382<>0,$K$2,IF($F3382<>0,$K$2,IF($G3382<>0,$K$2,IF($H3382<>0,$K$2,IF($I3382<>0,$K$2,IF($J3382<>0,$K$2,\"\")))))))","v":""}]
[null,{"$f":"$B$7","v":"ОТЧЕТНИ ДАННИ ПО ЕБК ЗА ИЗПЪЛНЕНИЕТО НА БЮДЖЕТА"},{"$nulls":8},{"$f":"(IF($E3382<>0,$K$2,IF($F3382<>0,$K$2,IF($G3382<>0,$K$2,IF($H3382<>0,$K$2,IF($I3382<>0,$K$2,IF($J3382<>0,$K$2,\"\")))))))","v":""}]
[{"$nulls":4},"за периода от ","до",null,"                 II.1. РАЗХОДИ ПО ДЕЙНОСТИ",null,null,{"$f":"(IF($E3382<>0,$K$2,IF($F3382<>0,$K$2,IF($G3382<>0,$K$2,IF($H3382<>0,$K$2,IF($I3382<>0,$K$2,IF($J3382<>0,$K$2,\"\")))))))","v":""}]
[null,{"$f":"$B$9","v":"РЕГИОНАЛНА ЗДРАВНА ИНСПЕКЦИЯ-БУРГАС"},null,null,{"$f":"$E$9","v":"2021-01-01"},{"$f":"$F$9","v":"2021-12-31"},{"$nulls":4},{"$f":"(IF($E3382<>0,$K$2,IF($F3382<>0,$K$2,IF($G3382<>0,$K$2,IF($H3382<>0,$K$2,IF($I3382<>0,$K$2,IF($J3382<>0,$K$2,\"\")))))))","v":""}]
[null,{"$f":"$B$10","v":"                                                            (наименование на разпоредителя с бюджет)"},{"$nulls":8},{"$f":"(IF($E3382<>0,$K$2,IF($F3382<>0,$K$2,IF($G3382<>0,$K$2,IF($H3382<>0,$K$2,IF($I3382<>0,$K$2,IF($J3382<>0,$K$2,\"\")))))))","v":""}]
[{"$nulls":10},{"$f":"(IF($E3382<>0,$K$2,IF($F3382<>0,$K$2,IF($G3382<>0,$K$2,IF($H3382<>0,$K$2,IF($I3382<>0,$K$2,IF($J3382<>0,$K$2,\"\")))))))","v":""}]
[null,{"$f":"$B$12","v":{"$error":"#N/A"}},null,null,"       код по ЕБК:",{"$f":"$F$12","v":"0"},{"$nulls":4},{"$f":"(IF($E3382<>0,$K$2,IF($F3382<>0,$K$2,IF($G3382<>0,$K$2,IF($H3382<>0,$K$2,IF($I3382<>0,$K$2,IF($J3382<>0,$K$2,\"\")))))))","v":""}]
[null,{"$f":"$B$13","v":"                                             (наименование на първостепенния разпоредител с бюджет)"},{"$nulls":8},{"$f":"(IF($E3382<>0,$K$2,IF($F3382<>0,$K$2,IF($G3382<>0,$K$2,IF($H3382<>0,$K$2,IF($I3382<>0,$K$2,IF($J3382<>0,$K$2,\"\")))))))","v":""}]
[{"$nulls":3},"ФИНАНСОВО-ПРАВНА ФОРМА",{"$f":"$E$15","v":0},{"$f":"$F$15","v":"БЮДЖЕТ"},{"$nulls":4},{"$f":"(IF($E3382<>0,$K$2,IF($F3382<>0,$K$2,IF($G3382<>0,$K$2,IF($H3382<>0,$K$2,IF($I3382<>0,$K$2,IF($J3382<>0,$K$2,\"\")))))))","v":""}]
[{"$nulls":9},"(в лева)",{"$f":"(IF($E3382<>0,$K$2,IF($F3382<>0,$K$2,IF($G3382<>0,$K$2,IF($H3382<>0,$K$2,IF($I3382<>0,$K$2,IF($J3382<>0,$K$2,\"\")))))))","v":""}]
[{"$nulls":3},"II.1. РАЗХОДИ ПО ДЕЙНОСТИ","Уточнен план","                                                                                                                              О Т Ч Е Т Н И   Д А Н Н И",{"$nulls":4},{"$f":"(IF($E3382<>0,$K$2,IF($F3382<>0,$K$2,IF($G3382<>0,$K$2,IF($H3382<>0,$K$2,IF($I3382<>0,$K$2,IF($J3382<>0,$K$2,\"\")))))))","v":""}]
[null,"§§","под-§§","НАИМЕНОВАНИЯ НА ПАРАГРАФИТЕ И ПОДПАРАГРАФИТЕ",{"$f":"$C$3","v":2021},"ОБЩО","левови\n сметки и СЕБРА ","валутни \nсметки ","операции в брой (в левове и валута)","операции приравнени на касов поток",{"$f":"(IF($E3382<>0,$K$2,IF($F3382<>0,$K$2,IF($G3382<>0,$K$2,IF($H3382<>0,$K$2,IF($I3382<>0,$K$2,IF($J3382<>0,$K$2,\"\")))))))","v":""}]
[{"$nulls":3}," 02 ¦","(1)","(2)","(3)","(4)","(5)","(6)",{"$f":"(IF($E3382<>0,$K$2,IF($F3382<>0,$K$2,IF($G3382<>0,$K$2,IF($H3382<>0,$K$2,IF($I3382<>0,$K$2,IF($J3382<>0,$K$2,\"\")))))))","v":""}]
[null,null,0,"ИЗБЕРЕТЕ ОПЕРАТИВНА ПРОГРАМА ",{"$nulls":6},{"$f":"(IF($E3382<>0,$K$2,IF($F3382<>0,$K$2,IF($G3382<>0,$K$2,IF($H3382<>0,$K$2,IF($I3382<>0,$K$2,IF($J3382<>0,$K$2,\"\")))))))","v":""}]
[null,null,{"$f":"VLOOKUP(D3265,EBK_DEIN2,2,FALSE)","v":1162},"<------          ДЕЙНОСТ    -  код  по  ЕБК",{"$nulls":6},{"$f":"(IF($E3382<>0,$K$2,IF($F3382<>0,$K$2,IF($G3382<>0,$K$2,IF($H3382<>0,$K$2,IF($I3382<>0,$K$2,IF($J3382<>0,$K$2,\"\")))))))","v":""}]
[null,null,{"$f":"+C3264","v":1162},"162 Научноизследователско дело",{"$nulls":6},{"$f":"(IF($E3382<>0,$K$2,IF($F3382<>0,$K$2,IF($G3382<>0,$K$2,IF($H3382<>0,$K$2,IF($I3382<>0,$K$2,IF($J3382<>0,$K$2,\"\")))))))","v":""}]
[{"$nulls":3},"(наименование на дейността)",{"$nulls":6},{"$f":"(IF($E3382<>0,$K$2,IF($F3382<>0,$K$2,IF($G3382<>0,$K$2,IF($H3382<>0,$K$2,IF($I3382<>0,$K$2,IF($J3382<>0,$K$2,\"\")))))))","v":""}]
[null,{"v":100,"d":"01-00"},"Заплати и възнаграждения за персонала, нает по трудови и служебни правоотношения",null,{"$f":"SUM(E3268:E3269)","v":0},0,0,0,0,0,{"$f":"(IF($E3267<>0,$K$2,IF($F3267<>0,$K$2,IF($G3267<>0,$K$2,IF($H3267<>0,$K$2,IF($I3267<>0,$K$2,IF($J3267<>0,$K$2,\"\")))))))","v":""}]
[null,null,{"v":101,"d":"01-01"},"заплати и възнаграждения на персонала нает по трудови правоотношения",0,{"$f":"G3268+H3268+I3268+J3268","v":0},0,0,0,0,{"$f":"(IF($E3268<>0,$K$2,IF($F3268<>0,$K$2,IF($G3268<>0,$K$2,IF($H3268<>0,$K$2,IF($I3268<>0,$K$2,IF($J3268<>0,$K$2,\"\")))))))","v":""}]
[null,null,{"v":102,"d":"01-02"},"заплати и възнаграждения на персонала нает по служебни правоотношения",0,{"$f":"G3269+H3269+I3269+J3269","v":0},0,0,0,0,""]
[null,{"v":200,"d":"02-00"},"Други възнаграждения и плащания за персонала",null,{"$f":"SUM(E3271:E3275)","v":0},0,0,0,0,0,""]
[null,null,{"v":201,"d":"02-01"},"за нещатен персонал нает по трудови правоотношения ",0,{"$f":"G3271+H3271+I3271+J3271","v":0},0,0,0,0,""]
[null,null,{"v":202,"d":"02-02"},"за персонала по извънтрудови правоотношения",0,{"$f":"G3272+H3272+I3272+J3272","v":0},0,0,0,0,""]
[null,null,{"v":205,"d":"02-05"},"изплатени суми от СБКО за облекло и други на персонала, с характер на възнаграждение",0,{"$f":"G3273+H3273+I3273+J3273","v":0},0,0,0,0,""]
[null,null,{"v":208,"d":"02-08"},"обезщетения за персонала, с характер на възнаграждение",0,{"$f":"G3274+H3274+I3274+J3274","v":0},0,0,0,0,""]
[null,null,{"v":209,"d":"02-09"},"другиплащания и възнаграждения",0,{"$f":"G3275+H3275+I3275+J3275","v":0},0,0,0,0,""]
[null,{"v":500,"d":"05-00"},"Задължителни осигурителни вноски от работодатели",null,{"$f":"SUM(E3277:E3283)","v":0},0,0,0,0,0,""]
[null,null,{"v":551,"d":"05-51"},"осигурителни вноски от работодатели за Държавното обществено осигуряване (ДОО)",0,{"$f":"G3277+H3277+I3277+J3277","v":0},0,0,0,0,""]
[null,null,{"$f":"C3277+1","v":{"v":552,"d":"05-52"}},"осигурителни вноски от работодатели за Учителския пенсионен фонд (УПФ)",null,0,0,0,0,0,""]
[null,null,{"v":558,"d":"05-58"},"вноски по чл. 4б и 4в от КСО за сметка на осигурителя",null,{"$f":"G3279+H3279+I3279+J3279","v":0},0,0,0,0,""]
[null,null,{"v":560,"d":"05-60"},"здравно-осигурителни вноски от работодатели",0,0,0,0,0,0,""]
[null,null,{"v":580,"d":"05-80"},"вноски за допълнително задължително осигуряване от работодатели",0,0,0,0,0,0,""]
[null,null,{"v":588,"d":"05-88"},"коректив на вноски за ДЗПО за сумите по чл. 4б и 4в от КСО за сметка на осигурителя",null,{"$f":"G3282+H3282+I3282+J3282","v":0},0,0,0,0,""]
[null,null,{"v":590,"d":"05-90"},"задължителни вноски за чуждестранни пенсионни фондове и  схеми за сметка на осигурителя",0,0,0,0,0,0,""]
[5,{"v":800,"d":"08-00"},"Вноски за доброволно осигуряване ",null,null,0,{"$nulls":4},""]
[10,{"v":1000,"d":"10-00"},"Издръжка",null,{"$f":"SUM(E3286:E3302)","v":0},0,0,0,0,0,""]
[15,null,{"v":1011,"d":"10-11"},"Храна",0,{"$f":"G3286+H3286+I3286+J3286","v":0},0,0,0,0,""]
[35,null,{"v":1012,"d":"10-12"},"Медикаменти",0,0,0,0,0,0,""]
[40,null,{"v":1013,"d":"10-13"},"Постелен инвентар и облекло",0,0,0,0,0,0,""]
[45,null,{"v":1014,"d":"10-14"},"Учебни и научно-изследователски разходи и книги за библиотеките",0,0,0,0,0,0,""]
[50,null,{"v":1015,"d":"10-15"},"материали",0,0,0,0,0,0,""]
[55,null,{"v":1016,"d":"10-16"},"вода, горива и енергия",0,0,0,0,0,0,""]
[60,null,{"v":1020,"d":"10-20"},"разходи за външни услуги",0,0,0,0,0,0,""]
[65,null,{"v":1030,"d":"10-30"},"Текущ ремонт",0,0,0,0,0,0,""]
[70,null,{"v":1051,"d":"10-51"},"командировки в страната",0,0,0,0,0,0,""]
[75,null,{"v":1052,"d":"10-52"},"краткосрочни командировки в чужбина",0,0,0,0,0,0,""]
[80,null,{"v":1053,"d":"10-53"},"дългосрочни командировки в чужбина",0,0,0,0,0,0,""]
[80,null,{"v":1062,"d":"10-62"},"разходи за застраховки",0,0,0,0,0,0,""]
[85,null,{"v":1063,"d":"10-63"},"такса ангажимент по заеми",0,0,0,0,0,0,""]
[90,null,{"v":1069,"d":"10-69"},"други финансови услуги",0,0,0,0,0,0,""]
[90,null,{"v":1091,"d":"10-91"},"други разходи за СБКО",0,0,0,0,0,0,""]
[115,null,{"v":1092,"d":"10-92"},"разходи за договорни санкции и неустойки, съдебни обезщетения и разноски",0,0,0,0,0,0,""]
[125,null,{"v":1098,"d":"10-98"},"други разходи, некласифицирани в другите параграфи и подпараграфи",0,0,0,0,0,0,""]
[130,{"v":1900,"d":"19-00"},"Платени данъци, такси и административни санкции",null,{"$f":"SUM(E3304:E3306)","v":0},0,0,0,0,0,""]
[135,null,{"v":1901,"d":"19-01"},"платени държавни данъци, такси, наказателни лихви и административни санкции",0,{"$f":"G3304+H3304+I3304+J3304","v":0},0,0,0,0,""]
[140,null,{"v":1981,"d":"19-81"},"платени общински данъци, такси, наказателни лихви и административни санкции",0,{"$f":"G3305+H3305+I3305+J3305","v":0},0,0,0,0,""]
[145,null,{"v":1991,"d":"19-91"},"платени данъци, такси, наказателни лихви и административни санкции в чужбина",0,{"$f":"G3306+H3306+I3306+J3306","v":0},0,0,0,0,""]
[150,{"v":2100,"d":"21-00"},"Разходи за лихви по емисии на държавни (общински) ценни книжа",null,{"$f":"SUM(E3308:E3312)","v":0},0,0,0,0,0,""]
[155,null,{"v":2110,"d":"21-10"},"лихви по държавни (общински) ценни книжа",0,{"$f":"G3308+H3308+I3308+J3308","v":0},0,0,0,0,""]
[160,null,{"v":2120,"d":"21-20"},"отстъпки по държавни (общински) ценни книжа",0,{"$f":"G3309+H3309+I3309+J3309","v":0},0,0,0,0,""]
[165,null,{"v":2125,"d":"21-25"},"лихви и отстъпки по целеви емисии на държавни ценни книжа",0,{"$f":"G3310+H3310+I3310+J3310","v":0},0,0,0,0,""]
[175,null,{"v":2140,"d":"21-40"},"лихви по държавни ценни книжа, емитирани за структурната реформа ",0,{"$f":"G3311+H3311+I3311+J3311","v":0},0,0,0,0,""]
[180,null,{"v":2190,"d":"21-90"},"премии над номинала от емисии на държавни (общински) ценни книжа (-)",0,{"$f":"G3312+H3312+I3312+J3312","v":0},0,0,0,0,""]
[185,{"v":2200,"d":"22-00"},"Разходи за лихви по заеми от страната",null,{"$f":"SUM(E3314:E3315)","v":0},0,0,0,0,0,""]
[190,null,{"v":2221,"d":"22-21"},"Разходи за лихви по заеми от банки в страната",0,{"$f":"G3314+H3314+I3314+J3314","v":0},0,0,0,0,""]
[200,null,{"v":2224,"d":"22-24"},"Разходи за лихви по други заеми от страната",0,0,0,0,0,0,""]
[200,{"v":2500,"d":"25-00"},"Разходи за лихви по заеми от други държави",null,null,0,{"$nulls":4},""]
[205,{"v":2600,"d":"26-00"},"Разходи за лихви по заеми от международни организации и институции",null,null,0,{"$nulls":4},""]
[210,{"v":2700,"d":"27-00"},"Разходи за лихви по заеми от банки и други финансови институции от чужбина",null,null,0,{"$nulls":4},""]
[215,{"v":2800,"d":"28-00"},"Разходи за лихви и отстъпки по облигации, емитирани и търгувани на международните капиталови пазари",null,null,0,{"$nulls":4},""]
[220,{"v":2900,"d":"29-00"},"Други разходи за лихви",null,{"$f":"SUM(E3321:E3328)","v":0},0,0,0,0,0,""]
[225,null,{"v":2910,"d":"29-10"},"Платени лихви по финансов лизинг и търговски кредит",null,{"$f":"G3321+H3321+I3321+J3321","v":0},{"$nulls":4},""]
[230,null,{"v":2920,"d":"29-20"},"Платени лихви по активирани гаранции по заеми от  банки в страната",0,{"$f":"G3322+H3322+I3322+J3322","v":0},0,0,0,0,""]
[245,null,{"v":2969,"d":"29-69"},"Платени лихви по активирани гаранции по заеми от международни организации и институции",0,0,0,0,0,0,""]
[220,null,{"v":2970,"d":"29-70"},"Платени лихви по активирани гаранции по заеми от банки и финансови институции от чужбина",0,0,0,0,0,0,""]
[225,null,{"v":2989,"d":"29-89"},"Възстановени суми по платени лихви по активирани гаранции (-)",0,0,0,0,0,0,""]
[230,null,{"v":2990,"d":"29-90"},"Платени лихви по заеми, предоставени от централния бюджет и бюджетни организации",null,{"$f":"G3326+H3326+I3326+J3326","v":0},{"$nulls":4},""]
[235,null,{"v":2991,"d":"29-91"},"Други разходи за лихви към  местни лица",0,0,0,0,0,0,""]
[240,null,{"v":2992,"d":"29-92"},"Други разходи за лихви към чуждестранни лица",0,0,0,0,0,0,""]
[245,{"v":3300,"d":"33-00"},"Вноска в общия бюджет на Европейския съюз",null,{"$f":"SUM(E3330:E3334)","v":0},0,0,0,0,0,""]
[250,null,{"v":3301,"d":"33-01"},"ресурс на база брутен национален доход",0,{"$f":"G3330+H3330+I3330+J3330","v":0},0,0,0,0,""]
[255,null,{"v":3302,"d":"33-02"},"ресурс на база данък върху добавената стойност",0,0,0,0,0,0,""]
[265,null,{"v":3304,"d":"33-04"},"традиционни собствени ресурси - мита",0,0,0,0,0,0,""]
[270,null,{"v":3306,"d":"33-06"},"участие във финансирането на брутното намаление за Австрия, Дания, Германия, Нидерландия и Швеция",0,0,0,0,0,0,""]
[290,null,{"v":3307,"d":"33-07"},"ресурс на база нерециклираните отпадъци от опаковки от пластмаса",0,0,0,0,0,0,""]
[320,{"v":3900,"d":"39-00"},"Здравно-осигурителни плащания",null,null,0,{"$nulls":4},{"$f":"(IF($E3335<>0,$K$2,IF($F3335<>0,$K$2,IF($G3335<>0,$K$2,IF($H3335<>0,$K$2,IF($I3335<>0,$K$2,IF($J3335<>0,$K$2,\"\")))))))","v":""}]
[330,{"v":4000,"d":"40-00"},"Стипендии",null,null,0,{"$nulls":4},""]
[350,{"v":4100,"d":"41-00"},"Пенсии",null,null,0,{"$nulls":4},""]
[355,{"v":4200,"d":"42-00"},"Текущи трансфери, обезщетения и помощи за домакинствата",null,{"$f":"SUM(E3339:E3344)","v":0},0,0,0,0,0,""]
[375,null,{"v":4201,"d":"42-01"},"обезщетения и помощи по социалното осигуряване",0,{"$f":"G3339+H3339+I3339+J3339","v":0},0,0,0,0,""]
[375,null,{"v":4202,"d":"42-02"},"обезщетения и помощи по социалното подпомагане",0,0,0,0,0,0,""]
[380,null,{"v":4214,"d":"42-14"},"обезщетения и помощи по решение на общинския съвет",0,0,0,0,0,0,""]
[385,null,{"v":4217,"d":"42-17"},"текущи трансфери за домакинства от средства на Европейския съюз",0,0,0,0,0,0,""]
[390,null,{"v":4218,"d":"42-18"},"текущи трансфери за домакинства по други международни програми и споразумения",0,0,0,0,0,0,""]
[390,null,{"v":4219,"d":"42-19"},"други текущи трансфери за домакинствата",0,0,0,0,0,0,""]
[395,{"v":4300,"d":"43-00"},"Субсидии и други текущи трансфери за нефинансови предприятия ",null,{"$f":"SUM(E3346:E3348)","v":0},0,0,0,0,0,""]
[397,null,{"v":4301,"d":"43-01"},"за текуща дейност",0,{"$f":"G3346+H3346+I3346+J3346","v":0},0,0,0,0,""]
[398,null,{"v":4302,"d":"43-02"},"за осъществяване на болнична помощ ",0,0,0,0,0,0,""]
[399,null,{"v":4309,"d":"43-09"},"други субсидии и плащания",0,0,0,0,0,0,""]
[400,{"v":4400,"d":"44-00"},"Субсидии и други текущи трансфери за финансови институции",null,null,0,{"$nulls":4},""]
[401,{"v":4500,"d":"45-00"},"Субсидии и други текущи трансфери за юридически лица с нестопанска цел",null,null,0,{"$nulls":4},""]
[404,{"v":4600,"d":"46-00"},"Разходи за членски внос и участие в нетърговски организации и дейности",null,null,0,{"$nulls":4},""]
[404,{"v":4900,"d":"49-00"},"Предоставени текущи и капиталови трансфери за чужбина",null,{"$f":"+E3353+E3354","v":0},0,0,0,0,0,""]
[440,null,{"v":4901,"d":"49-01"},"текущи трансфери за чужбина",0,{"$f":"G3353+H3353+I3353+J3353","v":0},0,0,0,0,""]
[450,null,{"v":4902,"d":"49-02"},"капиталови трансфери за чужбина",0,{"$f":"G3354+H3354+I3354+J3354","v":0},0,0,0,0,""]
[495,{"v":5100,"d":"51-00"},"Основен ремонт на дълготрайни материални активи",null,null,{"$f":"G3355+H3355+I3355+J3355","v":0},{"$nulls":4},""]
[500,{"v":5200,"d":"52-00"},"Придобиване на дълготрайни материални активи",null,{"$f":"SUM(E3357:E3363)","v":0},0,0,0,0,0,""]
[505,null,{"v":5201,"d":"52-01"},"придобиване на компютри и хардуер",0,{"$f":"G3357+H3357+I3357+J3357","v":0},0,0,0,0,""]
[510,null,{"v":5202,"d":"52-02"},"придобиване на сгради",0,0,0,0,0,0,""]
[515,null,{"v":5203,"d":"52-03"},"придобиване на друго оборудване, машини и съоръжения",0,0,0,0,0,0,""]
[520,null,{"v":5204,"d":"52-04"},"придобиване на транспортни средства",0,0,0,0,0,0,""]
[525,null,{"v":5205,"d":"52-05"},"придобиване на стопански инвентар",0,0,0,0,0,0,""]
[635,null,{"v":5206,"d":"52-06"},"изграждане на инфраструктурни обекти",0,0,0,0,0,0,""]
[640,null,{"v":5219,"d":"52-19"},"придобиване на други ДМА",0,0,0,0,0,0,""]
[645,{"v":5300,"d":"53-00"},"Придобиване на нематериални дълготрайни активи",null,{"$f":"SUM(E3365:E3366)","v":0},0,0,0,0,0,""]
[650,null,{"v":5301,"d":"53-01"},"придобиване на програмни продукти и лицензи за програмни продукти",0,{"$f":"G3365+H3365+I3365+J3365","v":0},0,0,0,0,""]
[655,null,{"v":5309,"d":"53-09"},"придобиване на други нематериални дълготрайни активи",0,{"$f":"G3366+H3366+I3366+J3366","v":0},0,0,0,0,""]
[665,{"v":5400,"d":"54-00"},"Придобиване на земя",null,null,{"$f":"G3367+H3367+I3367+J3367","v":0},{"$nulls":4},""]
[675,{"v":5500,"d":"55-00"},"Капиталови трансфери",null,{"$f":"SUM(E3369:E3372)","v":0},0,0,0,0,0,""]
[685,null,{"v":5501,"d":"55-01"},"капиталови трансфери за нефинансови предприятия",0,{"$f":"G3369+H3369+I3369+J3369","v":0},0,0,0,0,""]
[690,null,{"v":5502,"d":"55-02"},"капиталови трансфери за финансови институции",0,{"$f":"G3370+H3370+I3370+J3370","v":0},0,0,0,0,""]
[695,null,{"v":5503,"d":"55-03"},"капиталови трансфери за организации с нестопанска цел",0,{"$f":"G3371+H3371+I3371+J3371","v":0},0,0,0,0,""]
[700,null,{"v":5504,"d":"55-04"},"капиталови трансфери за домакинствата",0,{"$f":"G3372+H3372+I3372+J3372","v":0},0,0,0,0,""]
[710,{"v":5700,"d":"57-00"},"Прираст на държавния резерв и изкупуване на земеделска продукция (включва и § 40-71)",null,{"$f":"SUM(E3374:E3376)","v":0},0,0,0,0,0,""]
[715,null,{"v":5701,"d":"57-01"},"плащания за попълване на държавния резерв",0,{"$f":"G3374+H3374+I3374+J3374","v":0},0,0,0,0,""]
[720,null,{"v":5702,"d":"57-02"},"плащания за изкупуване на земеделска продукция",0,{"$f":"G3375+H3375+I3375+J3375","v":0},0,0,0,0,""]
[725,null,{"v":4071,"d":"40-71"},"постъпления от продажба на държавния резерв (-)",0,{"$f":"G3376+H3376+I3376+J3376","v":0},0,0,0,0,""]
[730,{"$nulls":9},""]
[735,{"v":98,"d":"00-98"},"Резерв за непредвидени и неотложни разходи",null,null,{"$f":"G3378+H3378+I3378+J3378","v":0},0,0,0,0,""]
[740,{"$nulls":9},""]
[745,{"$nulls":9},""]
[750,{"$nulls":9},""]
[755,null,"99-99",{"$f":"+B3382","v":{"v":0,"d":"II. ОБЩО РАЗХОДИ ЗА ДЕЙНОСТ 0000"}},{"$f":"SUM(E3267,E3270,E3276,E3284,E3285,E3303,E3307,E3313,E3316,E3317,E3318,E3319,E3320,E3329,E3335,E3336,E3337,E3338,E3345,E3349,E3350,E3351,E3352,E3355,E3356,E3364,E3367,E3368,E3373)+E3378","v":0},0,0,0,0,0,"",{"$f":"LEFT(C3264,1)","v":"1"}]
[760,{"$nulls":9},{"$f":"K3382","v":""}]
[765,{"$nulls":9},{"$f":"K3382","v":""}]
[775,{"$nulls":9},{"$f":"(IF(SUM(K3396:K3417)<>0,$K$2,\"\"))","v":""}]
[780,{"$f":"$B$7","v":"ОТЧЕТНИ ДАННИ ПО ЕБК ЗА ИЗПЪЛНЕНИЕТО НА БЮДЖЕТА"},{"$nulls":8},{"$f":"(IF(SUM(K3396:K3417)<>0,$K$2,\"\"))","v":""}]
[785,{"$nulls":3},"за периода от ","до",{"$nulls":4},{"$f":"(IF(SUM(K3396:K3417)<>0,$K$2,\"\"))","v":""}]
[790,{"$f":"$B$9","v":"РЕГИОНАЛНА ЗДРАВНА ИНСПЕКЦИЯ-БУРГАС"},null,null,{"$f":"$E$9","v":"2021-01-01"},{"$f":"$F$9","v":"2021-12-31"},{"$nulls":4},{"$f":"(IF(SUM(K3396:K3417)<>0,$K$2,\"\"))","v":""}]
[795,{"$f":"$B$10","v":"                                                            (наименование на разпоредителя с бюджет)"},{"$nulls":8},{"$f":"(IF(SUM(K3396:K3417)<>0,$K$2,\"\"))","v":""}]
[805,{"$nulls":9},{"$f":"(IF(SUM(K3396:K3417)<>0,$K$2,\"\"))","v":""}]
[810,{"$f":"$B$12","v":{"$error":"#N/A"}},null,null,"       код по ЕБК:",{"$f":"$F$12","v":"0"},{"$nulls":4},{"$f":"(IF(SUM(K3396:K3417)<>0,$K$2,\"\"))","v":""}]
[815,{"$f":"$B$13","v":"                                             (наименование на първостепенния разпоредител с бюджет)"},{"$nulls":8},{"$f":"(IF(SUM(K3396:K3417)<>0,$K$2,\"\"))","v":""}]
[525,null,null,"               ФИНАНСОВО-ПРАВНА ФОРМА",{"$f":"$E$15","v":0},{"$f":"$F$15","v":"БЮДЖЕТ"},{"$nulls":4},{"$f":"(IF(SUM(K3396:K3417)<>0,$K$2,\"\"))","v":""}]
[820,null,null,"Натурални и други показатели за дейността",null,"(в лева)",{"$nulls":4},{"$f":"(IF(SUM(K3396:K3417)<>0,$K$2,\"\"))","v":""}]
[821,"МЯРКА","Код 9 8","  О б щ и   н а т у р а л н и   п о к а з а т е л и","    П л а н","    О т ч е т ",{"$nulls":4},{"$f":"(IF(SUM(K3396:K3417)<>0,$K$2,\"\"))","v":""}]
[822,null," 9 8 0 1","Щ а т н и   б р о й к и",{"$f":"E3397+E3398","v":0},{"$f":"F3397+F3398","v":0},{"$nulls":4},{"$f":"(IF($E3396<>0,$K$2,IF($F3396<>0,$K$2,\"\")))","v":""}]
[823,null," 9 8 1 1","в т.ч.: по трудови правоотношения",{"$nulls":6},""]
[825,null," 9 8 1 2","           по служебни правоотношения",{"$nulls":6},""]
[null,null," 9 8 0 2","Средногодишни щатни бройки",{"$f":"E3400+E3401","v":0},{"$f":"F3400+F3401","v":0},{"$nulls":4},""]
[null,null," 9 8 2 1","в т.ч.: по трудови правоотношения",{"$nulls":6},""]
[null,null," 9 8 2 2","         по служебни правоотношения",{"$nulls":6},""]
[null,null," 9 8 0 3","Средна годишна брутна заплата",{"$nulls":6},""]
[null,null," 9 8 3 1"," в т.ч.:   по трудови правоотношения",{"$nulls":6},""]
[null,null," 9 8 3 2","            по служебни правоотношения",{"$nulls":6},""]
[null,null," 9 8 0 4","Брой на моторни превозни средства",{"$nulls":6},""]
[null,null,"9 8 0 5","- в т.ч. - леки автомобили",{"$nulls":6},""]
[null,null,"9 8 0 6","             - санитарни линейки",{"$nulls":6},""]
[null,null," 9 8 0 7","Брой ученици, финансирани по единни разходни стандарти",{"$nulls":6},""]
[null,null," 9 8 0 8","Средна годишна брутна заплата на делегирани бюджети",{"$nulls":6},""]
[null,null," 9 8 0 9","Щатни бройки на делегирани бюджети",{"$nulls":6},""]
[null,null," 9 8 1 0","Средногодишни щатни бройки на делегирани бюджети",{"$nulls":6},""]
[null,null,"9 8 1 3","Средногодишен приравнен брой учащи във ВУ, финансирани по норматив за издръжка на обучението",{"$nulls":6},""]
[null,null,"9 8 1 4","Брой леглодни в студентски общежития",{"$nulls":6},""]
[905,null,"9 8 1 5","Брой хранодни в студентски стол",{"$nulls":6},""]
[906,null,"9 8 1 7","Болнични легла",{"$nulls":6},""]
[907,null,"9 8 1 8","Обем радиопрограма /часове/",{"$nulls":6},""]
[910,null,"9 8 1 9","Обем телевизионна програма /часове/",{"$nulls":6},""]
[911,"МЯРКА","Код  ","Разходи в областта на електронното управление и за използваните информационни и комуникационни технологии","    П л а н","    О т ч е т ",{"$nulls":4},{"$f":"(IF($E3419<>0,$K$2,IF($F3419<>0,$K$2,\"\")))","v":""}]
[null,null,"9 8 5 0","Общо разходи в областта на ЕУ и за използваните ИКТ",{"$f":"E3420+E3421","v":0},{"$f":"F3420+F3421","v":0},{"$nulls":4},""]
[null,null,"9 8 5 1","Текущи разходи в областта на ЕУ и за използваните ИКТ",0,0,{"$nulls":4},""]
[null,null,"9 8 5 2","Капиталови разходи в областта на ЕУ и за използваните ИКТ",0,0,{"$nulls":4},""]
[null,"ЗАБЕЛЕЖКА:",{"$nulls":8},{"$f":"K3382","v":""}]
[null," За натурални показатели, не влючени в този отчет, специфични за конкретна дейност се представят отделни справки, допълнително определени от Министерство на финансите.",{"$nulls":8},{"$f":"K3382","v":""}]
[]
[{"$nulls":10},{"$f":"(IF($E3558<>0,$K$2,IF($F3558<>0,$K$2,IF($G3558<>0,$K$2,IF($H3558<>0,$K$2,IF($I3558<>0,$K$2,IF($J3558<>0,$K$2,\"\")))))))","v":""}]
[{"$nulls":10},{"$f":"(IF($E3558<>0,$K$2,IF($F3558<>0,$K$2,IF($G3558<>0,$K$2,IF($H3558<>0,$K$2,IF($I3558<>0,$K$2,IF($J3558<>0,$K$2,\"\")))))))","v":""}]
[null,{"$f":"$B$7","v":"ОТЧЕТНИ ДАННИ ПО ЕБК ЗА ИЗПЪЛНЕНИЕТО НА БЮДЖЕТА"},{"$nulls":8},{"$f":"(IF($E3558<>0,$K$2,IF($F3558<>0,$K$2,IF($G3558<>0,$K$2,IF($H3558<>0,$K$2,IF($I3558<>0,$K$2,IF($J3558<>0,$K$2,\"\")))))))","v":""}]
[{"$nulls":4},"за периода от ","до",null,"                 II.1. РАЗХОДИ ПО ДЕЙНОСТИ",null,null,{"$f":"(IF($E3558<>0,$K$2,IF($F3558<>0,$K$2,IF($G3558<>0,$K$2,IF($H3558<>0,$K$2,IF($I3558<>0,$K$2,IF($J3558<>0,$K$2,\"\")))))))","v":""}]
[null,{"$f":"$B$9","v":"РЕГИОНАЛНА ЗДРАВНА ИНСПЕКЦИЯ-БУРГАС"},null,null,{"$f":"$E$9","v":"2021-01-01"},{"$f":"$F$9","v":"2021-12-31"},{"$nulls":4},{"$f":"(IF($E3558<>0,$K$2,IF($F3558<>0,$K$2,IF($G3558<>0,$K$2,IF($H3558<>0,$K$2,IF($I3558<>0,$K$2,IF($J3558<>0,$K$2,\"\")))))))","v":""}]
[null,{"$f":"$B$10","v":"                                                            (наименование на разпоредителя с бюджет)"},{"$nulls":8},{"$f":"(IF($E3558<>0,$K$2,IF($F3558<>0,$K$2,IF($G3558<>0,$K$2,IF($H3558<>0,$K$2,IF($I3558<>0,$K$2,IF($J3558<>0,$K$2,\"\")))))))","v":""}]
[{"$nulls":10},{"$f":"(IF($E3558<>0,$K$2,IF($F3558<>0,$K$2,IF($G3558<>0,$K$2,IF($H3558<>0,$K$2,IF($I3558<>0,$K$2,IF($J3558<>0,$K$2,\"\")))))))","v":""}]
[null,{"$f":"$B$12","v":{"$error":"#N/A"}},null,null,"       код по ЕБК:",{"$f":"$F$12","v":"0"},{"$nulls":4},{"$f":"(IF($E3558<>0,$K$2,IF($F3558<>0,$K$2,IF($G3558<>0,$K$2,IF($H3558<>0,$K$2,IF($I3558<>0,$K$2,IF($J3558<>0,$K$2,\"\")))))))","v":""}]
[null,{"$f":"$B$13","v":"                                             (наименование на първостепенния разпоредител с бюджет)"},{"$nulls":8},{"$f":"(IF($E3558<>0,$K$2,IF($F3558<>0,$K$2,IF($G3558<>0,$K$2,IF($H3558<>0,$K$2,IF($I3558<>0,$K$2,IF($J3558<>0,$K$2,\"\")))))))","v":""}]
[{"$nulls":3},"ФИНАНСОВО-ПРАВНА ФОРМА",{"$f":"$E$15","v":0},{"$f":"$F$15","v":"БЮДЖЕТ"},{"$nulls":4},{"$f":"(IF($E3558<>0,$K$2,IF($F3558<>0,$K$2,IF($G3558<>0,$K$2,IF($H3558<>0,$K$2,IF($I3558<>0,$K$2,IF($J3558<>0,$K$2,\"\")))))))","v":""}]
[{"$nulls":9},"(в лева)",{"$f":"(IF($E3558<>0,$K$2,IF($F3558<>0,$K$2,IF($G3558<>0,$K$2,IF($H3558<>0,$K$2,IF($I3558<>0,$K$2,IF($J3558<>0,$K$2,\"\")))))))","v":""}]
[{"$nulls":3},"II.1. РАЗХОДИ ПО ДЕЙНОСТИ","Уточнен план","                                                                                                                              О Т Ч Е Т Н И   Д А Н Н И",{"$nulls":4},{"$f":"(IF($E3558<>0,$K$2,IF($F3558<>0,$K$2,IF($G3558<>0,$K$2,IF($H3558<>0,$K$2,IF($I3558<>0,$K$2,IF($J3558<>0,$K$2,\"\")))))))","v":""}]
[null,"§§","под-§§","НАИМЕНОВАНИЯ НА ПАРАГРАФИТЕ И ПОДПАРАГРАФИТЕ",{"$f":"$C$3","v":2021},"ОБЩО","левови\n сметки и СЕБРА ","валутни \nсметки ","операции в брой (в левове и валута)","операции приравнени на касов поток",{"$f":"(IF($E3558<>0,$K$2,IF($F3558<>0,$K$2,IF($G3558<>0,$K$2,IF($H3558<>0,$K$2,IF($I3558<>0,$K$2,IF($J3558<>0,$K$2,\"\")))))))","v":""}]
[{"$nulls":3}," 02 ¦","(1)","(2)","(3)","(4)","(5)","(6)",{"$f":"(IF($E3558<>0,$K$2,IF($F3558<>0,$K$2,IF($G3558<>0,$K$2,IF($H3558<>0,$K$2,IF($I3558<>0,$K$2,IF($J3558<>0,$K$2,\"\")))))))","v":""}]
[null,null,0,"ИЗБЕРЕТЕ ОПЕРАТИВНА ПРОГРАМА ",{"$nulls":6},{"$f":"(IF($E3558<>0,$K$2,IF($F3558<>0,$K$2,IF($G3558<>0,$K$2,IF($H3558<>0,$K$2,IF($I3558<>0,$K$2,IF($J3558<>0,$K$2,\"\")))))))","v":""}]
[null,null,{"$f":"VLOOKUP(D3441,EBK_DEIN2,2,FALSE)","v":4456},"<------          ДЕЙНОСТ    -  код  по  ЕБК",{"$nulls":6},{"$f":"(IF($E3558<>0,$K$2,IF($F3558<>0,$K$2,IF($G3558<>0,$K$2,IF($H3558<>0,$K$2,IF($I3558<>0,$K$2,IF($J3558<>0,$K$2,\"\")))))))","v":""}]
[null,null,{"$f":"+C3440","v":4456},"456 Плащания за болнична медицинска помощ",{"$nulls":6},{"$f":"(IF($E3558<>0,$K$2,IF($F3558<>0,$K$2,IF($G3558<>0,$K$2,IF($H3558<>0,$K$2,IF($I3558<>0,$K$2,IF($J3558<>0,$K$2,\"\")))))))","v":""}]
[{"$nulls":3},"(наименование на дейността)",{"$nulls":6},{"$f":"(IF($E3558<>0,$K$2,IF($F3558<>0,$K$2,IF($G3558<>0,$K$2,IF($H3558<>0,$K$2,IF($I3558<>0,$K$2,IF($J3558<>0,$K$2,\"\")))))))","v":""}]
[null,{"v":100,"d":"01-00"},"Заплати и възнаграждения за персонала, нает по трудови и служебни правоотношения",null,{"$f":"SUM(E3444:E3445)","v":0},0,0,0,0,0,{"$f":"(IF($E3443<>0,$K$2,IF($F3443<>0,$K$2,IF($G3443<>0,$K$2,IF($H3443<>0,$K$2,IF($I3443<>0,$K$2,IF($J3443<>0,$K$2,\"\")))))))","v":""}]
[null,null,{"v":101,"d":"01-01"},"заплати и възнаграждения на персонала нает по трудови правоотношения",0,{"$f":"G3444+H3444+I3444+J3444","v":0},0,0,0,0,{"$f":"(IF($E3444<>0,$K$2,IF($F3444<>0,$K$2,IF($G3444<>0,$K$2,IF($H3444<>0,$K$2,IF($I3444<>0,$K$2,IF($J3444<>0,$K$2,\"\")))))))","v":""}]
[null,null,{"v":102,"d":"01-02"},"заплати и възнаграждения на персонала нает по служебни правоотношения",0,{"$f":"G3445+H3445+I3445+J3445","v":0},0,0,0,0,""]
[null,{"v":200,"d":"02-00"},"Други възнаграждения и плащания за персонала",null,{"$f":"SUM(E3447:E3451)","v":0},0,0,0,0,0,""]
[null,null,{"v":201,"d":"02-01"},"за нещатен персонал нает по трудови правоотношения ",0,{"$f":"G3447+H3447+I3447+J3447","v":0},0,0,0,0,""]
[null,null,{"v":202,"d":"02-02"},"за персонала по извънтрудови правоотношения",0,{"$f":"G3448+H3448+I3448+J3448","v":0},0,0,0,0,""]
[null,null,{"v":205,"d":"02-05"},"изплатени суми от СБКО за облекло и други на персонала, с характер на възнаграждение",0,{"$f":"G3449+H3449+I3449+J3449","v":0},0,0,0,0,""]
[null,null,{"v":208,"d":"02-08"},"обезщетения за персонала, с характер на възнаграждение",0,{"$f":"G3450+H3450+I3450+J3450","v":0},0,0,0,0,""]
[null,null,{"v":209,"d":"02-09"},"другиплащания и възнаграждения",0,{"$f":"G3451+H3451+I3451+J3451","v":0},0,0,0,0,""]
[null,{"v":500,"d":"05-00"},"Задължителни осигурителни вноски от работодатели",null,{"$f":"SUM(E3453:E3459)","v":0},0,0,0,0,0,""]
[null,null,{"v":551,"d":"05-51"},"осигурителни вноски от работодатели за Държавното обществено осигуряване (ДОО)",null,{"$f":"G3453+H3453+I3453+J3453","v":0},0,0,0,null,""]
[null,null,{"$f":"C3453+1","v":{"v":552,"d":"05-52"}},"осигурителни вноски от работодатели за Учителския пенсионен фонд (УПФ)",null,0,0,0,0,null,""]
[null,null,{"v":558,"d":"05-58"},"вноски по чл. 4б и 4в от КСО за сметка на осигурителя",0,{"$f":"G3455+H3455+I3455+J3455","v":0},0,0,0,0,""]
[null,null,{"v":560,"d":"05-60"},"здравно-осигурителни вноски от работодатели",null,0,0,0,0,null,""]
[null,null,{"v":580,"d":"05-80"},"вноски за допълнително задължително осигуряване от работодатели",null,0,0,0,0,null,""]
[null,null,{"v":588,"d":"05-88"},"коректив на вноски за ДЗПО за сумите по чл. 4б и 4в от КСО за сметка на осигурителя",null,{"$f":"G3458+H3458+I3458+J3458","v":0},0,0,0,0,""]
[null,null,{"v":590,"d":"05-90"},"задължителни вноски за чуждестранни пенсионни фондове и  схеми за сметка на осигурителя",0,0,0,0,0,0,""]
[5,{"v":800,"d":"08-00"},"Вноски за доброволно осигуряване ",null,null,0,{"$nulls":4},""]
[10,{"v":1000,"d":"10-00"},"Издръжка",null,{"$f":"SUM(E3462:E3478)","v":0},0,0,0,0,0,""]
[15,null,{"v":1011,"d":"10-11"},"Храна",0,{"$f":"G3462+H3462+I3462+J3462","v":0},0,0,0,0,""]
[35,null,{"v":1012,"d":"10-12"},"Медикаменти",0,0,0,0,0,0,""]
[40,null,{"v":1013,"d":"10-13"},"Постелен инвентар и облекло",0,0,0,0,0,0,""]
[45,null,{"v":1014,"d":"10-14"},"Учебни и научно-изследователски разходи и книги за библиотеките",0,0,0,0,0,0,""]
[50,null,{"v":1015,"d":"10-15"},"материали",0,0,0,0,0,0,""]
[55,null,{"v":1016,"d":"10-16"},"вода, горива и енергия",0,0,0,0,0,0,""]
[60,null,{"v":1020,"d":"10-20"},"разходи за външни услуги",0,0,0,0,0,0,""]
[65,null,{"v":1030,"d":"10-30"},"Текущ ремонт",0,0,0,0,0,0,""]
[70,null,{"v":1051,"d":"10-51"},"командировки в страната",0,0,0,0,0,0,""]
[75,null,{"v":1052,"d":"10-52"},"краткосрочни командировки в чужбина",0,0,0,0,0,0,""]
[80,null,{"v":1053,"d":"10-53"},"дългосрочни командировки в чужбина",0,0,0,0,0,0,""]
[80,null,{"v":1062,"d":"10-62"},"разходи за застраховки",0,0,0,0,0,0,""]
[85,null,{"v":1063,"d":"10-63"},"такса ангажимент по заеми",0,0,0,0,0,0,""]
[90,null,{"v":1069,"d":"10-69"},"други финансови услуги",0,0,0,0,0,0,""]
[90,null,{"v":1091,"d":"10-91"},"други разходи за СБКО",0,0,0,0,0,0,""]
[115,null,{"v":1092,"d":"10-92"},"разходи за договорни санкции и неустойки, съдебни обезщетения и разноски",0,0,0,0,0,0,""]
[125,null,{"v":1098,"d":"10-98"},"други разходи, некласифицирани в другите параграфи и подпараграфи",0,0,0,0,0,0,""]
[130,{"v":1900,"d":"19-00"},"Платени данъци, такси и административни санкции",null,{"$f":"SUM(E3480:E3482)","v":0},0,0,0,0,0,""]
[135,null,{"v":1901,"d":"19-01"},"платени държавни данъци, такси, наказателни лихви и административни санкции",0,{"$f":"G3480+H3480+I3480+J3480","v":0},0,0,0,0,""]
[140,null,{"v":1981,"d":"19-81"},"платени общински данъци, такси, наказателни лихви и административни санкции",0,{"$f":"G3481+H3481+I3481+J3481","v":0},0,0,0,0,""]
[145,null,{"v":1991,"d":"19-91"},"платени данъци, такси, наказателни лихви и административни санкции в чужбина",0,{"$f":"G3482+H3482+I3482+J3482","v":0},0,0,0,0,""]
[150,{"v":2100,"d":"21-00"},"Разходи за лихви по емисии на държавни (общински) ценни книжа",null,{"$f":"SUM(E3484:E3488)","v":0},0,0,0,0,0,""]
[155,null,{"v":2110,"d":"21-10"},"лихви по държавни (общински) ценни книжа",0,{"$f":"G3484+H3484+I3484+J3484","v":0},0,0,0,0,""]
[160,null,{"v":2120,"d":"21-20"},"отстъпки по държавни (общински) ценни книжа",0,{"$f":"G3485+H3485+I3485+J3485","v":0},0,0,0,0,""]
[165,null,{"v":2125,"d":"21-25"},"лихви и отстъпки по целеви емисии на държавни ценни книжа",0,{"$f":"G3486+H3486+I3486+J3486","v":0},0,0,0,0,""]
[175,null,{"v":2140,"d":"21-40"},"лихви по държавни ценни книжа, емитирани за структурната реформа ",0,{"$f":"G3487+H3487+I3487+J3487","v":0},0,0,0,0,""]
[180,null,{"v":2190,"d":"21-90"},"премии над номинала от емисии на държавни (общински) ценни книжа (-)",0,{"$f":"G3488+H3488+I3488+J3488","v":0},0,0,0,0,""]
[185,{"v":2200,"d":"22-00"},"Разходи за лихви по заеми от страната",null,{"$f":"SUM(E3490:E3491)","v":0},0,0,0,0,0,""]
[190,null,{"v":2221,"d":"22-21"},"Разходи за лихви по заеми от банки в страната",0,{"$f":"G3490+H3490+I3490+J3490","v":0},0,0,0,0,""]
[200,null,{"v":2224,"d":"22-24"},"Разходи за лихви по други заеми от страната",0,0,0,0,0,0,""]
[200,{"v":2500,"d":"25-00"},"Разходи за лихви по заеми от други държави",null,null,0,{"$nulls":4},""]
[205,{"v":2600,"d":"26-00"},"Разходи за лихви по заеми от международни организации и институции",null,null,0,{"$nulls":4},""]
[210,{"v":2700,"d":"27-00"},"Разходи за лихви по заеми от банки и други финансови институции от чужбина",null,null,0,{"$nulls":4},""]
[215,{"v":2800,"d":"28-00"},"Разходи за лихви и отстъпки по облигации, емитирани и търгувани на международните капиталови пазари",null,null,0,{"$nulls":4},""]
[220,{"v":2900,"d":"29-00"},"Други разходи за лихви",null,{"$f":"SUM(E3497:E3504)","v":0},0,0,0,0,0,""]
[225,null,{"v":2910,"d":"29-10"},"Платени лихви по финансов лизинг и търговски кредит",null,{"$f":"G3497+H3497+I3497+J3497","v":0},{"$nulls":4},""]
[230,null,{"v":2920,"d":"29-20"},"Платени лихви по активирани гаранции по заеми от  банки в страната",0,{"$f":"G3498+H3498+I3498+J3498","v":0},0,0,0,0,""]
[245,null,{"v":2969,"d":"29-69"},"Платени лихви по активирани гаранции по заеми от международни организации и институции",0,0,0,0,0,0,""]
[220,null,{"v":2970,"d":"29-70"},"Платени лихви по активирани гаранции по заеми от банки и финансови институции от чужбина",0,0,0,0,0,0,""]
[225,null,{"v":2989,"d":"29-89"},"Възстановени суми по платени лихви по активирани гаранции (-)",0,0,0,0,0,0,""]
[230,null,{"v":2990,"d":"29-90"},"Платени лихви по заеми, предоставени от централния бюджет и бюджетни организации",null,{"$f":"G3502+H3502+I3502+J3502","v":0},{"$nulls":4},""]
[235,null,{"v":2991,"d":"29-91"},"Други разходи за лихви към  местни лица",0,0,0,0,0,0,""]
[240,null,{"v":2992,"d":"29-92"},"Други разходи за лихви към чуждестранни лица",0,0,0,0,0,0,""]
[245,{"v":3300,"d":"33-00"},"Вноска в общия бюджет на Европейския съюз",null,{"$f":"SUM(E3506:E3510)","v":0},0,0,0,0,0,""]
[250,null,{"v":3301,"d":"33-01"},"ресурс на база брутен национален доход",0,{"$f":"G3506+H3506+I3506+J3506","v":0},0,0,0,0,""]
[255,null,{"v":3302,"d":"33-02"},"ресурс на база данък върху добавената стойност",0,0,0,0,0,0,""]
[265,null,{"v":3304,"d":"33-04"},"традиционни собствени ресурси - мита",null,0,0,0,0,0,""]
[270,null,{"v":3306,"d":"33-06"},"участие във финансирането на брутното намаление за Австрия, Дания, Германия, Нидерландия и Швеция",0,0,0,0,0,0,""]
[290,null,{"v":3307,"d":"33-07"},"ресурс на база нерециклираните отпадъци от опаковки от пластмаса",0,0,0,0,0,0,""]
[320,{"v":3900,"d":"39-00"},"Здравно-осигурителни плащания",null,null,0,{"$nulls":4},{"$f":"(IF($E3511<>0,$K$2,IF($F3511<>0,$K$2,IF($G3511<>0,$K$2,IF($H3511<>0,$K$2,IF($I3511<>0,$K$2,IF($J3511<>0,$K$2,\"\")))))))","v":""}]
[330,{"v":4000,"d":"40-00"},"Стипендии",null,null,0,{"$nulls":4},""]
[350,{"v":4100,"d":"41-00"},"Пенсии",null,null,0,{"$nulls":4},""]
[355,{"v":4200,"d":"42-00"},"Текущи трансфери, обезщетения и помощи за домакинствата",null,{"$f":"SUM(E3515:E3520)","v":0},0,0,0,0,0,""]
[375,null,{"v":4201,"d":"42-01"},"обезщетения и помощи по социалното осигуряване",0,{"$f":"G3515+H3515+I3515+J3515","v":0},0,0,0,0,""]
[375,null,{"v":4202,"d":"42-02"},"обезщетения и помощи по социалното подпомагане",0,0,0,0,0,0,""]
[380,null,{"v":4214,"d":"42-14"},"обезщетения и помощи по решение на общинския съвет",0,0,0,0,0,0,""]
[385,null,{"v":4217,"d":"42-17"},"текущи трансфери за домакинства от средства на Европейския съюз",0,0,0,0,0,0,""]
[390,null,{"v":4218,"d":"42-18"},"текущи трансфери за домакинства по други международни програми и споразумения",0,0,0,0,0,0,""]
[390,null,{"v":4219,"d":"42-19"},"други текущи трансфери за домакинствата",0,0,0,0,0,0,""]
[395,{"v":4300,"d":"43-00"},"Субсидии и други текущи трансфери за нефинансови предприятия ",null,{"$f":"SUM(E3522:E3524)","v":0},0,0,0,0,0,""]
[397,null,{"v":4301,"d":"43-01"},"за текуща дейност",0,{"$f":"G3522+H3522+I3522+J3522","v":0},0,0,0,0,""]
[398,null,{"v":4302,"d":"43-02"},"за осъществяване на болнична помощ ",0,0,0,0,0,0,""]
[399,null,{"v":4309,"d":"43-09"},"други субсидии и плащания",0,0,0,0,0,0,""]
[400,{"v":4400,"d":"44-00"},"Субсидии и други текущи трансфери за финансови институции",null,null,0,{"$nulls":4},""]
[401,{"v":4500,"d":"45-00"},"Субсидии и други текущи трансфери за юридически лица с нестопанска цел",null,null,0,{"$nulls":4},""]
[404,{"v":4600,"d":"46-00"},"Разходи за членски внос и участие в нетърговски организации и дейности",null,null,0,{"$nulls":4},""]
[404,{"v":4900,"d":"49-00"},"Предоставени текущи и капиталови трансфери за чужбина",null,{"$f":"+E3529+E3530","v":0},0,0,0,0,0,""]
[440,null,{"v":4901,"d":"49-01"},"текущи трансфери за чужбина",0,{"$f":"G3529+H3529+I3529+J3529","v":0},0,0,0,0,""]
[450,null,{"v":4902,"d":"49-02"},"капиталови трансфери за чужбина",0,{"$f":"G3530+H3530+I3530+J3530","v":0},0,0,0,0,""]
[495,{"v":5100,"d":"51-00"},"Основен ремонт на дълготрайни материални активи",null,null,{"$f":"G3531+H3531+I3531+J3531","v":0},{"$nulls":4},""]
[500,{"v":5200,"d":"52-00"},"Придобиване на дълготрайни материални активи",null,{"$f":"SUM(E3533:E3539)","v":0},0,0,0,0,0,""]
[505,null,{"v":5201,"d":"52-01"},"придобиване на компютри и хардуер",0,{"$f":"G3533+H3533+I3533+J3533","v":0},0,0,0,0,""]
[510,null,{"v":5202,"d":"52-02"},"придобиване на сгради",0,0,0,0,0,0,""]
[515,null,{"v":5203,"d":"52-03"},"придобиване на друго оборудване, машини и съоръжения",0,0,0,0,0,0,""]
[520,null,{"v":5204,"d":"52-04"},"придобиване на транспортни средства",0,0,0,0,0,0,""]
[525,null,{"v":5205,"d":"52-05"},"придобиване на стопански инвентар",0,0,0,0,0,0,""]
[635,null,{"v":5206,"d":"52-06"},"изграждане на инфраструктурни обекти",0,0,0,0,0,0,""]
[640,null,{"v":5219,"d":"52-19"},"придобиване на други ДМА",0,0,0,0,0,0,""]
[645,{"v":5300,"d":"53-00"},"Придобиване на нематериални дълготрайни активи",null,{"$f":"SUM(E3541:E3542)","v":0},0,0,0,0,0,""]
[650,null,{"v":5301,"d":"53-01"},"придобиване на програмни продукти и лицензи за програмни продукти",0,{"$f":"G3541+H3541+I3541+J3541","v":0},0,0,0,0,""]
[655,null,{"v":5309,"d":"53-09"},"придобиване на други нематериални дълготрайни активи",0,{"$f":"G3542+H3542+I3542+J3542","v":0},0,0,0,0,""]
[665,{"v":5400,"d":"54-00"},"Придобиване на земя",null,null,{"$f":"G3543+H3543+I3543+J3543","v":0},{"$nulls":4},""]
[675,{"v":5500,"d":"55-00"},"Капиталови трансфери",null,{"$f":"SUM(E3545:E3548)","v":0},0,0,0,0,0,""]
[685,null,{"v":5501,"d":"55-01"},"капиталови трансфери за нефинансови предприятия",0,{"$f":"G3545+H3545+I3545+J3545","v":0},0,0,0,0,""]
[690,null,{"v":5502,"d":"55-02"},"капиталови трансфери за финансови институции",0,{"$f":"G3546+H3546+I3546+J3546","v":0},0,0,0,0,""]
[695,null,{"v":5503,"d":"55-03"},"капиталови трансфери за организации с нестопанска цел",0,{"$f":"G3547+H3547+I3547+J3547","v":0},0,0,0,0,""]
[700,null,{"v":5504,"d":"55-04"},"капиталови трансфери за домакинствата",0,{"$f":"G3548+H3548+I3548+J3548","v":0},0,0,0,0,""]
[710,{"v":5700,"d":"57-00"},"Прираст на държавния резерв и изкупуване на земеделска продукция (включва и § 40-71)",null,{"$f":"SUM(E3550:E3552)","v":0},0,0,0,0,0,""]
[715,null,{"v":5701,"d":"57-01"},"плащания за попълване на държавния резерв",0,{"$f":"G3550+H3550+I3550+J3550","v":0},0,0,0,0,""]
[720,null,{"v":5702,"d":"57-02"},"плащания за изкупуване на земеделска продукция",0,{"$f":"G3551+H3551+I3551+J3551","v":0},0,0,0,0,""]
[725,null,{"v":4071,"d":"40-71"},"постъпления от продажба на държавния резерв (-)",0,{"$f":"G3552+H3552+I3552+J3552","v":0},0,0,0,0,""]
[730,{"$nulls":9},""]
[735,{"v":98,"d":"00-98"},"Резерв за непредвидени и неотложни разходи",null,null,{"$f":"G3554+H3554+I3554+J3554","v":0},0,0,0,0,""]
[740,{"$nulls":9},""]
[745,{"$nulls":9},""]
[750,{"$nulls":9},""]
[755,null,"99-99",{"$f":"+B3558","v":{"v":0,"d":"II. ОБЩО РАЗХОДИ ЗА ДЕЙНОСТ 0000"}},{"$f":"SUM(E3443,E3446,E3452,E3460,E3461,E3479,E3483,E3489,E3492,E3493,E3494,E3495,E3496,E3505,E3511,E3512,E3513,E3514,E3521,E3525,E3526,E3527,E3528,E3531,E3532,E3540,E3543,E3544,E3549)+E3554","v":0},0,0,0,0,0,"",{"$f":"LEFT(C3440,1)","v":"4"}]
[760,{"$nulls":9},{"$f":"K3558","v":""}]
[765,{"$nulls":9},{"$f":"K3558","v":""}]
[775,{"$nulls":9},{"$f":"(IF(SUM(K3572:K3593)<>0,$K$2,\"\"))","v":""}]
[780,{"$f":"$B$7","v":"ОТЧЕТНИ ДАННИ ПО ЕБК ЗА ИЗПЪЛНЕНИЕТО НА БЮДЖЕТА"},{"$nulls":8},{"$f":"(IF(SUM(K3572:K3593)<>0,$K$2,\"\"))","v":""}]
[785,{"$nulls":3},"за периода от ","до",{"$nulls":4},{"$f":"(IF(SUM(K3572:K3593)<>0,$K$2,\"\"))","v":""}]
[790,{"$f":"$B$9","v":"РЕГИОНАЛНА ЗДРАВНА ИНСПЕКЦИЯ-БУРГАС"},null,null,{"$f":"$E$9","v":"2021-01-01"},{"$f":"$F$9","v":"2021-12-31"},{"$nulls":4},{"$f":"(IF(SUM(K3572:K3593)<>0,$K$2,\"\"))","v":""}]
[795,{"$f":"$B$10","v":"                                                            (наименование на разпоредителя с бюджет)"},{"$nulls":8},{"$f":"(IF(SUM(K3572:K3593)<>0,$K$2,\"\"))","v":""}]
[805,{"$nulls":9},{"$f":"(IF(SUM(K3572:K3593)<>0,$K$2,\"\"))","v":""}]
[810,{"$f":"$B$12","v":{"$error":"#N/A"}},null,null,"       код по ЕБК:",{"$f":"$F$12","v":"0"},{"$nulls":4},{"$f":"(IF(SUM(K3572:K3593)<>0,$K$2,\"\"))","v":""}]
[815,{"$f":"$B$13","v":"                                             (наименование на първостепенния разпоредител с бюджет)"},{"$nulls":8},{"$f":"(IF(SUM(K3572:K3593)<>0,$K$2,\"\"))","v":""}]
[525,null,null,"               ФИНАНСОВО-ПРАВНА ФОРМА",{"$f":"$E$15","v":0},{"$f":"$F$15","v":"БЮДЖЕТ"},{"$nulls":4},{"$f":"(IF(SUM(K3572:K3593)<>0,$K$2,\"\"))","v":""}]
[820,null,null,"Натурални и други показатели за дейността",null,"(в лева)",{"$nulls":4},{"$f":"(IF(SUM(K3572:K3593)<>0,$K$2,\"\"))","v":""}]
[821,"МЯРКА","Код 9 8","  О б щ и   н а т у р а л н и   п о к а з а т е л и","    П л а н","    О т ч е т ",{"$nulls":4},{"$f":"(IF(SUM(K3572:K3593)<>0,$K$2,\"\"))","v":""}]
[822,null," 9 8 0 1","Щ а т н и   б р о й к и",{"$f":"E3573+E3574","v":0},{"$f":"F3573+F3574","v":0},{"$nulls":4},{"$f":"(IF($E3572<>0,$K$2,IF($F3572<>0,$K$2,\"\")))","v":""}]
[823,null," 9 8 1 1","в т.ч.: по трудови правоотношения",{"$nulls":6},""]
[825,null," 9 8 1 2","           по служебни правоотношения",{"$nulls":6},""]
[null,null," 9 8 0 2","Средногодишни щатни бройки",{"$f":"E3576+E3577","v":0},{"$f":"F3576+F3577","v":0},{"$nulls":4},""]
[null,null," 9 8 2 1","в т.ч.: по трудови правоотношения",{"$nulls":6},""]
[null,null," 9 8 2 2","         по служебни правоотношения",{"$nulls":6},""]
[null,null," 9 8 0 3","Средна годишна брутна заплата",{"$nulls":6},""]
[null,null," 9 8 3 1"," в т.ч.:   по трудови правоотношения",{"$nulls":6},""]
[null,null," 9 8 3 2","            по служебни правоотношения",{"$nulls":6},""]
[null,null," 9 8 0 4","Брой на моторни превозни средства",{"$nulls":6},""]
[null,null,"9 8 0 5","- в т.ч. - леки автомобили",{"$nulls":6},""]
[null,null,"9 8 0 6","             - санитарни линейки",{"$nulls":6},""]
[null,null," 9 8 0 7","Брой ученици, финансирани по единни разходни стандарти",{"$nulls":6},""]
[null,null," 9 8 0 8","Средна годишна брутна заплата на делегирани бюджети",{"$nulls":6},""]
[null,null," 9 8 0 9","Щатни бройки на делегирани бюджети",{"$nulls":6},""]
[null,null," 9 8 1 0","Средногодишни щатни бройки на делегирани бюджети",{"$nulls":6},""]
[null,null,"9 8 1 3","Средногодишен приравнен брой учащи във ВУ, финансирани по норматив за издръжка на обучението",{"$nulls":6},""]
[null,null,"9 8 1 4","Брой леглодни в студентски общежития",{"$nulls":6},""]
[905,null,"9 8 1 5","Брой хранодни в студентски стол",{"$nulls":6},""]
[906,null,"9 8 1 7","Болнични легла",{"$nulls":6},""]
[907,null,"9 8 1 8","Обем радиопрограма /часове/",{"$nulls":6},""]
[910,null,"9 8 1 9","Обем телевизионна програма /часове/",{"$nulls":6},""]
[911,"МЯРКА","Код  ","Разходи в областта на електронното управление и за използваните информационни и комуникационни технологии","    П л а н","    О т ч е т ",{"$nulls":4},{"$f":"(IF($E3595<>0,$K$2,IF($F3595<>0,$K$2,\"\")))","v":""}]
[null,null,"9 8 5 0","Общо разходи в областта на ЕУ и за използваните ИКТ",{"$f":"E3596+E3597","v":0},{"$f":"F3596+F3597","v":0},{"$nulls":4},""]
[null,null,"9 8 5 1","Текущи разходи в областта на ЕУ и за използваните ИКТ",null,0,{"$nulls":4},""]
[null,null,"9 8 5 2","Капиталови разходи в областта на ЕУ и за използваните ИКТ",null,0,{"$nulls":4},""]
[null,"ЗАБЕЛЕЖКА:",{"$nulls":8},{"$f":"K3558","v":""}]
[null," За натурални показатели, не влючени в този отчет, специфични за конкретна дейност се представят отделни справки, допълнително определени от Министерство на финансите.",{"$nulls":8},{"$f":"K3558","v":""}]
[]
[{"$nulls":10},{"$f":"(IF($E3734<>0,$K$2,IF($F3734<>0,$K$2,IF($G3734<>0,$K$2,IF($H3734<>0,$K$2,IF($I3734<>0,$K$2,IF($J3734<>0,$K$2,\"\")))))))","v":""}]
[{"$nulls":10},{"$f":"(IF($E3734<>0,$K$2,IF($F3734<>0,$K$2,IF($G3734<>0,$K$2,IF($H3734<>0,$K$2,IF($I3734<>0,$K$2,IF($J3734<>0,$K$2,\"\")))))))","v":""}]
[null,{"$f":"$B$7","v":"ОТЧЕТНИ ДАННИ ПО ЕБК ЗА ИЗПЪЛНЕНИЕТО НА БЮДЖЕТА"},{"$nulls":8},{"$f":"(IF($E3734<>0,$K$2,IF($F3734<>0,$K$2,IF($G3734<>0,$K$2,IF($H3734<>0,$K$2,IF($I3734<>0,$K$2,IF($J3734<>0,$K$2,\"\")))))))","v":""}]
[{"$nulls":4},"за периода от ","до",null,"                 II.1. РАЗХОДИ ПО ДЕЙНОСТИ",null,null,{"$f":"(IF($E3734<>0,$K$2,IF($F3734<>0,$K$2,IF($G3734<>0,$K$2,IF($H3734<>0,$K$2,IF($I3734<>0,$K$2,IF($J3734<>0,$K$2,\"\")))))))","v":""}]
[null,{"$f":"$B$9","v":"РЕГИОНАЛНА ЗДРАВНА ИНСПЕКЦИЯ-БУРГАС"},null,null,{"$f":"$E$9","v":"2021-01-01"},{"$f":"$F$9","v":"2021-12-31"},{"$nulls":4},{"$f":"(IF($E3734<>0,$K$2,IF($F3734<>0,$K$2,IF($G3734<>0,$K$2,IF($H3734<>0,$K$2,IF($I3734<>0,$K$2,IF($J3734<>0,$K$2,\"\")))))))","v":""}]
[null,{"$f":"$B$10","v":"                                                            (наименование на разпоредителя с бюджет)"},{"$nulls":8},{"$f":"(IF($E3734<>0,$K$2,IF($F3734<>0,$K$2,IF($G3734<>0,$K$2,IF($H3734<>0,$K$2,IF($I3734<>0,$K$2,IF($J3734<>0,$K$2,\"\")))))))","v":""}]
[{"$nulls":10},{"$f":"(IF($E3734<>0,$K$2,IF($F3734<>0,$K$2,IF($G3734<>0,$K$2,IF($H3734<>0,$K$2,IF($I3734<>0,$K$2,IF($J3734<>0,$K$2,\"\")))))))","v":""}]
[null,{"$f":"$B$12","v":{"$error":"#N/A"}},null,null,"       код по ЕБК:",{"$f":"$F$12","v":"0"},{"$nulls":4},{"$f":"(IF($E3734<>0,$K$2,IF($F3734<>0,$K$2,IF($G3734<>0,$K$2,IF($H3734<>0,$K$2,IF($I3734<>0,$K$2,IF($J3734<>0,$K$2,\"\")))))))","v":""}]
[null,{"$f":"$B$13","v":"                                             (наименование на първостепенния разпоредител с бюджет)"},{"$nulls":8},{"$f":"(IF($E3734<>0,$K$2,IF($F3734<>0,$K$2,IF($G3734<>0,$K$2,IF($H3734<>0,$K$2,IF($I3734<>0,$K$2,IF($J3734<>0,$K$2,\"\")))))))","v":""}]
[{"$nulls":3},"ФИНАНСОВО-ПРАВНА ФОРМА",{"$f":"$E$15","v":0},{"$f":"$F$15","v":"БЮДЖЕТ"},{"$nulls":4},{"$f":"(IF($E3734<>0,$K$2,IF($F3734<>0,$K$2,IF($G3734<>0,$K$2,IF($H3734<>0,$K$2,IF($I3734<>0,$K$2,IF($J3734<>0,$K$2,\"\")))))))","v":""}]
[{"$nulls":9},"(в лева)",{"$f":"(IF($E3734<>0,$K$2,IF($F3734<>0,$K$2,IF($G3734<>0,$K$2,IF($H3734<>0,$K$2,IF($I3734<>0,$K$2,IF($J3734<>0,$K$2,\"\")))))))","v":""}]
[{"$nulls":3},"II.1. РАЗХОДИ ПО ДЕЙНОСТИ","Уточнен план","                                                                                                                              О Т Ч Е Т Н И   Д А Н Н И",{"$nulls":4},{"$f":"(IF($E3734<>0,$K$2,IF($F3734<>0,$K$2,IF($G3734<>0,$K$2,IF($H3734<>0,$K$2,IF($I3734<>0,$K$2,IF($J3734<>0,$K$2,\"\")))))))","v":""}]
[null,"§§","под-§§","НАИМЕНОВАНИЯ НА ПАРАГРАФИТЕ И ПОДПАРАГРАФИТЕ",{"$f":"$C$3","v":2021},"ОБЩО","левови\n сметки и СЕБРА ","валутни \nсметки ","операции в брой (в левове и валута)","операции приравнени на касов поток",{"$f":"(IF($E3734<>0,$K$2,IF($F3734<>0,$K$2,IF($G3734<>0,$K$2,IF($H3734<>0,$K$2,IF($I3734<>0,$K$2,IF($J3734<>0,$K$2,\"\")))))))","v":""}]
[{"$nulls":3}," 02 ¦","(1)","(2)","(3)","(4)","(5)","(6)",{"$f":"(IF($E3734<>0,$K$2,IF($F3734<>0,$K$2,IF($G3734<>0,$K$2,IF($H3734<>0,$K$2,IF($I3734<>0,$K$2,IF($J3734<>0,$K$2,\"\")))))))","v":""}]
[null,null,0,"ИЗБЕРЕТЕ ОПЕРАТИВНА ПРОГРАМА ",{"$nulls":6},{"$f":"(IF($E3734<>0,$K$2,IF($F3734<>0,$K$2,IF($G3734<>0,$K$2,IF($H3734<>0,$K$2,IF($I3734<>0,$K$2,IF($J3734<>0,$K$2,\"\")))))))","v":""}]
[null,null,{"$f":"VLOOKUP(D3617,EBK_DEIN2,2,FALSE)","v":5532},"<------          ДЕЙНОСТ    -  код  по  ЕБК",{"$nulls":6},{"$f":"(IF($E3734<>0,$K$2,IF($F3734<>0,$K$2,IF($G3734<>0,$K$2,IF($H3734<>0,$K$2,IF($I3734<>0,$K$2,IF($J3734<>0,$K$2,\"\")))))))","v":""}]
[null,null,{"$f":"+C3616","v":5532},"532 Програми за временна заетост",{"$nulls":6},{"$f":"(IF($E3734<>0,$K$2,IF($F3734<>0,$K$2,IF($G3734<>0,$K$2,IF($H3734<>0,$K$2,IF($I3734<>0,$K$2,IF($J3734<>0,$K$2,\"\")))))))","v":""}]
[{"$nulls":3},"(наименование на дейността)",{"$nulls":6},{"$f":"(IF($E3734<>0,$K$2,IF($F3734<>0,$K$2,IF($G3734<>0,$K$2,IF($H3734<>0,$K$2,IF($I3734<>0,$K$2,IF($J3734<>0,$K$2,\"\")))))))","v":""}]
[null,{"v":100,"d":"01-00"},"Заплати и възнаграждения за персонала, нает по трудови и служебни правоотношения",null,{"$f":"SUM(E3620:E3621)","v":0},0,0,0,0,0,{"$f":"(IF($E3619<>0,$K$2,IF($F3619<>0,$K$2,IF($G3619<>0,$K$2,IF($H3619<>0,$K$2,IF($I3619<>0,$K$2,IF($J3619<>0,$K$2,\"\")))))))","v":""}]
[null,null,{"v":101,"d":"01-01"},"заплати и възнаграждения на персонала нает по трудови правоотношения",0,{"$f":"G3620+H3620+I3620+J3620","v":0},0,0,0,0,{"$f":"(IF($E3620<>0,$K$2,IF($F3620<>0,$K$2,IF($G3620<>0,$K$2,IF($H3620<>0,$K$2,IF($I3620<>0,$K$2,IF($J3620<>0,$K$2,\"\")))))))","v":""}]
[null,null,{"v":102,"d":"01-02"},"заплати и възнаграждения на персонала нает по служебни правоотношения",0,{"$f":"G3621+H3621+I3621+J3621","v":0},0,0,0,0,""]
[null,{"v":200,"d":"02-00"},"Други възнаграждения и плащания за персонала",null,{"$f":"SUM(E3623:E3627)","v":0},0,0,0,0,0,""]
[null,null,{"v":201,"d":"02-01"},"за нещатен персонал нает по трудови правоотношения ",0,{"$f":"G3623+H3623+I3623+J3623","v":0},0,0,0,0,""]
[null,null,{"v":202,"d":"02-02"},"за персонала по извънтрудови правоотношения",0,{"$f":"G3624+H3624+I3624+J3624","v":0},0,0,0,0,""]
[null,null,{"v":205,"d":"02-05"},"изплатени суми от СБКО за облекло и други на персонала, с характер на възнаграждение",0,{"$f":"G3625+H3625+I3625+J3625","v":0},0,0,0,0,""]
[null,null,{"v":208,"d":"02-08"},"обезщетения за персонала, с характер на възнаграждение",0,{"$f":"G3626+H3626+I3626+J3626","v":0},0,0,0,0,""]
[null,null,{"v":209,"d":"02-09"},"другиплащания и възнаграждения",0,{"$f":"G3627+H3627+I3627+J3627","v":0},0,0,0,0,""]
[null,{"v":500,"d":"05-00"},"Задължителни осигурителни вноски от работодатели",null,{"$f":"SUM(E3629:E3635)","v":0},0,0,0,0,0,""]
[null,null,{"v":551,"d":"05-51"},"осигурителни вноски от работодатели за Държавното обществено осигуряване (ДОО)",0,{"$f":"G3629+H3629+I3629+J3629","v":0},0,0,0,0,""]
[null,null,{"$f":"C3629+1","v":{"v":552,"d":"05-52"}},"осигурителни вноски от работодатели за Учителския пенсионен фонд (УПФ)",0,0,0,0,0,0,""]
[null,null,{"v":558,"d":"05-58"},"вноски по чл. 4б и 4в от КСО за сметка на осигурителя",null,{"$f":"G3631+H3631+I3631+J3631","v":0},0,0,0,0,""]
[null,null,{"v":560,"d":"05-60"},"здравно-осигурителни вноски от работодатели",0,0,0,0,0,0,""]
[null,null,{"v":580,"d":"05-80"},"вноски за допълнително задължително осигуряване от работодатели",0,0,0,0,0,0,""]
[null,null,{"v":588,"d":"05-88"},"коректив на вноски за ДЗПО за сумите по чл. 4б и 4в от КСО за сметка на осигурителя",null,{"$f":"G3634+H3634+I3634+J3634","v":0},0,0,0,0,""]
[null,null,{"v":590,"d":"05-90"},"задължителни вноски за чуждестранни пенсионни фондове и  схеми за сметка на осигурителя",0,0,0,0,0,0,""]
[5,{"v":800,"d":"08-00"},"Вноски за доброволно осигуряване ",null,null,0,{"$nulls":4},""]
[10,{"v":1000,"d":"10-00"},"Издръжка",null,{"$f":"SUM(E3638:E3654)","v":0},0,0,0,0,0,""]
[15,null,{"v":1011,"d":"10-11"},"Храна",0,{"$f":"G3638+H3638+I3638+J3638","v":0},0,0,0,0,""]
[35,null,{"v":1012,"d":"10-12"},"Медикаменти",0,0,0,0,0,0,""]
[40,null,{"v":1013,"d":"10-13"},"Постелен инвентар и облекло",0,0,0,0,0,0,""]
[45,null,{"v":1014,"d":"10-14"},"Учебни и научно-изследователски разходи и книги за библиотеките",0,0,0,0,0,0,""]
[50,null,{"v":1015,"d":"10-15"},"материали",0,0,0,0,0,0,""]
[55,null,{"v":1016,"d":"10-16"},"вода, горива и енергия",0,0,0,0,0,0,""]
[60,null,{"v":1020,"d":"10-20"},"разходи за външни услуги",0,0,0,0,0,0,""]
[65,null,{"v":1030,"d":"10-30"},"Текущ ремонт",0,0,0,0,0,0,""]
[70,null,{"v":1051,"d":"10-51"},"командировки в страната",0,0,0,0,0,0,""]
[75,null,{"v":1052,"d":"10-52"},"краткосрочни командировки в чужбина",0,0,0,0,0,0,""]
[80,null,{"v":1053,"d":"10-53"},"дългосрочни командировки в чужбина",0,0,0,0,0,0,""]
[80,null,{"v":1062,"d":"10-62"},"разходи за застраховки",0,0,0,0,0,0,""]
[85,null,{"v":1063,"d":"10-63"},"такса ангажимент по заеми",0,0,0,0,0,0,""]
[90,null,{"v":1069,"d":"10-69"},"други финансови услуги",0,0,0,0,0,0,""]
[90,null,{"v":1091,"d":"10-91"},"други разходи за СБКО",0,0,0,0,0,0,""]
[115,null,{"v":1092,"d":"10-92"},"разходи за договорни санкции и неустойки, съдебни обезщетения и разноски",0,0,0,0,0,0,""]
[125,null,{"v":1098,"d":"10-98"},"други разходи, некласифицирани в другите параграфи и подпараграфи",0,0,0,0,0,0,""]
[130,{"v":1900,"d":"19-00"},"Платени данъци, такси и административни санкции",null,{"$f":"SUM(E3656:E3658)","v":0},0,0,0,0,0,""]
[135,null,{"v":1901,"d":"19-01"},"платени държавни данъци, такси, наказателни лихви и административни санкции",0,{"$f":"G3656+H3656+I3656+J3656","v":0},0,0,0,0,""]
[140,null,{"v":1981,"d":"19-81"},"платени общински данъци, такси, наказателни лихви и административни санкции",0,{"$f":"G3657+H3657+I3657+J3657","v":0},0,0,0,0,""]
[145,null,{"v":1991,"d":"19-91"},"платени данъци, такси, наказателни лихви и административни санкции в чужбина",0,{"$f":"G3658+H3658+I3658+J3658","v":0},0,0,0,0,""]
[150,{"v":2100,"d":"21-00"},"Разходи за лихви по емисии на държавни (общински) ценни книжа",null,{"$f":"SUM(E3660:E3664)","v":0},0,0,0,0,0,""]
[155,null,{"v":2110,"d":"21-10"},"лихви по държавни (общински) ценни книжа",0,{"$f":"G3660+H3660+I3660+J3660","v":0},0,0,0,0,""]
[160,null,{"v":2120,"d":"21-20"},"отстъпки по държавни (общински) ценни книжа",0,{"$f":"G3661+H3661+I3661+J3661","v":0},0,0,0,0,""]
[165,null,{"v":2125,"d":"21-25"},"лихви и отстъпки по целеви емисии на държавни ценни книжа",0,{"$f":"G3662+H3662+I3662+J3662","v":0},0,0,0,0,""]
[175,null,{"v":2140,"d":"21-40"},"лихви по държавни ценни книжа, емитирани за структурната реформа ",0,{"$f":"G3663+H3663+I3663+J3663","v":0},0,0,0,0,""]
[180,null,{"v":2190,"d":"21-90"},"премии над номинала от емисии на държавни (общински) ценни книжа (-)",0,{"$f":"G3664+H3664+I3664+J3664","v":0},0,0,0,0,""]
[185,{"v":2200,"d":"22-00"},"Разходи за лихви по заеми от страната",null,{"$f":"SUM(E3666:E3667)","v":0},0,0,0,0,0,""]
[190,null,{"v":2221,"d":"22-21"},"Разходи за лихви по заеми от банки в страната",0,{"$f":"G3666+H3666+I3666+J3666","v":0},0,0,0,0,""]
[200,null,{"v":2224,"d":"22-24"},"Разходи за лихви по други заеми от страната",0,0,0,0,0,0,""]
[200,{"v":2500,"d":"25-00"},"Разходи за лихви по заеми от други държави",null,null,0,{"$nulls":4},""]
[205,{"v":2600,"d":"26-00"},"Разходи за лихви по заеми от международни организации и институции",null,null,0,{"$nulls":4},""]
[210,{"v":2700,"d":"27-00"},"Разходи за лихви по заеми от банки и други финансови институции от чужбина",null,null,0,{"$nulls":4},""]
[215,{"v":2800,"d":"28-00"},"Разходи за лихви и отстъпки по облигации, емитирани и търгувани на международните капиталови пазари",null,null,0,{"$nulls":4},""]
[220,{"v":2900,"d":"29-00"},"Други разходи за лихви",null,{"$f":"SUM(E3673:E3680)","v":0},0,0,0,0,0,""]
[225,null,{"v":2910,"d":"29-10"},"Платени лихви по финансов лизинг и търговски кредит",null,{"$f":"G3673+H3673+I3673+J3673","v":0},{"$nulls":4},""]
[230,null,{"v":2920,"d":"29-20"},"Платени лихви по активирани гаранции по заеми от  банки в страната",null,{"$f":"G3674+H3674+I3674+J3674","v":0},0,0,0,0,""]
[245,null,{"v":2969,"d":"29-69"},"Платени лихви по активирани гаранции по заеми от международни организации и институции",0,0,0,0,0,0,""]
[220,null,{"v":2970,"d":"29-70"},"Платени лихви по активирани гаранции по заеми от банки и финансови институции от чужбина",null,0,0,0,null,0,""]
[225,null,{"v":2989,"d":"29-89"},"Възстановени суми по платени лихви по активирани гаранции (-)",0,0,0,0,null,0,""]
[230,null,{"v":2990,"d":"29-90"},"Платени лихви по заеми, предоставени от централния бюджет и бюджетни организации",null,{"$f":"G3678+H3678+I3678+J3678","v":0},{"$nulls":4},""]
[235,null,{"v":2991,"d":"29-91"},"Други разходи за лихви към  местни лица",0,0,0,0,null,0,""]
[240,null,{"v":2992,"d":"29-92"},"Други разходи за лихви към чуждестранни лица",0,0,0,0,0,0,""]
[245,{"v":3300,"d":"33-00"},"Вноска в общия бюджет на Европейския съюз",null,{"$f":"SUM(E3682:E3686)","v":0},0,0,0,0,0,""]
[250,null,{"v":3301,"d":"33-01"},"ресурс на база брутен национален доход",0,{"$f":"G3682+H3682+I3682+J3682","v":0},0,0,0,0,""]
[255,null,{"v":3302,"d":"33-02"},"ресурс на база данък върху добавената стойност",0,0,0,0,0,0,""]
[265,null,{"v":3304,"d":"33-04"},"традиционни собствени ресурси - мита",0,0,0,0,0,0,""]
[270,null,{"v":3306,"d":"33-06"},"участие във финансирането на брутното намаление за Австрия, Дания, Германия, Нидерландия и Швеция",0,0,0,0,0,0,""]
[290,null,{"v":3307,"d":"33-07"},"ресурс на база нерециклираните отпадъци от опаковки от пластмаса",0,0,0,0,0,0,""]
[320,{"v":3900,"d":"39-00"},"Здравно-осигурителни плащания",null,null,0,{"$nulls":4},{"$f":"(IF($E3687<>0,$K$2,IF($F3687<>0,$K$2,IF($G3687<>0,$K$2,IF($H3687<>0,$K$2,IF($I3687<>0,$K$2,IF($J3687<>0,$K$2,\"\")))))))","v":""}]
[330,{"v":4000,"d":"40-00"},"Стипендии",null,null,0,{"$nulls":4},""]
[350,{"v":4100,"d":"41-00"},"Пенсии",null,null,0,{"$nulls":4},""]
[355,{"v":4200,"d":"42-00"},"Текущи трансфери, обезщетения и помощи за домакинствата",null,{"$f":"SUM(E3691:E3696)","v":0},0,0,0,0,0,""]
[375,null,{"v":4201,"d":"42-01"},"обезщетения и помощи по социалното осигуряване",0,{"$f":"G3691+H3691+I3691+J3691","v":0},0,0,0,0,""]
[375,null,{"v":4202,"d":"42-02"},"обезщетения и помощи по социалното подпомагане",0,0,0,0,0,0,""]
[380,null,{"v":4214,"d":"42-14"},"обезщетения и помощи по решение на общинския съвет",0,0,0,0,0,0,""]
[385,null,{"v":4217,"d":"42-17"},"текущи трансфери за домакинства от средства на Европейския съюз",0,0,0,0,0,0,""]
[390,null,{"v":4218,"d":"42-18"},"текущи трансфери за домакинства по други международни програми и споразумения",0,0,0,0,0,0,""]
[390,null,{"v":4219,"d":"42-19"},"други текущи трансфери за домакинствата",0,0,0,0,0,0,""]
[395,{"v":4300,"d":"43-00"},"Субсидии и други текущи трансфери за нефинансови предприятия ",null,{"$f":"SUM(E3698:E3700)","v":0},0,0,0,0,0,""]
[397,null,{"v":4301,"d":"43-01"},"за текуща дейност",0,{"$f":"G3698+H3698+I3698+J3698","v":0},0,0,0,0,""]
[398,null,{"v":4302,"d":"43-02"},"за осъществяване на болнична помощ ",0,0,0,0,0,0,""]
[399,null,{"v":4309,"d":"43-09"},"други субсидии и плащания",0,0,0,0,0,0,""]
[400,{"v":4400,"d":"44-00"},"Субсидии и други текущи трансфери за финансови институции",null,null,0,{"$nulls":4},""]
[401,{"v":4500,"d":"45-00"},"Субсидии и други текущи трансфери за юридически лица с нестопанска цел",null,null,0,{"$nulls":4},""]
[404,{"v":4600,"d":"46-00"},"Разходи за членски внос и участие в нетърговски организации и дейности",null,null,0,{"$nulls":4},""]
[404,{"v":4900,"d":"49-00"},"Предоставени текущи и капиталови трансфери за чужбина",null,{"$f":"+E3705+E3706","v":0},0,0,0,0,0,""]
[440,null,{"v":4901,"d":"49-01"},"текущи трансфери за чужбина",0,{"$f":"G3705+H3705+I3705+J3705","v":0},0,0,0,0,""]
[450,null,{"v":4902,"d":"49-02"},"капиталови трансфери за чужбина",0,{"$f":"G3706+H3706+I3706+J3706","v":0},0,0,0,0,""]
[495,{"v":5100,"d":"51-00"},"Основен ремонт на дълготрайни материални активи",null,null,{"$f":"G3707+H3707+I3707+J3707","v":0},{"$nulls":4},""]
[500,{"v":5200,"d":"52-00"},"Придобиване на дълготрайни материални активи",null,{"$f":"SUM(E3709:E3715)","v":0},0,0,0,0,0,""]
[505,null,{"v":5201,"d":"52-01"},"придобиване на компютри и хардуер",0,{"$f":"G3709+H3709+I3709+J3709","v":0},0,0,0,0,""]
[510,null,{"v":5202,"d":"52-02"},"придобиване на сгради",0,0,0,0,0,0,""]
[515,null,{"v":5203,"d":"52-03"},"придобиване на друго оборудване, машини и съоръжения",0,0,0,0,0,0,""]
[520,null,{"v":5204,"d":"52-04"},"придобиване на транспортни средства",0,0,0,0,0,0,""]
[525,null,{"v":5205,"d":"52-05"},"придобиване на стопански инвентар",0,0,0,0,0,0,""]
[635,null,{"v":5206,"d":"52-06"},"изграждане на инфраструктурни обекти",0,0,0,0,0,0,""]
[640,null,{"v":5219,"d":"52-19"},"придобиване на други ДМА",0,0,0,0,0,0,""]
[645,{"v":5300,"d":"53-00"},"Придобиване на нематериални дълготрайни активи",null,{"$f":"SUM(E3717:E3718)","v":0},0,0,0,0,0,""]
[650,null,{"v":5301,"d":"53-01"},"придобиване на програмни продукти и лицензи за програмни продукти",0,{"$f":"G3717+H3717+I3717+J3717","v":0},0,0,0,0,""]
[655,null,{"v":5309,"d":"53-09"},"придобиване на други нематериални дълготрайни активи",0,{"$f":"G3718+H3718+I3718+J3718","v":0},0,0,0,0,""]
[665,{"v":5400,"d":"54-00"},"Придобиване на земя",null,null,{"$f":"G3719+H3719+I3719+J3719","v":0},{"$nulls":4},""]
[675,{"v":5500,"d":"55-00"},"Капиталови трансфери",null,{"$f":"SUM(E3721:E3724)","v":0},0,0,0,0,0,""]
[685,null,{"v":5501,"d":"55-01"},"капиталови трансфери за нефинансови предприятия",0,{"$f":"G3721+H3721+I3721+J3721","v":0},0,0,0,0,""]
[690,null,{"v":5502,"d":"55-02"},"капиталови трансфери за финансови институции",0,{"$f":"G3722+H3722+I3722+J3722","v":0},0,0,0,0,""]
[695,null,{"v":5503,"d":"55-03"},"капиталови трансфери за организации с нестопанска цел",0,{"$f":"G3723+H3723+I3723+J3723","v":0},0,0,0,0,""]
[700,null,{"v":5504,"d":"55-04"},"капиталови трансфери за домакинствата",0,{"$f":"G3724+H3724+I3724+J3724","v":0},0,0,0,0,""]
[710,{"v":5700,"d":"57-00"},"Прираст на държавния резерв и изкупуване на земеделска продукция (включва и § 40-71)",null,{"$f":"SUM(E3726:E3728)","v":0},0,0,0,0,0,""]
[715,null,{"v":5701,"d":"57-01"},"плащания за попълване на държавния резерв",0,{"$f":"G3726+H3726+I3726+J3726","v":0},0,0,0,0,""]
[720,null,{"v":5702,"d":"57-02"},"плащания за изкупуване на земеделска продукция",0,{"$f":"G3727+H3727+I3727+J3727","v":0},0,0,0,0,""]
[725,null,{"v":4071,"d":"40-71"},"постъпления от продажба на държавния резерв (-)",0,{"$f":"G3728+H3728+I3728+J3728","v":0},0,0,0,0,""]
[730,{"$nulls":9},""]
[735,{"v":98,"d":"00-98"},"Резерв за непредвидени и неотложни разходи",null,null,{"$f":"G3730+H3730+I3730+J3730","v":0},0,0,0,0,""]
[740,{"$nulls":9},""]
[745,{"$nulls":9},""]
[750,{"$nulls":9},""]
[755,null,"99-99",{"$f":"+B3734","v":{"v":0,"d":"II. ОБЩО РАЗХОДИ ЗА ДЕЙНОСТ 0000"}},{"$f":"SUM(E3619,E3622,E3628,E3636,E3637,E3655,E3659,E3665,E3668,E3669,E3670,E3671,E3672,E3681,E3687,E3688,E3689,E3690,E3697,E3701,E3702,E3703,E3704,E3707,E3708,E3716,E3719,E3720,E3725)+E3730","v":0},0,0,0,0,0,"",{"$f":"LEFT(C3616,1)","v":"5"}]
[760,{"$nulls":9},{"$f":"K3734","v":""}]
[765,{"$nulls":9},{"$f":"K3734","v":""}]
[775,{"$nulls":9},{"$f":"(IF(SUM(K3748:K3769)<>0,$K$2,\"\"))","v":""}]
[780,{"$f":"$B$7","v":"ОТЧЕТНИ ДАННИ ПО ЕБК ЗА ИЗПЪЛНЕНИЕТО НА БЮДЖЕТА"},{"$nulls":8},{"$f":"(IF(SUM(K3748:K3769)<>0,$K$2,\"\"))","v":""}]
[785,{"$nulls":3},"за периода от ","до",{"$nulls":4},{"$f":"(IF(SUM(K3748:K3769)<>0,$K$2,\"\"))","v":""}]
[790,{"$f":"$B$9","v":"РЕГИОНАЛНА ЗДРАВНА ИНСПЕКЦИЯ-БУРГАС"},null,null,{"$f":"$E$9","v":"2021-01-01"},{"$f":"$F$9","v":"2021-12-31"},{"$nulls":4},{"$f":"(IF(SUM(K3748:K3769)<>0,$K$2,\"\"))","v":""}]
[795,{"$f":"$B$10","v":"                                                            (наименование на разпоредителя с бюджет)"},{"$nulls":8},{"$f":"(IF(SUM(K3748:K3769)<>0,$K$2,\"\"))","v":""}]
[805,{"$nulls":9},{"$f":"(IF(SUM(K3748:K3769)<>0,$K$2,\"\"))","v":""}]
[810,{"$f":"$B$12","v":{"$error":"#N/A"}},null,null,"       код по ЕБК:",{"$f":"$F$12","v":"0"},{"$nulls":4},{"$f":"(IF(SUM(K3748:K3769)<>0,$K$2,\"\"))","v":""}]
[815,{"$f":"$B$13","v":"                                             (наименование на първостепенния разпоредител с бюджет)"},{"$nulls":8},{"$f":"(IF(SUM(K3748:K3769)<>0,$K$2,\"\"))","v":""}]
[525,null,null,"               ФИНАНСОВО-ПРАВНА ФОРМА",{"$f":"$E$15","v":0},{"$f":"$F$15","v":"БЮДЖЕТ"},{"$nulls":4},{"$f":"(IF(SUM(K3748:K3769)<>0,$K$2,\"\"))","v":""}]
[820,null,null,"Натурални и други показатели за дейността",null,"(в лева)",{"$nulls":4},{"$f":"(IF(SUM(K3748:K3769)<>0,$K$2,\"\"))","v":""}]
[821,"МЯРКА","Код 9 8","  О б щ и   н а т у р а л н и   п о к а з а т е л и","    П л а н","    О т ч е т ",{"$nulls":4},{"$f":"(IF(SUM(K3748:K3769)<>0,$K$2,\"\"))","v":""}]
[822,null," 9 8 0 1","Щ а т н и   б р о й к и",{"$f":"E3749+E3750","v":0},{"$f":"F3749+F3750","v":0},{"$nulls":4},{"$f":"(IF($E3748<>0,$K$2,IF($F3748<>0,$K$2,\"\")))","v":""}]
[823,null," 9 8 1 1","в т.ч.: по трудови правоотношения",null,0,{"$nulls":4},""]
[825,null," 9 8 1 2","           по служебни правоотношения",null,0,{"$nulls":4},""]
[null,null," 9 8 0 2","Средногодишни щатни бройки",{"$f":"E3752+E3753","v":0},{"$f":"F3752+F3753","v":0},{"$nulls":4},""]
[null,null," 9 8 2 1","в т.ч.: по трудови правоотношения",null,0,{"$nulls":4},""]
[null,null," 9 8 2 2","         по служебни правоотношения",null,0,{"$nulls":4},""]
[null,null," 9 8 0 3","Средна годишна брутна заплата",null,0,{"$nulls":4},""]
[null,null," 9 8 3 1"," в т.ч.:   по трудови правоотношения",null,0,{"$nulls":4},""]
[null,null," 9 8 3 2","            по служебни правоотношения",null,0,{"$nulls":4},""]
[null,null," 9 8 0 4","Брой на моторни превозни средства",null,0,{"$nulls":4},""]
[null,null,"9 8 0 5","- в т.ч. - леки автомобили",null,0,{"$nulls":4},""]
[null,null,"9 8 0 6","             - санитарни линейки",null,0,{"$nulls":4},""]
[null,null," 9 8 0 7","Брой ученици, финансирани по единни разходни стандарти",null,0,{"$nulls":4},""]
[null,null," 9 8 0 8","Средна годишна брутна заплата на делегирани бюджети",null,0,{"$nulls":4},""]
[null,null," 9 8 0 9","Щатни бройки на делегирани бюджети",null,0,{"$nulls":4},""]
[null,null," 9 8 1 0","Средногодишни щатни бройки на делегирани бюджети",null,0,{"$nulls":4},""]
[null,null,"9 8 1 3","Средногодишен приравнен брой учащи във ВУ, финансирани по норматив за издръжка на обучението",null,0,{"$nulls":4},""]
[null,null,"9 8 1 4","Брой леглодни в студентски общежития",null,0,{"$nulls":4},""]
[905,null,"9 8 1 5","Брой хранодни в студентски стол",null,0,{"$nulls":4},""]
[906,null,"9 8 1 7","Болнични легла",null,0,{"$nulls":4},""]
[907,null,"9 8 1 8","Обем радиопрограма /часове/",null,0,{"$nulls":4},""]
[910,null,"9 8 1 9","Обем телевизионна програма /часове/",null,0,{"$nulls":4},""]
[911,"МЯРКА","Код  ","Разходи в областта на електронното управление и за използваните информационни и комуникационни технологии","    П л а н","    О т ч е т ",{"$nulls":4},{"$f":"(IF($E3771<>0,$K$2,IF($F3771<>0,$K$2,\"\")))","v":""}]
[null,null,"9 8 5 0","Общо разходи в областта на ЕУ и за използваните ИКТ",{"$f":"E3772+E3773","v":0},{"$f":"F3772+F3773","v":0},{"$nulls":4},""]
[null,null,"9 8 5 1","Текущи разходи в областта на ЕУ и за използваните ИКТ",null,0,{"$nulls":4},""]
[null,null,"9 8 5 2","Капиталови разходи в областта на ЕУ и за използваните ИКТ",null,0,{"$nulls":4},""]
[null,"ЗАБЕЛЕЖКА:",{"$nulls":8},{"$f":"K3734","v":""}]
[null," За натурални показатели, не влючени в този отчет, специфични за конкретна дейност се представят отделни справки, допълнително определени от Министерство на финансите.",{"$nulls":8},{"$f":"K3734","v":""}]
[]
[{"$nulls":10},{"$f":"(IF($E3910<>0,$K$2,IF($F3910<>0,$K$2,IF($G3910<>0,$K$2,IF($H3910<>0,$K$2,IF($I3910<>0,$K$2,IF($J3910<>0,$K$2,\"\")))))))","v":""}]
[{"$nulls":10},{"$f":"(IF($E3910<>0,$K$2,IF($F3910<>0,$K$2,IF($G3910<>0,$K$2,IF($H3910<>0,$K$2,IF($I3910<>0,$K$2,IF($J3910<>0,$K$2,\"\")))))))","v":""}]
[null,{"$f":"$B$7","v":"ОТЧЕТНИ ДАННИ ПО ЕБК ЗА ИЗПЪЛНЕНИЕТО НА БЮДЖЕТА"},{"$nulls":8},{"$f":"(IF($E3910<>0,$K$2,IF($F3910<>0,$K$2,IF($G3910<>0,$K$2,IF($H3910<>0,$K$2,IF($I3910<>0,$K$2,IF($J3910<>0,$K$2,\"\")))))))","v":""}]
[{"$nulls":4},"за периода от ","до",null,"                 II.1. РАЗХОДИ ПО ДЕЙНОСТИ",null,null,{"$f":"(IF($E3910<>0,$K$2,IF($F3910<>0,$K$2,IF($G3910<>0,$K$2,IF($H3910<>0,$K$2,IF($I3910<>0,$K$2,IF($J3910<>0,$K$2,\"\")))))))","v":""}]
[null,{"$f":"$B$9","v":"РЕГИОНАЛНА ЗДРАВНА ИНСПЕКЦИЯ-БУРГАС"},null,null,{"$f":"$E$9","v":"2021-01-01"},{"$f":"$F$9","v":"2021-12-31"},{"$nulls":4},{"$f":"(IF($E3910<>0,$K$2,IF($F3910<>0,$K$2,IF($G3910<>0,$K$2,IF($H3910<>0,$K$2,IF($I3910<>0,$K$2,IF($J3910<>0,$K$2,\"\")))))))","v":""}]
[null,{"$f":"$B$10","v":"                                                            (наименование на разпоредителя с бюджет)"},{"$nulls":8},{"$f":"(IF($E3910<>0,$K$2,IF($F3910<>0,$K$2,IF($G3910<>0,$K$2,IF($H3910<>0,$K$2,IF($I3910<>0,$K$2,IF($J3910<>0,$K$2,\"\")))))))","v":""}]
[{"$nulls":10},{"$f":"(IF($E3910<>0,$K$2,IF($F3910<>0,$K$2,IF($G3910<>0,$K$2,IF($H3910<>0,$K$2,IF($I3910<>0,$K$2,IF($J3910<>0,$K$2,\"\")))))))","v":""}]
[null,{"$f":"$B$12","v":{"$error":"#N/A"}},null,null,"       код по ЕБК:",{"$f":"$F$12","v":"0"},{"$nulls":4},{"$f":"(IF($E3910<>0,$K$2,IF($F3910<>0,$K$2,IF($G3910<>0,$K$2,IF($H3910<>0,$K$2,IF($I3910<>0,$K$2,IF($J3910<>0,$K$2,\"\")))))))","v":""}]
[null,{"$f":"$B$13","v":"                                             (наименование на първостепенния разпоредител с бюджет)"},{"$nulls":8},{"$f":"(IF($E3910<>0,$K$2,IF($F3910<>0,$K$2,IF($G3910<>0,$K$2,IF($H3910<>0,$K$2,IF($I3910<>0,$K$2,IF($J3910<>0,$K$2,\"\")))))))","v":""}]
[{"$nulls":3},"ФИНАНСОВО-ПРАВНА ФОРМА",{"$f":"$E$15","v":0},{"$f":"$F$15","v":"БЮДЖЕТ"},{"$nulls":4},{"$f":"(IF($E3910<>0,$K$2,IF($F3910<>0,$K$2,IF($G3910<>0,$K$2,IF($H3910<>0,$K$2,IF($I3910<>0,$K$2,IF($J3910<>0,$K$2,\"\")))))))","v":""}]
[{"$nulls":9},"(в лева)",{"$f":"(IF($E3910<>0,$K$2,IF($F3910<>0,$K$2,IF($G3910<>0,$K$2,IF($H3910<>0,$K$2,IF($I3910<>0,$K$2,IF($J3910<>0,$K$2,\"\")))))))","v":""}]
[{"$nulls":3},"II.1. РАЗХОДИ ПО ДЕЙНОСТИ","Уточнен план","                                                                                                                              О Т Ч Е Т Н И   Д А Н Н И",{"$nulls":4},{"$f":"(IF($E3910<>0,$K$2,IF($F3910<>0,$K$2,IF($G3910<>0,$K$2,IF($H3910<>0,$K$2,IF($I3910<>0,$K$2,IF($J3910<>0,$K$2,\"\")))))))","v":""}]
[null,"§§","под-§§","НАИМЕНОВАНИЯ НА ПАРАГРАФИТЕ И ПОДПАРАГРАФИТЕ",{"$f":"$C$3","v":2021},"ОБЩО","левови\n сметки и СЕБРА ","валутни \nсметки ","операции в брой (в левове и валута)","операции приравнени на касов поток",{"$f":"(IF($E3910<>0,$K$2,IF($F3910<>0,$K$2,IF($G3910<>0,$K$2,IF($H3910<>0,$K$2,IF($I3910<>0,$K$2,IF($J3910<>0,$K$2,\"\")))))))","v":""}]
[{"$nulls":3}," 02 ¦","(1)","(2)","(3)","(4)","(5)","(6)",{"$f":"(IF($E3910<>0,$K$2,IF($F3910<>0,$K$2,IF($G3910<>0,$K$2,IF($H3910<>0,$K$2,IF($I3910<>0,$K$2,IF($J3910<>0,$K$2,\"\")))))))","v":""}]
[null,null,0,"ИЗБЕРЕТЕ ОПЕРАТИВНА ПРОГРАМА ",{"$nulls":6},{"$f":"(IF($E3910<>0,$K$2,IF($F3910<>0,$K$2,IF($G3910<>0,$K$2,IF($H3910<>0,$K$2,IF($I3910<>0,$K$2,IF($J3910<>0,$K$2,\"\")))))))","v":""}]
[null,null,{"$f":"VLOOKUP(D3793,EBK_DEIN2,2,FALSE)","v":4448},"<------          ДЕЙНОСТ    -  код  по  ЕБК",{"$nulls":6},{"$f":"(IF($E3910<>0,$K$2,IF($F3910<>0,$K$2,IF($G3910<>0,$K$2,IF($H3910<>0,$K$2,IF($I3910<>0,$K$2,IF($J3910<>0,$K$2,\"\")))))))","v":""}]
[null,null,{"$f":"+C3792","v":4448},"448 Центрове за комплексно обслужване на деца с увреждания и хронични заболявания",{"$nulls":6},{"$f":"(IF($E3910<>0,$K$2,IF($F3910<>0,$K$2,IF($G3910<>0,$K$2,IF($H3910<>0,$K$2,IF($I3910<>0,$K$2,IF($J3910<>0,$K$2,\"\")))))))","v":""}]
[{"$nulls":3},"(наименование на дейността)",{"$nulls":6},{"$f":"(IF($E3910<>0,$K$2,IF($F3910<>0,$K$2,IF($G3910<>0,$K$2,IF($H3910<>0,$K$2,IF($I3910<>0,$K$2,IF($J3910<>0,$K$2,\"\")))))))","v":""}]
[null,{"v":100,"d":"01-00"},"Заплати и възнаграждения за персонала, нает по трудови и служебни правоотношения",null,{"$f":"SUM(E3796:E3797)","v":0},0,0,0,0,0,{"$f":"(IF($E3795<>0,$K$2,IF($F3795<>0,$K$2,IF($G3795<>0,$K$2,IF($H3795<>0,$K$2,IF($I3795<>0,$K$2,IF($J3795<>0,$K$2,\"\")))))))","v":""}]
[null,null,{"v":101,"d":"01-01"},"заплати и възнаграждения на персонала нает по трудови правоотношения",0,{"$f":"G3796+H3796+I3796+J3796","v":0},0,0,0,0,{"$f":"(IF($E3796<>0,$K$2,IF($F3796<>0,$K$2,IF($G3796<>0,$K$2,IF($H3796<>0,$K$2,IF($I3796<>0,$K$2,IF($J3796<>0,$K$2,\"\")))))))","v":""}]
[null,null,{"v":102,"d":"01-02"},"заплати и възнаграждения на персонала нает по служебни правоотношения",0,{"$f":"G3797+H3797+I3797+J3797","v":0},0,0,0,0,""]
[null,{"v":200,"d":"02-00"},"Други възнаграждения и плащания за персонала",null,{"$f":"SUM(E3799:E3803)","v":0},0,0,0,0,0,""]
[null,null,{"v":201,"d":"02-01"},"за нещатен персонал нает по трудови правоотношения ",0,{"$f":"G3799+H3799+I3799+J3799","v":0},0,0,0,0,""]
[null,null,{"v":202,"d":"02-02"},"за персонала по извънтрудови правоотношения",0,{"$f":"G3800+H3800+I3800+J3800","v":0},0,0,0,0,""]
[null,null,{"v":205,"d":"02-05"},"изплатени суми от СБКО за облекло и други на персонала, с характер на възнаграждение",0,{"$f":"G3801+H3801+I3801+J3801","v":0},0,0,0,0,""]
[null,null,{"v":208,"d":"02-08"},"обезщетения за персонала, с характер на възнаграждение",0,{"$f":"G3802+H3802+I3802+J3802","v":0},0,0,0,0,""]
[null,null,{"v":209,"d":"02-09"},"другиплащания и възнаграждения",0,{"$f":"G3803+H3803+I3803+J3803","v":0},0,0,0,0,""]
[null,{"v":500,"d":"05-00"},"Задължителни осигурителни вноски от работодатели",null,{"$f":"SUM(E3805:E3811)","v":0},0,0,0,0,0,""]
[null,null,{"v":551,"d":"05-51"},"осигурителни вноски от работодатели за Държавното обществено осигуряване (ДОО)",0,{"$f":"G3805+H3805+I3805+J3805","v":0},0,0,0,0,""]
[null,null,{"$f":"C3805+1","v":{"v":552,"d":"05-52"}},"осигурителни вноски от работодатели за Учителския пенсионен фонд (УПФ)",0,0,0,0,0,0,""]
[null,null,{"v":558,"d":"05-58"},"вноски по чл. 4б и 4в от КСО за сметка на осигурителя",null,{"$f":"G3807+H3807+I3807+J3807","v":0},0,0,0,0,""]
[null,null,{"v":560,"d":"05-60"},"здравно-осигурителни вноски от работодатели",0,0,0,0,0,0,""]
[null,null,{"v":580,"d":"05-80"},"вноски за допълнително задължително осигуряване от работодатели",0,0,0,0,0,0,""]
[null,null,{"v":588,"d":"05-88"},"коректив на вноски за ДЗПО за сумите по чл. 4б и 4в от КСО за сметка на осигурителя",null,{"$f":"G3810+H3810+I3810+J3810","v":0},0,0,0,0,""]
[null,null,{"v":590,"d":"05-90"},"задължителни вноски за чуждестранни пенсионни фондове и  схеми за сметка на осигурителя",0,0,0,0,0,0,""]
[5,{"v":800,"d":"08-00"},"Вноски за доброволно осигуряване ",null,null,0,{"$nulls":4},""]
[10,{"v":1000,"d":"10-00"},"Издръжка",null,{"$f":"SUM(E3814:E3830)","v":0},0,0,0,0,0,""]
[15,null,{"v":1011,"d":"10-11"},"Храна",0,{"$f":"G3814+H3814+I3814+J3814","v":0},0,0,0,0,""]
[35,null,{"v":1012,"d":"10-12"},"Медикаменти",0,0,0,0,0,0,""]
[40,null,{"v":1013,"d":"10-13"},"Постелен инвентар и облекло",0,0,0,0,0,0,""]
[45,null,{"v":1014,"d":"10-14"},"Учебни и научно-изследователски разходи и книги за библиотеките",0,0,0,0,0,0,""]
[50,null,{"v":1015,"d":"10-15"},"материали",0,0,0,0,0,0,""]
[55,null,{"v":1016,"d":"10-16"},"вода, горива и енергия",0,0,0,0,0,0,""]
[60,null,{"v":1020,"d":"10-20"},"разходи за външни услуги",0,0,0,0,0,0,""]
[65,null,{"v":1030,"d":"10-30"},"Текущ ремонт",0,0,0,0,0,0,""]
[70,null,{"v":1051,"d":"10-51"},"командировки в страната",0,0,0,0,0,0,""]
[75,null,{"v":1052,"d":"10-52"},"краткосрочни командировки в чужбина",0,0,0,0,0,0,""]
[80,null,{"v":1053,"d":"10-53"},"дългосрочни командировки в чужбина",0,0,0,0,0,0,""]
[80,null,{"v":1062,"d":"10-62"},"разходи за застраховки",0,0,0,0,0,0,""]
[85,null,{"v":1063,"d":"10-63"},"такса ангажимент по заеми",0,0,0,0,0,0,""]
[90,null,{"v":1069,"d":"10-69"},"други финансови услуги",0,0,0,0,0,0,""]
[90,null,{"v":1091,"d":"10-91"},"други разходи за СБКО",0,0,0,0,0,0,""]
[115,null,{"v":1092,"d":"10-92"},"разходи за договорни санкции и неустойки, съдебни обезщетения и разноски",0,0,0,0,0,0,""]
[125,null,{"v":1098,"d":"10-98"},"други разходи, некласифицирани в другите параграфи и подпараграфи",0,0,0,0,0,0,""]
[130,{"v":1900,"d":"19-00"},"Платени данъци, такси и административни санкции",null,{"$f":"SUM(E3832:E3834)","v":0},0,0,0,0,0,""]
[135,null,{"v":1901,"d":"19-01"},"платени държавни данъци, такси, наказателни лихви и административни санкции",0,{"$f":"G3832+H3832+I3832+J3832","v":0},0,0,0,0,""]
[140,null,{"v":1981,"d":"19-81"},"платени общински данъци, такси, наказателни лихви и административни санкции",0,{"$f":"G3833+H3833+I3833+J3833","v":0},0,0,0,0,""]
[145,null,{"v":1991,"d":"19-91"},"платени данъци, такси, наказателни лихви и административни санкции в чужбина",0,{"$f":"G3834+H3834+I3834+J3834","v":0},0,0,0,0,""]
[150,{"v":2100,"d":"21-00"},"Разходи за лихви по емисии на държавни (общински) ценни книжа",null,{"$f":"SUM(E3836:E3840)","v":0},0,0,0,0,0,""]
[155,null,{"v":2110,"d":"21-10"},"лихви по държавни (общински) ценни книжа",0,{"$f":"G3836+H3836+I3836+J3836","v":0},0,0,0,0,""]
[160,null,{"v":2120,"d":"21-20"},"отстъпки по държавни (общински) ценни книжа",0,{"$f":"G3837+H3837+I3837+J3837","v":0},0,0,0,0,""]
[165,null,{"v":2125,"d":"21-25"},"лихви и отстъпки по целеви емисии на държавни ценни книжа",0,{"$f":"G3838+H3838+I3838+J3838","v":0},0,0,0,0,""]
[175,null,{"v":2140,"d":"21-40"},"лихви по държавни ценни книжа, емитирани за структурната реформа ",0,{"$f":"G3839+H3839+I3839+J3839","v":0},0,0,0,0,""]
[180,null,{"v":2190,"d":"21-90"},"премии над номинала от емисии на държавни (общински) ценни книжа (-)",0,{"$f":"G3840+H3840+I3840+J3840","v":0},0,0,0,0,""]
[185,{"v":2200,"d":"22-00"},"Разходи за лихви по заеми от страната",null,{"$f":"SUM(E3842:E3843)","v":0},0,0,0,0,0,""]
[190,null,{"v":2221,"d":"22-21"},"Разходи за лихви по заеми от банки в страната",0,{"$f":"G3842+H3842+I3842+J3842","v":0},0,0,0,0,""]
[200,null,{"v":2224,"d":"22-24"},"Разходи за лихви по други заеми от страната",0,0,0,0,0,0,""]
[200,{"v":2500,"d":"25-00"},"Разходи за лихви по заеми от други държави",null,null,0,{"$nulls":4},""]
[205,{"v":2600,"d":"26-00"},"Разходи за лихви по заеми от международни организации и институции",null,null,0,{"$nulls":4},""]
[210,{"v":2700,"d":"27-00"},"Разходи за лихви по заеми от банки и други финансови институции от чужбина",null,null,0,{"$nulls":4},""]
[215,{"v":2800,"d":"28-00"},"Разходи за лихви и отстъпки по облигации, емитирани и търгувани на международните капиталови пазари",null,null,0,{"$nulls":4},""]
[220,{"v":2900,"d":"29-00"},"Други разходи за лихви",null,{"$f":"SUM(E3849:E3856)","v":0},0,0,0,0,0,""]
[225,null,{"v":2910,"d":"29-10"},"Платени лихви по финансов лизинг и търговски кредит",null,{"$f":"G3849+H3849+I3849+J3849","v":0},{"$nulls":4},""]
[230,null,{"v":2920,"d":"29-20"},"Платени лихви по активирани гаранции по заеми от  банки в страната",null,{"$f":"G3850+H3850+I3850+J3850","v":0},0,0,0,0,""]
[245,null,{"v":2969,"d":"29-69"},"Платени лихви по активирани гаранции по заеми от международни организации и институции",0,0,0,0,0,0,""]
[220,null,{"v":2970,"d":"29-70"},"Платени лихви по активирани гаранции по заеми от банки и финансови институции от чужбина",null,0,0,0,null,0,""]
[225,null,{"v":2989,"d":"29-89"},"Възстановени суми по платени лихви по активирани гаранции (-)",0,0,0,0,null,0,""]
[230,null,{"v":2990,"d":"29-90"},"Платени лихви по заеми, предоставени от централния бюджет и бюджетни организации",null,{"$f":"G3854+H3854+I3854+J3854","v":0},{"$nulls":4},""]
[235,null,{"v":2991,"d":"29-91"},"Други разходи за лихви към  местни лица",0,0,0,0,null,0,""]
[240,null,{"v":2992,"d":"29-92"},"Други разходи за лихви към чуждестранни лица",0,0,0,0,0,0,""]
[245,{"v":3300,"d":"33-00"},"Вноска в общия бюджет на Европейския съюз",null,{"$f":"SUM(E3858:E3862)","v":0},0,0,0,0,0,""]
[250,null,{"v":3301,"d":"33-01"},"ресурс на база брутен национален доход",0,{"$f":"G3858+H3858+I3858+J3858","v":0},0,0,0,0,""]
[255,null,{"v":3302,"d":"33-02"},"ресурс на база данък върху добавената стойност",0,0,0,0,0,0,""]
[265,null,{"v":3304,"d":"33-04"},"традиционни собствени ресурси - мита",0,0,0,0,0,0,""]
[270,null,{"v":3306,"d":"33-06"},"участие във финансирането на брутното намаление за Австрия, Дания, Германия, Нидерландия и Швеция",0,0,0,0,0,0,""]
[290,null,{"v":3307,"d":"33-07"},"ресурс на база нерециклираните отпадъци от опаковки от пластмаса",0,0,0,0,0,0,""]
[320,{"v":3900,"d":"39-00"},"Здравно-осигурителни плащания",null,null,0,{"$nulls":4},{"$f":"(IF($E3863<>0,$K$2,IF($F3863<>0,$K$2,IF($G3863<>0,$K$2,IF($H3863<>0,$K$2,IF($I3863<>0,$K$2,IF($J3863<>0,$K$2,\"\")))))))","v":""}]
[330,{"v":4000,"d":"40-00"},"Стипендии",null,null,0,{"$nulls":4},""]
[350,{"v":4100,"d":"41-00"},"Пенсии",null,null,0,{"$nulls":4},""]
[355,{"v":4200,"d":"42-00"},"Текущи трансфери, обезщетения и помощи за домакинствата",null,{"$f":"SUM(E3867:E3872)","v":0},0,0,0,0,0,""]
[375,null,{"v":4201,"d":"42-01"},"обезщетения и помощи по социалното осигуряване",0,{"$f":"G3867+H3867+I3867+J3867","v":0},0,0,0,0,""]
[375,null,{"v":4202,"d":"42-02"},"обезщетения и помощи по социалното подпомагане",0,0,0,0,0,0,""]
[380,null,{"v":4214,"d":"42-14"},"обезщетения и помощи по решение на общинския съвет",0,0,0,0,0,0,""]
[385,null,{"v":4217,"d":"42-17"},"текущи трансфери за домакинства от средства на Европейския съюз",0,0,0,0,0,0,""]
[390,null,{"v":4218,"d":"42-18"},"текущи трансфери за домакинства по други международни програми и споразумения",0,0,0,0,0,0,""]
[390,null,{"v":4219,"d":"42-19"},"други текущи трансфери за домакинствата",0,0,0,0,0,0,""]
[395,{"v":4300,"d":"43-00"},"Субсидии и други текущи трансфери за нефинансови предприятия ",null,{"$f":"SUM(E3874:E3876)","v":0},0,0,0,0,0,""]
[397,null,{"v":4301,"d":"43-01"},"за текуща дейност",0,{"$f":"G3874+H3874+I3874+J3874","v":0},0,0,0,0,""]
[398,null,{"v":4302,"d":"43-02"},"за осъществяване на болнична помощ ",0,0,0,0,0,0,""]
[399,null,{"v":4309,"d":"43-09"},"други субсидии и плащания",0,0,0,0,0,0,""]
[400,{"v":4400,"d":"44-00"},"Субсидии и други текущи трансфери за финансови институции",null,null,0,{"$nulls":4},""]
[401,{"v":4500,"d":"45-00"},"Субсидии и други текущи трансфери за юридически лица с нестопанска цел",null,null,0,{"$nulls":4},""]
[404,{"v":4600,"d":"46-00"},"Разходи за членски внос и участие в нетърговски организации и дейности",null,null,0,{"$nulls":4},""]
[404,{"v":4900,"d":"49-00"},"Предоставени текущи и капиталови трансфери за чужбина",null,{"$f":"+E3881+E3882","v":0},0,0,0,0,0,""]
[440,null,{"v":4901,"d":"49-01"},"текущи трансфери за чужбина",0,{"$f":"G3881+H3881+I3881+J3881","v":0},0,0,0,0,""]
[450,null,{"v":4902,"d":"49-02"},"капиталови трансфери за чужбина",0,{"$f":"G3882+H3882+I3882+J3882","v":0},0,0,0,0,""]
[495,{"v":5100,"d":"51-00"},"Основен ремонт на дълготрайни материални активи",null,0,{"$f":"G3883+H3883+I3883+J3883","v":0},0,0,0,0,""]
[500,{"v":5200,"d":"52-00"},"Придобиване на дълготрайни материални активи",null,{"$f":"SUM(E3885:E3891)","v":0},0,0,0,0,0,""]
[505,null,{"v":5201,"d":"52-01"},"придобиване на компютри и хардуер",0,{"$f":"G3885+H3885+I3885+J3885","v":0},0,0,0,0,""]
[510,null,{"v":5202,"d":"52-02"},"придобиване на сгради",0,0,0,0,0,0,""]
[515,null,{"v":5203,"d":"52-03"},"придобиване на друго оборудване, машини и съоръжения",0,0,0,0,0,0,""]
[520,null,{"v":5204,"d":"52-04"},"придобиване на транспортни средства",0,0,0,0,0,0,""]
[525,null,{"v":5205,"d":"52-05"},"придобиване на стопански инвентар",0,0,0,0,0,0,""]
[635,null,{"v":5206,"d":"52-06"},"изграждане на инфраструктурни обекти",0,0,0,0,0,0,""]
[640,null,{"v":5219,"d":"52-19"},"придобиване на други ДМА",0,0,0,0,0,0,""]
[645,{"v":5300,"d":"53-00"},"Придобиване на нематериални дълготрайни активи",null,{"$f":"SUM(E3893:E3894)","v":0},0,0,0,0,0,""]
[650,null,{"v":5301,"d":"53-01"},"придобиване на програмни продукти и лицензи за програмни продукти",0,{"$f":"G3893+H3893+I3893+J3893","v":0},0,0,0,0,""]
[655,null,{"v":5309,"d":"53-09"},"придобиване на други нематериални дълготрайни активи",0,{"$f":"G3894+H3894+I3894+J3894","v":0},0,0,0,0,""]
[665,{"v":5400,"d":"54-00"},"Придобиване на земя",null,null,{"$f":"G3895+H3895+I3895+J3895","v":0},{"$nulls":4},""]
[675,{"v":5500,"d":"55-00"},"Капиталови трансфери",null,{"$f":"SUM(E3897:E3900)","v":0},0,0,0,0,0,""]
[685,null,{"v":5501,"d":"55-01"},"капиталови трансфери за нефинансови предприятия",0,{"$f":"G3897+H3897+I3897+J3897","v":0},0,0,0,0,""]
[690,null,{"v":5502,"d":"55-02"},"капиталови трансфери за финансови институции",0,{"$f":"G3898+H3898+I3898+J3898","v":0},0,0,0,0,""]
[695,null,{"v":5503,"d":"55-03"},"капиталови трансфери за организации с нестопанска цел",0,{"$f":"G3899+H3899+I3899+J3899","v":0},0,0,0,0,""]
[700,null,{"v":5504,"d":"55-04"},"капиталови трансфери за домакинствата",0,{"$f":"G3900+H3900+I3900+J3900","v":0},0,0,0,0,""]
[710,{"v":5700,"d":"57-00"},"Прираст на държавния резерв и изкупуване на земеделска продукция (включва и § 40-71)",null,{"$f":"SUM(E3902:E3904)","v":0},0,0,0,0,0,""]
[715,null,{"v":5701,"d":"57-01"},"плащания за попълване на държавния резерв",0,{"$f":"G3902+H3902+I3902+J3902","v":0},0,0,0,0,""]
[720,null,{"v":5702,"d":"57-02"},"плащания за изкупуване на земеделска продукция",0,{"$f":"G3903+H3903+I3903+J3903","v":0},0,0,0,0,""]
[725,null,{"v":4071,"d":"40-71"},"постъпления от продажба на държавния резерв (-)",0,{"$f":"G3904+H3904+I3904+J3904","v":0},0,0,0,0,""]
[730,{"$nulls":9},""]
[735,{"v":98,"d":"00-98"},"Резерв за непредвидени и неотложни разходи",null,null,{"$f":"G3906+H3906+I3906+J3906","v":0},0,0,0,0,""]
[740,{"$nulls":9},""]
[745,{"$nulls":9},""]
[750,{"$nulls":9},""]
[755,null,"99-99",{"$f":"+B3910","v":{"v":0,"d":"II. ОБЩО РАЗХОДИ ЗА ДЕЙНОСТ 0000"}},{"$f":"SUM(E3795,E3798,E3804,E3812,E3813,E3831,E3835,E3841,E3844,E3845,E3846,E3847,E3848,E3857,E3863,E3864,E3865,E3866,E3873,E3877,E3878,E3879,E3880,E3883,E3884,E3892,E3895,E3896,E3901)+E3906","v":0},0,0,0,0,0,"",{"$f":"LEFT(C3792,1)","v":"4"}]
[760,{"$nulls":9},{"$f":"K3910","v":""}]
[765,{"$nulls":9},{"$f":"K3910","v":""}]
[775,{"$nulls":9},{"$f":"(IF(SUM(K3924:K3945)<>0,$K$2,\"\"))","v":""}]
[780,{"$f":"$B$7","v":"ОТЧЕТНИ ДАННИ ПО ЕБК ЗА ИЗПЪЛНЕНИЕТО НА БЮДЖЕТА"},{"$nulls":8},{"$f":"(IF(SUM(K3924:K3945)<>0,$K$2,\"\"))","v":""}]
[785,{"$nulls":3},"за периода от ","до",{"$nulls":4},{"$f":"(IF(SUM(K3924:K3945)<>0,$K$2,\"\"))","v":""}]
[790,{"$f":"$B$9","v":"РЕГИОНАЛНА ЗДРАВНА ИНСПЕКЦИЯ-БУРГАС"},null,null,{"$f":"$E$9","v":"2021-01-01"},{"$f":"$F$9","v":"2021-12-31"},{"$nulls":4},{"$f":"(IF(SUM(K3924:K3945)<>0,$K$2,\"\"))","v":""}]
[795,{"$f":"$B$10","v":"                                                            (наименование на разпоредителя с бюджет)"},{"$nulls":8},{"$f":"(IF(SUM(K3924:K3945)<>0,$K$2,\"\"))","v":""}]
[805,{"$nulls":9},{"$f":"(IF(SUM(K3924:K3945)<>0,$K$2,\"\"))","v":""}]
[810,{"$f":"$B$12","v":{"$error":"#N/A"}},null,null,"       код по ЕБК:",{"$f":"$F$12","v":"0"},{"$nulls":4},{"$f":"(IF(SUM(K3924:K3945)<>0,$K$2,\"\"))","v":""}]
[815,{"$f":"$B$13","v":"                                             (наименование на първостепенния разпоредител с бюджет)"},{"$nulls":8},{"$f":"(IF(SUM(K3924:K3945)<>0,$K$2,\"\"))","v":""}]
[525,null,null,"               ФИНАНСОВО-ПРАВНА ФОРМА",{"$f":"$E$15","v":0},{"$f":"$F$15","v":"БЮДЖЕТ"},{"$nulls":4},{"$f":"(IF(SUM(K3924:K3945)<>0,$K$2,\"\"))","v":""}]
[820,null,null,"Натурални и други показатели за дейността",null,"(в лева)",{"$nulls":4},{"$f":"(IF(SUM(K3924:K3945)<>0,$K$2,\"\"))","v":""}]
[821,"МЯРКА","Код 9 8","  О б щ и   н а т у р а л н и   п о к а з а т е л и","    П л а н","    О т ч е т ",{"$nulls":4},{"$f":"(IF(SUM(K3924:K3945)<>0,$K$2,\"\"))","v":""}]
[822,null," 9 8 0 1","Щ а т н и   б р о й к и",{"$f":"E3925+E3926","v":0},{"$f":"F3925+F3926","v":0},{"$nulls":4},{"$f":"(IF($E3924<>0,$K$2,IF($F3924<>0,$K$2,\"\")))","v":""}]
[823,null," 9 8 1 1","в т.ч.: по трудови правоотношения",0,0,{"$nulls":4},""]
[825,null," 9 8 1 2","           по служебни правоотношения",null,0,{"$nulls":4},""]
[null,null," 9 8 0 2","Средногодишни щатни бройки",{"$f":"E3928+E3929","v":0},{"$f":"F3928+F3929","v":0},{"$nulls":4},""]
[null,null," 9 8 2 1","в т.ч.: по трудови правоотношения",0,0,{"$nulls":4},""]
[null,null," 9 8 2 2","         по служебни правоотношения",null,0,{"$nulls":4},""]
[null,null," 9 8 0 3","Средна годишна брутна заплата",0,0,{"$nulls":4},""]
[null,null," 9 8 3 1"," в т.ч.:   по трудови правоотношения",0,0,{"$nulls":4},""]
[null,null," 9 8 3 2","            по служебни правоотношения",null,0,{"$nulls":4},""]
[null,null," 9 8 0 4","Брой на моторни превозни средства",0,0,{"$nulls":4},""]
[null,null,"9 8 0 5","- в т.ч. - леки автомобили",0,0,{"$nulls":4},""]
[null,null,"9 8 0 6","             - санитарни линейки",null,0,{"$nulls":4},""]
[null,null," 9 8 0 7","Брой ученици, финансирани по единни разходни стандарти",null,0,{"$nulls":4},""]
[null,null," 9 8 0 8","Средна годишна брутна заплата на делегирани бюджети",null,0,{"$nulls":4},""]
[null,null," 9 8 0 9","Щатни бройки на делегирани бюджети",null,0,{"$nulls":4},""]
[null,null," 9 8 1 0","Средногодишни щатни бройки на делегирани бюджети",null,0,{"$nulls":4},""]
[null,null,"9 8 1 3","Средногодишен приравнен брой учащи във ВУ, финансирани по норматив за издръжка на обучението",null,0,{"$nulls":4},""]
[null,null,"9 8 1 4","Брой леглодни в студентски общежития",null,0,{"$nulls":4},""]
[905,null,"9 8 1 5","Брой хранодни в студентски стол",null,0,{"$nulls":4},""]
[906,null,"9 8 1 7","Болнични легла",null,0,{"$nulls":4},""]
[907,null,"9 8 1 8","Обем радиопрограма /часове/",null,0,{"$nulls":4},""]
[910,null,"9 8 1 9","Обем телевизионна програма /часове/",null,0,{"$nulls":4},""]
[911,"МЯРКА","Код  ","Разходи в областта на електронното управление и за използваните информационни и комуникационни технологии","    П л а н","    О т ч е т ",{"$nulls":4},{"$f":"(IF($E3947<>0,$K$2,IF($F3947<>0,$K$2,\"\")))","v":""}]
[null,null,"9 8 5 0","Общо разходи в областта на ЕУ и за използваните ИКТ",{"$f":"E3948+E3949","v":0},{"$f":"F3948+F3949","v":0},{"$nulls":4},""]
[null,null,"9 8 5 1","Текущи разходи в областта на ЕУ и за използваните ИКТ",0,0,{"$nulls":4},""]
[null,null,"9 8 5 2","Капиталови разходи в областта на ЕУ и за използваните ИКТ",null,0,{"$nulls":4},""]
[null,"ЗАБЕЛЕЖКА:",{"$nulls":8},{"$f":"K3910","v":""}]
[null," За натурални показатели, не влючени в този отчет, специфични за конкретна дейност се представят отделни справки, допълнително определени от Министерство на финансите.",{"$nulls":8},{"$f":"K3910","v":""}]

{"sheet":"INF","index":4,"n_rows":194,"n_cols":19,"rows_kept":194,"hidden":true,"merged":[[13,8,13,10],[15,8,15,10],[18,8,18,10],[29,9,29,10],[32,9,32,10],[38,9,38,10],[46,9,46,10],[47,9,47,10],[65,9,65,10],[69,9,69,10],[75,9,75,10],[78,9,78,10],[79,9,79,10],[80,9,80,10],[81,9,81,10],[82,9,82,10],[97,9,97,10],[98,9,98,10],[99,9,99,10],[100,9,100,10],[107,9,107,10],[111,9,111,10],[112,9,112,10],[113,9,113,10],[114,9,114,10],[117,9,117,10],[118,9,118,10],[126,9,126,10],[129,9,129,10],[130,9,130,10],[135,9,135,10],[140,9,140,10],[148,8,148,10],[150,8,150,10],[153,8,153,10],[185,8,185,10]]}
["step",176]
["gotocell","c4141"]
["nextcell","b3953"]
["INF copyrf","i12:s186"]
["dejKN"]
[]
[]
[null,"d3793"]
[]
[]
["Step:"]
[1,{"$nulls":16},{"$f":"(IF($E145<>0,$K$2,IF($F145<>0,$K$2,IF($G145<>0,$K$2,IF($H145<>0,$K$2,IF($I145<>0,$K$2,IF($J145<>0,$K$2,\"\")))))))","v":0}]
[2,{"$nulls":16},{"$f":"(IF($E145<>0,$K$2,IF($F145<>0,$K$2,IF($G145<>0,$K$2,IF($H145<>0,$K$2,IF($I145<>0,$K$2,IF($J145<>0,$K$2,\"\")))))))","v":0}]
[3,{"$nulls":7},{"$f":"$B$7","v":0},{"$nulls":8},{"$f":"(IF($E145<>0,$K$2,IF($F145<>0,$K$2,IF($G145<>0,$K$2,IF($H145<>0,$K$2,IF($I145<>0,$K$2,IF($J145<>0,$K$2,\"\")))))))","v":0}]
[4,{"$nulls":10},"за периода от ","до",null,"                 II.1. РАЗХОДИ ПО ДЕЙНОСТИ",null,null,{"$f":"(IF($E145<>0,$K$2,IF($F145<>0,$K$2,IF($G145<>0,$K$2,IF($H145<>0,$K$2,IF($I145<>0,$K$2,IF($J145<>0,$K$2,\"\")))))))","v":0}]
[5,{"$nulls":7},{"$f":"$B$9","v":0},null,null,{"$f":"$E$9","v":"00:00:00"},{"$f":"$F$9","v":"00:00:00"},{"$nulls":4},{"$f":"(IF($E145<>0,$K$2,IF($F145<>0,$K$2,IF($G145<>0,$K$2,IF($H145<>0,$K$2,IF($I145<>0,$K$2,IF($J145<>0,$K$2,\"\")))))))","v":0}]
[6,{"$nulls":7},{"$f":"$B$10","v":0},{"$nulls":8},{"$f":"(IF($E145<>0,$K$2,IF($F145<>0,$K$2,IF($G145<>0,$K$2,IF($H145<>0,$K$2,IF($I145<>0,$K$2,IF($J145<>0,$K$2,\"\")))))))","v":0}]
[7,{"$nulls":16},{"$f":"(IF($E145<>0,$K$2,IF($F145<>0,$K$2,IF($G145<>0,$K$2,IF($H145<>0,$K$2,IF($I145<>0,$K$2,IF($J145<>0,$K$2,\"\")))))))","v":0}]
[8,{"$nulls":7},{"$f":"$B$12","v":0},null,null,"       код по ЕБК:",{"$f":"$F$12","v":0},{"$nulls":4},{"$f":"(IF($E145<>0,$K$2,IF($F145<>0,$K$2,IF($G145<>0,$K$2,IF($H145<>0,$K$2,IF($I145<>0,$K$2,IF($J145<>0,$K$2,\"\")))))))","v":0}]
[9,{"$nulls":7},{"$f":"$B$13","v":0},{"$nulls":8},{"$f":"(IF($E145<>0,$K$2,IF($F145<>0,$K$2,IF($G145<>0,$K$2,IF($H145<>0,$K$2,IF($I145<>0,$K$2,IF($J145<>0,$K$2,\"\")))))))","v":0}]
[10,{"$nulls":9},"ФИНАНСОВО-ПРАВНА ФОРМА",{"$f":"$E$15","v":0},{"$f":"$F$15","v":0},{"$nulls":4},{"$f":"(IF($E145<>0,$K$2,IF($F145<>0,$K$2,IF($G145<>0,$K$2,IF($H145<>0,$K$2,IF($I145<>0,$K$2,IF($J145<>0,$K$2,\"\")))))))","v":0}]
[11,{"$nulls":15},"(в лева)",{"$f":"(IF($E145<>0,$K$2,IF($F145<>0,$K$2,IF($G145<>0,$K$2,IF($H145<>0,$K$2,IF($I145<>0,$K$2,IF($J145<>0,$K$2,\"\")))))))","v":0}]
[12,{"$nulls":9},"II.1. РАЗХОДИ ПО ДЕЙНОСТИ","Уточнен план","                                                                                                                              О Т Ч Е Т Н И   Д А Н Н И",{"$nulls":4},{"$f":"(IF($E145<>0,$K$2,IF($F145<>0,$K$2,IF($G145<>0,$K$2,IF($H145<>0,$K$2,IF($I145<>0,$K$2,IF($J145<>0,$K$2,\"\")))))))","v":0}]
[13,{"$nulls":7},"§§","под-§§","НАИМЕНОВАНИЯ НА ПАРАГРАФИТЕ И ПОДПАРАГРАФИТЕ",{"$f":"$C$3","v":0},"ОБЩО","левови\n сметки и СЕБРА ","валутни \nсметки ","операции в брой (в левове и валута)","операции приравнени на касов поток",{"$f":"(IF($E145<>0,$K$2,IF($F145<>0,$K$2,IF($G145<>0,$K$2,IF($H145<>0,$K$2,IF($I145<>0,$K$2,IF($J145<>0,$K$2,\"\")))))))","v":0}]
[14,{"$nulls":9}," 02 ¦","(1)","(2)","(3)","(4)","(5)","(6)",{"$f":"(IF($E145<>0,$K$2,IF($F145<>0,$K$2,IF($G145<>0,$K$2,IF($H145<>0,$K$2,IF($I145<>0,$K$2,IF($J145<>0,$K$2,\"\")))))))","v":0}]
[15,{"$nulls":8},{"$f":"VLOOKUP(K26,OP_LIST2,2,FALSE)","v":0},"ИЗБЕРЕТЕ ОПЕРАТИВНА ПРОГРАМА ",{"$nulls":6},{"$f":"(IF($E145<>0,$K$2,IF($F145<>0,$K$2,IF($G145<>0,$K$2,IF($H145<>0,$K$2,IF($I145<>0,$K$2,IF($J145<>0,$K$2,\"\")))))))","v":0}]
[16,{"$nulls":8},{"$f":"VLOOKUP(K28,EBK_DEIN2,2,FALSE)","v":0},"<------          ДЕЙНОСТ    -  код  по  ЕБК",{"$nulls":6},{"$f":"(IF($E145<>0,$K$2,IF($F145<>0,$K$2,IF($G145<>0,$K$2,IF($H145<>0,$K$2,IF($I145<>0,$K$2,IF($J145<>0,$K$2,\"\")))))))","v":0}]
[17,{"$nulls":8},{"$f":"+J27","v":0},"ИЗБЕРЕТЕ ДЕЙНОСТ",{"$nulls":6},{"$f":"(IF($E145<>0,$K$2,IF($F145<>0,$K$2,IF($G145<>0,$K$2,IF($H145<>0,$K$2,IF($I145<>0,$K$2,IF($J145<>0,$K$2,\"\")))))))","v":0}]
[18,{"$nulls":9},"(наименование на дейността)",{"$nulls":6},{"$f":"(IF($E145<>0,$K$2,IF($F145<>0,$K$2,IF($G145<>0,$K$2,IF($H145<>0,$K$2,IF($I145<>0,$K$2,IF($J145<>0,$K$2,\"\")))))))","v":0}]
[19,{"$nulls":7},{"v":100,"d":"01-00"},"Заплати и възнаграждения за персонала, нает по трудови и служебни правоотношения",null,{"$f":"SUM(L31:L32)","v":0},0,0,0,0,0,{"$f":"(IF($E30<>0,$K$2,IF($F30<>0,$K$2,IF($G30<>0,$K$2,IF($H30<>0,$K$2,IF($I30<>0,$K$2,IF($J30<>0,$K$2,\"\")))))))","v":0}]
[20,{"$nulls":8},{"v":101,"d":"01-01"},"заплати и възнаграждения на персонала нает по трудови правоотношения",null,{"$f":"N31+O31+P31+Q31","v":0},{"$nulls":4},{"$f":"(IF($E31<>0,$K$2,IF($F31<>0,$K$2,IF($G31<>0,$K$2,IF($H31<>0,$K$2,IF($I31<>0,$K$2,IF($J31<>0,$K$2,\"\")))))))","v":0}]
[21,{"$nulls":8},{"v":102,"d":"01-02"},"заплати и възнаграждения на персонала нает по служебни правоотношения",null,{"$f":"N32+O32+P32+Q32","v":0},{"$nulls":4},0]
[22,{"$nulls":7},{"v":200,"d":"02-00"},"Други възнаграждения и плащания за персонала",null,{"$f":"SUM(L34:L38)","v":0},0,0,0,0,0,0]
[23,{"$nulls":8},{"v":201,"d":"02-01"},"за нещатен персонал нает по трудови правоотношения ",null,{"$f":"N34+O34+P34+Q34","v":0},{"$nulls":4},0]
[24,{"$nulls":8},{"v":202,"d":"02-02"},"за персонала по извънтрудови правоотношения",null,{"$f":"N35+O35+P35+Q35","v":0},{"$nulls":4},0]
[25,{"$nulls":8},{"v":205,"d":"02-05"},"изплатени суми от СБКО за облекло и други на персонала, с характер на възнаграждение",null,{"$f":"N36+O36+P36+Q36","v":0},{"$nulls":4},0]
[26,{"$nulls":8},{"v":208,"d":"02-08"},"обезщетения за персонала, с характер на възнаграждение",null,{"$f":"N37+O37+P37+Q37","v":0},{"$nulls":4},0]
[27,{"$nulls":8},{"v":209,"d":"02-09"},"другиплащания и възнаграждения",null,{"$f":"N38+O38+P38+Q38","v":0},{"$nulls":4},0]
[28,{"$nulls":7},{"v":500,"d":"05-00"},"Задължителни осигурителни вноски от работодатели",null,{"$f":"SUM(L40:L46)","v":0},0,0,0,0,0,0]
[29,{"$nulls":8},{"v":551,"d":"05-51"},"осигурителни вноски от работодатели за Държавното обществено осигуряване (ДОО)",null,{"$f":"N40+O40+P40+Q40","v":0},0,0,0,null,0]
[30,{"$nulls":8},{"$f":"J40+1","v":{"v":552,"d":"05-52"}},"осигурителни вноски от работодатели за Учителския пенсионен фонд (УПФ)",null,0,0,0,0,null,0]
[31,{"$nulls":8},{"v":558,"d":"05-58"},"вноски по чл. 4б и 4в от КСО за сметка на осигурителя",null,{"$f":"N42+O42+P42+Q42","v":0},0,0,0,0,0]
[32,{"$nulls":8},{"v":560,"d":"05-60"},"здравно-осигурителни вноски от работодатели",null,0,0,0,0,null,0]
[33,{"$nulls":8},{"v":580,"d":"05-80"},"вноски за допълнително задължително осигуряване от работодатели",null,0,0,0,0,null,0]
[34,{"$nulls":8},{"v":588,"d":"05-88"},"коректив на вноски за ДЗПО за сумите по чл. 4б и 4в от КСО за сметка на осигурителя",null,{"$f":"N45+O45+P45+Q45","v":0},0,0,0,0,0]
[35,{"$nulls":8},{"v":590,"d":"05-90"},"задължителни вноски за чуждестранни пенсионни фондове и  схеми за сметка на осигурителя",null,0,{"$nulls":4},0]
[36,{"$nulls":7},{"v":800,"d":"08-00"},"Вноски за доброволно осигуряване ",null,null,0,{"$nulls":4},0]
[37,{"$nulls":7},{"v":1000,"d":"10-00"},"Издръжка",null,{"$f":"SUM(L49:L65)","v":0},0,0,0,0,0,0]
[38,{"$nulls":8},{"v":1011,"d":"10-11"},"Храна",null,{"$f":"N49+O49+P49+Q49","v":0},{"$nulls":4},0]
[39,{"$nulls":8},{"v":1012,"d":"10-12"},"Медикаменти",null,0,{"$nulls":4},0]
[40,{"$nulls":8},{"v":1013,"d":"10-13"},"Постелен инвентар и облекло",null,0,{"$nulls":4},0]
[41,{"$nulls":8},{"v":1014,"d":"10-14"},"Учебни и научно-изследователски разходи и книги за библиотеките",null,0,{"$nulls":4},0]
[42,{"$nulls":8},{"v":1015,"d":"10-15"},"материали",null,0,{"$nulls":4},0]
[43,{"$nulls":8},{"v":1016,"d":"10-16"},"вода, горива и енергия",null,0,{"$nulls":4},0]
[44,{"$nulls":8},{"v":1020,"d":"10-20"},"разходи за външни услуги",null,0,{"$nulls":4},0]
[45,{"$nulls":8},{"v":1030,"d":"10-30"},"Текущ ремонт",null,0,{"$nulls":4},0]
[46,{"$nulls":8},{"v":1051,"d":"10-51"},"командировки в страната",null,0,{"$nulls":4},0]
[47,{"$nulls":8},{"v":1052,"d":"10-52"},"краткосрочни командировки в чужбина",null,0,{"$nulls":4},0]
[48,{"$nulls":8},{"v":1053,"d":"10-53"},"дългосрочни командировки в чужбина",null,0,{"$nulls":4},0]
[49,{"$nulls":8},{"v":1062,"d":"10-62"},"разходи за застраховки",null,0,{"$nulls":4},0]
[50,{"$nulls":8},{"v":1063,"d":"10-63"},"такса ангажимент по заеми",null,0,{"$nulls":4},0]
[51,{"$nulls":8},{"v":1069,"d":"10-69"},"други финансови услуги",null,0,{"$nulls":4},0]
[52,{"$nulls":8},{"v":1091,"d":"10-91"},"други разходи за СБКО",null,0,{"$nulls":4},0]
[53,{"$nulls":8},{"v":1092,"d":"10-92"},"разходи за договорни санкции и неустойки, съдебни обезщетения и разноски",null,0,{"$nulls":4},0]
[54,{"$nulls":8},{"v":1098,"d":"10-98"},"други разходи, некласифицирани в другите параграфи и подпараграфи",null,0,{"$nulls":4},0]
[55,{"$nulls":7},{"v":1900,"d":"19-00"},"Платени данъци, такси и административни санкции",null,{"$f":"SUM(L67:L69)","v":0},0,0,0,0,0,0]
[56,{"$nulls":8},{"v":1901,"d":"19-01"},"платени държавни данъци, такси, наказателни лихви и административни санкции",null,{"$f":"N67+O67+P67+Q67","v":0},{"$nulls":4},0]
[57,{"$nulls":8},{"v":1981,"d":"19-81"},"платени общински данъци, такси, наказателни лихви и административни санкции",null,{"$f":"N68+O68+P68+Q68","v":0},{"$nulls":4},0]
[58,{"$nulls":8},{"v":1991,"d":"19-91"},"платени данъци, такси, наказателни лихви и административни санкции в чужбина",null,{"$f":"N69+O69+P69+Q69","v":0},{"$nulls":4},0]
[59,{"$nulls":7},{"v":2100,"d":"21-00"},"Разходи за лихви по емисии на държавни (общински) ценни книжа",null,{"$f":"SUM(L71:L75)","v":0},0,0,0,0,0,0]
[60,{"$nulls":8},{"v":2110,"d":"21-10"},"лихви по държавни (общински) ценни книжа",null,{"$f":"N71+O71+P71+Q71","v":0},{"$nulls":4},0]
[61,{"$nulls":8},{"v":2120,"d":"21-20"},"отстъпки по държавни (общински) ценни книжа",null,{"$f":"N72+O72+P72+Q72","v":0},{"$nulls":4},0]
[62,{"$nulls":8},{"v":2125,"d":"21-25"},"лихви и отстъпки по целеви емисии на държавни ценни книжа",null,{"$f":"N73+O73+P73+Q73","v":0},null,null,0,null,0]
[63,{"$nulls":8},{"v":2140,"d":"21-40"},"лихви по държавни ценни книжа, емитирани за структурната реформа ",null,{"$f":"N74+O74+P74+Q74","v":0},null,null,0,null,0]
[64,{"$nulls":8},{"v":2190,"d":"21-90"},"премии над номинала от емисии на държавни (общински) ценни книжа (-)",null,{"$f":"N75+O75+P75+Q75","v":0},null,null,0,null,0]
[65,{"$nulls":7},{"v":2200,"d":"22-00"},"Разходи за лихви по заеми от страната",null,{"$f":"SUM(L77:L78)","v":0},0,0,0,0,0,0]
[66,{"$nulls":8},{"v":2221,"d":"22-21"},"Разходи за лихви по заеми от банки в страната",null,{"$f":"N77+O77+P77+Q77","v":0},{"$nulls":4},0]
[67,{"$nulls":8},{"v":2224,"d":"22-24"},"Разходи за лихви по други заеми от страната",null,0,{"$nulls":4},0]
[68,{"$nulls":7},{"v":2500,"d":"25-00"},"Разходи за лихви по заеми от други държави",null,null,0,{"$nulls":4},0]
[69,{"$nulls":7},{"v":2600,"d":"26-00"},"Разходи за лихви по заеми от международни организации и институции",null,null,0,{"$nulls":4},0]
[70,{"$nulls":7},{"v":2700,"d":"27-00"},"Разходи за лихви по заеми от банки и други финансови институции от чужбина",null,null,0,{"$nulls":4},0]
[71,{"$nulls":7},{"v":2800,"d":"28-00"},"Разходи за лихви и отстъпки по облигации, емитирани и търгувани на международните капиталови пазари",null,null,0,{"$nulls":4},0]
[72,{"$nulls":7},{"v":2900,"d":"29-00"},"Други разходи за лихви",null,{"$f":"SUM(L84:L91)","v":0},0,0,0,0,0,0]
[73,{"$nulls":8},{"v":2910,"d":"29-10"},"Платени лихви по финансов лизинг и търговски кредит",null,{"$f":"N84+O84+P84+Q84","v":0},{"$nulls":4},0]
[74,{"$nulls":8},{"v":2920,"d":"29-20"},"Платени лихви по активирани гаранции по заеми от  банки в страната",null,{"$f":"N85+O85+P85+Q85","v":0},{"$nulls":4},0]
[75,{"$nulls":8},{"v":2969,"d":"29-69"},"Платени лихви по активирани гаранции по заеми от международни организации и институции",null,0,{"$nulls":4},0]
[76,{"$nulls":8},{"v":2970,"d":"29-70"},"Платени лихви по активирани гаранции по заеми от банки и финансови институции от чужбина",null,0,{"$nulls":4},0]
[77,{"$nulls":8},{"v":2989,"d":"29-89"},"Възстановени суми по платени лихви по активирани гаранции (-)",null,0,{"$nulls":4},0]
[78,{"$nulls":8},{"v":2990,"d":"29-90"},"Платени лихви по заеми, предоставени от централния бюджет и бюджетни организации",null,{"$f":"N89+O89+P89+Q89","v":0},{"$nulls":4},0]
[79,{"$nulls":8},{"v":2991,"d":"29-91"},"Други разходи за лихви към  местни лица",null,0,{"$nulls":4},0]
[80,{"$nulls":8},{"v":2992,"d":"29-92"},"Други разходи за лихви към чуждестранни лица",null,0,{"$nulls":4},0]
[81,{"$nulls":7},{"v":3300,"d":"33-00"},"Вноска в общия бюджет на Европейския съюз",null,{"$f":"SUM(L93:L97)","v":0},0,0,0,0,0,0]
[82,{"$nulls":8},{"v":3301,"d":"33-01"},"ресурс на база брутен национален доход",null,{"$f":"N93+O93+P93+Q93","v":0},null,null,0,0,0]
[83,{"$nulls":8},{"v":3302,"d":"33-02"},"ресурс на база данък върху добавената стойност",null,0,null,null,0,0,0]
[84,{"$nulls":8},{"v":3304,"d":"33-04"},"традиционни собствени ресурси - мита",null,0,null,null,0,0,0]
[85,{"$nulls":8},{"v":3306,"d":"33-06"},"участие във финансирането на брутното намаление за Австрия, Дания, Германия, Нидерландия и Швеция",null,0,null,null,0,0,0]
[86,{"$nulls":8},{"v":3307,"d":"33-07"},"ресурс на база нерециклираните отпадъци от опаковки от пластмаса",null,0,null,null,0,0,0]
[87,{"$nulls":7},{"v":3900,"d":"39-00"},"Здравно-осигурителни плащания",null,null,0,{"$nulls":4},{"$f":"(IF($E98<>0,$K$2,IF($F98<>0,$K$2,IF($G98<>0,$K$2,IF($H98<>0,$K$2,IF($I98<>0,$K$2,IF($J98<>0,$K$2,\"\")))))))","v":0}]
[88,{"$nulls":7},{"v":4000,"d":"40-00"},"Стипендии",null,null,0,{"$nulls":4},0]
[89,{"$nulls":7},{"v":4100,"d":"41-00"},"Пенсии",null,null,0,{"$nulls":4},0]
[90,{"$nulls":7},{"v":4200,"d":"42-00"},"Текущи трансфери, обезщетения и помощи за домакинствата",null,{"$f":"SUM(L102:L107)","v":0},0,0,0,0,0,0]
[91,{"$nulls":8},{"v":4201,"d":"42-01"},"обезщетения и помощи по социалното осигуряване",null,{"$f":"N102+O102+P102+Q102","v":0},{"$nulls":4},0]
[92,{"$nulls":8},{"v":4202,"d":"42-02"},"обезщетения и помощи по социалното подпомагане",null,0,{"$nulls":4},0]
[93,{"$nulls":8},{"v":4214,"d":"42-14"},"обезщетения и помощи по решение на общинския съвет",null,0,{"$nulls":4},0]
[94,{"$nulls":8},{"v":4217,"d":"42-17"},"текущи трансфери за домакинства от средства на Европейския съюз",null,0,{"$nulls":4},0]
[95,{"$nulls":8},{"v":4218,"d":"42-18"},"текущи трансфери за домакинства по други международни програми и споразумения",null,0,{"$nulls":4},0]
[96,{"$nulls":8},{"v":4219,"d":"42-19"},"други текущи трансфери за домакинствата",null,0,{"$nulls":4},0]
[97,{"$nulls":7},{"v":4300,"d":"43-00"},"Субсидии и други текущи трансфери за нефинансови предприятия ",null,{"$f":"SUM(L109:L111)","v":0},0,0,0,0,0,0]
[98,{"$nulls":8},{"v":4301,"d":"43-01"},"за текуща дейност",null,{"$f":"N109+O109+P109+Q109","v":0},{"$nulls":4},0]
[99,{"$nulls":8},{"v":4302,"d":"43-02"},"за осъществяване на болнична помощ ",null,0,{"$nulls":4},0]
[100,{"$nulls":8},{"v":4309,"d":"43-09"},"други субсидии и плащания",null,0,{"$nulls":4},0]
[101,{"$nulls":7},{"v":4400,"d":"44-00"},"Субсидии и други текущи трансфери за финансови институции",null,null,0,{"$nulls":4},0]
[102,{"$nulls":7},{"v":4500,"d":"45-00"},"Субсидии и други текущи трансфери за юридически лица с нестопанска цел",null,null,0,{"$nulls":4},0]
[103,{"$nulls":7},{"v":4600,"d":"46-00"},"Разходи за членски внос и участие в нетърговски организации и дейности",null,null,0,{"$nulls":4},0]
[104,{"$nulls":7},{"v":4900,"d":"49-00"},"Предоставени текущи и капиталови трансфери за чужбина",null,{"$f":"+L116+L117","v":0},0,0,0,0,0,0]
[105,{"$nulls":8},{"v":4901,"d":"49-01"},"текущи трансфери за чужбина",null,{"$f":"N116+O116+P116+Q116","v":0},{"$nulls":4},0]
[106,{"$nulls":8},{"v":4902,"d":"49-02"},"капиталови трансфери за чужбина",null,{"$f":"N117+O117+P117+Q117","v":0},{"$nulls":4},0]
[107,{"$nulls":7},{"v":5100,"d":"51-00"},"Основен ремонт на дълготрайни материални активи",null,null,{"$f":"N118+O118+P118+Q118","v":0},{"$nulls":4},0]
[108,{"$nulls":7},{"v":5200,"d":"52-00"},"Придобиване на дълготрайни материални активи",null,{"$f":"SUM(L120:L126)","v":0},0,0,0,0,0,0]
[109,{"$nulls":8},{"v":5201,"d":"52-01"},"придобиване на компютри и хардуер",null,{"$f":"N120+O120+P120+Q120","v":0},{"$nulls":4},0]
[110,{"$nulls":8},{"v":5202,"d":"52-02"},"придобиване на сгради",null,0,{"$nulls":4},0]
[111,{"$nulls":8},{"v":5203,"d":"52-03"},"придобиване на друго оборудване, машини и съоръжения",null,0,{"$nulls":4},0]
[112,{"$nulls":8},{"v":5204,"d":"52-04"},"придобиване на транспортни средства",null,0,{"$nulls":4},0]
[113,{"$nulls":8},{"v":5205,"d":"52-05"},"придобиване на стопански инвентар",null,0,{"$nulls":4},0]
[114,{"$nulls":8},{"v":5206,"d":"52-06"},"изграждане на инфраструктурни обекти",null,0,{"$nulls":4},0]
[115,{"$nulls":8},{"v":5219,"d":"52-19"},"придобиване на други ДМА",null,0,{"$nulls":4},0]
[116,{"$nulls":7},{"v":5300,"d":"53-00"},"Придобиване на нематериални дълготрайни активи",null,{"$f":"SUM(L128:L129)","v":0},0,0,0,0,0,0]
[117,{"$nulls":8},{"v":5301,"d":"53-01"},"придобиване на програмни продукти и лицензи за програмни продукти",null,{"$f":"N128+O128+P128+Q128","v":0},{"$nulls":4},0]
[118,{"$nulls":8},{"v":5309,"d":"53-09"},"придобиване на други нематериални дълготрайни активи",null,{"$f":"N129+O129+P129+Q129","v":0},{"$nulls":4},0]
[119,{"$nulls":7},{"v":5400,"d":"54-00"},"Придобиване на земя",null,null,{"$f":"N130+O130+P130+Q130","v":0},{"$nulls":4},0]
[120,{"$nulls":7},{"v":5500,"d":"55-00"},"Капиталови трансфери",null,{"$f":"SUM(L132:L135)","v":0},0,0,0,0,0,0]
[121,{"$nulls":8},{"v":5501,"d":"55-01"},"капиталови трансфери за нефинансови предприятия",null,{"$f":"N132+O132+P132+Q132","v":0},{"$nulls":4},0]
[122,{"$nulls":8},{"v":5502,"d":"55-02"},"капиталови трансфери за финансови институции",null,{"$f":"N133+O133+P133+Q133","v":0},{"$nulls":4},0]
[123,{"$nulls":8},{"v":5503,"d":"55-03"},"капиталови трансфери за организации с нестопанска цел",null,{"$f":"N134+O134+P134+Q134","v":0},{"$nulls":4},0]
[124,{"$nulls":8},{"v":5504,"d":"55-04"},"капиталови трансфери за домакинствата",null,{"$f":"N135+O135+P135+Q135","v":0},{"$nulls":4},0]
[125,{"$nulls":7},{"v":5700,"d":"57-00"},"Прираст на държавния резерв и изкупуване на земеделска продукция (включва и § 40-71)",null,{"$f":"SUM(L137:L139)","v":0},0,0,0,0,0,0]
[126,{"$nulls":8},{"v":5701,"d":"57-01"},"плащания за попълване на държавния резерв",null,{"$f":"N137+O137+P137+Q137","v":0},{"$nulls":4},0]
[127,{"$nulls":8},{"v":5702,"d":"57-02"},"плащания за изкупуване на земеделска продукция",null,{"$f":"N138+O138+P138+Q138","v":0},{"$nulls":4},0]
[128,{"$nulls":8},{"v":4071,"d":"40-71"},"постъпления от продажба на държавния резерв (-)",null,{"$f":"N139+O139+P139+Q139","v":0},{"$nulls":4},0]
[129,{"$nulls":16},""]
[130,{"$nulls":7},{"v":98,"d":"00-98"},"Резерв за непредвидени и неотложни разходи",null,null,{"$f":"N141+O141+P141+Q141","v":0},0,0,0,0,0]
[131,{"$nulls":16},""]
[132,{"$nulls":16},""]
[133,{"$nulls":16},""]
[134,{"$nulls":8},"99-99",{"$f":"+I145","v":{"v":0,"d":"II. ОБЩО РАЗХОДИ ЗА ДЕЙНОСТ 0000"}},{"$f":"SUM(L30,L33,L39,L47,L48,L66,L70,L76,L79,L80,L81,L82,L83,L92,L98,L99,L100,L101,L108,L112,L113,L114,L115,L118,L119,L127,L130,L131,L136)+L141","v":0},0,0,0,0,0,0,{"$f":"LEFT(J27,1)","v":"0"}]
[135,{"$nulls":16},{"$f":"R145","v":0}]
[136,{"$nulls":16},{"$f":"R145","v":0}]
[137,{"$nulls":16},{"$f":"(IF(SUM(R159:R180)<>0,$K$2,\"\"))","v":""}]
[138,{"$nulls":7},{"$f":"$B$7","v":0},{"$nulls":8},{"$f":"(IF(SUM(R159:R180)<>0,$K$2,\"\"))","v":""}]
[139,{"$nulls":10},"за периода от ","до",{"$nulls":4},{"$f":"(IF(SUM(R159:R180)<>0,$K$2,\"\"))","v":""}]
[140,{"$nulls":7},{"$f":"$B$9","v":0},null,null,{"$f":"$E$9","v":"00:00:00"},{"$f":"$F$9","v":"00:00:00"},{"$nulls":4},{"$f":"(IF(SUM(R159:R180)<>0,$K$2,\"\"))","v":""}]
[141,{"$nulls":7},{"$f":"$B$10","v":0},{"$nulls":8},{"$f":"(IF(SUM(R159:R180)<>0,$K$2,\"\"))","v":""}]
[142,{"$nulls":16},{"$f":"(IF(SUM(R159:R180)<>0,$K$2,\"\"))","v":""}]
[143,{"$nulls":7},{"$f":"$B$12","v":0},null,null,"       код по ЕБК:",{"$f":"$F$12","v":0},{"$nulls":4},{"$f":"(IF(SUM(R159:R180)<>0,$K$2,\"\"))","v":""}]
[144,{"$nulls":7},{"$f":"$B$13","v":0},{"$nulls":8},{"$f":"(IF(SUM(R159:R180)<>0,$K$2,\"\"))","v":""}]
[145,{"$nulls":9},"               ФИНАНСОВО-ПРАВНА ФОРМА",{"$f":"$E$15","v":0},{"$f":"$F$15","v":0},{"$nulls":4},{"$f":"(IF(SUM(R159:R180)<>0,$K$2,\"\"))","v":""}]
[146,{"$nulls":9},"Натурални и други показатели за дейността",null,"(в лева)",{"$nulls":4},{"$f":"(IF(SUM(R159:R180)<>0,$K$2,\"\"))","v":""}]
[147,{"$nulls":7},"МЯРКА","Код 9 8","  О б щ и   н а т у р а л н и   п о к а з а т е л и","    П л а н","    О т ч е т ",{"$nulls":4},{"$f":"(IF(SUM(R159:R180)<>0,$K$2,\"\"))","v":""}]
[148,{"$nulls":8}," 9 8 0 1","Щ а т н и   б р о й к и",{"$f":"L160+L161","v":0},{"$f":"M160+M161","v":0},{"$nulls":4},{"$f":"(IF($E159<>0,$K$2,IF($F159<>0,$K$2,\"\")))","v":""}]
[149,{"$nulls":8}," 9 8 1 1","в т.ч.: по трудови правоотношения",{"$nulls":6},""]
[150,{"$nulls":8}," 9 8 1 2","           по служебни правоотношения",{"$nulls":6},""]
[151,{"$nulls":8}," 9 8 0 2","Средногодишни щатни бройки",{"$f":"L163+L164","v":0},{"$f":"M163+M164","v":0},{"$nulls":4},""]
[152,{"$nulls":8}," 9 8 2 1","в т.ч.: по трудови правоотношения",{"$nulls":6},""]
[153,{"$nulls":8}," 9 8 2 2","         по служебни правоотношения",{"$nulls":6},""]
[154,{"$nulls":8}," 9 8 0 3","Средна годишна брутна заплата",{"$nulls":6},""]
[155,{"$nulls":8}," 9 8 3 1"," в т.ч.:   по трудови правоотношения",{"$nulls":6},""]
[156,{"$nulls":8}," 9 8 3 2","            по служебни правоотношения",{"$nulls":6},""]
[157,{"$nulls":8}," 9 8 0 4","Брой на моторни превозни средства",{"$nulls":6},""]
[158,{"$nulls":8},"9 8 0 5","- в т.ч. - леки автомобили",{"$nulls":6},""]
[159,{"$nulls":8},"9 8 0 6","             - санитарни линейки",{"$nulls":6},""]
[160,{"$nulls":8}," 9 8 0 7","Брой ученици, финансирани по единни разходни стандарти",{"$nulls":6},""]
[161,{"$nulls":8}," 9 8 0 8","Средна годишна брутна заплата на делегирани бюджети",{"$nulls":6},""]
[162,{"$nulls":8}," 9 8 0 9","Щатни бройки на делегирани бюджети",{"$nulls":6},""]
[163,{"$nulls":8}," 9 8 1 0","Средногодишни щатни бройки на делегирани бюджети",{"$nulls":6},""]
[164,{"$nulls":8},"9 8 1 3","Средногодишен приравнен брой учащи във ВУ, финансирани по норматив за издръжка на обучението",{"$nulls":6},""]
[165,{"$nulls":8},"9 8 1 4","Брой леглодни в студентски общежития",{"$nulls":6},""]
[166,{"$nulls":8},"9 8 1 5","Брой хранодни в студентски стол",{"$nulls":6},""]
[167,{"$nulls":8},"9 8 1 7","Болнични легла",{"$nulls":6},""]
[168,{"$nulls":8},"9 8 1 8","Обем радиопрограма /часове/",{"$nulls":6},""]
[169,{"$nulls":8},"9 8 1 9","Обем телевизионна програма /часове/",{"$nulls":6},""]
[170,{"$nulls":7},"МЯРКА","Код  ","Разходи в областта на електронното управление и за използваните информационни и комуникационни технологии","    П л а н","    О т ч е т ",{"$nulls":4},{"$f":"(IF($E182<>0,$K$2,IF($F182<>0,$K$2,\"\")))","v":""}]
[171,{"$nulls":8},"9 8 5 0","Общо разходи в областта на ЕУ и за използваните ИКТ",{"$f":"L183+L184","v":0},{"$f":"M183+M184","v":0},{"$nulls":4},""]
[172,{"$nulls":8},"9 8 5 1","Текущи разходи в областта на ЕУ и за използваните ИКТ",{"$nulls":6},""]
[173,{"$nulls":8},"9 8 5 2","Капиталови разходи в областта на ЕУ и за използваните ИКТ",{"$nulls":6},""]
[174,{"$nulls":7},"ЗАБЕЛЕЖКА:",{"$nulls":8},{"$f":"R145","v":0}]
[175,{"$nulls":7}," За натурални показатели, не влючени в този отчет, специфични за конкретна дейност се представят отделни справки, допълнително определени от Министерство на финансите.",{"$nulls":8},{"$f":"R145","v":0}]
[176,{"$nulls":16},{"$f":"R145","v":0}]
[{"$nulls":17},{"$f":"(IF(L145<>0,$G$2,IF(Q145<>0,$G$2,\"\")))","v":""}]
[{"$nulls":17},{"$f":"(IF(L146<>0,$G$2,IF(Q146<>0,$G$2,\"\")))","v":""}]
[{"$nulls":17},{"$f":"(IF(L145<>0,$G$2,IF(Q145<>0,$G$2,\"\")))","v":""}]
[{"$nulls":17},{"$f":"(IF(L145<>0,$G$2,IF(Q145<>0,$G$2,\"\")))","v":""}]
[{"$nulls":17},{"$f":"(IF(L145<>0,$G$2,IF(Q145<>0,$G$2,\"\")))","v":""}]
[{"$nulls":17},{"$f":"(IF(L145<>0,$G$2,IF(Q145<>0,$G$2,\"\")))","v":""}]
[{"$nulls":17},{"$f":"(IF(L145<>0,$G$2,IF(Q145<>0,$G$2,\"\")))","v":""}]

{"sheet":"list","index":5,"n_rows":733,"n_cols":3,"rows_kept":733,"hidden":true}
["Name:","SMETKA"]
[0,"ОТЧЕТНИ ДАННИ ПО ЕБК ЗА ИЗПЪЛНЕНИЕТО НА БЮДЖЕТА","                                  ОТЧЕТ ЗА КАСОВОТО ИЗПЪЛНЕНИЕ НА БЮДЖЕТА"]
[33,"ОТЧЕТНИ ДАННИ ПО ЕБК ЗА СМЕТКИТЕ ЗА ЧУЖДИ СРЕДСТВА","                   ОТЧЕТ ЗА КАСОВОТО ИЗПЪЛНЕНИЕ НА СМЕТКИТЕ ЗА ЧУЖДИ СРЕДСТВА"]
[42,"ОТЧЕТНИ ДАННИ ПО ЕБК ЗА СМЕТКИТЕ ЗА СРЕДСТВАТА ОТ ЕВРОПЕЙСКИЯ СЪЮЗ - РА","ОТЧЕТ ЗА КАСОВОТО ИЗПЪЛНЕНИЕ НА СМЕТКИТЕ ЗА СРЕДСТВАТА ОТ ЕВРОПЕЙСКИЯ СЪЮЗ - РА"]
[96,"ОТЧЕТНИ ДАННИ ПО ЕБК ЗА СМЕТКИТЕ ЗА СРЕДСТВАТА ОТ ЕВРОПЕЙСКИЯ СЪЮЗ - ДЕС","ОТЧЕТ ЗА КАСОВОТО ИЗПЪЛНЕНИЕ НА СМЕТКИТЕ ЗА СРЕДСТВАТА ОТ ЕВРОПЕЙСКИЯ СЪЮЗ - ДЕС"]
[97,"ОТЧЕТНИ ДАННИ ПО ЕБК ЗА СМЕТКИТЕ ЗА СРЕДСТВАТА ОТ ЕВРОПЕЙСКИЯ СЪЮЗ - ДМП","ОТЧЕТ ЗА КАСОВОТО ИЗПЪЛНЕНИЕ НА СМЕТКИТЕ ЗА СРЕДСТВАТА ОТ ЕВРОПЕЙСКИЯ СЪЮЗ - ДМП"]
[98,"ОТЧЕТНИ ДАННИ ПО ЕБК ЗА СМЕТКИТЕ ЗА СРЕДСТВАТА ОТ ЕВРОПЕЙСКИЯ СЪЮЗ - КСФ","ОТЧЕТ ЗА КАСОВОТО ИЗПЪЛНЕНИЕ НА СМЕТКИТЕ ЗА СРЕДСТВАТА ОТ ЕВРОПЕЙСКИЯ СЪЮЗ - КСФ"]
[]
[]
["Name:","\"EBK_DEIN\" и \"EBK_DEIN2\""]
[null,"ИЗБЕРЕТЕ ДЕЙНОСТ"]
[{"v":1101,"d":"11 0 1"},"101 Централни държавни органи",{"v":1101,"d":"11 0 1"}]
[{"v":1103,"d":"11 0 3"},"103 Централни държавни органи по образованието",{"v":1103,"d":"11 0 3"}]
[{"v":1104,"d":"11 0 4"},"104 Централни държавни органи по здравеопазването",{"v":1104,"d":"11 0 4"}]
[{"v":1105,"d":"11 0 5"},"105 Централни държавни органи по социалното осигуряването",{"v":1105,"d":"11 0 5"}]
[{"v":1106,"d":"11 0 6"},"106 Централни държавни органи по регионалното развитие и благоустройство",{"v":1106,"d":"11 0 6"}]
[{"v":1107,"d":"11 0 7"},"107 Централни държавни органи по културата и спорта",{"v":1107,"d":"11 0 7"}]
[{"v":1108,"d":"11 0 8"},"108 Централни държавни органи по икономическите дейности и услуги",{"v":1108,"d":"11 0 8"}]
[{"v":1111,"d":"11 1 1"},"111 Контролни органи",{"v":1111,"d":"11 1 1"}]
[{"v":1115,"d":"11 1 5"},"115 Управление, контрол и регулиране на външните работи",{"v":1115,"d":"11 1 5"}]
[{"v":1116,"d":"11 1 6"},"116 Посолства, консулства, представителства и мисии в чужбина",{"v":1116,"d":"11 1 6"}]
[{"v":1117,"d":"11 1 7"},"117 Държавни и общински служби и дейности по изборите",{"v":1117,"d":"11 1 7"}]
[{"v":1121,"d":"11 2 1"},"121 Областни администрации",{"v":1121,"d":"11 2 1"}]
[{"v":1122,"d":"11 2 2"},"122 Общинска администрация",{"v":1122,"d":"11 2 2"}]
[{"v":1123,"d":"11 2 3"},"123 Общински съвети ",{"v":1123,"d":"11 2 3"}]
[{"v":1125,"d":"11 2 5"},"125 Членове на Европейския парламент от Република България",{"v":1125,"d":"11 2 5"}]
[{"v":1128,"d":"11 2 8"},"128 Международни програми и споразумения, дарения и помощи от чужбина",{"v":1128,"d":"11 2 8"}]
[{"v":1139,"d":"11 3 9"},"139 Други изпълнителни и законодателни органи",{"v":1139,"d":"11 3 9"}]
[{"v":1141,"d":"11 4 1"},"141 Статистически институт,служби и дейности,социологически проучвания и анкети",{"v":1141,"d":"11 4 1"}]
[{"v":1142,"d":"11 4 2"},"142 Общоикономическо и социално програмиране и прогнозиране",{"v":1142,"d":"11 4 2"}]
[{"v":1143,"d":"11 4 3"},"143 Регистрация и контрол на чуждестранните инвестиции",{"v":1143,"d":"11 4 3"}]
[{"v":1144,"d":"11 4 4"},"144 Служби и дейности за връзки с българите в чужбина",{"v":1144,"d":"11 4 4"}]
[{"v":1145,"d":"11 4 5"},"145 Служби и дейности за подпомагане на бежанците",{"v":1145,"d":"11 4 5"}]
[{"v":1146,"d":"11 4 6"},"146 Управление и администриране на получена чуждестранна помощ",{"v":1146,"d":"11 4 6"}]
[{"v":1147,"d":"11 4 7"},"147 Управление на държавния резерв и военновременните запаси",{"v":1147,"d":"11 4 7"}]
[{"v":1148,"d":"11 4 8"},"148 Управление на гражд.администрация и административнообслужване на населението",{"v":1148,"d":"11 4 8"}]
[{"v":1149,"d":"11 4 9"},"149 Други общи служби",{"v":1149,"d":"11 4 9"}]
[{"v":1151,"d":"11 5 1"},"151 Ликвидационна комисия за закрити бюджетни организации",{"v":1151,"d":"11 5 1"}]
[{"v":1158,"d":"11 5 8"},"158 Международни програми и споразумения, дарения и помощи от чужбина",{"v":1158,"d":"11 5 8"}]
[{"v":1161,"d":"11 6 1"},"161 Организация и управление на научните изследвания и дейности",{"v":1161,"d":"11 6 1"}]
[{"v":1162,"d":"11 6 2"},"162 Научноизследователско дело",{"v":1162,"d":"11 6 2"}]
[{"v":1163,"d":"11 6 3"},"163 Научноизследователски институти и центрове",{"v":1163,"d":"11 6 3"}]
[{"v":1168,"d":"11 6 8"},"168 Международни програми и споразумения, дарения и помощи от чужбина",{"v":1168,"d":"11 6 8"}]
[{"v":1179,"d":"11 7 9"},"179 Други дейности на науката",{"v":1179,"d":"11 7 9"}]
[{"v":2201,"d":"22 0 1"},"201 Дейности по отбраната",{"v":2201,"d":"22 0 1"}]
[{"v":2205,"d":"22 0 5"},"205 Участие на Република България в НАТО",{"v":2205,"d":"22 0 5"}]
[{"v":2206,"d":"22 0 6"},"206 Мироопазващи мисии в чужбина",{"v":2206,"d":"22 0 6"}]
[{"v":2215,"d":"22 1 5"},"215 Приложни научни изследвания в областта на отбраната",{"v":2215,"d":"22 1 5"}]
[{"v":2218,"d":"22 1 8"},"218 Международни програми и споразумения, дарения и помощи от чужбина",{"v":2218,"d":"22 1 8"}]
[{"v":2219,"d":"22 1 9"},"219 Други дейности по отбраната",{"v":2219,"d":"22 1 9"}]
[{"v":2221,"d":"22 2 1"},"221 Полиция и вътрешен ред",{"v":2221,"d":"22 2 1"}]
[{"v":2222,"d":"22 2 2"},"222 Национална служба за охрана",{"v":2222,"d":"22 2 2"}]
[{"v":2223,"d":"22 2 3"},"223 Държавна агенция \"Разузнаване\"",{"v":2223,"d":"22 2 3"}]
[{"v":2224,"d":"22 2 4"},"224 Противопожарна охрана",{"v":2224,"d":"22 2 4"}]
[{"v":2225,"d":"22 2 5"},"225 Приложни научни изследвания в областта на вътрешния ред и сигурност",{"v":2225,"d":"22 2 5"}]
[{"v":2228,"d":"22 2 8"},"228 Международни програми и споразумения, дарения и помощи от чужбина",{"v":2228,"d":"22 2 8"}]
[{"v":2239,"d":"22 3 9"},"239 Други дейности по вътрешната сигурност",{"v":2239,"d":"22 3 9"}]
[{"v":2241,"d":"22 4 1"},"241 Висш съдебен съвет",{"v":2241,"d":"22 4 1"}]
[{"v":2242,"d":"22 4 2"},"242 Върховен административен съд",{"v":2242,"d":"22 4 2"}]
[{"v":2243,"d":"22 4 3"},"243 Върховен касационен съд",{"v":2243,"d":"22 4 3"}]
[{"v":2244,"d":"22 4 4"},"244 Прокуратура",{"v":2244,"d":"22 4 4"}]
[{"v":2245,"d":"22 4 5"},"245 Национална следствена служба",{"v":2245,"d":"22 4 5"}]
[{"v":2246,"d":"22 4 6"},"246 Съдилища",{"v":2246,"d":"22 4 6"}]
[{"v":2247,"d":"22 4 7"},"247 Окръжни следствени служби",{"v":2247,"d":"22 4 7"}]
[{"v":2248,"d":"22 4 8"},"248 Инспекторат към Висшия съдебен съвет",{"v":2248,"d":"22 4 8"}]
[{"v":2249,"d":"22 4 9"},"249 Национален институт на правосъдието",{"v":2249,"d":"22 4 9"}]
[{"v":2258,"d":"22 5 8"},"258 Международни програми и споразумения, дарения и помощи от чужбина",{"v":2258,"d":"22 5 8"}]
[{"v":2259,"d":"22 5 9"},"259 Други дейности на съдебната власт",{"v":2259,"d":"22 5 9"}]
[{"v":2261,"d":"22 6 1"},"261 Места за лишаване от свобода",{"v":2261,"d":"22 6 1"}]
[{"v":2268,"d":"22 6 8"},"268 Международни програми и споразумения, дарения и помощи от чужбина",{"v":2268,"d":"22 6 8"}]
[{"v":2279,"d":"22 7 9"},"279 Други дейности на администрацията на затворите",{"v":2279,"d":"22 7 9"}]
[{"v":2281,"d":"22 8 1"},"281 Неотложна дейност по защита на населението и националното стопанство",{"v":2281,"d":"22 8 1"}]
[{"v":2282,"d":"22 8 2"},"282 Отбранително-мобилизационна подготовка, поддържане на запаси и мощности",{"v":2282,"d":"22 8 2"}]
[{"v":2283,"d":"22 8 3"},"283 Превантивна дейност за намаляване на вредните последствия от бедствия и аварии",{"v":2283,"d":"22 8 3"}]
[{"v":2284,"d":"22 8 4"},"284 Ликвидиране на последици от стихийни бедствия и производствени аварии",{"v":2284,"d":"22 8 4"}]
[{"v":2285,"d":"22 8 5"},"285 Доброволни формирования за защита при бедствия",{"v":2285,"d":"22 8 5"}]
[{"v":2288,"d":"22 8 8"},"288 Международни програми и споразумения, дарения и помощи от чужбина",{"v":2288,"d":"22 8 8"}]
[{"v":2289,"d":"22 8 9"},"289 Други дейности за защита на населението при стихийни бедствия и аварии",{"v":2289,"d":"22 8 9"}]
[{"v":3301,"d":"33 0 1"},"301 Управление, контрол, регулиране и лицензиране на дейности по образованието",{"v":3301,"d":"33 0 1"}]
[{"v":3311,"d":"33 1 1"},"311 Детски градини",{"v":3311,"d":"33 1 1"}]
[{"v":3312,"d":"33 1 2"},"312 Специални групи в детски градини за деца със СОП",{"v":3312,"d":"33 1 2"}]
[{"v":3318,"d":"33 1 8"},"318 Подготвителна група в училище",{"v":3318,"d":"33 1 8"}]
[{"v":3321,"d":"33 2 1"},"321 Специални училища и центрове за специална образователна подкрепа",{"v":3321,"d":"33 2 1"}]
[{"v":3322,"d":"33 2 2"},"322 Неспециализирани училища, без професионални гимназии",{"v":3322,"d":"33 2 2"}]
[{"v":3323,"d":"33 2 3"},"323 Училища по културата и училища по изкуствата",{"v":3323,"d":"33 2 3"}]
[{"v":3324,"d":"33 2 4"},"324 Спортни училища",{"v":3324,"d":"33 2 4"}]
[{"v":3325,"d":"33 2 5"},"325 Български училища в чужбина",{"v":3325,"d":"33 2 5"}]
[{"v":3326,"d":"33 2 6"},"326 Професионални гимназии и паралелки за професионална подготовка",{"v":3326,"d":"33 2 6"}]
[{"v":3327,"d":"33 2 7"},"327 Училища в места за лишаване от свобода",{"v":3327,"d":"33 2 7"}]
[{"v":3332,"d":"33 3 2"},"332 Общежития",{"v":3332,"d":"33 3 2"}]
[{"v":3333,"d":"33 3 3"},"333 Ученически почивни лагери",{"v":3333,"d":"33 3 3"}]
[{"v":3334,"d":"33 3 4"},"334 Повишаване на квалификацията",{"v":3334,"d":"33 3 4"}]
[{"v":3336,"d":"33 3 6"},"336 Столове",{"v":3336,"d":"33 3 6"}]
[{"v":3337,"d":"33 3 7"},"337 Център за подкрепа за личностно развитие",{"v":3337,"d":"33 3 7"}]
[{"v":3338,"d":"33 3 8"},"338 Ресурсно подпомагане",{"v":3338,"d":"33 3 8"}]
[{"v":3341,"d":"33 4 1"},"341 Академии, университети и висши училища",{"v":3341,"d":"33 4 1"}]
[{"v":3349,"d":"33 4 9"},"349 Приложни научни изследвания в областта на образованието",{"v":3349,"d":"33 4 9"}]
[{"v":3359,"d":"33 5 9"},"359 Други дейности за децата",{"v":3359,"d":"33 5 9"}]
[{"v":3369,"d":"33 6 9"},"369 Други дейности за младежта",{"v":3369,"d":"33 6 9"}]
[{"v":3388,"d":"33 8 8"},"388 Международни програми и споразумения, дарения и помощи от чужбина",{"v":3388,"d":"33 8 8"}]
[{"v":3389,"d":"33 8 9"},"389 Други дейности по образованието",{"v":3389,"d":"33 8 9"}]
[{"v":4401,"d":"44 0 1"},"401 Управление, контрол и регулиране на дейности по здравеопазването",{"v":4401,"d":"44 0 1"}]
[{"v":4412,"d":"44 1 2"},"412 Многопрофилни болници за активно лечение ",{"v":4412,"d":"44 1 2"}]
[{"v":4415,"d":"44 1 5"},"415 Домове за медико-социални грижи ",{"v":4415,"d":"44 1 5"}]
[{"v":4418,"d":"44 1 8"},"418 Психиатрични болници",{"v":4418,"d":"44 1 8"}]
[{"v":4429,"d":"44 2 9"},"429 Центрове за спешна медицинска помощ",{"v":4429,"d":"44 2 9"}]
[{"v":4431,"d":"44 3 1"},"431 Детски ясли, детски кухни и яслени групи в детска градина",{"v":4431,"d":"44 3 1"}]
[{"v":4433,"d":"44 3 3"},"433 Рехабилитация",{"v":4433,"d":"44 3 3"}]
[{"v":4436,"d":"44 3 6"},"436 Национални центрове",{"v":4436,"d":"44 3 6"}]
[{"v":4437,"d":"44 3 7"},"437 Здравен кабинет в детски градини и училища",{"v":4437,"d":"44 3 7"}]
[{"v":4448,"d":"44 4 8"},"448 Центрове за комплексно обслужване на деца с увреждания и хронични заболявания",{"v":4448,"d":"44 4 8"}]
[{"v":4450,"d":"44 5 0"},"450 Преобразувани лечебни заведения",{"v":4450,"d":"44 5 0"}]
[{"v":4451,"d":"44 5 1"},"451 Плащания за първична извънболнична медицинска помощ",{"v":4451,"d":"44 5 1"}]
[{"v":4452,"d":"44 5 2"},"452 Плащания за специализирана извънболнична медицинска помощ",{"v":4452,"d":"44 5 2"}]
[{"v":4453,"d":"44 5 3"},"453 Плащания за дентална помощ",{"v":4453,"d":"44 5 3"}]
[{"v":4454,"d":"44 5 4"},"454 Плащания за медико-диагностична дейност",{"v":4454,"d":"44 5 4"}]
[{"v":4455,"d":"44 5 5"},"455 Плащания за лекарствени продукти, медицински изделия и диетични храни за специални медицински цели за домашно лечение на територията на страната",{"v":4455,"d":"44 5 5"}]
[{"v":4456,"d":"44 5 6"},"456 Плащания за болнична медицинска помощ",{"v":4456,"d":"44 5 6"}]
[{"v":4457,"d":"44 5 7"},"457 Плащания за медицински изделия прилагани в болничната медицинска помощ",{"v":4457,"d":"44 5 7"}]
[{"v":4458,"d":"44 5 8"},"458 Плащания за лекарствени продукти в условия на болнична медицинска помощ",{"v":4458,"d":"44 5 8"}]
[{"v":4459,"d":"44 5 9"},"459 Други здравноосигурителни плащания",{"v":4459,"d":"44 5 9"}]
[{"v":4465,"d":"44 6 5"},"465 Приложни научни изследвания в областта на здравеопазването",{"v":4465,"d":"44 6 5"}]
[{"v":4467,"d":"44 6 7"},"467 Национални програми",{"v":4467,"d":"44 6 7"}]
[{"v":4468,"d":"44 6 8"},"468 Международни програми и споразумения, дарения и помощи от чужбина",{"v":4468,"d":"44 6 8"}]
[{"v":4469,"d":"44 6 9"},"469 Други дейности по здравеопазването",{"v":4469,"d":"44 6 9"}]
[{"v":5501,"d":"55 0 1"},"501 Пенсии",{"v":5501,"d":"55 0 1"}]
[{"v":5511,"d":"55 1 1"},"511 Помощи по Закона за семейните помощи за деца",{"v":5511,"d":"55 1 1"}]
[{"v":5512,"d":"55 1 2"},"512 Помощи по Закона за социално подпомагане",{"v":5512,"d":"55 1 2"}]
[{"v":5513,"d":"55 1 3"},"513 Помощи по Закона за хората с увреждания",{"v":5513,"d":"55 1 3"}]
[{"v":5514,"d":"55 1 4"},"514 Помощи за диагностика и лечение на социално слаби лица",{"v":5514,"d":"55 1 4"}]
[{"v":5515,"d":"55 1 5"},"515 Помощи по Закона за закрила на детето",{"v":5515,"d":"55 1 5"}]
[{"v":5516,"d":"55 1 6"},"516 Помощи по Закона за ветераните от войните на Република България",{"v":5516,"d":"55 1 6"}]
[{"v":5517,"d":"55 1 7"},"517 Помощи по Закона за военноинвалидите и военнопострадалите",{"v":5517,"d":"55 1 7"}]
[{"v":5518,"d":"55 1 8"},"518 Социални помощи и обезщетения по международни програми, помощи и дарения",{"v":5518,"d":"55 1 8"}]
[{"v":5519,"d":"55 1 9"},"519 Други помощи и обезщетения",{"v":5519,"d":"55 1 9"}]
[{"v":5521,"d":"55 2 1"},"521 Служби по социалното осигуряване (ДОО и др.)",{"v":5521,"d":"55 2 1"}]
[{"v":5522,"d":"55 2 2"},"522 Дирекции за социално подпомагане",{"v":5522,"d":"55 2 2"}]
[{"v":5524,"d":"55 2 4"},"524 Домашен социален патронаж",{"v":5524,"d":"55 2 4"}]
[{"v":5525,"d":"55 2 5"},"525 Клубове на пенсионера, инвалида и др.",{"v":5525,"d":"55 2 5"}]
[{"v":5526,"d":"55 2 6"},"526 Центрове за обществена подкрепа",{"v":5526,"d":"55 2 6"}]
[{"v":5527,"d":"55 2 7"},"527 Звена \"Майка и бебе\"",{"v":5527,"d":"55 2 7"}]
[{"v":5528,"d":"55 2 8"},"528 Център за работа с деца на улицата",{"v":5528,"d":"55 2 8"}]
[{"v":5529,"d":"55 2 9"},"529 Кризисен център",{"v":5529,"d":"55 2 9"}]
[{"v":5530,"d":"55 3 0"},"530 Център за настаняване от семеен тип",{"v":5530,"d":"55 3 0"}]
[{"v":5531,"d":"55 3 1"},"531 Дейности за предотвратяване на трудови злополуки и професионални болести",{"v":5531,"d":"55 3 1"}]
[{"v":5532,"d":"55 3 2"},"532 Програми за временна заетост",{"v":5532,"d":"55 3 2"}]
[{"v":5533,"d":"55 3 3"},"533 Други програми и дейности за осигуряване на заетост",{"v":5533,"d":"55 3 3"}]
[{"v":5534,"d":"55 3 4"},"534 Наблюдавани жилища",{"v":5534,"d":"55 3 4"}]
[{"v":5535,"d":"55 3 5"},"535 Преходни жилища",{"v":5535,"d":"55 3 5"}]
[{"v":5538,"d":"55 3 8"},"538 Програми за закрила на детето",{"v":5538,"d":"55 3 8"}]
[{"v":5540,"d":"55 4 0"},"540 Домове за стари хора",{"v":5540,"d":"55 4 0"}]
[{"v":5541,"d":"55 4 1"},"541 Домове за възрастни хора с увреждания",{"v":5541,"d":"55 4 1"}]
[{"v":5545,"d":"55 4 5"},"545 Социален учебно-професионален център",{"v":5545,"d":"55 4 5"}]
[{"v":5546,"d":"55 4 6"},"546 Домове за деца",{"v":5546,"d":"55 4 6"}]
[{"v":5547,"d":"55 4 7"},"547 Център за временно настаняване",{"v":5547,"d":"55 4 7"}]
[{"v":5548,"d":"55 4 8"},"548 Дневни центрове за стари хора",{"v":5548,"d":"55 4 8"}]
[{"v":5550,"d":"55 5 0"},"550 Центрове за социална рехабилитация и интеграция",{"v":5550,"d":"55 5 0"}]
[{"v":5551,"d":"55 5 1"},"551 Дневни центрове за лица с увреждания",{"v":5551,"d":"55 5 1"}]
[{"v":5553,"d":"55 5 3"},"553 Приюти",{"v":5553,"d":"55 5 3"}]
[{"v":5554,"d":"55 5 4"},"554 Защитени жилища",{"v":5554,"d":"55 5 4"}]
[{"v":5556,"d":"55 5 6"},"556 Приложни научни изследвания в областта на социалното осигуряване и подпомагане",{"v":5556,"d":"55 5 6"}]
[{"v":5561,"d":"55 6 1"},"561 Социални услуги в домашна среда",{"v":5561,"d":"55 6 1"}]
[{"v":5562,"d":"55 6 2"},"562 Асистенти за лична помощ",{"v":5562,"d":"55 6 2"}]
[{"v":5588,"d":"55 8 8"},"588 Международни програми и споразумения, дарения и помощи от чужбина",{"v":5588,"d":"55 8 8"}]
[{"v":5589,"d":"55 8 9"},"589 Други служби и дейности по социалното осигуряване, подпомагане и заетостта",{"v":5589,"d":"55 8 9"}]
[{"v":6601,"d":"66 0 1"},"601 Управление, контрол и регулиране на дейностите по жил. строителство и териториално развитие",{"v":6601,"d":"66 0 1"}]
[{"v":6602,"d":"66 0 2"},"602 Служби по кадастър, геодезия и регистрация на недвижимата собственост",{"v":6602,"d":"66 0 2"}]
[{"v":6603,"d":"66 0 3"},"603 Водоснабдяване и канализация",{"v":6603,"d":"66 0 3"}]
[{"v":6604,"d":"66 0 4"},"604 Осветление на улици и площади",{"v":6604,"d":"66 0 4"}]
[{"v":6605,"d":"66 0 5"},"605 Минерални води и бани",{"v":6605,"d":"66 0 5"}]
[{"v":6606,"d":"66 0 6"},"606 Изграждане, ремонт и поддържане на уличната мрежа",{"v":6606,"d":"66 0 6"}]
[{"v":6618,"d":"66 1 8"},"618 Международни програми и споразумения, дарения и помощи от чужбина",{"v":6618,"d":"66 1 8"}]
[{"v":6619,"d":"66 1 9"},"619 Други дейности по жилищното строителство, благоустройството и регионалното развитие",{"v":6619,"d":"66 1 9"}]
[{"v":6621,"d":"66 2 1"},"621 Управление, контрол и регулиране на дейностите по опазване на околната среда",{"v":6621,"d":"66 2 1"}]
[{"v":6622,"d":"66 2 2"},"622 Озеленяване",{"v":6622,"d":"66 2 2"}]
[{"v":6623,"d":"66 2 3"},"623 Чистота",{"v":6623,"d":"66 2 3"}]
[{"v":6624,"d":"66 2 4"},"624 Геозащита",{"v":6624,"d":"66 2 4"}]
[{"v":6625,"d":"66 2 5"},"625 Приложни и научни изследвания  в областта на опазване на околната среда",{"v":6625,"d":"66 2 5"}]
[{"v":6626,"d":"66 2 6"},"626 Пречистване на отпадъчните води от населените места",{"v":6626,"d":"66 2 6"}]
[{"v":6627,"d":"66 2 7"},"627 Управление на дейностите по отпадъците",{"v":6627,"d":"66 2 7"}]
[{"v":6628,"d":"66 2 8"},"628 Международни програми и споразумения, дарения и помощи от чужбина",{"v":6628,"d":"66 2 8"}]
[{"v":6629,"d":"66 2 9"},"629 Други дейности по опазване на околната среда",{"v":6629,"d":"66 2 9"}]
[{"v":7701,"d":"77 0 1"},"701 Дейности по почивното дело и социалния отдих",{"v":7701,"d":"77 0 1"}]
[{"v":7708,"d":"77 0 8"},"708 Международни програми и споразумения, дарения и помощи от чужбина",{"v":7708,"d":"77 0 8"}]
[{"v":7711,"d":"77 1 1"},"711 Управление, контрол и регулиране на дейностите по спорта",{"v":7711,"d":"77 1 1"}]
[{"v":7712,"d":"77 1 2"},"712 Детски и специализирани спортни школи",{"v":7712,"d":"77 1 2"}]
[{"v":7713,"d":"77 1 3"},"713 Спорт за всички",{"v":7713,"d":"77 1 3"}]
[{"v":7714,"d":"77 1 4"},"714 Спортни бази за спорт за всички",{"v":7714,"d":"77 1 4"}]
[{"v":7718,"d":"77 1 8"},"718 Международни програми и споразумения, дарения и помощи от чужбина",{"v":7718,"d":"77 1 8"}]
[{"v":7719,"d":"77 1 9"},"719 Други дейности по спорта и физическата култура",{"v":7719,"d":"77 1 9"}]
[{"v":7731,"d":"77 3 1"},"731 Управление, контрол и регулиране на дейностите по културата",{"v":7731,"d":"77 3 1"}]
[{"v":7732,"d":"77 3 2"},"732 Културни дейности",{"v":7732,"d":"77 3 2"}]
[{"v":7733,"d":"77 3 3"},"733 Български културни институти в чужбина",{"v":7733,"d":"77 3 3"}]
[{"v":7735,"d":"77 3 5"},"735 Театри",{"v":7735,"d":"77 3 5"}]
[{"v":7736,"d":"77 3 6"},"736 Оперно - филхармонични дружества и опери",{"v":7736,"d":"77 3 6"}]
[{"v":7737,"d":"77 3 7"},"737 Оркестри и ансамбли",{"v":7737,"d":"77 3 7"}]
[{"v":7738,"d":"77 3 8"},"738 Читалища",{"v":7738,"d":"77 3 8"}]
[{"v":7739,"d":"77 3 9"},"739 Музеи, худ. галерии, паметници на културата и етногр. комплекси с национален и регионален харакер",{"v":7739,"d":"77 3 9"}]
[{"v":7740,"d":"77 4 0"},"740 Музеи, художествени галерии, паметници на културата и етнографски комплекси с местен харакер",{"v":7740,"d":"77 4 0"}]
[{"v":7741,"d":"77 4 1"},"741 Радиотранслационни възли",{"v":7741,"d":"77 4 1"}]
[{"v":7742,"d":"77 4 2"},"742 Радио",{"v":7742,"d":"77 4 2"}]
[{"v":7743,"d":"77 4 3"},"743 Телевизия",{"v":7743,"d":"77 4 3"}]
[{"v":7744,"d":"77 4 4"},"744 Филмотечно и фонотечно дело",{"v":7744,"d":"77 4 4"}]
[{"v":7745,"d":"77 4 5"},"745 Обредни домове и зали",{"v":7745,"d":"77 4 5"}]
[{"v":7746,"d":"77 4 6"},"746 Зоопаркове",{"v":7746,"d":"77 4 6"}]
[{"v":7747,"d":"77 4 7"},"747 Държавен архив и териториални архиви",{"v":7747,"d":"77 4 7"}]
[{"v":7748,"d":"77 4 8"},"748 Подпомагане развитието на културата",{"v":7748,"d":"77 4 8"}]
[{"v":7751,"d":"77 5 1"},"751 Библиотеки с национален и регионален характер",{"v":7751,"d":"77 5 1"}]
[{"v":7752,"d":"77 5 2"},"752 Градски библиотеки",{"v":7752,"d":"77 5 2"}]
[{"v":7755,"d":"77 5 5"},"755 Приложни и научни изследвания  в областта на опазване на културата",{"v":7755,"d":"77 5 5"}]
[{"v":7758,"d":"77 5 8"},"758 Международни програми и споразумения, дарения и помощи от чужбина",{"v":7758,"d":"77 5 8"}]
[{"v":7759,"d":"77 5 9"},"759 Други дейности по културата",{"v":7759,"d":"77 5 9"}]
[{"v":7761,"d":"77 6 1"},"761 Контрол и регулиране на дейностите по религиозно дело",{"v":7761,"d":"77 6 1"}]
[{"v":7762,"d":"77 6 2"},"762 Субсидии и други разходи за дейности по религиозно дело",{"v":7762,"d":"77 6 2"}]
[{"v":7768,"d":"77 6 8"},"768 Международни програми и споразумения, дарения и помощи от чужбина",{"v":7768,"d":"77 6 8"}]
[{"v":8801,"d":"88 0 1"},"801 Управление, контрол и регулиране на минното дело и дейностите по енергетиката",{"v":8801,"d":"88 0 1"}]
[{"v":8802,"d":"88 0 2"},"802 Изследвания, измервания и анализи на горивата и енергията",{"v":8802,"d":"88 0 2"}]
[{"v":8803,"d":"88 0 3"},"803 Безопасност и съхраняване на радиоактивни отпадъци",{"v":8803,"d":"88 0 3"}]
[{"v":8804,"d":"88 0 4"},"804 Извеждане на ядрени съоръжения от експлоатация",{"v":8804,"d":"88 0 4"}]
[{"v":8805,"d":"88 0 5"},"805 Приложни и научни изследвания  в областта на минното дело, горивата и енергията",{"v":8805,"d":"88 0 5"}]
[{"v":8807,"d":"88 0 7"},"807 Международни програми и споразумения, дарения и помощи от чужбина",{"v":8807,"d":"88 0 7"}]
[{"v":8808,"d":"88 0 8"},"808 Други дейности по минното дело",{"v":8808,"d":"88 0 8"}]
[{"v":8809,"d":"88 0 9"},"809 Други дейности по горивата и енергията",{"v":8809,"d":"88 0 9"}]
[{"v":8811,"d":"88 1 1"},"811 Управление, контрол и регулиране на дейностите по растениевъдство",{"v":8811,"d":"88 1 1"}]
[{"v":8813,"d":"88 1 3"},"813 Областни земеделски служби",{"v":8813,"d":"88 1 3"}]
[{"v":8814,"d":"88 1 4"},"814 Управление, контрол и регулиране на дейностите по горското стопанство",{"v":8814,"d":"88 1 4"}]
[{"v":8815,"d":"88 1 5"},"815 Управление, контрол и регулиране на дейностите по лова и риболова",{"v":8815,"d":"88 1 5"}]
[{"v":8816,"d":"88 1 6"},"816 Машинно-изпитателни центрове и контролно технически инспекции",{"v":8816,"d":"88 1 6"}]
[{"v":8817,"d":"88 1 7"},"817 Ветеринарно-медицински служби",{"v":8817,"d":"88 1 7"}]
[{"v":8821,"d":"88 2 1"},"821 Други служби по поземлената реформа",{"v":8821,"d":"88 2 1"}]
[{"v":8824,"d":"88 2 4"},"824 Национални доплащания и съфинансиране към директните плащания за земеделски производители",{"v":8824,"d":"88 2 4"}]
[{"v":8825,"d":"88 2 5"},"825 Приложни и научни изследвания  в областта на земеделието и горите",{"v":8825,"d":"88 2 5"}]
[{"v":8826,"d":"88 2 6"},"826 Рибарство",{"v":8826,"d":"88 2 6"}]
[{"v":8827,"d":"88 2 7"},"827 Развитие на селските райони",{"v":8827,"d":"88 2 7"}]
[{"v":8828,"d":"88 2 8"},"828 Международни програми и споразумения, дарения и помощи от чужбина",{"v":8828,"d":"88 2 8"}]
[{"v":8829,"d":"88 2 9"},"829 Други дейности по селско и горско стопанство, лов и риболов",{"v":8829,"d":"88 2 9"}]
[{"v":8831,"d":"88 3 1"},"831 Управление,контрол и регулиране на дейностите по транспорта и пътищата",{"v":8831,"d":"88 3 1"}]
[{"v":8832,"d":"88 3 2"},"832 Служби и дейности по поддържане, ремонт и изграждане на пътищата",{"v":8832,"d":"88 3 2"}]
[{"v":8833,"d":"88 3 3"},"833 Проучвания, измервания и анализи на пътната мрежа",{"v":8833,"d":"88 3 3"}]
[{"v":8834,"d":"88 3 4"},"834 Дейности по автомобилния транспорт",{"v":8834,"d":"88 3 4"}]
[{"v":8835,"d":"88 3 5"},"835 Дейности по железопътния транспорт",{"v":8835,"d":"88 3 5"}]
[{"v":8836,"d":"88 3 6"},"836 Дейности по въздушния транспорт",{"v":8836,"d":"88 3 6"}]
[{"v":8837,"d":"88 3 7"},"837 Дейности по водния транспорт",{"v":8837,"d":"88 3 7"}]
[{"v":8838,"d":"88 3 8"},"838 Управление, контрол и регулиране на дейностите по комуникациите",{"v":8838,"d":"88 3 8"}]
[{"v":8839,"d":"88 3 9"},"839 Пощи и далекосъобщения",{"v":8839,"d":"88 3 9"}]
[{"v":8845,"d":"88 4 5"},"845 Приложни и научни изследвания  в областта на транспорта и съобщенията",{"v":8845,"d":"88 4 5"}]
[{"v":8848,"d":"88 4 8"},"848 Международни програми и споразумения, дарения и помощи от чужбина",{"v":8848,"d":"88 4 8"}]
[{"v":8849,"d":"88 4 9"},"849 Други дейности по транспорта,пътищата,пощите и далекосъобщенията",{"v":8849,"d":"88 4 9"}]
[{"v":8851,"d":"88 5 1"},"851 Управление, контрол и регулиране на дейностите по промишлеността",{"v":8851,"d":"88 5 1"}]
[{"v":8852,"d":"88 5 2"},"852 Управление, контрол и регулиране на дейностите по строителството",{"v":8852,"d":"88 5 2"}]
[{"v":8853,"d":"88 5 3"},"853 Международни програми и споразумения, дарения и помощи от чужбина",{"v":8853,"d":"88 5 3"}]
[{"v":8855,"d":"88 5 5"},"855 Приложни и научни изследвания  в областта на промишлеността и строителството",{"v":8855,"d":"88 5 5"}]
[{"v":8858,"d":"88 5 8"},"858 Други дейности по промишлеността",{"v":8858,"d":"88 5 8"}]
[{"v":8859,"d":"88 5 9"},"859 Други дейности по строителството",{"v":8859,"d":"88 5 9"}]
[{"v":8861,"d":"88 6 1"},"861 Управление, контрол и регулиране на дейностите по туризма",{"v":8861,"d":"88 6 1"}]
[{"v":8862,"d":"88 6 2"},"862 Туристически бази",{"v":8862,"d":"88 6 2"}]
[{"v":8863,"d":"88 6 3"},"863 Специализирани спортно-туристически школи",{"v":8863,"d":"88 6 3"}]
[{"v":8864,"d":"88 6 4"},"864 Международни програми и споразумения, дарения и помощи от чужбина",{"v":8864,"d":"88 6 4"}]
[{"v":8865,"d":"88 6 5"},"865 Други дейности по туризма",{"v":8865,"d":"88 6 5"}]
[{"v":8866,"d":"88 6 6"},"866 Общински пазари и тържища",{"v":8866,"d":"88 6 6"}]
[{"v":8867,"d":"88 6 7"},"867 Реклама и маркетинг",{"v":8867,"d":"88 6 7"}]
[{"v":8868,"d":"88 6 8"},"868 Информационно-изчислителни центрове",{"v":8868,"d":"88 6 8"}]
[{"v":8869,"d":"88 6 9"},"869 Издателска дейност и печатни бази",{"v":8869,"d":"88 6 9"}]
[{"v":8871,"d":"88 7 1"},"871 Помощни стопанства, столове и други спомагателни дейности",{"v":8871,"d":"88 7 1"}]
[{"v":8872,"d":"88 7 2"},"872 Дворци, резиденции и стопанства",{"v":8872,"d":"88 7 2"}]
[{"v":8873,"d":"88 7 3"},"873 Оздравителни програми за предприятия в изолация и ликвидация",{"v":8873,"d":"88 7 3"}]
[{"v":8875,"d":"88 7 5"},"875 Органи и дейности по приватизация",{"v":8875,"d":"88 7 5"}]
[{"v":8876,"d":"88 7 6"},"876 Органи по стандартизация и метрология",{"v":8876,"d":"88 7 6"}]
[{"v":8877,"d":"88 7 7"},"877 Патентно дело",{"v":8877,"d":"88 7 7"}]
[{"v":8878,"d":"88 7 8"},"878 Приюти за безстопанствени животни",{"v":8878,"d":"88 7 8"}]
[{"v":8885,"d":"88 8 5"},"885 Приложни и научни изследвания  в други дейности по икономиката",{"v":8885,"d":"88 8 5"}]
[{"v":8888,"d":"88 8 8"},"888 Структурни реформи",{"v":8888,"d":"88 8 8"}]
[{"v":8897,"d":"88 9 7"},"897 Международни програми и споразумения, дарения и помощи от чужбина",{"v":8897,"d":"88 9 7"}]
[{"v":8898,"d":"88 9 8"},"898 Други дейности по икономиката",{"v":8898,"d":"88 9 8"}]
[{"v":9910,"d":"99 1 0"},"910 Разходи за лихви",{"v":9910,"d":"99 1 0"}]
[{"v":9997,"d":"99 9 7"},"997 Други разходи некласифицирани по другите функции",{"v":9997,"d":"99 9 7"}]
[{"v":9998,"d":"99 9 8"},"998 Резерв ",{"v":9998,"d":"99 9 8"}]
[]
[]
[]
[]
["Name:","\"OP_LIST\"  и \"OP_LIST2\""]
["ИЗБЕРЕТЕ ОПЕРАТИВНА ПРОГРАМА "]
["ПЕРИОД 2014-2020"]
["КФ - ОП \"Транспорт и транспортна инфраструктура\"","98111"]
["КФ - ОП \"Околна среда\"","98112"]
["ЕФРР - ОП \"Транспорт и транспортна инфраструктура\"","98211"]
["ЕФРР - ОП \"Региони в растеж\"","98212"]
["ЕФРР - ОП \"Наука и образование за интелигентен растеж\"","98213"]
["ЕФРР - ОП \"Иновации и конкурентоспособност \"","98214"]
["ЕФРР - ОП \"Околна среда\"","98215"]
["ЕФРР - ОП \"Инициатива за малки и средни предприятия\"","98224"]
["ЕСФ - ОП \"Развитие на човешките ресурси\"","98311"]
["ЕСФ - ОП \"Добро управление\"","98312"]
["ЕСФ - ОП \"Наука и образование за интелигентен растеж\"","98313"]
["ОП \"Фонд за европейско подпомагане на най-нуждаещите се лица\" ",98315]
["ПЕРИОД 2007-2013"]
["КФ - ОП \"ТРАНСПОРТ\"","98101"]
["КФ - ОП \"ОКОЛНА СРЕДА\" /2007-2013/","98102"]
["ЕФРР - ОП \"ТРАНСПОРТ\"","98201"]
["ЕФРР - ОП \"РЕГИОНАЛНО РАЗВИТИЕ\"","98202"]
["ЕФРР - ОП \"КОНКУРЕНТНОСПОСОБНОСТ\"","98204"]
["ЕФРР - ОП \"ОКОЛНА СРЕДА\" /2007-2013/","98205"]
["ЕФРР - ОП \"ТЕХНИЧЕСКА ПОМОЩ\"","98210"]
["ЕСФ - ОП \"ЧОВЕШКИ РЕСУРСИ\"","98301"]
["ЕСФ - ОП \"АДМИНИСТРАТИВЕН КАПАЦИТЕТ\"","98302"]
[]
[]
["Name:","\"PRBK\""]
[null,"А ) Кодове на бюджетни организации от подсектор \"централно управление\" (подсектор \"ЦУ\")"]
[null,"    А.1) Кодове на централния бюджет и разпоредителите с бюджет по държавния бюджет"]
["0100","Народно събрание"]
["0200","Администрация на президентството"]
["0300","Министерски съвет "]
["0400","Конституционен съд"]
["0500","Сметна палата"]
["0600","Висш съдебен съвет"]
["1000","Министерство на финансите"]
["1100","Министерство на външните работи"]
["1200","Министерство на отбраната"]
["1300","Министерство на вътрешните работи"]
["1400","Министерство на правосъдието"]
["1500","Министерство на труда и социалната политика"]
["1600","Министерство на здравеопазването"]
["1700","Министерство на образованието и науката "]
["1800","Министерство на културата"]
["1900","Министерство на околната среда и водите"]
["2000","Министерство на икономиката"]
["2100","Министерство на регионалното развитие и благоустройство"]
["2200","Министерство на земеделието, храните и горите"]
["2300","Министерство на транспорта, информационните технологии и съобщенията"]
["2400","Министерство на енергетиката"]
["2500","Министерство на младежта и спорта"]
["3000","Държавна агенция  \"Национална сигурност\""]
["3200","Комисия за разкриване на документите и за обявяване на принадлежност на български граждани към Държавна сигурност и разузнавателните служби на Българската народна армия"]
["3300","Комисия за защита от дискриминация"]
["3400","Комисия за защита на личните данни"]
["3500","Държавна агенция “Електронно управление”"]
["3700","Комисия за противодействие на корупцията и за отнемане на незаконно придобитото имущество"]
["3800","Национална служба за охрана"]
["3900","Държавна агенция \"Разузнаване\""]
["4000","Омбудсман"]
["4100","Национален статистически институт"]
["4200","Комисия за защита на конкуренцията"]
["4300","Комисия за регулиране на съобщенията"]
["4400","Съвет за електронни медии"]
["4500","Комисия за енергийно и водно регулиране"]
["4600","Агенция за ядрено регулиране"]
["4700","Комисия за финансов надзор"]
["4800","Държавна комисия по сигурността на информацията"]
["5300","Държавна агенция \"Държавен резерв и военновременни запаси\""]
["6100","Българска национална телевизия"]
["6200","Българско национално радио"]
["6300","Българска телеграфна агенция"]
["7100","Министерство на туризма"]
["8200","Централна избирателна комисия"]
["8300","Комисия за публичен надзор над регистрираните одитори"]
["8400","Държавен фонд \"Земеделие\""]
["8500","Национално бюро за контрол на специалните разузнавателни средства"]
["8600","Държавна агенция „Технически операции”"]
["9900","Централен бюджет"]
[null,"     А.2) Кодове на други бюджетни организации от подсектор \"централно управление\""]
[null,"    А.2.1) кодове на държавните висши училища и Българската академия на науките"]
[null,"        А.2.1а) кодове на ДВУ и БАН, финансирани от Министерството на образованието и науката"]
["1701","Софийски университет \"Климент Охридски\" - София"]
["1702","Пловдивски университет \"Паисий Хилендарски\" - Пловдив"]
["1703","Университет \"Проф. д-р Асен Златаров\" - Бургас"]
["1704","Великотърновки университет \"Св. св . Кирил и Методий\" - В. Търново"]
["1705","Югозападен университет \"Неофит Рилски\" - Благоевград"]
["1706","Шуменски университет \"Епископ Константин Преславски\" - Шумен"]
["1711","Русенски университет \"Ангел Кънчев\" - Русе"]
["1712","Технически университет - София"]
["1714","Технически университет - Варна"]
["1715","Технически университет - Габрово"]
["1716","Университет по архитектура, строителство и геодезия - София"]
["1717","Минно-геоложки университет \"Св. Ив. Рилски\" - София"]
["1718","Лесотехнически университет - София"]
["1719","Химико-технологичен и металургичен университет - София"]
["1721","Университет по хранителни технологии - Пловдив",""]
["1722","Аграрен университет - Пловдив",""]
["1723","Тракийски университет - Стара Загора",""]
["1731","Медицински университет - София",""]
["1732","Медицински университет - Пловдив",""]
["1733","Медицински университет \"Проф. д-р Параскев Иванов Стоянов\" - Варна",""]
["1735","Медицински университет - Плевен",""]
["1741","Университет за национално и световно стопанство - София",""]
["1742","Икономически университет - Варна",""]
["1743","Стопанска академия \"Димитър Ценов\" - Свищов",""]
["1751","Държавна музикална академия \"Панчо Владигеров\" - София",""]
["1752","Национална академия за театрално и филмово изкуство \"Кр. Сарафов\" - София",""]
["1753","Национална художествена академия - София",""]
["1754","Академия за музикално, танцово и изобразително изкуство „Проф. Асен Диамандиев“ - Пловдив",""]
["1759","Национална спортна академия \"Васил Левски\" - София",""]
["1767","Висше строително училище \"Любен Каравелов\" - София",""]
["1768","Висше транспортно училище \"Тодор Каблешков\" - София",""]
["1771","Университет по библиотекознание и информационни технологии - София ",""]
["1772","Висше училище по телекомуникации и пощи - София",""]
["1790","Българска академия на науките - София",""]
["","        А.2.1.б) кодове на ДВУ и ВА \"Г. С. Раковски\", финансирани от Министерството на отбраната",""]
["1281","Военна академия \"Г. С. Раковски\" - София",""]
["1282","Национален военен университет \"Васил Левски\" - Велико Търново",""]
["1283","Висше военноморско училище \"Н. Й. Вапцаров\" - Варна",""]
["1284","Висше военновъздушно училище \"Георги Бенковски\" - Долна Митрополия",""]
["1280","ДЪРЖАВНИ ВИСШИ ВОЕННИ УЧИЛИЩА към МО"]
["2233","Селскостопанска академия"]
["","    А.2.2) кодове на други разпоредители с бюджет по чл. 13, ал. 3 от ЗПФ",""]
["6100","Българска национална телевизия",""]
["6200","Българско национално радио",""]
["6300","Българска телеграфна агенция",""]
["2028","Държавно предприятие „Държавна петролна компания“",""]
["1950","Предприятие за управление на дейностите по опазване на околната среда (ПУДООС)  - чл. 60 от ЗООС"]
["2029","Държавно предприятие „Управление и стопанисване на язовири“ - чл. 139а, ал. 1 и чл. 139б, ал. 5 от Закона за водите",""]
["2234","Държавно предприятие „Научно-производствен център“",""]
["2480","Фонд \"Сигурност на електроенергийната система\"",""]
["3535","Държавно предприятие „Единен системен оператор“ ",""]
[null," А.3) Кодове на сметки за средствата от Европейския съюз на бюджетни организации от подсектор \"ЦУ\""]
["9817","Национален фонд към Министерството на финансите",""]
["2220","Държавен фонд \"Земеделие\" - Разплащателна агенция",""]
[null,"Други",""]
["1313","Държавно предприятие „Център за предоставяне на услуги”",""]
["2235","Държавно предприятие „Борба с градушките“"]
["2381","НК \"Железопътна инфраструктура\""]
["2382","БДЖ \"Пътнически превози\""]
["1780","Държавни висши училища"]
[null,"Б ) Кодове на социалноосигурителни фондове"]
["5500","Национален осигурителен институт - Държавно обществено осигуряване",""]
["5591","Национален осигурителен институт - Учителски пенсионен фонд",""]
["5592","Национален осигрителен инститт - фонд \"Гарантирани вземания на работници и служители\"",""]
["5600","Национална здравноосигурителна каса",""]
[null,"В ) Кодове на общини"]
["5101","Банско",""]
["5102","Белица",""]
["5103","Благоевград",""]
["5104","Гоце Делчев",""]
["5105","Гърмен",""]
["5106","Кресна",""]
["5107","Петрич",""]
["5108","Разлог",""]
["5109","Сандански",""]
["5110","Сатовча",""]
["5111","Симитли",""]
["5112","Струмяни",""]
["5113","Хаджидимово",""]
["5114","Якоруда",""]
["5201","Айтос",""]
["5202","Бургас ",""]
["5203","Камено",""]
["5204","Карнобат",""]
["5205","Малко Търново",""]
["5206","Несебър",""]
["5207","Поморие",""]
["5208","Приморско",""]
["5209","Руен",""]
["5210","Созопол",""]
["5211","Средец",""]
["5212","Сунгурларе",""]
["5213","Царево",""]
["5301","Аврен",""]
["5302","Аксаково",""]
["5303","Белослав",""]
["5304","Бяла",""]
["5305","Варна",""]
["5306","Ветрино",""]
["5307","Вълчидол",""]
["5308","Девня",""]
["5309","Долни Чифлик",""]
["5310","Дългопол",""]
["5311","Провадия",""]
["5312","Суворово",""]
["5401","Велико Търново",""]
["5402","Горна Оряховица",""]
["5403","Елена",""]
["5404","Златарица",""]
["5405","Лясковец",""]
["5406","Павликени",""]
["5407","Полски Тръмбеш",""]
["5408","Свищов",""]
["5409","Стражица",""]
["5410","Сухиндол",""]
["5501","Белоградчик",""]
["5502","Бойница",""]
["5503","Брегово",""]
["5504","Видин",""]
["5505","Грамада",""]
["5506","Димово",""]
["5507","Кула",""]
["5508","Макреш",""]
["5509","Ново село",""]
["5510","Ружинци",""]
["5511","Чупрене",""]
["5601","Борован",""]
["5602","Бяла Слатина",""]
["5603","Враца",""]
["5605","Козлодуй",""]
["5606","Криводол",""]
["5607","Мездра",""]
["5608","Мизия",""]
["5609","Оряхово",""]
["5610","Роман",""]
["5611","Хайредин",""]
["5701","Габрово",""]
["5702","Дряново",""]
["5703","Севлиево",""]
["5704","Трявна",""]
["5801","Балчик",""]
["5802","Генерал Тошево",""]
["5803","Добрич",""]
["5804","Добричка",""]
["5805","Каварна",""]
["5806","Крушари",""]
["5807","Тервел",""]
["5808","Шабла",""]
["5901","Ардино",""]
["5902","Джебел",""]
["5903","Кирково",""]
["5904","Крумовград",""]
["5905","Кърджали",""]
["5906","Момчилград",""]
["5907","Черноочене",""]
["6001","Бобовдол",""]
["6002","Бобошево",""]
["6003","Дупница",""]
["6004","Кочериново",""]
["6005","Кюстендил",""]
["6006","Невестино",""]
["6007","Рила",""]
["6008","Сапарева баня",""]
["6009","Трекляно",""]
["6101","Априлци",""]
["6102","Летница",""]
["6103","Ловеч",""]
["6104","Луковит",""]
["6105","Тетевен",""]
["6106","Троян",""]
["6107","Угърчин",""]
["6108","Ябланица",""]
["6201","Берковица",""]
["6202","Бойчиновци",""]
["6203","Брусарци",""]
["6204","Вълчедръм",""]
["6205","Вършец",""]
["6206","Георги Дамяново",""]
["6207","Лом",""]
["6208","Медковец",""]
["6209","Монтана",""]
["6210","Чипровци",""]
["6211","Якимово",""]
["6301","Батак",""]
["6302","Белово",""]
["6303","Брацигово",""]
["6304","Велинград",""]
["6305","Лесичово",""]
["6306","Пазарджик",""]
["6307","Панагюрище",""]
["6308","Пещера",""]
["6309","Ракитово",""]
["6310","Септември",""]
["6311","Стрелча",""]
["6312","Сърница",""]
["6401","Брезник",""]
["6402","Земен",""]
["6403","Ковачевци",""]
["6404","Перник",""]
["6405","Радомир",""]
["6406","Трън",""]
["6501","Белене",""]
["6502","Гулянци",""]
["6503","Долна Митрополия",""]
["6504","Долни Дъбник",""]
["6505","Искър",""]
["6506","Левски",""]
["6507","Никопол",""]
["6508","Плевен",""]
["6509","Пордим",""]
["6510","Червен бряг",""]
["6511","Кнежа",""]
["6601","Асеновград",""]
["6602","Брезово",""]
["6603","Калояново",""]
["6604","Карлово",""]
["6605","Кричим",""]
["6606","Лъки",""]
["6607","Марица",""]
["6608","Перущица",""]
["6609","Пловдив",""]
["6610","Първомай",""]
["6611","Раковски",""]
["6612","Родопи",""]
["6613","Садово",""]
["6614","Стамболийски",""]
["6615","Съединение",""]
["6616","Хисаря",""]
["6617","Куклен",""]
["6618","Сопот",""]
["6701","Завет",""]
["6702","Исперих",""]
["6703","Кубрат",""]
["6704","Лозница",""]
["6705","Разград",""]
["6706","Самуил",""]
["6707","Цар Калоян",""]
["6801","Борово",""]
["6802","Бяла",""]
["6803","Ветово",""]
["6804","Две могили",""]
["6805","Иваново",""]
["6806","Русе",""]
["6807","Сливо поле",""]
["6808","Ценово",""]
["6901","Алфатар",""]
["6902","Главиница",""]
["6903","Дулово",""]
["6904","Кайнарджа",""]
["6905","Силистра",""]
["6906","Ситово",""]
["6907","Тутракан",""]
["7001","Котел",""]
["7002","Нова Загора",""]
["7003","Сливен",""]
["7004","Твърдица",""]
["7101","Баните",""]
["7102","Борино",""]
["7103","Девин",""]
["7104","Доспат",""]
["7105","Златоград",""]
["7106","Мадан",""]
["7107","Неделино",""]
["7108","Рудозем",""]
["7109","Смолян",""]
["7110","Чепеларе",""]
["7201","Район Банкя",""]
["7202","Район Витоша",""]
["7203","Район Възраждане ",""]
["7204","Район Връбница",""]
["7205","Район Илинден",""]
["7206","Район Искър",""]
["7207","Район Изгрев",""]
["7208","Район Красна Поляна",""]
["7209","Район Красно село",""]
["7210","Район Кремиковци",""]
["7211","Район Лозенец",""]
["7212","Район Люлин",""]
["7213","Район Младост",""]
["7214","Район Надежда",""]
["7215","Район Нови Искър",""]
["7216","Район Оборище",""]
["7217","Район Овча Купел",""]
["7218","Район Панчарево",""]
["7219","Район Подуяне",""]
["7220","Район Сердика",""]
["7221","Район Слатина",""]
["7222","Район Средец",""]
["7223","Район Студентска",""]
["7224","Район Триадица",""]
["7225","Столична община",""]
["7301","Антон",""]
["7302","Божурище",""]
["7303","Ботевград",""]
["7304","Годеч",""]
["7305","Горна Малина",""]
["7306","Долна Баня",""]
["7307","Драгоман ",""]
["7308","Елин Пелин",""]
["7309","Етрополе",""]
["7310","Златица",""]
["7311","Ихтиман",""]
["7312","Копривщица",""]
["7313","Костенец",""]
["7314","Костинброд",""]
["7315","Мирково",""]
["7316","Пирдоп",""]
["7317","Правец",""]
["7318","Самоков",""]
["7319","Своге",""]
["7320","Сливница",""]
["7321","Чавдар",""]
["7322","Челопеч",""]
["7401","Братя Даскалови",""]
["7402","Гурково",""]
["7403","Гълъбово",""]
["7404","Казанлък",""]
["7405","Мъглиж",""]
["7406","Николаево",""]
["7407","Опан",""]
["7408","Павел баня",""]
["7409","Раднево",""]
["7410","Стара Загора",""]
["7411","Чирпан",""]
["7501","Антоново",""]
["7502","Омуртаг",""]
["7503","Опака",""]
["7504","Попово",""]
["7505","Търговище",""]
["7601","Димитровград",""]
["7602","Ивайловград",""]
["7603","Любимец",""]
["7604","Маджарово",""]
["7605","Минерални Бани",""]
["7606","Свиленград",""]
["7607","Симеоновград",""]
["7608","Стамболово",""]
["7609","Тополовград",""]
["7610","Харманли",""]
["7611","Хасково",""]
["7701","Велики Преслав",""]
["7702","Венец",""]
["7703","Върбица",""]
["7704","Каолиново",""]
["7705","Каспичан",""]
["7706","Никола Козлево",""]
["7707","Нови пазар",""]
["7708","Смядово",""]
["7709","Хитрино",""]
["7710","Шумен",""]
["7801","Болярово",""]
["7802","Елхово",""]
["7803","Стралджа",""]
["7804","Тунджа",""]
["7805","Ямбол",""]
[]
["Name:","Date","Name:"]
[null,"2021-01-31","януари"]
[null,"2021-02-28","февруари"]
[null,"2021-03-31","март"]
[null,"2021-04-30","април"]
[null,"2021-05-31","май"]
[null,"2021-06-30","юни"]
[null,"2021-07-31","юли"]
[null,"2021-08-31","август"]
[null,"2021-09-30","септември"]
[null,"2021-10-31","октомври"]
[null,"2021-11-30","ноември"]
[null,"2021-12-31","декември"]